{"text_format":"1","workbook":"xlsx","n_sheets":3,"sheets":["Formularz","Arkusz1","Walidacja"],"not_rendered":{"charts":0,"images":0,"macros":1,"external_links":0,"defined_names":0,"comments":0,"pivot_tables":0},"unopened":[],"bounds":{"document_bytes":16777216,"sheet_cells":100000,"rows_first":2000,"rows_last":500,"rows_between":2000,"halvings":0,"cell_chars":16384,"cell_head_chars":4096},"cells_cut":0,"cells_raw":0,"read":"whole","date_system":"1900"}

{"sheet":"Formularz","index":0,"n_rows":1013,"n_cols":5,"rows_kept":1013,"cut":false,"hidden":false,"merged":[[10,3,10,4],[11,3,11,4],[2,3,2,4],[3,3,3,4],[4,3,4,4],[5,3,5,4],[6,3,6,4],[7,3,7,4]]}
[]
[null,null,"PODMIOT ZGŁASZAJĄCY:"]
[null,null,"typ (szpital, ZOL, ZPO):"]
[null,null,"REGON 14-znakowy:"]
[null,null,"imię i nazwisko oraz nr tel. do osoby kontaktowej:"]
[null,null,"przepustowość (liczba szczepień możiwych do wykonania dziennie):","PROSZĘ NIE WYPEŁNIAĆ"]
[null,null,"szczepienie również w sobotę (tak/nie):","PROSZĘ NIE WYPEŁNIAĆ"]
[null,null,"sczepienie również w niedzielę (tak/nie):","PROSZĘ NIE WYPEŁNIAĆ"]
[]
[null,null,"OSOBY PODLEGAJĄCE SZCZEPIENIU NIE POSIADAJĄCE NUMERU PESEL:"]
[null,null,"pracownicy medyczni (liczba):"]
[null,null,"pracownicy niemedyczni (liczba): "]
[]
[null,null,"OSOBY PODLEGAJĄCE SZCZEPIENIU POSIADAJĄCE NUMER PESEL:"]
[null,null,"PESEL","Czy pracownik medyczny?","Sprawdzenie numeru PESEL"]
[null,null,null,null,{"$f":"IF(Walidacja!B2,\"Poprawny\",\"Podany numer PESEL jest niepoprawny\")","v":"Podany numer PESEL jest niepoprawny"}]
[null,null,null,null,{"$f":"IF(Walidacja!B3,\"Poprawny\",\"Podany numer PESEL jest niepoprawny\")","v":"Podany numer PESEL jest niepoprawny"}]
[null,null,null,null,{"$f":"IF(Walidacja!B4,\"Poprawny\",\"Podany numer PESEL jest niepoprawny\")","v":"Podany numer PESEL jest niepoprawny"}]
[null,null,null,null,{"$f":"IF(Walidacja!B5,\"Poprawny\",\"Podany numer PESEL jest niepoprawny\")","v":"Podany numer PESEL jest niepoprawny"}]
[null,null,null,null,{"$f":"IF(Walidacja!B6,\"Poprawny\",\"Podany numer PESEL jest niepoprawny\")","v":"Podany numer PESEL jest niepoprawny"}]
[null,null,null,null,{"$f":"IF(Walidacja!B7,\"Poprawny\",\"Podany numer PESEL jest niepoprawny\")","v":"Podany numer PESEL jest niepoprawny"}]
[null,null,null,null,{"$f":"IF(Walidacja!B8,\"Poprawny\",\"Podany numer PESEL jest niepoprawny\")","v":"Podany numer PESEL jest niepoprawny"}]
[null,null,null,null,{"$f":"IF(Walidacja!B9,\"Poprawny\",\"Podany numer PESEL jest niepoprawny\")","v":"Podany numer PESEL jest niepoprawny"}]
[null,null,null,null,{"$f":"IF(Walidacja!B10,\"Poprawny\",\"Podany numer PESEL jest niepoprawny\")","v":"Podany numer PESEL jest niepoprawny"}]
[null,null,null,null,{"$f":"IF(Walidacja!B11,\"Poprawny\",\"Podany numer PESEL jest niepoprawny\")","v":"Podany numer PESEL jest niepoprawny"}]
[null,null,null,null,{"$f":"IF(Walidacja!B12,\"Poprawny\",\"Podany numer PESEL jest niepoprawny\")","v":"Podany numer PESEL jest niepoprawny"}]
[null,null,null,null,{"$f":"IF(Walidacja!B13,\"Poprawny\",\"Podany numer PESEL jest niepoprawny\")","v":"Podany numer PESEL jest niepoprawny"}]
[null,null,null,null,{"$f":"IF(Walidacja!B14,\"Poprawny\",\"Podany numer PESEL jest niepoprawny\")","v":"Podany numer PESEL jest niepoprawny"}]
[null,null,null,null,{"$f":"IF(Walidacja!B15,\"Poprawny\",\"Podany numer PESEL jest niepoprawny\")","v":"Podany numer PESEL jest niepoprawny"}]
[null,null,null,null,{"$f":"IF(Walidacja!B16,\"Poprawny\",\"Podany numer PESEL jest niepoprawny\")","v":"Podany numer PESEL jest niepoprawny"}]
[null,null,null,null,{"$f":"IF(Walidacja!B17,\"Poprawny\",\"Podany numer PESEL jest niepoprawny\")","v":"Podany numer PESEL jest niepoprawny"}]
[null,null,null,null,{"$f":"IF(Walidacja!B18,\"Poprawny\",\"Podany numer PESEL jest niepoprawny\")","v":"Podany numer PESEL jest niepoprawny"}]
[null,null,null,null,{"$f":"IF(Walidacja!B19,\"Poprawny\",\"Podany numer PESEL jest niepoprawny\")","v":"Podany numer PESEL jest niepoprawny"}]
[null,null,null,null,{"$f":"IF(Walidacja!B20,\"Poprawny\",\"Podany numer PESEL jest niepoprawny\")","v":"Podany numer PESEL jest niepoprawny"}]
[null,null,null,null,{"$f":"IF(Walidacja!B21,\"Poprawny\",\"Podany numer PESEL jest niepoprawny\")","v":"Podany numer PESEL jest niepoprawny"}]
[null,null,null,null,{"$f":"IF(Walidacja!B22,\"Poprawny\",\"Podany numer PESEL jest niepoprawny\")","v":"Podany numer PESEL jest niepoprawny"}]
[null,null,null,null,{"$f":"IF(Walidacja!B23,\"Poprawny\",\"Podany numer PESEL jest niepoprawny\")","v":"Podany numer PESEL jest niepoprawny"}]
[null,null,null,null,{"$f":"IF(Walidacja!B24,\"Poprawny\",\"Podany numer PESEL jest niepoprawny\")","v":"Podany numer PESEL jest niepoprawny"}]
[null,null,null,null,{"$f":"IF(Walidacja!B25,\"Poprawny\",\"Podany numer PESEL jest niepoprawny\")","v":"Podany numer PESEL jest niepoprawny"}]
[null,null,null,null,{"$f":"IF(Walidacja!B26,\"Poprawny\",\"Podany numer PESEL jest niepoprawny\")","v":"Podany numer PESEL jest niepoprawny"}]
[null,null,null,null,{"$f":"IF(Walidacja!B27,\"Poprawny\",\"Podany numer PESEL jest niepoprawny\")","v":"Podany numer PESEL jest niepoprawny"}]
[null,null,null,null,{"$f":"IF(Walidacja!B28,\"Poprawny\",\"Podany numer PESEL jest niepoprawny\")","v":"Podany numer PESEL jest niepoprawny"}]
[null,null,null,null,{"$f":"IF(Walidacja!B29,\"Poprawny\",\"Podany numer PESEL jest niepoprawny\")","v":"Podany numer PESEL jest niepoprawny"}]
[null,null,null,null,{"$f":"IF(Walidacja!B30,\"Poprawny\",\"Podany numer PESEL jest niepoprawny\")","v":"Podany numer PESEL jest niepoprawny"}]
[null,null,null,null,{"$f":"IF(Walidacja!B31,\"Poprawny\",\"Podany numer PESEL jest niepoprawny\")","v":"Podany numer PESEL jest niepoprawny"}]
[null,null,null,null,{"$f":"IF(Walidacja!B32,\"Poprawny\",\"Podany numer PESEL jest niepoprawny\")","v":"Podany numer PESEL jest niepoprawny"}]
[null,null,null,null,{"$f":"IF(Walidacja!B33,\"Poprawny\",\"Podany numer PESEL jest niepoprawny\")","v":"Podany numer PESEL jest niepoprawny"}]
[null,null,null,null,{"$f":"IF(Walidacja!B34,\"Poprawny\",\"Podany numer PESEL jest niepoprawny\")","v":"Podany numer PESEL jest niepoprawny"}]
[null,null,null,null,{"$f":"IF(Walidacja!B35,\"Poprawny\",\"Podany numer PESEL jest niepoprawny\")","v":"Podany numer PESEL jest niepoprawny"}]
[null,null,null,null,{"$f":"IF(Walidacja!B36,\"Poprawny\",\"Podany numer PESEL jest niepoprawny\")","v":"Podany numer PESEL jest niepoprawny"}]
[null,null,null,null,{"$f":"IF(Walidacja!B37,\"Poprawny\",\"Podany numer PESEL jest niepoprawny\")","v":"Podany numer PESEL jest niepoprawny"}]
[null,null,null,null,{"$f":"IF(Walidacja!B38,\"Poprawny\",\"Podany numer PESEL jest niepoprawny\")","v":"Podany numer PESEL jest niepoprawny"}]
[null,null,null,null,{"$f":"IF(Walidacja!B39,\"Poprawny\",\"Podany numer PESEL jest niepoprawny\")","v":"Podany numer PESEL jest niepoprawny"}]
[null,null,null,null,{"$f":"IF(Walidacja!B40,\"Poprawny\",\"Podany numer PESEL jest niepoprawny\")","v":"Podany numer PESEL jest niepoprawny"}]
[null,null,null,null,{"$f":"IF(Walidacja!B41,\"Poprawny\",\"Podany numer PESEL jest niepoprawny\")","v":"Podany numer PESEL jest niepoprawny"}]
[null,null,null,null,{"$f":"IF(Walidacja!B42,\"Poprawny\",\"Podany numer PESEL jest niepoprawny\")","v":"Podany numer PESEL jest niepoprawny"}]
[null,null,null,null,{"$f":"IF(Walidacja!B43,\"Poprawny\",\"Podany numer PESEL jest niepoprawny\")","v":"Podany numer PESEL jest niepoprawny"}]
[null,null,null,null,{"$f":"IF(Walidacja!B44,\"Poprawny\",\"Podany numer PESEL jest niepoprawny\")","v":"Podany numer PESEL jest niepoprawny"}]
[null,null,null,null,{"$f":"IF(Walidacja!B45,\"Poprawny\",\"Podany numer PESEL jest niepoprawny\")","v":"Podany numer PESEL jest niepoprawny"}]
[null,null,null,null,{"$f":"IF(Walidacja!B46,\"Poprawny\",\"Podany numer PESEL jest niepoprawny\")","v":"Podany numer PESEL jest niepoprawny"}]
[null,null,null,null,{"$f":"IF(Walidacja!B47,\"Poprawny\",\"Podany numer PESEL jest niepoprawny\")","v":"Podany numer PESEL jest niepoprawny"}]
[null,null,null,null,{"$f":"IF(Walidacja!B48,\"Poprawny\",\"Podany numer PESEL jest niepoprawny\")","v":"Podany numer PESEL jest niepoprawny"}]
[null,null,null,null,{"$f":"IF(Walidacja!B49,\"Poprawny\",\"Podany numer PESEL jest niepoprawny\")","v":"Podany numer PESEL jest niepoprawny"}]
[null,null,null,null,{"$f":"IF(Walidacja!B50,\"Poprawny\",\"Podany numer PESEL jest niepoprawny\")","v":"Podany numer PESEL jest niepoprawny"}]
[null,null,null,null,{"$f":"IF(Walidacja!B51,\"Poprawny\",\"Podany numer PESEL jest niepoprawny\")","v":"Podany numer PESEL jest niepoprawny"}]
[null,null,null,null,{"$f":"IF(Walidacja!B52,\"Poprawny\",\"Podany numer PESEL jest niepoprawny\")","v":"Podany numer PESEL jest niepoprawny"}]
[null,null,null,null,{"$f":"IF(Walidacja!B53,\"Poprawny\",\"Podany numer PESEL jest niepoprawny\")","v":"Podany numer PESEL jest niepoprawny"}]
[null,null,null,null,{"$f":"IF(Walidacja!B54,\"Poprawny\",\"Podany numer PESEL jest niepoprawny\")","v":"Podany numer PESEL jest niepoprawny"}]
[null,null,null,null,{"$f":"IF(Walidacja!B55,\"Poprawny\",\"Podany numer PESEL jest niepoprawny\")","v":"Podany numer PESEL jest niepoprawny"}]
[null,null,null,null,{"$f":"IF(Walidacja!B56,\"Poprawny\",\"Podany numer PESEL jest niepoprawny\")","v":"Podany numer PESEL jest niepoprawny"}]
[null,null,null,null,{"$f":"IF(Walidacja!B57,\"Poprawny\",\"Podany numer PESEL jest niepoprawny\")","v":"Podany numer PESEL jest niepoprawny"}]
[null,null,null,null,{"$f":"IF(Walidacja!B58,\"Poprawny\",\"Podany numer PESEL jest niepoprawny\")","v":"Podany numer PESEL jest niepoprawny"}]
[null,null,null,null,{"$f":"IF(Walidacja!B59,\"Poprawny\",\"Podany numer PESEL jest niepoprawny\")","v":"Podany numer PESEL jest niepoprawny"}]
[null,null,null,null,{"$f":"IF(Walidacja!B60,\"Poprawny\",\"Podany numer PESEL jest niepoprawny\")","v":"Podany numer PESEL jest niepoprawny"}]
[null,null,null,null,{"$f":"IF(Walidacja!B61,\"Poprawny\",\"Podany numer PESEL jest niepoprawny\")","v":"Podany numer PESEL jest niepoprawny"}]
[null,null,null,null,{"$f":"IF(Walidacja!B62,\"Poprawny\",\"Podany numer PESEL jest niepoprawny\")","v":"Podany numer PESEL jest niepoprawny"}]
[null,null,null,null,{"$f":"IF(Walidacja!B63,\"Poprawny\",\"Podany numer PESEL jest niepoprawny\")","v":"Podany numer PESEL jest niepoprawny"}]
[null,null,null,null,{"$f":"IF(Walidacja!B64,\"Poprawny\",\"Podany numer PESEL jest niepoprawny\")","v":"Podany numer PESEL jest niepoprawny"}]
[null,null,null,null,{"$f":"IF(Walidacja!B65,\"Poprawny\",\"Podany numer PESEL jest niepoprawny\")","v":"Podany numer PESEL jest niepoprawny"}]
[null,null,null,null,{"$f":"IF(Walidacja!B66,\"Poprawny\",\"Podany numer PESEL jest niepoprawny\")","v":"Podany numer PESEL jest niepoprawny"}]
[null,null,null,null,{"$f":"IF(Walidacja!B67,\"Poprawny\",\"Podany numer PESEL jest niepoprawny\")","v":"Podany numer PESEL jest niepoprawny"}]
[null,null,null,null,{"$f":"IF(Walidacja!B68,\"Poprawny\",\"Podany numer PESEL jest niepoprawny\")","v":"Podany numer PESEL jest niepoprawny"}]
[null,null,null,null,{"$f":"IF(Walidacja!B69,\"Poprawny\",\"Podany numer PESEL jest niepoprawny\")","v":"Podany numer PESEL jest niepoprawny"}]
[null,null,null,null,{"$f":"IF(Walidacja!B70,\"Poprawny\",\"Podany numer PESEL jest niepoprawny\")","v":"Podany numer PESEL jest niepoprawny"}]
[null,null,null,null,{"$f":"IF(Walidacja!B71,\"Poprawny\",\"Podany numer PESEL jest niepoprawny\")","v":"Podany numer PESEL jest niepoprawny"}]
[null,null,null,null,{"$f":"IF(Walidacja!B72,\"Poprawny\",\"Podany numer PESEL jest niepoprawny\")","v":"Podany numer PESEL jest niepoprawny"}]
[null,null,null,null,{"$f":"IF(Walidacja!B73,\"Poprawny\",\"Podany numer PESEL jest niepoprawny\")","v":"Podany numer PESEL jest niepoprawny"}]
[null,null,null,null,{"$f":"IF(Walidacja!B74,\"Poprawny\",\"Podany numer PESEL jest niepoprawny\")","v":"Podany numer PESEL jest niepoprawny"}]
[null,null,null,null,{"$f":"IF(Walidacja!B75,\"Poprawny\",\"Podany numer PESEL jest niepoprawny\")","v":"Podany numer PESEL jest niepoprawny"}]
[null,null,null,null,{"$f":"IF(Walidacja!B76,\"Poprawny\",\"Podany numer PESEL jest niepoprawny\")","v":"Podany numer PESEL jest niepoprawny"}]
[null,null,null,null,{"$f":"IF(Walidacja!B77,\"Poprawny\",\"Podany numer PESEL jest niepoprawny\")","v":"Podany numer PESEL jest niepoprawny"}]
[null,null,null,null,{"$f":"IF(Walidacja!B78,\"Poprawny\",\"Podany numer PESEL jest niepoprawny\")","v":"Podany numer PESEL jest niepoprawny"}]
[null,null,null,null,{"$f":"IF(Walidacja!B79,\"Poprawny\",\"Podany numer PESEL jest niepoprawny\")","v":"Podany numer PESEL jest niepoprawny"}]
[null,null,null,null,{"$f":"IF(Walidacja!B80,\"Poprawny\",\"Podany numer PESEL jest niepoprawny\")","v":"Podany numer PESEL jest niepoprawny"}]
[null,null,null,null,{"$f":"IF(Walidacja!B81,\"Poprawny\",\"Podany numer PESEL jest niepoprawny\")","v":"Podany numer PESEL jest niepoprawny"}]
[null,null,null,null,{"$f":"IF(Walidacja!B82,\"Poprawny\",\"Podany numer PESEL jest niepoprawny\")","v":"Podany numer PESEL jest niepoprawny"}]
[null,null,null,null,{"$f":"IF(Walidacja!B83,\"Poprawny\",\"Podany numer PESEL jest niepoprawny\")","v":"Podany numer PESEL jest niepoprawny"}]
[null,null,null,null,{"$f":"IF(Walidacja!B84,\"Poprawny\",\"Podany numer PESEL jest niepoprawny\")","v":"Podany numer PESEL jest niepoprawny"}]
[null,null,null,null,{"$f":"IF(Walidacja!B85,\"Poprawny\",\"Podany numer PESEL jest niepoprawny\")","v":"Podany numer PESEL jest niepoprawny"}]
[null,null,null,null,{"$f":"IF(Walidacja!B86,\"Poprawny\",\"Podany numer PESEL jest niepoprawny\")","v":"Podany numer PESEL jest niepoprawny"}]
[null,null,null,null,{"$f":"IF(Walidacja!B87,\"Poprawny\",\"Podany numer PESEL jest niepoprawny\")","v":"Podany numer PESEL jest niepoprawny"}]
[null,null,null,null,{"$f":"IF(Walidacja!B88,\"Poprawny\",\"Podany numer PESEL jest niepoprawny\")","v":"Podany numer PESEL jest niepoprawny"}]
[null,null,null,null,{"$f":"IF(Walidacja!B89,\"Poprawny\",\"Podany numer PESEL jest niepoprawny\")","v":"Podany numer PESEL jest niepoprawny"}]
[null,null,null,null,{"$f":"IF(Walidacja!B90,\"Poprawny\",\"Podany numer PESEL jest niepoprawny\")","v":"Podany numer PESEL jest niepoprawny"}]
[null,null,null,null,{"$f":"IF(Walidacja!B91,\"Poprawny\",\"Podany numer PESEL jest niepoprawny\")","v":"Podany numer PESEL jest niepoprawny"}]
[null,null,null,null,{"$f":"IF(Walidacja!B92,\"Poprawny\",\"Podany numer PESEL jest niepoprawny\")","v":"Podany numer PESEL jest niepoprawny"}]
[null,null,null,null,{"$f":"IF(Walidacja!B93,\"Poprawny\",\"Podany numer PESEL jest niepoprawny\")","v":"Podany numer PESEL jest niepoprawny"}]
[null,null,null,null,{"$f":"IF(Walidacja!B94,\"Poprawny\",\"Podany numer PESEL jest niepoprawny\")","v":"Podany numer PESEL jest niepoprawny"}]
[null,null,null,null,{"$f":"IF(Walidacja!B95,\"Poprawny\",\"Podany numer PESEL jest niepoprawny\")","v":"Podany numer PESEL jest niepoprawny"}]
[null,null,null,null,{"$f":"IF(Walidacja!B96,\"Poprawny\",\"Podany numer PESEL jest niepoprawny\")","v":"Podany numer PESEL jest niepoprawny"}]
[null,null,null,null,{"$f":"IF(Walidacja!B97,\"Poprawny\",\"Podany numer PESEL jest niepoprawny\")","v":"Podany numer PESEL jest niepoprawny"}]
[null,null,null,null,{"$f":"IF(Walidacja!B98,\"Poprawny\",\"Podany numer PESEL jest niepoprawny\")","v":"Podany numer PESEL jest niepoprawny"}]
[null,null,null,null,{"$f":"IF(Walidacja!B99,\"Poprawny\",\"Podany numer PESEL jest niepoprawny\")","v":"Podany numer PESEL jest niepoprawny"}]
[null,null,null,null,{"$f":"IF(Walidacja!B100,\"Poprawny\",\"Podany numer PESEL jest niepoprawny\")","v":"Podany numer PESEL jest niepoprawny"}]
[null,null,null,null,{"$f":"IF(Walidacja!B101,\"Poprawny\",\"Podany numer PESEL jest niepoprawny\")","v":"Podany numer PESEL jest niepoprawny"}]
[null,null,null,null,{"$f":"IF(Walidacja!B102,\"Poprawny\",\"Podany numer PESEL jest niepoprawny\")","v":"Podany numer PESEL jest niepoprawny"}]
[null,null,null,null,{"$f":"IF(Walidacja!B103,\"Poprawny\",\"Podany numer PESEL jest niepoprawny\")","v":"Podany numer PESEL jest niepoprawny"}]
[null,null,null,null,{"$f":"IF(Walidacja!B104,\"Poprawny\",\"Podany numer PESEL jest niepoprawny\")","v":"Podany numer PESEL jest niepoprawny"}]
[null,null,null,null,{"$f":"IF(Walidacja!B105,\"Poprawny\",\"Podany numer PESEL jest niepoprawny\")","v":"Podany numer PESEL jest niepoprawny"}]
[null,null,null,null,{"$f":"IF(Walidacja!B106,\"Poprawny\",\"Podany numer PESEL jest niepoprawny\")","v":"Podany numer PESEL jest niepoprawny"}]
[null,null,null,null,{"$f":"IF(Walidacja!B107,\"Poprawny\",\"Podany numer PESEL jest niepoprawny\")","v":"Podany numer PESEL jest niepoprawny"}]
[null,null,null,null,{"$f":"IF(Walidacja!B108,\"Poprawny\",\"Podany numer PESEL jest niepoprawny\")","v":"Podany numer PESEL jest niepoprawny"}]
[null,null,null,null,{"$f":"IF(Walidacja!B109,\"Poprawny\",\"Podany numer PESEL jest niepoprawny\")","v":"Podany numer PESEL jest niepoprawny"}]
[null,null,null,null,{"$f":"IF(Walidacja!B110,\"Poprawny\",\"Podany numer PESEL jest niepoprawny\")","v":"Podany numer PESEL jest niepoprawny"}]
[null,null,null,null,{"$f":"IF(Walidacja!B111,\"Poprawny\",\"Podany numer PESEL jest niepoprawny\")","v":"Podany numer PESEL jest niepoprawny"}]
[null,null,null,null,{"$f":"IF(Walidacja!B112,\"Poprawny\",\"Podany numer PESEL jest niepoprawny\")","v":"Podany numer PESEL jest niepoprawny"}]
[null,null,null,null,{"$f":"IF(Walidacja!B113,\"Poprawny\",\"Podany numer PESEL jest niepoprawny\")","v":"Podany numer PESEL jest niepoprawny"}]
[null,null,null,null,{"$f":"IF(Walidacja!B114,\"Poprawny\",\"Podany numer PESEL jest niepoprawny\")","v":"Podany numer PESEL jest niepoprawny"}]
[null,null,null,null,{"$f":"IF(Walidacja!B115,\"Poprawny\",\"Podany numer PESEL jest niepoprawny\")","v":"Podany numer PESEL jest niepoprawny"}]
[null,null,null,null,{"$f":"IF(Walidacja!B116,\"Poprawny\",\"Podany numer PESEL jest niepoprawny\")","v":"Podany numer PESEL jest niepoprawny"}]
[null,null,null,null,{"$f":"IF(Walidacja!B117,\"Poprawny\",\"Podany numer PESEL jest niepoprawny\")","v":"Podany numer PESEL jest niepoprawny"}]
[null,null,null,null,{"$f":"IF(Walidacja!B118,\"Poprawny\",\"Podany numer PESEL jest niepoprawny\")","v":"Podany numer PESEL jest niepoprawny"}]
[null,null,null,null,{"$f":"IF(Walidacja!B119,\"Poprawny\",\"Podany numer PESEL jest niepoprawny\")","v":"Podany numer PESEL jest niepoprawny"}]
[null,null,null,null,{"$f":"IF(Walidacja!B120,\"Poprawny\",\"Podany numer PESEL jest niepoprawny\")","v":"Podany numer PESEL jest niepoprawny"}]
[null,null,null,null,{"$f":"IF(Walidacja!B121,\"Poprawny\",\"Podany numer PESEL jest niepoprawny\")","v":"Podany numer PESEL jest niepoprawny"}]
[null,null,null,null,{"$f":"IF(Walidacja!B122,\"Poprawny\",\"Podany numer PESEL jest niepoprawny\")","v":"Podany numer PESEL jest niepoprawny"}]
[null,null,null,null,{"$f":"IF(Walidacja!B123,\"Poprawny\",\"Podany numer PESEL jest niepoprawny\")","v":"Podany numer PESEL jest niepoprawny"}]
[null,null,null,null,{"$f":"IF(Walidacja!B124,\"Poprawny\",\"Podany numer PESEL jest niepoprawny\")","v":"Podany numer PESEL jest niepoprawny"}]
[null,null,null,null,{"$f":"IF(Walidacja!B125,\"Poprawny\",\"Podany numer PESEL jest niepoprawny\")","v":"Podany numer PESEL jest niepoprawny"}]
[null,null,null,null,{"$f":"IF(Walidacja!B126,\"Poprawny\",\"Podany numer PESEL jest niepoprawny\")","v":"Podany numer PESEL jest niepoprawny"}]
[null,null,null,null,{"$f":"IF(Walidacja!B127,\"Poprawny\",\"Podany numer PESEL jest niepoprawny\")","v":"Podany numer PESEL jest niepoprawny"}]
[null,null,null,null,{"$f":"IF(Walidacja!B128,\"Poprawny\",\"Podany numer PESEL jest niepoprawny\")","v":"Podany numer PESEL jest niepoprawny"}]
[null,null,null,null,{"$f":"IF(Walidacja!B129,\"Poprawny\",\"Podany numer PESEL jest niepoprawny\")","v":"Podany numer PESEL jest niepoprawny"}]
[null,null,null,null,{"$f":"IF(Walidacja!B130,\"Poprawny\",\"Podany numer PESEL jest niepoprawny\")","v":"Podany numer PESEL jest niepoprawny"}]
[null,null,null,null,{"$f":"IF(Walidacja!B131,\"Poprawny\",\"Podany numer PESEL jest niepoprawny\")","v":"Podany numer PESEL jest niepoprawny"}]
[null,null,null,null,{"$f":"IF(Walidacja!B132,\"Poprawny\",\"Podany numer PESEL jest niepoprawny\")","v":"Podany numer PESEL jest niepoprawny"}]
[null,null,null,null,{"$f":"IF(Walidacja!B133,\"Poprawny\",\"Podany numer PESEL jest niepoprawny\")","v":"Podany numer PESEL jest niepoprawny"}]
[null,null,null,null,{"$f":"IF(Walidacja!B134,\"Poprawny\",\"Podany numer PESEL jest niepoprawny\")","v":"Podany numer PESEL jest niepoprawny"}]
[null,null,null,null,{"$f":"IF(Walidacja!B135,\"Poprawny\",\"Podany numer PESEL jest niepoprawny\")","v":"Podany numer PESEL jest niepoprawny"}]
[null,null,null,null,{"$f":"IF(Walidacja!B136,\"Poprawny\",\"Podany numer PESEL jest niepoprawny\")","v":"Podany numer PESEL jest niepoprawny"}]
[null,null,null,null,{"$f":"IF(Walidacja!B137,\"Poprawny\",\"Podany numer PESEL jest niepoprawny\")","v":"Podany numer PESEL jest niepoprawny"}]
[null,null,null,null,{"$f":"IF(Walidacja!B138,\"Poprawny\",\"Podany numer PESEL jest niepoprawny\")","v":"Podany numer PESEL jest niepoprawny"}]
[null,null,null,null,{"$f":"IF(Walidacja!B139,\"Poprawny\",\"Podany numer PESEL jest niepoprawny\")","v":"Podany numer PESEL jest niepoprawny"}]
[null,null,null,null,{"$f":"IF(Walidacja!B140,\"Poprawny\",\"Podany numer PESEL jest niepoprawny\")","v":"Podany numer PESEL jest niepoprawny"}]
[null,null,null,null,{"$f":"IF(Walidacja!B141,\"Poprawny\",\"Podany numer PESEL jest niepoprawny\")","v":"Podany numer PESEL jest niepoprawny"}]
[null,null,null,null,{"$f":"IF(Walidacja!B142,\"Poprawny\",\"Podany numer PESEL jest niepoprawny\")","v":"Podany numer PESEL jest niepoprawny"}]
[null,null,null,null,{"$f":"IF(Walidacja!B143,\"Poprawny\",\"Podany numer PESEL jest niepoprawny\")","v":"Podany numer PESEL jest niepoprawny"}]
[null,null,null,null,{"$f":"IF(Walidacja!B144,\"Poprawny\",\"Podany numer PESEL jest niepoprawny\")","v":"Podany numer PESEL jest niepoprawny"}]
[null,null,null,null,{"$f":"IF(Walidacja!B145,\"Poprawny\",\"Podany numer PESEL jest niepoprawny\")","v":"Podany numer PESEL jest niepoprawny"}]
[null,null,null,null,{"$f":"IF(Walidacja!B146,\"Poprawny\",\"Podany numer PESEL jest niepoprawny\")","v":"Podany numer PESEL jest niepoprawny"}]
[null,null,null,null,{"$f":"IF(Walidacja!B147,\"Poprawny\",\"Podany numer PESEL jest niepoprawny\")","v":"Podany numer PESEL jest niepoprawny"}]
[null,null,null,null,{"$f":"IF(Walidacja!B148,\"Poprawny\",\"Podany numer PESEL jest niepoprawny\")","v":"Podany numer PESEL jest niepoprawny"}]
[null,null,null,null,{"$f":"IF(Walidacja!B149,\"Poprawny\",\"Podany numer PESEL jest niepoprawny\")","v":"Podany numer PESEL jest niepoprawny"}]
[null,null,null,null,{"$f":"IF(Walidacja!B150,\"Poprawny\",\"Podany numer PESEL jest niepoprawny\")","v":"Podany numer PESEL jest niepoprawny"}]
[null,null,null,null,{"$f":"IF(Walidacja!B151,\"Poprawny\",\"Podany numer PESEL jest niepoprawny\")","v":"Podany numer PESEL jest niepoprawny"}]
[null,null,null,null,{"$f":"IF(Walidacja!B152,\"Poprawny\",\"Podany numer PESEL jest niepoprawny\")","v":"Podany numer PESEL jest niepoprawny"}]
[null,null,null,null,{"$f":"IF(Walidacja!B153,\"Poprawny\",\"Podany numer PESEL jest niepoprawny\")","v":"Podany numer PESEL jest niepoprawny"}]
[null,null,null,null,{"$f":"IF(Walidacja!B154,\"Poprawny\",\"Podany numer PESEL jest niepoprawny\")","v":"Podany numer PESEL jest niepoprawny"}]
[null,null,null,null,{"$f":"IF(Walidacja!B155,\"Poprawny\",\"Podany numer PESEL jest niepoprawny\")","v":"Podany numer PESEL jest niepoprawny"}]
[null,null,null,null,{"$f":"IF(Walidacja!B156,\"Poprawny\",\"Podany numer PESEL jest niepoprawny\")","v":"Podany numer PESEL jest niepoprawny"}]
[null,null,null,null,{"$f":"IF(Walidacja!B157,\"Poprawny\",\"Podany numer PESEL jest niepoprawny\")","v":"Podany numer PESEL jest niepoprawny"}]
[null,null,null,null,{"$f":"IF(Walidacja!B158,\"Poprawny\",\"Podany numer PESEL jest niepoprawny\")","v":"Podany numer PESEL jest niepoprawny"}]
[null,null,null,null,{"$f":"IF(Walidacja!B159,\"Poprawny\",\"Podany numer PESEL jest niepoprawny\")","v":"Podany numer PESEL jest niepoprawny"}]
[null,null,null,null,{"$f":"IF(Walidacja!B160,\"Poprawny\",\"Podany numer PESEL jest niepoprawny\")","v":"Podany numer PESEL jest niepoprawny"}]
[null,null,null,null,{"$f":"IF(Walidacja!B161,\"Poprawny\",\"Podany numer PESEL jest niepoprawny\")","v":"Podany numer PESEL jest niepoprawny"}]
[null,null,null,null,{"$f":"IF(Walidacja!B162,\"Poprawny\",\"Podany numer PESEL jest niepoprawny\")","v":"Podany numer PESEL jest niepoprawny"}]
[null,null,null,null,{"$f":"IF(Walidacja!B163,\"Poprawny\",\"Podany numer PESEL jest niepoprawny\")","v":"Podany numer PESEL jest niepoprawny"}]
[null,null,null,null,{"$f":"IF(Walidacja!B164,\"Poprawny\",\"Podany numer PESEL jest niepoprawny\")","v":"Podany numer PESEL jest niepoprawny"}]
[null,null,null,null,{"$f":"IF(Walidacja!B165,\"Poprawny\",\"Podany numer PESEL jest niepoprawny\")","v":"Podany numer PESEL jest niepoprawny"}]
[null,null,null,null,{"$f":"IF(Walidacja!B166,\"Poprawny\",\"Podany numer PESEL jest niepoprawny\")","v":"Podany numer PESEL jest niepoprawny"}]
[null,null,null,null,{"$f":"IF(Walidacja!B167,\"Poprawny\",\"Podany numer PESEL jest niepoprawny\")","v":"Podany numer PESEL jest niepoprawny"}]
[null,null,null,null,{"$f":"IF(Walidacja!B168,\"Poprawny\",\"Podany numer PESEL jest niepoprawny\")","v":"Podany numer PESEL jest niepoprawny"}]
[null,null,null,null,{"$f":"IF(Walidacja!B169,\"Poprawny\",\"Podany numer PESEL jest niepoprawny\")","v":"Podany numer PESEL jest niepoprawny"}]
[null,null,null,null,{"$f":"IF(Walidacja!B170,\"Poprawny\",\"Podany numer PESEL jest niepoprawny\")","v":"Podany numer PESEL jest niepoprawny"}]
[null,null,null,null,{"$f":"IF(Walidacja!B171,\"Poprawny\",\"Podany numer PESEL jest niepoprawny\")","v":"Podany numer PESEL jest niepoprawny"}]
[null,null,null,null,{"$f":"IF(Walidacja!B172,\"Poprawny\",\"Podany numer PESEL jest niepoprawny\")","v":"Podany numer PESEL jest niepoprawny"}]
[null,null,null,null,{"$f":"IF(Walidacja!B173,\"Poprawny\",\"Podany numer PESEL jest niepoprawny\")","v":"Podany numer PESEL jest niepoprawny"}]
[null,null,null,null,{"$f":"IF(Walidacja!B174,\"Poprawny\",\"Podany numer PESEL jest niepoprawny\")","v":"Podany numer PESEL jest niepoprawny"}]
[null,null,null,null,{"$f":"IF(Walidacja!B175,\"Poprawny\",\"Podany numer PESEL jest niepoprawny\")","v":"Podany numer PESEL jest niepoprawny"}]
[null,null,null,null,{"$f":"IF(Walidacja!B176,\"Poprawny\",\"Podany numer PESEL jest niepoprawny\")","v":"Podany numer PESEL jest niepoprawny"}]
[null,null,null,null,{"$f":"IF(Walidacja!B177,\"Poprawny\",\"Podany numer PESEL jest niepoprawny\")","v":"Podany numer PESEL jest niepoprawny"}]
[null,null,null,null,{"$f":"IF(Walidacja!B178,\"Poprawny\",\"Podany numer PESEL jest niepoprawny\")","v":"Podany numer PESEL jest niepoprawny"}]
[null,null,null,null,{"$f":"IF(Walidacja!B179,\"Poprawny\",\"Podany numer PESEL jest niepoprawny\")","v":"Podany numer PESEL jest niepoprawny"}]
[null,null,null,null,{"$f":"IF(Walidacja!B180,\"Poprawny\",\"Podany numer PESEL jest niepoprawny\")","v":"Podany numer PESEL jest niepoprawny"}]
[null,null,null,null,{"$f":"IF(Walidacja!B181,\"Poprawny\",\"Podany numer PESEL jest niepoprawny\")","v":"Podany numer PESEL jest niepoprawny"}]
[null,null,null,null,{"$f":"IF(Walidacja!B182,\"Poprawny\",\"Podany numer PESEL jest niepoprawny\")","v":"Podany numer PESEL jest niepoprawny"}]
[null,null,null,null,{"$f":"IF(Walidacja!B183,\"Poprawny\",\"Podany numer PESEL jest niepoprawny\")","v":"Podany numer PESEL jest niepoprawny"}]
[null,null,null,null,{"$f":"IF(Walidacja!B184,\"Poprawny\",\"Podany numer PESEL jest niepoprawny\")","v":"Podany numer PESEL jest niepoprawny"}]
[null,null,null,null,{"$f":"IF(Walidacja!B185,\"Poprawny\",\"Podany numer PESEL jest niepoprawny\")","v":"Podany numer PESEL jest niepoprawny"}]
[null,null,null,null,{"$f":"IF(Walidacja!B186,\"Poprawny\",\"Podany numer PESEL jest niepoprawny\")","v":"Podany numer PESEL jest niepoprawny"}]
[null,null,null,null,{"$f":"IF(Walidacja!B187,\"Poprawny\",\"Podany numer PESEL jest niepoprawny\")","v":"Podany numer PESEL jest niepoprawny"}]
[null,null,null,null,{"$f":"IF(Walidacja!B188,\"Poprawny\",\"Podany numer PESEL jest niepoprawny\")","v":"Podany numer PESEL jest niepoprawny"}]
[null,null,null,null,{"$f":"IF(Walidacja!B189,\"Poprawny\",\"Podany numer PESEL jest niepoprawny\")","v":"Podany numer PESEL jest niepoprawny"}]
[null,null,null,null,{"$f":"IF(Walidacja!B190,\"Poprawny\",\"Podany numer PESEL jest niepoprawny\")","v":"Podany numer PESEL jest niepoprawny"}]
[null,null,null,null,{"$f":"IF(Walidacja!B191,\"Poprawny\",\"Podany numer PESEL jest niepoprawny\")","v":"Podany numer PESEL jest niepoprawny"}]
[null,null,null,null,{"$f":"IF(Walidacja!B192,\"Poprawny\",\"Podany numer PESEL jest niepoprawny\")","v":"Podany numer PESEL jest niepoprawny"}]
[null,null,null,null,{"$f":"IF(Walidacja!B193,\"Poprawny\",\"Podany numer PESEL jest niepoprawny\")","v":"Podany numer PESEL jest niepoprawny"}]
[null,null,null,null,{"$f":"IF(Walidacja!B194,\"Poprawny\",\"Podany numer PESEL jest niepoprawny\")","v":"Podany numer PESEL jest niepoprawny"}]
[null,null,null,null,{"$f":"IF(Walidacja!B195,\"Poprawny\",\"Podany numer PESEL jest niepoprawny\")","v":"Podany numer PESEL jest niepoprawny"}]
[null,null,null,null,{"$f":"IF(Walidacja!B196,\"Poprawny\",\"Podany numer PESEL jest niepoprawny\")","v":"Podany numer PESEL jest niepoprawny"}]
[null,null,null,null,{"$f":"IF(Walidacja!B197,\"Poprawny\",\"Podany numer PESEL jest niepoprawny\")","v":"Podany numer PESEL jest niepoprawny"}]
[null,null,null,null,{"$f":"IF(Walidacja!B198,\"Poprawny\",\"Podany numer PESEL jest niepoprawny\")","v":"Podany numer PESEL jest niepoprawny"}]
[null,null,null,null,{"$f":"IF(Walidacja!B199,\"Poprawny\",\"Podany numer PESEL jest niepoprawny\")","v":"Podany numer PESEL jest niepoprawny"}]
[null,null,null,null,{"$f":"IF(Walidacja!B200,\"Poprawny\",\"Podany numer PESEL jest niepoprawny\")","v":"Podany numer PESEL jest niepoprawny"}]
[null,null,null,null,{"$f":"IF(Walidacja!B201,\"Poprawny\",\"Podany numer PESEL jest niepoprawny\")","v":"Podany numer PESEL jest niepoprawny"}]
[null,null,null,null,{"$f":"IF(Walidacja!B202,\"Poprawny\",\"Podany numer PESEL jest niepoprawny\")","v":"Podany numer PESEL jest niepoprawny"}]
[null,null,null,null,{"$f":"IF(Walidacja!B203,\"Poprawny\",\"Podany numer PESEL jest niepoprawny\")","v":"Podany numer PESEL jest niepoprawny"}]
[null,null,null,null,{"$f":"IF(Walidacja!B204,\"Poprawny\",\"Podany numer PESEL jest niepoprawny\")","v":"Podany numer PESEL jest niepoprawny"}]
[null,null,null,null,{"$f":"IF(Walidacja!B205,\"Poprawny\",\"Podany numer PESEL jest niepoprawny\")","v":"Podany numer PESEL jest niepoprawny"}]
[null,null,null,null,{"$f":"IF(Walidacja!B206,\"Poprawny\",\"Podany numer PESEL jest niepoprawny\")","v":"Podany numer PESEL jest niepoprawny"}]
[null,null,null,null,{"$f":"IF(Walidacja!B207,\"Poprawny\",\"Podany numer PESEL jest niepoprawny\")","v":"Podany numer PESEL jest niepoprawny"}]
[null,null,null,null,{"$f":"IF(Walidacja!B208,\"Poprawny\",\"Podany numer PESEL jest niepoprawny\")","v":"Podany numer PESEL jest niepoprawny"}]
[null,null,null,null,{"$f":"IF(Walidacja!B209,\"Poprawny\",\"Podany numer PESEL jest niepoprawny\")","v":"Podany numer PESEL jest niepoprawny"}]
[null,null,null,null,{"$f":"IF(Walidacja!B210,\"Poprawny\",\"Podany numer PESEL jest niepoprawny\")","v":"Podany numer PESEL jest niepoprawny"}]
[null,null,null,null,{"$f":"IF(Walidacja!B211,\"Poprawny\",\"Podany numer PESEL jest niepoprawny\")","v":"Podany numer PESEL jest niepoprawny"}]
[null,null,null,null,{"$f":"IF(Walidacja!B212,\"Poprawny\",\"Podany numer PESEL jest niepoprawny\")","v":"Podany numer PESEL jest niepoprawny"}]
[null,null,null,null,{"$f":"IF(Walidacja!B213,\"Poprawny\",\"Podany numer PESEL jest niepoprawny\")","v":"Podany numer PESEL jest niepoprawny"}]
[null,null,null,null,{"$f":"IF(Walidacja!B214,\"Poprawny\",\"Podany numer PESEL jest niepoprawny\")","v":"Podany numer PESEL jest niepoprawny"}]
[null,null,null,null,{"$f":"IF(Walidacja!B215,\"Poprawny\",\"Podany numer PESEL jest niepoprawny\")","v":"Podany numer PESEL jest niepoprawny"}]
[null,null,null,null,{"$f":"IF(Walidacja!B216,\"Poprawny\",\"Podany numer PESEL jest niepoprawny\")","v":"Podany numer PESEL jest niepoprawny"}]
[null,null,null,null,{"$f":"IF(Walidacja!B217,\"Poprawny\",\"Podany numer PESEL jest niepoprawny\")","v":"Podany numer PESEL jest niepoprawny"}]
[null,null,null,null,{"$f":"IF(Walidacja!B218,\"Poprawny\",\"Podany numer PESEL jest niepoprawny\")","v":"Podany numer PESEL jest niepoprawny"}]
[null,null,null,null,{"$f":"IF(Walidacja!B219,\"Poprawny\",\"Podany numer PESEL jest niepoprawny\")","v":"Podany numer PESEL jest niepoprawny"}]
[null,null,null,null,{"$f":"IF(Walidacja!B220,\"Poprawny\",\"Podany numer PESEL jest niepoprawny\")","v":"Podany numer PESEL jest niepoprawny"}]
[null,null,null,null,{"$f":"IF(Walidacja!B221,\"Poprawny\",\"Podany numer PESEL jest niepoprawny\")","v":"Podany numer PESEL jest niepoprawny"}]
[null,null,null,null,{"$f":"IF(Walidacja!B222,\"Poprawny\",\"Podany numer PESEL jest niepoprawny\")","v":"Podany numer PESEL jest niepoprawny"}]
[null,null,null,null,{"$f":"IF(Walidacja!B223,\"Poprawny\",\"Podany numer PESEL jest niepoprawny\")","v":"Podany numer PESEL jest niepoprawny"}]
[null,null,null,null,{"$f":"IF(Walidacja!B224,\"Poprawny\",\"Podany numer PESEL jest niepoprawny\")","v":"Podany numer PESEL jest niepoprawny"}]
[null,null,null,null,{"$f":"IF(Walidacja!B225,\"Poprawny\",\"Podany numer PESEL jest niepoprawny\")","v":"Podany numer PESEL jest niepoprawny"}]
[null,null,null,null,{"$f":"IF(Walidacja!B226,\"Poprawny\",\"Podany numer PESEL jest niepoprawny\")","v":"Podany numer PESEL jest niepoprawny"}]
[null,null,null,null,{"$f":"IF(Walidacja!B227,\"Poprawny\",\"Podany numer PESEL jest niepoprawny\")","v":"Podany numer PESEL jest niepoprawny"}]
[null,null,null,null,{"$f":"IF(Walidacja!B228,\"Poprawny\",\"Podany numer PESEL jest niepoprawny\")","v":"Podany numer PESEL jest niepoprawny"}]
[null,null,null,null,{"$f":"IF(Walidacja!B229,\"Poprawny\",\"Podany numer PESEL jest niepoprawny\")","v":"Podany numer PESEL jest niepoprawny"}]
[null,null,null,null,{"$f":"IF(Walidacja!B230,\"Poprawny\",\"Podany numer PESEL jest niepoprawny\")","v":"Podany numer PESEL jest niepoprawny"}]
[null,null,null,null,{"$f":"IF(Walidacja!B231,\"Poprawny\",\"Podany numer PESEL jest niepoprawny\")","v":"Podany numer PESEL jest niepoprawny"}]
[null,null,null,null,{"$f":"IF(Walidacja!B232,\"Poprawny\",\"Podany numer PESEL jest niepoprawny\")","v":"Podany numer PESEL jest niepoprawny"}]
[null,null,null,null,{"$f":"IF(Walidacja!B233,\"Poprawny\",\"Podany numer PESEL jest niepoprawny\")","v":"Podany numer PESEL jest niepoprawny"}]
[null,null,null,null,{"$f":"IF(Walidacja!B234,\"Poprawny\",\"Podany numer PESEL jest niepoprawny\")","v":"Podany numer PESEL jest niepoprawny"}]
[null,null,null,null,{"$f":"IF(Walidacja!B235,\"Poprawny\",\"Podany numer PESEL jest niepoprawny\")","v":"Podany numer PESEL jest niepoprawny"}]
[null,null,null,null,{"$f":"IF(Walidacja!B236,\"Poprawny\",\"Podany numer PESEL jest niepoprawny\")","v":"Podany numer PESEL jest niepoprawny"}]
[null,null,null,null,{"$f":"IF(Walidacja!B237,\"Poprawny\",\"Podany numer PESEL jest niepoprawny\")","v":"Podany numer PESEL jest niepoprawny"}]
[null,null,null,null,{"$f":"IF(Walidacja!B238,\"Poprawny\",\"Podany numer PESEL jest niepoprawny\")","v":"Podany numer PESEL jest niepoprawny"}]
[null,null,null,null,{"$f":"IF(Walidacja!B239,\"Poprawny\",\"Podany numer PESEL jest niepoprawny\")","v":"Podany numer PESEL jest niepoprawny"}]
[null,null,null,null,{"$f":"IF(Walidacja!B240,\"Poprawny\",\"Podany numer PESEL jest niepoprawny\")","v":"Podany numer PESEL jest niepoprawny"}]
[null,null,null,null,{"$f":"IF(Walidacja!B241,\"Poprawny\",\"Podany numer PESEL jest niepoprawny\")","v":"Podany numer PESEL jest niepoprawny"}]
[null,null,null,null,{"$f":"IF(Walidacja!B242,\"Poprawny\",\"Podany numer PESEL jest niepoprawny\")","v":"Podany numer PESEL jest niepoprawny"}]
[null,null,null,null,{"$f":"IF(Walidacja!B243,\"Poprawny\",\"Podany numer PESEL jest niepoprawny\")","v":"Podany numer PESEL jest niepoprawny"}]
[null,null,null,null,{"$f":"IF(Walidacja!B244,\"Poprawny\",\"Podany numer PESEL jest niepoprawny\")","v":"Podany numer PESEL jest niepoprawny"}]
[null,null,null,null,{"$f":"IF(Walidacja!B245,\"Poprawny\",\"Podany numer PESEL jest niepoprawny\")","v":"Podany numer PESEL jest niepoprawny"}]
[null,null,null,null,{"$f":"IF(Walidacja!B246,\"Poprawny\",\"Podany numer PESEL jest niepoprawny\")","v":"Podany numer PESEL jest niepoprawny"}]
[null,null,null,null,{"$f":"IF(Walidacja!B247,\"Poprawny\",\"Podany numer PESEL jest niepoprawny\")","v":"Podany numer PESEL jest niepoprawny"}]
[null,null,null,null,{"$f":"IF(Walidacja!B248,\"Poprawny\",\"Podany numer PESEL jest niepoprawny\")","v":"Podany numer PESEL jest niepoprawny"}]
[null,null,null,null,{"$f":"IF(Walidacja!B249,\"Poprawny\",\"Podany numer PESEL jest niepoprawny\")","v":"Podany numer PESEL jest niepoprawny"}]
[null,null,null,null,{"$f":"IF(Walidacja!B250,\"Poprawny\",\"Podany numer PESEL jest niepoprawny\")","v":"Podany numer PESEL jest niepoprawny"}]
[null,null,null,null,{"$f":"IF(Walidacja!B251,\"Poprawny\",\"Podany numer PESEL jest niepoprawny\")","v":"Podany numer PESEL jest niepoprawny"}]
[null,null,null,null,{"$f":"IF(Walidacja!B252,\"Poprawny\",\"Podany numer PESEL jest niepoprawny\")","v":"Podany numer PESEL jest niepoprawny"}]
[null,null,null,null,{"$f":"IF(Walidacja!B253,\"Poprawny\",\"Podany numer PESEL jest niepoprawny\")","v":"Podany numer PESEL jest niepoprawny"}]
[null,null,null,null,{"$f":"IF(Walidacja!B254,\"Poprawny\",\"Podany numer PESEL jest niepoprawny\")","v":"Podany numer PESEL jest niepoprawny"}]
[null,null,null,null,{"$f":"IF(Walidacja!B255,\"Poprawny\",\"Podany numer PESEL jest niepoprawny\")","v":"Podany numer PESEL jest niepoprawny"}]
[null,null,null,null,{"$f":"IF(Walidacja!B256,\"Poprawny\",\"Podany numer PESEL jest niepoprawny\")","v":"Podany numer PESEL jest niepoprawny"}]
[null,null,null,null,{"$f":"IF(Walidacja!B257,\"Poprawny\",\"Podany numer PESEL jest niepoprawny\")","v":"Podany numer PESEL jest niepoprawny"}]
[null,null,null,null,{"$f":"IF(Walidacja!B258,\"Poprawny\",\"Podany numer PESEL jest niepoprawny\")","v":"Podany numer PESEL jest niepoprawny"}]
[null,null,null,null,{"$f":"IF(Walidacja!B259,\"Poprawny\",\"Podany numer PESEL jest niepoprawny\")","v":"Podany numer PESEL jest niepoprawny"}]
[null,null,null,null,{"$f":"IF(Walidacja!B260,\"Poprawny\",\"Podany numer PESEL jest niepoprawny\")","v":"Podany numer PESEL jest niepoprawny"}]
[null,null,null,null,{"$f":"IF(Walidacja!B261,\"Poprawny\",\"Podany numer PESEL jest niepoprawny\")","v":"Podany numer PESEL jest niepoprawny"}]
[null,null,null,null,{"$f":"IF(Walidacja!B262,\"Poprawny\",\"Podany numer PESEL jest niepoprawny\")","v":"Podany numer PESEL jest niepoprawny"}]
[null,null,null,null,{"$f":"IF(Walidacja!B263,\"Poprawny\",\"Podany numer PESEL jest niepoprawny\")","v":"Podany numer PESEL jest niepoprawny"}]
[null,null,null,null,{"$f":"IF(Walidacja!B264,\"Poprawny\",\"Podany numer PESEL jest niepoprawny\")","v":"Podany numer PESEL jest niepoprawny"}]
[null,null,null,null,{"$f":"IF(Walidacja!B265,\"Poprawny\",\"Podany numer PESEL jest niepoprawny\")","v":"Podany numer PESEL jest niepoprawny"}]
[null,null,null,null,{"$f":"IF(Walidacja!B266,\"Poprawny\",\"Podany numer PESEL jest niepoprawny\")","v":"Podany numer PESEL jest niepoprawny"}]
[null,null,null,null,{"$f":"IF(Walidacja!B267,\"Poprawny\",\"Podany numer PESEL jest niepoprawny\")","v":"Podany numer PESEL jest niepoprawny"}]
[null,null,null,null,{"$f":"IF(Walidacja!B268,\"Poprawny\",\"Podany numer PESEL jest niepoprawny\")","v":"Podany numer PESEL jest niepoprawny"}]
[null,null,null,null,{"$f":"IF(Walidacja!B269,\"Poprawny\",\"Podany numer PESEL jest niepoprawny\")","v":"Podany numer PESEL jest niepoprawny"}]
[null,null,null,null,{"$f":"IF(Walidacja!B270,\"Poprawny\",\"Podany numer PESEL jest niepoprawny\")","v":"Podany numer PESEL jest niepoprawny"}]
[null,null,null,null,{"$f":"IF(Walidacja!B271,\"Poprawny\",\"Podany numer PESEL jest niepoprawny\")","v":"Podany numer PESEL jest niepoprawny"}]
[null,null,null,null,{"$f":"IF(Walidacja!B272,\"Poprawny\",\"Podany numer PESEL jest niepoprawny\")","v":"Podany numer PESEL jest niepoprawny"}]
[null,null,null,null,{"$f":"IF(Walidacja!B273,\"Poprawny\",\"Podany numer PESEL jest niepoprawny\")","v":"Podany numer PESEL jest niepoprawny"}]
[null,null,null,null,{"$f":"IF(Walidacja!B274,\"Poprawny\",\"Podany numer PESEL jest niepoprawny\")","v":"Podany numer PESEL jest niepoprawny"}]
[null,null,null,null,{"$f":"IF(Walidacja!B275,\"Poprawny\",\"Podany numer PESEL jest niepoprawny\")","v":"Podany numer PESEL jest niepoprawny"}]
[null,null,null,null,{"$f":"IF(Walidacja!B276,\"Poprawny\",\"Podany numer PESEL jest niepoprawny\")","v":"Podany numer PESEL jest niepoprawny"}]
[null,null,null,null,{"$f":"IF(Walidacja!B277,\"Poprawny\",\"Podany numer PESEL jest niepoprawny\")","v":"Podany numer PESEL jest niepoprawny"}]
[null,null,null,null,{"$f":"IF(Walidacja!B278,\"Poprawny\",\"Podany numer PESEL jest niepoprawny\")","v":"Podany numer PESEL jest niepoprawny"}]
[null,null,null,null,{"$f":"IF(Walidacja!B279,\"Poprawny\",\"Podany numer PESEL jest niepoprawny\")","v":"Podany numer PESEL jest niepoprawny"}]
[null,null,null,null,{"$f":"IF(Walidacja!B280,\"Poprawny\",\"Podany numer PESEL jest niepoprawny\")","v":"Podany numer PESEL jest niepoprawny"}]
[null,null,null,null,{"$f":"IF(Walidacja!B281,\"Poprawny\",\"Podany numer PESEL jest niepoprawny\")","v":"Podany numer PESEL jest niepoprawny"}]
[null,null,null,null,{"$f":"IF(Walidacja!B282,\"Poprawny\",\"Podany numer PESEL jest niepoprawny\")","v":"Podany numer PESEL jest niepoprawny"}]
[null,null,null,null,{"$f":"IF(Walidacja!B283,\"Poprawny\",\"Podany numer PESEL jest niepoprawny\")","v":"Podany numer PESEL jest niepoprawny"}]
[null,null,null,null,{"$f":"IF(Walidacja!B284,\"Poprawny\",\"Podany numer PESEL jest niepoprawny\")","v":"Podany numer PESEL jest niepoprawny"}]
[null,null,null,null,{"$f":"IF(Walidacja!B285,\"Poprawny\",\"Podany numer PESEL jest niepoprawny\")","v":"Podany numer PESEL jest niepoprawny"}]
[null,null,null,null,{"$f":"IF(Walidacja!B286,\"Poprawny\",\"Podany numer PESEL jest niepoprawny\")","v":"Podany numer PESEL jest niepoprawny"}]
[null,null,null,null,{"$f":"IF(Walidacja!B287,\"Poprawny\",\"Podany numer PESEL jest niepoprawny\")","v":"Podany numer PESEL jest niepoprawny"}]
[null,null,null,null,{"$f":"IF(Walidacja!B288,\"Poprawny\",\"Podany numer PESEL jest niepoprawny\")","v":"Podany numer PESEL jest niepoprawny"}]
[null,null,null,null,{"$f":"IF(Walidacja!B289,\"Poprawny\",\"Podany numer PESEL jest niepoprawny\")","v":"Podany numer PESEL jest niepoprawny"}]
[null,null,null,null,{"$f":"IF(Walidacja!B290,\"Poprawny\",\"Podany numer PESEL jest niepoprawny\")","v":"Podany numer PESEL jest niepoprawny"}]
[null,null,null,null,{"$f":"IF(Walidacja!B291,\"Poprawny\",\"Podany numer PESEL jest niepoprawny\")","v":"Podany numer PESEL jest niepoprawny"}]
[null,null,null,null,{"$f":"IF(Walidacja!B292,\"Poprawny\",\"Podany numer PESEL jest niepoprawny\")","v":"Podany numer PESEL jest niepoprawny"}]
[null,null,null,null,{"$f":"IF(Walidacja!B293,\"Poprawny\",\"Podany numer PESEL jest niepoprawny\")","v":"Podany numer PESEL jest niepoprawny"}]
[null,null,null,null,{"$f":"IF(Walidacja!B294,\"Poprawny\",\"Podany numer PESEL jest niepoprawny\")","v":"Podany numer PESEL jest niepoprawny"}]
[null,null,null,null,{"$f":"IF(Walidacja!B295,\"Poprawny\",\"Podany numer PESEL jest niepoprawny\")","v":"Podany numer PESEL jest niepoprawny"}]
[null,null,null,null,{"$f":"IF(Walidacja!B296,\"Poprawny\",\"Podany numer PESEL jest niepoprawny\")","v":"Podany numer PESEL jest niepoprawny"}]
[null,null,null,null,{"$f":"IF(Walidacja!B297,\"Poprawny\",\"Podany numer PESEL jest niepoprawny\")","v":"Podany numer PESEL jest niepoprawny"}]
[null,null,null,null,{"$f":"IF(Walidacja!B298,\"Poprawny\",\"Podany numer PESEL jest niepoprawny\")","v":"Podany numer PESEL jest niepoprawny"}]
[null,null,null,null,{"$f":"IF(Walidacja!B299,\"Poprawny\",\"Podany numer PESEL jest niepoprawny\")","v":"Podany numer PESEL jest niepoprawny"}]
[null,null,null,null,{"$f":"IF(Walidacja!B300,\"Poprawny\",\"Podany numer PESEL jest niepoprawny\")","v":"Podany numer PESEL jest niepoprawny"}]
[null,null,null,null,{"$f":"IF(Walidacja!B301,\"Poprawny\",\"Podany numer PESEL jest niepoprawny\")","v":"Podany numer PESEL jest niepoprawny"}]
[null,null,null,null,{"$f":"IF(Walidacja!B302,\"Poprawny\",\"Podany numer PESEL jest niepoprawny\")","v":"Podany numer PESEL jest niepoprawny"}]
[null,null,null,null,{"$f":"IF(Walidacja!B303,\"Poprawny\",\"Podany numer PESEL jest niepoprawny\")","v":"Podany numer PESEL jest niepoprawny"}]
[null,null,null,null,{"$f":"IF(Walidacja!B304,\"Poprawny\",\"Podany numer PESEL jest niepoprawny\")","v":"Podany numer PESEL jest niepoprawny"}]
[null,null,null,null,{"$f":"IF(Walidacja!B305,\"Poprawny\",\"Podany numer PESEL jest niepoprawny\")","v":"Podany numer PESEL jest niepoprawny"}]
[null,null,null,null,{"$f":"IF(Walidacja!B306,\"Poprawny\",\"Podany numer PESEL jest niepoprawny\")","v":"Podany numer PESEL jest niepoprawny"}]
[null,null,null,null,{"$f":"IF(Walidacja!B307,\"Poprawny\",\"Podany numer PESEL jest niepoprawny\")","v":"Podany numer PESEL jest niepoprawny"}]
[null,null,null,null,{"$f":"IF(Walidacja!B308,\"Poprawny\",\"Podany numer PESEL jest niepoprawny\")","v":"Podany numer PESEL jest niepoprawny"}]
[null,null,null,null,{"$f":"IF(Walidacja!B309,\"Poprawny\",\"Podany numer PESEL jest niepoprawny\")","v":"Podany numer PESEL jest niepoprawny"}]
[null,null,null,null,{"$f":"IF(Walidacja!B310,\"Poprawny\",\"Podany numer PESEL jest niepoprawny\")","v":"Podany numer PESEL jest niepoprawny"}]
[null,null,null,null,{"$f":"IF(Walidacja!B311,\"Poprawny\",\"Podany numer PESEL jest niepoprawny\")","v":"Podany numer PESEL jest niepoprawny"}]
[null,null,null,null,{"$f":"IF(Walidacja!B312,\"Poprawny\",\"Podany numer PESEL jest niepoprawny\")","v":"Podany numer PESEL jest niepoprawny"}]
[null,null,null,null,{"$f":"IF(Walidacja!B313,\"Poprawny\",\"Podany numer PESEL jest niepoprawny\")","v":"Podany numer PESEL jest niepoprawny"}]
[null,null,null,null,{"$f":"IF(Walidacja!B314,\"Poprawny\",\"Podany numer PESEL jest niepoprawny\")","v":"Podany numer PESEL jest niepoprawny"}]
[null,null,null,null,{"$f":"IF(Walidacja!B315,\"Poprawny\",\"Podany numer PESEL jest niepoprawny\")","v":"Podany numer PESEL jest niepoprawny"}]
[null,null,null,null,{"$f":"IF(Walidacja!B316,\"Poprawny\",\"Podany numer PESEL jest niepoprawny\")","v":"Podany numer PESEL jest niepoprawny"}]
[null,null,null,null,{"$f":"IF(Walidacja!B317,\"Poprawny\",\"Podany numer PESEL jest niepoprawny\")","v":"Podany numer PESEL jest niepoprawny"}]
[null,null,null,null,{"$f":"IF(Walidacja!B318,\"Poprawny\",\"Podany numer PESEL jest niepoprawny\")","v":"Podany numer PESEL jest niepoprawny"}]
[null,null,null,null,{"$f":"IF(Walidacja!B319,\"Poprawny\",\"Podany numer PESEL jest niepoprawny\")","v":"Podany numer PESEL jest niepoprawny"}]
[null,null,null,null,{"$f":"IF(Walidacja!B320,\"Poprawny\",\"Podany numer PESEL jest niepoprawny\")","v":"Podany numer PESEL jest niepoprawny"}]
[null,null,null,null,{"$f":"IF(Walidacja!B321,\"Poprawny\",\"Podany numer PESEL jest niepoprawny\")","v":"Podany numer PESEL jest niepoprawny"}]
[null,null,null,null,{"$f":"IF(Walidacja!B322,\"Poprawny\",\"Podany numer PESEL jest niepoprawny\")","v":"Podany numer PESEL jest niepoprawny"}]
[null,null,null,null,{"$f":"IF(Walidacja!B323,\"Poprawny\",\"Podany numer PESEL jest niepoprawny\")","v":"Podany numer PESEL jest niepoprawny"}]
[null,null,null,null,{"$f":"IF(Walidacja!B324,\"Poprawny\",\"Podany numer PESEL jest niepoprawny\")","v":"Podany numer PESEL jest niepoprawny"}]
[null,null,null,null,{"$f":"IF(Walidacja!B325,\"Poprawny\",\"Podany numer PESEL jest niepoprawny\")","v":"Podany numer PESEL jest niepoprawny"}]
[null,null,null,null,{"$f":"IF(Walidacja!B326,\"Poprawny\",\"Podany numer PESEL jest niepoprawny\")","v":"Podany numer PESEL jest niepoprawny"}]
[null,null,null,null,{"$f":"IF(Walidacja!B327,\"Poprawny\",\"Podany numer PESEL jest niepoprawny\")","v":"Podany numer PESEL jest niepoprawny"}]
[null,null,null,null,{"$f":"IF(Walidacja!B328,\"Poprawny\",\"Podany numer PESEL jest niepoprawny\")","v":"Podany numer PESEL jest niepoprawny"}]
[null,null,null,null,{"$f":"IF(Walidacja!B329,\"Poprawny\",\"Podany numer PESEL jest niepoprawny\")","v":"Podany numer PESEL jest niepoprawny"}]
[null,null,null,null,{"$f":"IF(Walidacja!B330,\"Poprawny\",\"Podany numer PESEL jest niepoprawny\")","v":"Podany numer PESEL jest niepoprawny"}]
[null,null,null,null,{"$f":"IF(Walidacja!B331,\"Poprawny\",\"Podany numer PESEL jest niepoprawny\")","v":"Podany numer PESEL jest niepoprawny"}]
[null,null,null,null,{"$f":"IF(Walidacja!B332,\"Poprawny\",\"Podany numer PESEL jest niepoprawny\")","v":"Podany numer PESEL jest niepoprawny"}]
[null,null,null,null,{"$f":"IF(Walidacja!B333,\"Poprawny\",\"Podany numer PESEL jest niepoprawny\")","v":"Podany numer PESEL jest niepoprawny"}]
[null,null,null,null,{"$f":"IF(Walidacja!B334,\"Poprawny\",\"Podany numer PESEL jest niepoprawny\")","v":"Podany numer PESEL jest niepoprawny"}]
[null,null,null,null,{"$f":"IF(Walidacja!B335,\"Poprawny\",\"Podany numer PESEL jest niepoprawny\")","v":"Podany numer PESEL jest niepoprawny"}]
[null,null,null,null,{"$f":"IF(Walidacja!B336,\"Poprawny\",\"Podany numer PESEL jest niepoprawny\")","v":"Podany numer PESEL jest niepoprawny"}]
[null,null,null,null,{"$f":"IF(Walidacja!B337,\"Poprawny\",\"Podany numer PESEL jest niepoprawny\")","v":"Podany numer PESEL jest niepoprawny"}]
[null,null,null,null,{"$f":"IF(Walidacja!B338,\"Poprawny\",\"Podany numer PESEL jest niepoprawny\")","v":"Podany numer PESEL jest niepoprawny"}]
[null,null,null,null,{"$f":"IF(Walidacja!B339,\"Poprawny\",\"Podany numer PESEL jest niepoprawny\")","v":"Podany numer PESEL jest niepoprawny"}]
[null,null,null,null,{"$f":"IF(Walidacja!B340,\"Poprawny\",\"Podany numer PESEL jest niepoprawny\")","v":"Podany numer PESEL jest niepoprawny"}]
[null,null,null,null,{"$f":"IF(Walidacja!B341,\"Poprawny\",\"Podany numer PESEL jest niepoprawny\")","v":"Podany numer PESEL jest niepoprawny"}]
[null,null,null,null,{"$f":"IF(Walidacja!B342,\"Poprawny\",\"Podany numer PESEL jest niepoprawny\")","v":"Podany numer PESEL jest niepoprawny"}]
[null,null,null,null,{"$f":"IF(Walidacja!B343,\"Poprawny\",\"Podany numer PESEL jest niepoprawny\")","v":"Podany numer PESEL jest niepoprawny"}]
[null,null,null,null,{"$f":"IF(Walidacja!B344,\"Poprawny\",\"Podany numer PESEL jest niepoprawny\")","v":"Podany numer PESEL jest niepoprawny"}]
[null,null,null,null,{"$f":"IF(Walidacja!B345,\"Poprawny\",\"Podany numer PESEL jest niepoprawny\")","v":"Podany numer PESEL jest niepoprawny"}]
[null,null,null,null,{"$f":"IF(Walidacja!B346,\"Poprawny\",\"Podany numer PESEL jest niepoprawny\")","v":"Podany numer PESEL jest niepoprawny"}]
[null,null,null,null,{"$f":"IF(Walidacja!B347,\"Poprawny\",\"Podany numer PESEL jest niepoprawny\")","v":"Podany numer PESEL jest niepoprawny"}]
[null,null,null,null,{"$f":"IF(Walidacja!B348,\"Poprawny\",\"Podany numer PESEL jest niepoprawny\")","v":"Podany numer PESEL jest niepoprawny"}]
[null,null,null,null,{"$f":"IF(Walidacja!B349,\"Poprawny\",\"Podany numer PESEL jest niepoprawny\")","v":"Podany numer PESEL jest niepoprawny"}]
[null,null,null,null,{"$f":"IF(Walidacja!B350,\"Poprawny\",\"Podany numer PESEL jest niepoprawny\")","v":"Podany numer PESEL jest niepoprawny"}]
[null,null,null,null,{"$f":"IF(Walidacja!B351,\"Poprawny\",\"Podany numer PESEL jest niepoprawny\")","v":"Podany numer PESEL jest niepoprawny"}]
[null,null,null,null,{"$f":"IF(Walidacja!B352,\"Poprawny\",\"Podany numer PESEL jest niepoprawny\")","v":"Podany numer PESEL jest niepoprawny"}]
[null,null,null,null,{"$f":"IF(Walidacja!B353,\"Poprawny\",\"Podany numer PESEL jest niepoprawny\")","v":"Podany numer PESEL jest niepoprawny"}]
[null,null,null,null,{"$f":"IF(Walidacja!B354,\"Poprawny\",\"Podany numer PESEL jest niepoprawny\")","v":"Podany numer PESEL jest niepoprawny"}]
[null,null,null,null,{"$f":"IF(Walidacja!B355,\"Poprawny\",\"Podany numer PESEL jest niepoprawny\")","v":"Podany numer PESEL jest niepoprawny"}]
[null,null,null,null,{"$f":"IF(Walidacja!B356,\"Poprawny\",\"Podany numer PESEL jest niepoprawny\")","v":"Podany numer PESEL jest niepoprawny"}]
[null,null,null,null,{"$f":"IF(Walidacja!B357,\"Poprawny\",\"Podany numer PESEL jest niepoprawny\")","v":"Podany numer PESEL jest niepoprawny"}]
[null,null,null,null,{"$f":"IF(Walidacja!B358,\"Poprawny\",\"Podany numer PESEL jest niepoprawny\")","v":"Podany numer PESEL jest niepoprawny"}]
[null,null,null,null,{"$f":"IF(Walidacja!B359,\"Poprawny\",\"Podany numer PESEL jest niepoprawny\")","v":"Podany numer PESEL jest niepoprawny"}]
[null,null,null,null,{"$f":"IF(Walidacja!B360,\"Poprawny\",\"Podany numer PESEL jest niepoprawny\")","v":"Podany numer PESEL jest niepoprawny"}]
[null,null,null,null,{"$f":"IF(Walidacja!B361,\"Poprawny\",\"Podany numer PESEL jest niepoprawny\")","v":"Podany numer PESEL jest niepoprawny"}]
[null,null,null,null,{"$f":"IF(Walidacja!B362,\"Poprawny\",\"Podany numer PESEL jest niepoprawny\")","v":"Podany numer PESEL jest niepoprawny"}]
[null,null,null,null,{"$f":"IF(Walidacja!B363,\"Poprawny\",\"Podany numer PESEL jest niepoprawny\")","v":"Podany numer PESEL jest niepoprawny"}]
[null,null,null,null,{"$f":"IF(Walidacja!B364,\"Poprawny\",\"Podany numer PESEL jest niepoprawny\")","v":"Podany numer PESEL jest niepoprawny"}]
[null,null,null,null,{"$f":"IF(Walidacja!B365,\"Poprawny\",\"Podany numer PESEL jest niepoprawny\")","v":"Podany numer PESEL jest niepoprawny"}]
[null,null,null,null,{"$f":"IF(Walidacja!B366,\"Poprawny\",\"Podany numer PESEL jest niepoprawny\")","v":"Podany numer PESEL jest niepoprawny"}]
[null,null,null,null,{"$f":"IF(Walidacja!B367,\"Poprawny\",\"Podany numer PESEL jest niepoprawny\")","v":"Podany numer PESEL jest niepoprawny"}]
[null,null,null,null,{"$f":"IF(Walidacja!B368,\"Poprawny\",\"Podany numer PESEL jest niepoprawny\")","v":"Podany numer PESEL jest niepoprawny"}]
[null,null,null,null,{"$f":"IF(Walidacja!B369,\"Poprawny\",\"Podany numer PESEL jest niepoprawny\")","v":"Podany numer PESEL jest niepoprawny"}]
[null,null,null,null,{"$f":"IF(Walidacja!B370,\"Poprawny\",\"Podany numer PESEL jest niepoprawny\")","v":"Podany numer PESEL jest niepoprawny"}]
[null,null,null,null,{"$f":"IF(Walidacja!B371,\"Poprawny\",\"Podany numer PESEL jest niepoprawny\")","v":"Podany numer PESEL jest niepoprawny"}]
[null,null,null,null,{"$f":"IF(Walidacja!B372,\"Poprawny\",\"Podany numer PESEL jest niepoprawny\")","v":"Podany numer PESEL jest niepoprawny"}]
[null,null,null,null,{"$f":"IF(Walidacja!B373,\"Poprawny\",\"Podany numer PESEL jest niepoprawny\")","v":"Podany numer PESEL jest niepoprawny"}]
[null,null,null,null,{"$f":"IF(Walidacja!B374,\"Poprawny\",\"Podany numer PESEL jest niepoprawny\")","v":"Podany numer PESEL jest niepoprawny"}]
[null,null,null,null,{"$f":"IF(Walidacja!B375,\"Poprawny\",\"Podany numer PESEL jest niepoprawny\")","v":"Podany numer PESEL jest niepoprawny"}]
[null,null,null,null,{"$f":"IF(Walidacja!B376,\"Poprawny\",\"Podany numer PESEL jest niepoprawny\")","v":"Podany numer PESEL jest niepoprawny"}]
[null,null,null,null,{"$f":"IF(Walidacja!B377,\"Poprawny\",\"Podany numer PESEL jest niepoprawny\")","v":"Podany numer PESEL jest niepoprawny"}]
[null,null,null,null,{"$f":"IF(Walidacja!B378,\"Poprawny\",\"Podany numer PESEL jest niepoprawny\")","v":"Podany numer PESEL jest niepoprawny"}]
[null,null,null,null,{"$f":"IF(Walidacja!B379,\"Poprawny\",\"Podany numer PESEL jest niepoprawny\")","v":"Podany numer PESEL jest niepoprawny"}]
[null,null,null,null,{"$f":"IF(Walidacja!B380,\"Poprawny\",\"Podany numer PESEL jest niepoprawny\")","v":"Podany numer PESEL jest niepoprawny"}]
[null,null,null,null,{"$f":"IF(Walidacja!B381,\"Poprawny\",\"Podany numer PESEL jest niepoprawny\")","v":"Podany numer PESEL jest niepoprawny"}]
[null,null,null,null,{"$f":"IF(Walidacja!B382,\"Poprawny\",\"Podany numer PESEL jest niepoprawny\")","v":"Podany numer PESEL jest niepoprawny"}]
[null,null,null,null,{"$f":"IF(Walidacja!B383,\"Poprawny\",\"Podany numer PESEL jest niepoprawny\")","v":"Podany numer PESEL jest niepoprawny"}]
[null,null,null,null,{"$f":"IF(Walidacja!B384,\"Poprawny\",\"Podany numer PESEL jest niepoprawny\")","v":"Podany numer PESEL jest niepoprawny"}]
[null,null,null,null,{"$f":"IF(Walidacja!B385,\"Poprawny\",\"Podany numer PESEL jest niepoprawny\")","v":"Podany numer PESEL jest niepoprawny"}]
[null,null,null,null,{"$f":"IF(Walidacja!B386,\"Poprawny\",\"Podany numer PESEL jest niepoprawny\")","v":"Podany numer PESEL jest niepoprawny"}]
[null,null,null,null,{"$f":"IF(Walidacja!B387,\"Poprawny\",\"Podany numer PESEL jest niepoprawny\")","v":"Podany numer PESEL jest niepoprawny"}]
[null,null,null,null,{"$f":"IF(Walidacja!B388,\"Poprawny\",\"Podany numer PESEL jest niepoprawny\")","v":"Podany numer PESEL jest niepoprawny"}]
[null,null,null,null,{"$f":"IF(Walidacja!B389,\"Poprawny\",\"Podany numer PESEL jest niepoprawny\")","v":"Podany numer PESEL jest niepoprawny"}]
[null,null,null,null,{"$f":"IF(Walidacja!B390,\"Poprawny\",\"Podany numer PESEL jest niepoprawny\")","v":"Podany numer PESEL jest niepoprawny"}]
[null,null,null,null,{"$f":"IF(Walidacja!B391,\"Poprawny\",\"Podany numer PESEL jest niepoprawny\")","v":"Podany numer PESEL jest niepoprawny"}]
[null,null,null,null,{"$f":"IF(Walidacja!B392,\"Poprawny\",\"Podany numer PESEL jest niepoprawny\")","v":"Podany numer PESEL jest niepoprawny"}]
[null,null,null,null,{"$f":"IF(Walidacja!B393,\"Poprawny\",\"Podany numer PESEL jest niepoprawny\")","v":"Podany numer PESEL jest niepoprawny"}]
[null,null,null,null,{"$f":"IF(Walidacja!B394,\"Poprawny\",\"Podany numer PESEL jest niepoprawny\")","v":"Podany numer PESEL jest niepoprawny"}]
[null,null,null,null,{"$f":"IF(Walidacja!B395,\"Poprawny\",\"Podany numer PESEL jest niepoprawny\")","v":"Podany numer PESEL jest niepoprawny"}]
[null,null,null,null,{"$f":"IF(Walidacja!B396,\"Poprawny\",\"Podany numer PESEL jest niepoprawny\")","v":"Podany numer PESEL jest niepoprawny"}]
[null,null,null,null,{"$f":"IF(Walidacja!B397,\"Poprawny\",\"Podany numer PESEL jest niepoprawny\")","v":"Podany numer PESEL jest niepoprawny"}]
[null,null,null,null,{"$f":"IF(Walidacja!B398,\"Poprawny\",\"Podany numer PESEL jest niepoprawny\")","v":"Podany numer PESEL jest niepoprawny"}]
[null,null,null,null,{"$f":"IF(Walidacja!B399,\"Poprawny\",\"Podany numer PESEL jest niepoprawny\")","v":"Podany numer PESEL jest niepoprawny"}]
[null,null,null,null,{"$f":"IF(Walidacja!B400,\"Poprawny\",\"Podany numer PESEL jest niepoprawny\")","v":"Podany numer PESEL jest niepoprawny"}]
[null,null,null,null,{"$f":"IF(Walidacja!B401,\"Poprawny\",\"Podany numer PESEL jest niepoprawny\")","v":"Podany numer PESEL jest niepoprawny"}]
[null,null,null,null,{"$f":"IF(Walidacja!B402,\"Poprawny\",\"Podany numer PESEL jest niepoprawny\")","v":"Podany numer PESEL jest niepoprawny"}]
[null,null,null,null,{"$f":"IF(Walidacja!B403,\"Poprawny\",\"Podany numer PESEL jest niepoprawny\")","v":"Podany numer PESEL jest niepoprawny"}]
[null,null,null,null,{"$f":"IF(Walidacja!B404,\"Poprawny\",\"Podany numer PESEL jest niepoprawny\")","v":"Podany numer PESEL jest niepoprawny"}]
[null,null,null,null,{"$f":"IF(Walidacja!B405,\"Poprawny\",\"Podany numer PESEL jest niepoprawny\")","v":"Podany numer PESEL jest niepoprawny"}]
[null,null,null,null,{"$f":"IF(Walidacja!B406,\"Poprawny\",\"Podany numer PESEL jest niepoprawny\")","v":"Podany numer PESEL jest niepoprawny"}]
[null,null,null,null,{"$f":"IF(Walidacja!B407,\"Poprawny\",\"Podany numer PESEL jest niepoprawny\")","v":"Podany numer PESEL jest niepoprawny"}]
[null,null,null,null,{"$f":"IF(Walidacja!B408,\"Poprawny\",\"Podany numer PESEL jest niepoprawny\")","v":"Podany numer PESEL jest niepoprawny"}]
[null,null,null,null,{"$f":"IF(Walidacja!B409,\"Poprawny\",\"Podany numer PESEL jest niepoprawny\")","v":"Podany numer PESEL jest niepoprawny"}]
[null,null,null,null,{"$f":"IF(Walidacja!B410,\"Poprawny\",\"Podany numer PESEL jest niepoprawny\")","v":"Podany numer PESEL jest niepoprawny"}]
[null,null,null,null,{"$f":"IF(Walidacja!B411,\"Poprawny\",\"Podany numer PESEL jest niepoprawny\")","v":"Podany numer PESEL jest niepoprawny"}]
[null,null,null,null,{"$f":"IF(Walidacja!B412,\"Poprawny\",\"Podany numer PESEL jest niepoprawny\")","v":"Podany numer PESEL jest niepoprawny"}]
[null,null,null,null,{"$f":"IF(Walidacja!B413,\"Poprawny\",\"Podany numer PESEL jest niepoprawny\")","v":"Podany numer PESEL jest niepoprawny"}]
[null,null,null,null,{"$f":"IF(Walidacja!B414,\"Poprawny\",\"Podany numer PESEL jest niepoprawny\")","v":"Podany numer PESEL jest niepoprawny"}]
[null,null,null,null,{"$f":"IF(Walidacja!B415,\"Poprawny\",\"Podany numer PESEL jest niepoprawny\")","v":"Podany numer PESEL jest niepoprawny"}]
[null,null,null,null,{"$f":"IF(Walidacja!B416,\"Poprawny\",\"Podany numer PESEL jest niepoprawny\")","v":"Podany numer PESEL jest niepoprawny"}]
[null,null,null,null,{"$f":"IF(Walidacja!B417,\"Poprawny\",\"Podany numer PESEL jest niepoprawny\")","v":"Podany numer PESEL jest niepoprawny"}]
[null,null,null,null,{"$f":"IF(Walidacja!B418,\"Poprawny\",\"Podany numer PESEL jest niepoprawny\")","v":"Podany numer PESEL jest niepoprawny"}]
[null,null,null,null,{"$f":"IF(Walidacja!B419,\"Poprawny\",\"Podany numer PESEL jest niepoprawny\")","v":"Podany numer PESEL jest niepoprawny"}]
[null,null,null,null,{"$f":"IF(Walidacja!B420,\"Poprawny\",\"Podany numer PESEL jest niepoprawny\")","v":"Podany numer PESEL jest niepoprawny"}]
[null,null,null,null,{"$f":"IF(Walidacja!B421,\"Poprawny\",\"Podany numer PESEL jest niepoprawny\")","v":"Podany numer PESEL jest niepoprawny"}]
[null,null,null,null,{"$f":"IF(Walidacja!B422,\"Poprawny\",\"Podany numer PESEL jest niepoprawny\")","v":"Podany numer PESEL jest niepoprawny"}]
[null,null,null,null,{"$f":"IF(Walidacja!B423,\"Poprawny\",\"Podany numer PESEL jest niepoprawny\")","v":"Podany numer PESEL jest niepoprawny"}]
[null,null,null,null,{"$f":"IF(Walidacja!B424,\"Poprawny\",\"Podany numer PESEL jest niepoprawny\")","v":"Podany numer PESEL jest niepoprawny"}]
[null,null,null,null,{"$f":"IF(Walidacja!B425,\"Poprawny\",\"Podany numer PESEL jest niepoprawny\")","v":"Podany numer PESEL jest niepoprawny"}]
[null,null,null,null,{"$f":"IF(Walidacja!B426,\"Poprawny\",\"Podany numer PESEL jest niepoprawny\")","v":"Podany numer PESEL jest niepoprawny"}]
[null,null,null,null,{"$f":"IF(Walidacja!B427,\"Poprawny\",\"Podany numer PESEL jest niepoprawny\")","v":"Podany numer PESEL jest niepoprawny"}]
[null,null,null,null,{"$f":"IF(Walidacja!B428,\"Poprawny\",\"Podany numer PESEL jest niepoprawny\")","v":"Podany numer PESEL jest niepoprawny"}]
[null,null,null,null,{"$f":"IF(Walidacja!B429,\"Poprawny\",\"Podany numer PESEL jest niepoprawny\")","v":"Podany numer PESEL jest niepoprawny"}]
[null,null,null,null,{"$f":"IF(Walidacja!B430,\"Poprawny\",\"Podany numer PESEL jest niepoprawny\")","v":"Podany numer PESEL jest niepoprawny"}]
[null,null,null,null,{"$f":"IF(Walidacja!B431,\"Poprawny\",\"Podany numer PESEL jest niepoprawny\")","v":"Podany numer PESEL jest niepoprawny"}]
[null,null,null,null,{"$f":"IF(Walidacja!B432,\"Poprawny\",\"Podany numer PESEL jest niepoprawny\")","v":"Podany numer PESEL jest niepoprawny"}]
[null,null,null,null,{"$f":"IF(Walidacja!B433,\"Poprawny\",\"Podany numer PESEL jest niepoprawny\")","v":"Podany numer PESEL jest niepoprawny"}]
[null,null,null,null,{"$f":"IF(Walidacja!B434,\"Poprawny\",\"Podany numer PESEL jest niepoprawny\")","v":"Podany numer PESEL jest niepoprawny"}]
[null,null,null,null,{"$f":"IF(Walidacja!B435,\"Poprawny\",\"Podany numer PESEL jest niepoprawny\")","v":"Podany numer PESEL jest niepoprawny"}]
[null,null,null,null,{"$f":"IF(Walidacja!B436,\"Poprawny\",\"Podany numer PESEL jest niepoprawny\")","v":"Podany numer PESEL jest niepoprawny"}]
[null,null,null,null,{"$f":"IF(Walidacja!B437,\"Poprawny\",\"Podany numer PESEL jest niepoprawny\")","v":"Podany numer PESEL jest niepoprawny"}]
[null,null,null,null,{"$f":"IF(Walidacja!B438,\"Poprawny\",\"Podany numer PESEL jest niepoprawny\")","v":"Podany numer PESEL jest niepoprawny"}]
[null,null,null,null,{"$f":"IF(Walidacja!B439,\"Poprawny\",\"Podany numer PESEL jest niepoprawny\")","v":"Podany numer PESEL jest niepoprawny"}]
[null,null,null,null,{"$f":"IF(Walidacja!B440,\"Poprawny\",\"Podany numer PESEL jest niepoprawny\")","v":"Podany numer PESEL jest niepoprawny"}]
[null,null,null,null,{"$f":"IF(Walidacja!B441,\"Poprawny\",\"Podany numer PESEL jest niepoprawny\")","v":"Podany numer PESEL jest niepoprawny"}]
[null,null,null,null,{"$f":"IF(Walidacja!B442,\"Poprawny\",\"Podany numer PESEL jest niepoprawny\")","v":"Podany numer PESEL jest niepoprawny"}]
[null,null,null,null,{"$f":"IF(Walidacja!B443,\"Poprawny\",\"Podany numer PESEL jest niepoprawny\")","v":"Podany numer PESEL jest niepoprawny"}]
[null,null,null,null,{"$f":"IF(Walidacja!B444,\"Poprawny\",\"Podany numer PESEL jest niepoprawny\")","v":"Podany numer PESEL jest niepoprawny"}]
[null,null,null,null,{"$f":"IF(Walidacja!B445,\"Poprawny\",\"Podany numer PESEL jest niepoprawny\")","v":"Podany numer PESEL jest niepoprawny"}]
[null,null,null,null,{"$f":"IF(Walidacja!B446,\"Poprawny\",\"Podany numer PESEL jest niepoprawny\")","v":"Podany numer PESEL jest niepoprawny"}]
[null,null,null,null,{"$f":"IF(Walidacja!B447,\"Poprawny\",\"Podany numer PESEL jest niepoprawny\")","v":"Podany numer PESEL jest niepoprawny"}]
[null,null,null,null,{"$f":"IF(Walidacja!B448,\"Poprawny\",\"Podany numer PESEL jest niepoprawny\")","v":"Podany numer PESEL jest niepoprawny"}]
[null,null,null,null,{"$f":"IF(Walidacja!B449,\"Poprawny\",\"Podany numer PESEL jest niepoprawny\")","v":"Podany numer PESEL jest niepoprawny"}]
[null,null,null,null,{"$f":"IF(Walidacja!B450,\"Poprawny\",\"Podany numer PESEL jest niepoprawny\")","v":"Podany numer PESEL jest niepoprawny"}]
[null,null,null,null,{"$f":"IF(Walidacja!B451,\"Poprawny\",\"Podany numer PESEL jest niepoprawny\")","v":"Podany numer PESEL jest niepoprawny"}]
[null,null,null,null,{"$f":"IF(Walidacja!B452,\"Poprawny\",\"Podany numer PESEL jest niepoprawny\")","v":"Podany numer PESEL jest niepoprawny"}]
[null,null,null,null,{"$f":"IF(Walidacja!B453,\"Poprawny\",\"Podany numer PESEL jest niepoprawny\")","v":"Podany numer PESEL jest niepoprawny"}]
[null,null,null,null,{"$f":"IF(Walidacja!B454,\"Poprawny\",\"Podany numer PESEL jest niepoprawny\")","v":"Podany numer PESEL jest niepoprawny"}]
[null,null,null,null,{"$f":"IF(Walidacja!B455,\"Poprawny\",\"Podany numer PESEL jest niepoprawny\")","v":"Podany numer PESEL jest niepoprawny"}]
[null,null,null,null,{"$f":"IF(Walidacja!B456,\"Poprawny\",\"Podany numer PESEL jest niepoprawny\")","v":"Podany numer PESEL jest niepoprawny"}]
[null,null,null,null,{"$f":"IF(Walidacja!B457,\"Poprawny\",\"Podany numer PESEL jest niepoprawny\")","v":"Podany numer PESEL jest niepoprawny"}]
[null,null,null,null,{"$f":"IF(Walidacja!B458,\"Poprawny\",\"Podany numer PESEL jest niepoprawny\")","v":"Podany numer PESEL jest niepoprawny"}]
[null,null,null,null,{"$f":"IF(Walidacja!B459,\"Poprawny\",\"Podany numer PESEL jest niepoprawny\")","v":"Podany numer PESEL jest niepoprawny"}]
[null,null,null,null,{"$f":"IF(Walidacja!B460,\"Poprawny\",\"Podany numer PESEL jest niepoprawny\")","v":"Podany numer PESEL jest niepoprawny"}]
[null,null,null,null,{"$f":"IF(Walidacja!B461,\"Poprawny\",\"Podany numer PESEL jest niepoprawny\")","v":"Podany numer PESEL jest niepoprawny"}]
[null,null,null,null,{"$f":"IF(Walidacja!B462,\"Poprawny\",\"Podany numer PESEL jest niepoprawny\")","v":"Podany numer PESEL jest niepoprawny"}]
[null,null,null,null,{"$f":"IF(Walidacja!B463,\"Poprawny\",\"Podany numer PESEL jest niepoprawny\")","v":"Podany numer PESEL jest niepoprawny"}]
[null,null,null,null,{"$f":"IF(Walidacja!B464,\"Poprawny\",\"Podany numer PESEL jest niepoprawny\")","v":"Podany numer PESEL jest niepoprawny"}]
[null,null,null,null,{"$f":"IF(Walidacja!B465,\"Poprawny\",\"Podany numer PESEL jest niepoprawny\")","v":"Podany numer PESEL jest niepoprawny"}]
[null,null,null,null,{"$f":"IF(Walidacja!B466,\"Poprawny\",\"Podany numer PESEL jest niepoprawny\")","v":"Podany numer PESEL jest niepoprawny"}]
[null,null,null,null,{"$f":"IF(Walidacja!B467,\"Poprawny\",\"Podany numer PESEL jest niepoprawny\")","v":"Podany numer PESEL jest niepoprawny"}]
[null,null,null,null,{"$f":"IF(Walidacja!B468,\"Poprawny\",\"Podany numer PESEL jest niepoprawny\")","v":"Podany numer PESEL jest niepoprawny"}]
[null,null,null,null,{"$f":"IF(Walidacja!B469,\"Poprawny\",\"Podany numer PESEL jest niepoprawny\")","v":"Podany numer PESEL jest niepoprawny"}]
[null,null,null,null,{"$f":"IF(Walidacja!B470,\"Poprawny\",\"Podany numer PESEL jest niepoprawny\")","v":"Podany numer PESEL jest niepoprawny"}]
[null,null,null,null,{"$f":"IF(Walidacja!B471,\"Poprawny\",\"Podany numer PESEL jest niepoprawny\")","v":"Podany numer PESEL jest niepoprawny"}]
[null,null,null,null,{"$f":"IF(Walidacja!B472,\"Poprawny\",\"Podany numer PESEL jest niepoprawny\")","v":"Podany numer PESEL jest niepoprawny"}]
[null,null,null,null,{"$f":"IF(Walidacja!B473,\"Poprawny\",\"Podany numer PESEL jest niepoprawny\")","v":"Podany numer PESEL jest niepoprawny"}]
[null,null,null,null,{"$f":"IF(Walidacja!B474,\"Poprawny\",\"Podany numer PESEL jest niepoprawny\")","v":"Podany numer PESEL jest niepoprawny"}]
[null,null,null,null,{"$f":"IF(Walidacja!B475,\"Poprawny\",\"Podany numer PESEL jest niepoprawny\")","v":"Podany numer PESEL jest niepoprawny"}]
[null,null,null,null,{"$f":"IF(Walidacja!B476,\"Poprawny\",\"Podany numer PESEL jest niepoprawny\")","v":"Podany numer PESEL jest niepoprawny"}]
[null,null,null,null,{"$f":"IF(Walidacja!B477,\"Poprawny\",\"Podany numer PESEL jest niepoprawny\")","v":"Podany numer PESEL jest niepoprawny"}]
[null,null,null,null,{"$f":"IF(Walidacja!B478,\"Poprawny\",\"Podany numer PESEL jest niepoprawny\")","v":"Podany numer PESEL jest niepoprawny"}]
[null,null,null,null,{"$f":"IF(Walidacja!B479,\"Poprawny\",\"Podany numer PESEL jest niepoprawny\")","v":"Podany numer PESEL jest niepoprawny"}]
[null,null,null,null,{"$f":"IF(Walidacja!B480,\"Poprawny\",\"Podany numer PESEL jest niepoprawny\")","v":"Podany numer PESEL jest niepoprawny"}]
[null,null,null,null,{"$f":"IF(Walidacja!B481,\"Poprawny\",\"Podany numer PESEL jest niepoprawny\")","v":"Podany numer PESEL jest niepoprawny"}]
[null,null,null,null,{"$f":"IF(Walidacja!B482,\"Poprawny\",\"Podany numer PESEL jest niepoprawny\")","v":"Podany numer PESEL jest niepoprawny"}]
[null,null,null,null,{"$f":"IF(Walidacja!B483,\"Poprawny\",\"Podany numer PESEL jest niepoprawny\")","v":"Podany numer PESEL jest niepoprawny"}]
[null,null,null,null,{"$f":"IF(Walidacja!B484,\"Poprawny\",\"Podany numer PESEL jest niepoprawny\")","v":"Podany numer PESEL jest niepoprawny"}]
[null,null,null,null,{"$f":"IF(Walidacja!B485,\"Poprawny\",\"Podany numer PESEL jest niepoprawny\")","v":"Podany numer PESEL jest niepoprawny"}]
[null,null,null,null,{"$f":"IF(Walidacja!B486,\"Poprawny\",\"Podany numer PESEL jest niepoprawny\")","v":"Podany numer PESEL jest niepoprawny"}]
[null,null,null,null,{"$f":"IF(Walidacja!B487,\"Poprawny\",\"Podany numer PESEL jest niepoprawny\")","v":"Podany numer PESEL jest niepoprawny"}]
[null,null,null,null,{"$f":"IF(Walidacja!B488,\"Poprawny\",\"Podany numer PESEL jest niepoprawny\")","v":"Podany numer PESEL jest niepoprawny"}]
[null,null,null,null,{"$f":"IF(Walidacja!B489,\"Poprawny\",\"Podany numer PESEL jest niepoprawny\")","v":"Podany numer PESEL jest niepoprawny"}]
[null,null,null,null,{"$f":"IF(Walidacja!B490,\"Poprawny\",\"Podany numer PESEL jest niepoprawny\")","v":"Podany numer PESEL jest niepoprawny"}]
[null,null,null,null,{"$f":"IF(Walidacja!B491,\"Poprawny\",\"Podany numer PESEL jest niepoprawny\")","v":"Podany numer PESEL jest niepoprawny"}]
[null,null,null,null,{"$f":"IF(Walidacja!B492,\"Poprawny\",\"Podany numer PESEL jest niepoprawny\")","v":"Podany numer PESEL jest niepoprawny"}]
[null,null,null,null,{"$f":"IF(Walidacja!B493,\"Poprawny\",\"Podany numer PESEL jest niepoprawny\")","v":"Podany numer PESEL jest niepoprawny"}]
[null,null,null,null,{"$f":"IF(Walidacja!B494,\"Poprawny\",\"Podany numer PESEL jest niepoprawny\")","v":"Podany numer PESEL jest niepoprawny"}]
[null,null,null,null,{"$f":"IF(Walidacja!B495,\"Poprawny\",\"Podany numer PESEL jest niepoprawny\")","v":"Podany numer PESEL jest niepoprawny"}]
[null,null,null,null,{"$f":"IF(Walidacja!B496,\"Poprawny\",\"Podany numer PESEL jest niepoprawny\")","v":"Podany numer PESEL jest niepoprawny"}]
[null,null,null,null,{"$f":"IF(Walidacja!B497,\"Poprawny\",\"Podany numer PESEL jest niepoprawny\")","v":"Podany numer PESEL jest niepoprawny"}]
[null,null,null,null,{"$f":"IF(Walidacja!B498,\"Poprawny\",\"Podany numer PESEL jest niepoprawny\")","v":"Podany numer PESEL jest niepoprawny"}]
[null,null,null,null,{"$f":"IF(Walidacja!B499,\"Poprawny\",\"Podany numer PESEL jest niepoprawny\")","v":"Podany numer PESEL jest niepoprawny"}]
[null,null,null,null,{"$f":"IF(Walidacja!B500,\"Poprawny\",\"Podany numer PESEL jest niepoprawny\")","v":"Podany numer PESEL jest niepoprawny"}]
[null,null,null,null,{"$f":"IF(Walidacja!B501,\"Poprawny\",\"Podany numer PESEL jest niepoprawny\")","v":"Podany numer PESEL jest niepoprawny"}]
[null,null,null,null,{"$f":"IF(Walidacja!B502,\"Poprawny\",\"Podany numer PESEL jest niepoprawny\")","v":"Podany numer PESEL jest niepoprawny"}]
[null,null,null,null,{"$f":"IF(Walidacja!B503,\"Poprawny\",\"Podany numer PESEL jest niepoprawny\")","v":"Podany numer PESEL jest niepoprawny"}]
[null,null,null,null,{"$f":"IF(Walidacja!B504,\"Poprawny\",\"Podany numer PESEL jest niepoprawny\")","v":"Podany numer PESEL jest niepoprawny"}]
[null,null,null,null,{"$f":"IF(Walidacja!B505,\"Poprawny\",\"Podany numer PESEL jest niepoprawny\")","v":"Podany numer PESEL jest niepoprawny"}]
[null,null,null,null,{"$f":"IF(Walidacja!B506,\"Poprawny\",\"Podany numer PESEL jest niepoprawny\")","v":"Podany numer PESEL jest niepoprawny"}]
[null,null,null,null,{"$f":"IF(Walidacja!B507,\"Poprawny\",\"Podany numer PESEL jest niepoprawny\")","v":"Podany numer PESEL jest niepoprawny"}]
[null,null,null,null,{"$f":"IF(Walidacja!B508,\"Poprawny\",\"Podany numer PESEL jest niepoprawny\")","v":"Podany numer PESEL jest niepoprawny"}]
[null,null,null,null,{"$f":"IF(Walidacja!B509,\"Poprawny\",\"Podany numer PESEL jest niepoprawny\")","v":"Podany numer PESEL jest niepoprawny"}]
[null,null,null,null,{"$f":"IF(Walidacja!B510,\"Poprawny\",\"Podany numer PESEL jest niepoprawny\")","v":"Podany numer PESEL jest niepoprawny"}]
[null,null,null,null,{"$f":"IF(Walidacja!B511,\"Poprawny\",\"Podany numer PESEL jest niepoprawny\")","v":"Podany numer PESEL jest niepoprawny"}]
[null,null,null,null,{"$f":"IF(Walidacja!B512,\"Poprawny\",\"Podany numer PESEL jest niepoprawny\")","v":"Podany numer PESEL jest niepoprawny"}]
[null,null,null,null,{"$f":"IF(Walidacja!B513,\"Poprawny\",\"Podany numer PESEL jest niepoprawny\")","v":"Podany numer PESEL jest niepoprawny"}]
[null,null,null,null,{"$f":"IF(Walidacja!B514,\"Poprawny\",\"Podany numer PESEL jest niepoprawny\")","v":"Podany numer PESEL jest niepoprawny"}]
[null,null,null,null,{"$f":"IF(Walidacja!B515,\"Poprawny\",\"Podany numer PESEL jest niepoprawny\")","v":"Podany numer PESEL jest niepoprawny"}]
[null,null,null,null,{"$f":"IF(Walidacja!B516,\"Poprawny\",\"Podany numer PESEL jest niepoprawny\")","v":"Podany numer PESEL jest niepoprawny"}]
[null,null,null,null,{"$f":"IF(Walidacja!B517,\"Poprawny\",\"Podany numer PESEL jest niepoprawny\")","v":"Podany numer PESEL jest niepoprawny"}]
[null,null,null,null,{"$f":"IF(Walidacja!B518,\"Poprawny\",\"Podany numer PESEL jest niepoprawny\")","v":"Podany numer PESEL jest niepoprawny"}]
[null,null,null,null,{"$f":"IF(Walidacja!B519,\"Poprawny\",\"Podany numer PESEL jest niepoprawny\")","v":"Podany numer PESEL jest niepoprawny"}]
[null,null,null,null,{"$f":"IF(Walidacja!B520,\"Poprawny\",\"Podany numer PESEL jest niepoprawny\")","v":"Podany numer PESEL jest niepoprawny"}]
[null,null,null,null,{"$f":"IF(Walidacja!B521,\"Poprawny\",\"Podany numer PESEL jest niepoprawny\")","v":"Podany numer PESEL jest niepoprawny"}]
[null,null,null,null,{"$f":"IF(Walidacja!B522,\"Poprawny\",\"Podany numer PESEL jest niepoprawny\")","v":"Podany numer PESEL jest niepoprawny"}]
[null,null,null,null,{"$f":"IF(Walidacja!B523,\"Poprawny\",\"Podany numer PESEL jest niepoprawny\")","v":"Podany numer PESEL jest niepoprawny"}]
[null,null,null,null,{"$f":"IF(Walidacja!B524,\"Poprawny\",\"Podany numer PESEL jest niepoprawny\")","v":"Podany numer PESEL jest niepoprawny"}]
[null,null,null,null,{"$f":"IF(Walidacja!B525,\"Poprawny\",\"Podany numer PESEL jest niepoprawny\")","v":"Podany numer PESEL jest niepoprawny"}]
[null,null,null,null,{"$f":"IF(Walidacja!B526,\"Poprawny\",\"Podany numer PESEL jest niepoprawny\")","v":"Podany numer PESEL jest niepoprawny"}]
[null,null,null,null,{"$f":"IF(Walidacja!B527,\"Poprawny\",\"Podany numer PESEL jest niepoprawny\")","v":"Podany numer PESEL jest niepoprawny"}]
[null,null,null,null,{"$f":"IF(Walidacja!B528,\"Poprawny\",\"Podany numer PESEL jest niepoprawny\")","v":"Podany numer PESEL jest niepoprawny"}]
[null,null,null,null,{"$f":"IF(Walidacja!B529,\"Poprawny\",\"Podany numer PESEL jest niepoprawny\")","v":"Podany numer PESEL jest niepoprawny"}]
[null,null,null,null,{"$f":"IF(Walidacja!B530,\"Poprawny\",\"Podany numer PESEL jest niepoprawny\")","v":"Podany numer PESEL jest niepoprawny"}]
[null,null,null,null,{"$f":"IF(Walidacja!B531,\"Poprawny\",\"Podany numer PESEL jest niepoprawny\")","v":"Podany numer PESEL jest niepoprawny"}]
[null,null,null,null,{"$f":"IF(Walidacja!B532,\"Poprawny\",\"Podany numer PESEL jest niepoprawny\")","v":"Podany numer PESEL jest niepoprawny"}]
[null,null,null,null,{"$f":"IF(Walidacja!B533,\"Poprawny\",\"Podany numer PESEL jest niepoprawny\")","v":"Podany numer PESEL jest niepoprawny"}]
[null,null,null,null,{"$f":"IF(Walidacja!B534,\"Poprawny\",\"Podany numer PESEL jest niepoprawny\")","v":"Podany numer PESEL jest niepoprawny"}]
[null,null,null,null,{"$f":"IF(Walidacja!B535,\"Poprawny\",\"Podany numer PESEL jest niepoprawny\")","v":"Podany numer PESEL jest niepoprawny"}]
[null,null,null,null,{"$f":"IF(Walidacja!B536,\"Poprawny\",\"Podany numer PESEL jest niepoprawny\")","v":"Podany numer PESEL jest niepoprawny"}]
[null,null,null,null,{"$f":"IF(Walidacja!B537,\"Poprawny\",\"Podany numer PESEL jest niepoprawny\")","v":"Podany numer PESEL jest niepoprawny"}]
[null,null,null,null,{"$f":"IF(Walidacja!B538,\"Poprawny\",\"Podany numer PESEL jest niepoprawny\")","v":"Podany numer PESEL jest niepoprawny"}]
[null,null,null,null,{"$f":"IF(Walidacja!B539,\"Poprawny\",\"Podany numer PESEL jest niepoprawny\")","v":"Podany numer PESEL jest niepoprawny"}]
[null,null,null,null,{"$f":"IF(Walidacja!B540,\"Poprawny\",\"Podany numer PESEL jest niepoprawny\")","v":"Podany numer PESEL jest niepoprawny"}]
[null,null,null,null,{"$f":"IF(Walidacja!B541,\"Poprawny\",\"Podany numer PESEL jest niepoprawny\")","v":"Podany numer PESEL jest niepoprawny"}]
[null,null,null,null,{"$f":"IF(Walidacja!B542,\"Poprawny\",\"Podany numer PESEL jest niepoprawny\")","v":"Podany numer PESEL jest niepoprawny"}]
[null,null,null,null,{"$f":"IF(Walidacja!B543,\"Poprawny\",\"Podany numer PESEL jest niepoprawny\")","v":"Podany numer PESEL jest niepoprawny"}]
[null,null,null,null,{"$f":"IF(Walidacja!B544,\"Poprawny\",\"Podany numer PESEL jest niepoprawny\")","v":"Podany numer PESEL jest niepoprawny"}]
[null,null,null,null,{"$f":"IF(Walidacja!B545,\"Poprawny\",\"Podany numer PESEL jest niepoprawny\")","v":"Podany numer PESEL jest niepoprawny"}]
[null,null,null,null,{"$f":"IF(Walidacja!B546,\"Poprawny\",\"Podany numer PESEL jest niepoprawny\")","v":"Podany numer PESEL jest niepoprawny"}]
[null,null,null,null,{"$f":"IF(Walidacja!B547,\"Poprawny\",\"Podany numer PESEL jest niepoprawny\")","v":"Podany numer PESEL jest niepoprawny"}]
[null,null,null,null,{"$f":"IF(Walidacja!B548,\"Poprawny\",\"Podany numer PESEL jest niepoprawny\")","v":"Podany numer PESEL jest niepoprawny"}]
[null,null,null,null,{"$f":"IF(Walidacja!B549,\"Poprawny\",\"Podany numer PESEL jest niepoprawny\")","v":"Podany numer PESEL jest niepoprawny"}]
[null,null,null,null,{"$f":"IF(Walidacja!B550,\"Poprawny\",\"Podany numer PESEL jest niepoprawny\")","v":"Podany numer PESEL jest niepoprawny"}]
[null,null,null,null,{"$f":"IF(Walidacja!B551,\"Poprawny\",\"Podany numer PESEL jest niepoprawny\")","v":"Podany numer PESEL jest niepoprawny"}]
[null,null,null,null,{"$f":"IF(Walidacja!B552,\"Poprawny\",\"Podany numer PESEL jest niepoprawny\")","v":"Podany numer PESEL jest niepoprawny"}]
[null,null,null,null,{"$f":"IF(Walidacja!B553,\"Poprawny\",\"Podany numer PESEL jest niepoprawny\")","v":"Podany numer PESEL jest niepoprawny"}]
[null,null,null,null,{"$f":"IF(Walidacja!B554,\"Poprawny\",\"Podany numer PESEL jest niepoprawny\")","v":"Podany numer PESEL jest niepoprawny"}]
[null,null,null,null,{"$f":"IF(Walidacja!B555,\"Poprawny\",\"Podany numer PESEL jest niepoprawny\")","v":"Podany numer PESEL jest niepoprawny"}]
[null,null,null,null,{"$f":"IF(Walidacja!B556,\"Poprawny\",\"Podany numer PESEL jest niepoprawny\")","v":"Podany numer PESEL jest niepoprawny"}]
[null,null,null,null,{"$f":"IF(Walidacja!B557,\"Poprawny\",\"Podany numer PESEL jest niepoprawny\")","v":"Podany numer PESEL jest niepoprawny"}]
[null,null,null,null,{"$f":"IF(Walidacja!B558,\"Poprawny\",\"Podany numer PESEL jest niepoprawny\")","v":"Podany numer PESEL jest niepoprawny"}]
[null,null,null,null,{"$f":"IF(Walidacja!B559,\"Poprawny\",\"Podany numer PESEL jest niepoprawny\")","v":"Podany numer PESEL jest niepoprawny"}]
[null,null,null,null,{"$f":"IF(Walidacja!B560,\"Poprawny\",\"Podany numer PESEL jest niepoprawny\")","v":"Podany numer PESEL jest niepoprawny"}]
[null,null,null,null,{"$f":"IF(Walidacja!B561,\"Poprawny\",\"Podany numer PESEL jest niepoprawny\")","v":"Podany numer PESEL jest niepoprawny"}]
[null,null,null,null,{"$f":"IF(Walidacja!B562,\"Poprawny\",\"Podany numer PESEL jest niepoprawny\")","v":"Podany numer PESEL jest niepoprawny"}]
[null,null,null,null,{"$f":"IF(Walidacja!B563,\"Poprawny\",\"Podany numer PESEL jest niepoprawny\")","v":"Podany numer PESEL jest niepoprawny"}]
[null,null,null,null,{"$f":"IF(Walidacja!B564,\"Poprawny\",\"Podany numer PESEL jest niepoprawny\")","v":"Podany numer PESEL jest niepoprawny"}]
[null,null,null,null,{"$f":"IF(Walidacja!B565,\"Poprawny\",\"Podany numer PESEL jest niepoprawny\")","v":"Podany numer PESEL jest niepoprawny"}]
[null,null,null,null,{"$f":"IF(Walidacja!B566,\"Poprawny\",\"Podany numer PESEL jest niepoprawny\")","v":"Podany numer PESEL jest niepoprawny"}]
[null,null,null,null,{"$f":"IF(Walidacja!B567,\"Poprawny\",\"Podany numer PESEL jest niepoprawny\")","v":"Podany numer PESEL jest niepoprawny"}]
[null,null,null,null,{"$f":"IF(Walidacja!B568,\"Poprawny\",\"Podany numer PESEL jest niepoprawny\")","v":"Podany numer PESEL jest niepoprawny"}]
[null,null,null,null,{"$f":"IF(Walidacja!B569,\"Poprawny\",\"Podany numer PESEL jest niepoprawny\")","v":"Podany numer PESEL jest niepoprawny"}]
[null,null,null,null,{"$f":"IF(Walidacja!B570,\"Poprawny\",\"Podany numer PESEL jest niepoprawny\")","v":"Podany numer PESEL jest niepoprawny"}]
[null,null,null,null,{"$f":"IF(Walidacja!B571,\"Poprawny\",\"Podany numer PESEL jest niepoprawny\")","v":"Podany numer PESEL jest niepoprawny"}]
[null,null,null,null,{"$f":"IF(Walidacja!B572,\"Poprawny\",\"Podany numer PESEL jest niepoprawny\")","v":"Podany numer PESEL jest niepoprawny"}]
[null,null,null,null,{"$f":"IF(Walidacja!B573,\"Poprawny\",\"Podany numer PESEL jest niepoprawny\")","v":"Podany numer PESEL jest niepoprawny"}]
[null,null,null,null,{"$f":"IF(Walidacja!B574,\"Poprawny\",\"Podany numer PESEL jest niepoprawny\")","v":"Podany numer PESEL jest niepoprawny"}]
[null,null,null,null,{"$f":"IF(Walidacja!B575,\"Poprawny\",\"Podany numer PESEL jest niepoprawny\")","v":"Podany numer PESEL jest niepoprawny"}]
[null,null,null,null,{"$f":"IF(Walidacja!B576,\"Poprawny\",\"Podany numer PESEL jest niepoprawny\")","v":"Podany numer PESEL jest niepoprawny"}]
[null,null,null,null,{"$f":"IF(Walidacja!B577,\"Poprawny\",\"Podany numer PESEL jest niepoprawny\")","v":"Podany numer PESEL jest niepoprawny"}]
[null,null,null,null,{"$f":"IF(Walidacja!B578,\"Poprawny\",\"Podany numer PESEL jest niepoprawny\")","v":"Podany numer PESEL jest niepoprawny"}]
[null,null,null,null,{"$f":"IF(Walidacja!B579,\"Poprawny\",\"Podany numer PESEL jest niepoprawny\")","v":"Podany numer PESEL jest niepoprawny"}]
[null,null,null,null,{"$f":"IF(Walidacja!B580,\"Poprawny\",\"Podany numer PESEL jest niepoprawny\")","v":"Podany numer PESEL jest niepoprawny"}]
[null,null,null,null,{"$f":"IF(Walidacja!B581,\"Poprawny\",\"Podany numer PESEL jest niepoprawny\")","v":"Podany numer PESEL jest niepoprawny"}]
[null,null,null,null,{"$f":"IF(Walidacja!B582,\"Poprawny\",\"Podany numer PESEL jest niepoprawny\")","v":"Podany numer PESEL jest niepoprawny"}]
[null,null,null,null,{"$f":"IF(Walidacja!B583,\"Poprawny\",\"Podany numer PESEL jest niepoprawny\")","v":"Podany numer PESEL jest niepoprawny"}]
[null,null,null,null,{"$f":"IF(Walidacja!B584,\"Poprawny\",\"Podany numer PESEL jest niepoprawny\")","v":"Podany numer PESEL jest niepoprawny"}]
[null,null,null,null,{"$f":"IF(Walidacja!B585,\"Poprawny\",\"Podany numer PESEL jest niepoprawny\")","v":"Podany numer PESEL jest niepoprawny"}]
[null,null,null,null,{"$f":"IF(Walidacja!B586,\"Poprawny\",\"Podany numer PESEL jest niepoprawny\")","v":"Podany numer PESEL jest niepoprawny"}]
[null,null,null,null,{"$f":"IF(Walidacja!B587,\"Poprawny\",\"Podany numer PESEL jest niepoprawny\")","v":"Podany numer PESEL jest niepoprawny"}]
[null,null,null,null,{"$f":"IF(Walidacja!B588,\"Poprawny\",\"Podany numer PESEL jest niepoprawny\")","v":"Podany numer PESEL jest niepoprawny"}]
[null,null,null,null,{"$f":"IF(Walidacja!B589,\"Poprawny\",\"Podany numer PESEL jest niepoprawny\")","v":"Podany numer PESEL jest niepoprawny"}]
[null,null,null,null,{"$f":"IF(Walidacja!B590,\"Poprawny\",\"Podany numer PESEL jest niepoprawny\")","v":"Podany numer PESEL jest niepoprawny"}]
[null,null,null,null,{"$f":"IF(Walidacja!B591,\"Poprawny\",\"Podany numer PESEL jest niepoprawny\")","v":"Podany numer PESEL jest niepoprawny"}]
[null,null,null,null,{"$f":"IF(Walidacja!B592,\"Poprawny\",\"Podany numer PESEL jest niepoprawny\")","v":"Podany numer PESEL jest niepoprawny"}]
[null,null,null,null,{"$f":"IF(Walidacja!B593,\"Poprawny\",\"Podany numer PESEL jest niepoprawny\")","v":"Podany numer PESEL jest niepoprawny"}]
[null,null,null,null,{"$f":"IF(Walidacja!B594,\"Poprawny\",\"Podany numer PESEL jest niepoprawny\")","v":"Podany numer PESEL jest niepoprawny"}]
[null,null,null,null,{"$f":"IF(Walidacja!B595,\"Poprawny\",\"Podany numer PESEL jest niepoprawny\")","v":"Podany numer PESEL jest niepoprawny"}]
[null,null,null,null,{"$f":"IF(Walidacja!B596,\"Poprawny\",\"Podany numer PESEL jest niepoprawny\")","v":"Podany numer PESEL jest niepoprawny"}]
[null,null,null,null,{"$f":"IF(Walidacja!B597,\"Poprawny\",\"Podany numer PESEL jest niepoprawny\")","v":"Podany numer PESEL jest niepoprawny"}]
[null,null,null,null,{"$f":"IF(Walidacja!B598,\"Poprawny\",\"Podany numer PESEL jest niepoprawny\")","v":"Podany numer PESEL jest niepoprawny"}]
[null,null,null,null,{"$f":"IF(Walidacja!B599,\"Poprawny\",\"Podany numer PESEL jest niepoprawny\")","v":"Podany numer PESEL jest niepoprawny"}]
[null,null,null,null,{"$f":"IF(Walidacja!B600,\"Poprawny\",\"Podany numer PESEL jest niepoprawny\")","v":"Podany numer PESEL jest niepoprawny"}]
[null,null,null,null,{"$f":"IF(Walidacja!B601,\"Poprawny\",\"Podany numer PESEL jest niepoprawny\")","v":"Podany numer PESEL jest niepoprawny"}]
[null,null,null,null,{"$f":"IF(Walidacja!B602,\"Poprawny\",\"Podany numer PESEL jest niepoprawny\")","v":"Podany numer PESEL jest niepoprawny"}]
[null,null,null,null,{"$f":"IF(Walidacja!B603,\"Poprawny\",\"Podany numer PESEL jest niepoprawny\")","v":"Podany numer PESEL jest niepoprawny"}]
[null,null,null,null,{"$f":"IF(Walidacja!B604,\"Poprawny\",\"Podany numer PESEL jest niepoprawny\")","v":"Podany numer PESEL jest niepoprawny"}]
[null,null,null,null,{"$f":"IF(Walidacja!B605,\"Poprawny\",\"Podany numer PESEL jest niepoprawny\")","v":"Podany numer PESEL jest niepoprawny"}]
[null,null,null,null,{"$f":"IF(Walidacja!B606,\"Poprawny\",\"Podany numer PESEL jest niepoprawny\")","v":"Podany numer PESEL jest niepoprawny"}]
[null,null,null,null,{"$f":"IF(Walidacja!B607,\"Poprawny\",\"Podany numer PESEL jest niepoprawny\")","v":"Podany numer PESEL jest niepoprawny"}]
[null,null,null,null,{"$f":"IF(Walidacja!B608,\"Poprawny\",\"Podany numer PESEL jest niepoprawny\")","v":"Podany numer PESEL jest niepoprawny"}]
[null,null,null,null,{"$f":"IF(Walidacja!B609,\"Poprawny\",\"Podany numer PESEL jest niepoprawny\")","v":"Podany numer PESEL jest niepoprawny"}]
[null,null,null,null,{"$f":"IF(Walidacja!B610,\"Poprawny\",\"Podany numer PESEL jest niepoprawny\")","v":"Podany numer PESEL jest niepoprawny"}]
[null,null,null,null,{"$f":"IF(Walidacja!B611,\"Poprawny\",\"Podany numer PESEL jest niepoprawny\")","v":"Podany numer PESEL jest niepoprawny"}]
[null,null,null,null,{"$f":"IF(Walidacja!B612,\"Poprawny\",\"Podany numer PESEL jest niepoprawny\")","v":"Podany numer PESEL jest niepoprawny"}]
[null,null,null,null,{"$f":"IF(Walidacja!B613,\"Poprawny\",\"Podany numer PESEL jest niepoprawny\")","v":"Podany numer PESEL jest niepoprawny"}]
[null,null,null,null,{"$f":"IF(Walidacja!B614,\"Poprawny\",\"Podany numer PESEL jest niepoprawny\")","v":"Podany numer PESEL jest niepoprawny"}]
[null,null,null,null,{"$f":"IF(Walidacja!B615,\"Poprawny\",\"Podany numer PESEL jest niepoprawny\")","v":"Podany numer PESEL jest niepoprawny"}]
[null,null,null,null,{"$f":"IF(Walidacja!B616,\"Poprawny\",\"Podany numer PESEL jest niepoprawny\")","v":"Podany numer PESEL jest niepoprawny"}]
[null,null,null,null,{"$f":"IF(Walidacja!B617,\"Poprawny\",\"Podany numer PESEL jest niepoprawny\")","v":"Podany numer PESEL jest niepoprawny"}]
[null,null,null,null,{"$f":"IF(Walidacja!B618,\"Poprawny\",\"Podany numer PESEL jest niepoprawny\")","v":"Podany numer PESEL jest niepoprawny"}]
[null,null,null,null,{"$f":"IF(Walidacja!B619,\"Poprawny\",\"Podany numer PESEL jest niepoprawny\")","v":"Podany numer PESEL jest niepoprawny"}]
[null,null,null,null,{"$f":"IF(Walidacja!B620,\"Poprawny\",\"Podany numer PESEL jest niepoprawny\")","v":"Podany numer PESEL jest niepoprawny"}]
[null,null,null,null,{"$f":"IF(Walidacja!B621,\"Poprawny\",\"Podany numer PESEL jest niepoprawny\")","v":"Podany numer PESEL jest niepoprawny"}]
[null,null,null,null,{"$f":"IF(Walidacja!B622,\"Poprawny\",\"Podany numer PESEL jest niepoprawny\")","v":"Podany numer PESEL jest niepoprawny"}]
[null,null,null,null,{"$f":"IF(Walidacja!B623,\"Poprawny\",\"Podany numer PESEL jest niepoprawny\")","v":"Podany numer PESEL jest niepoprawny"}]
[null,null,null,null,{"$f":"IF(Walidacja!B624,\"Poprawny\",\"Podany numer PESEL jest niepoprawny\")","v":"Podany numer PESEL jest niepoprawny"}]
[null,null,null,null,{"$f":"IF(Walidacja!B625,\"Poprawny\",\"Podany numer PESEL jest niepoprawny\")","v":"Podany numer PESEL jest niepoprawny"}]
[null,null,null,null,{"$f":"IF(Walidacja!B626,\"Poprawny\",\"Podany numer PESEL jest niepoprawny\")","v":"Podany numer PESEL jest niepoprawny"}]
[null,null,null,null,{"$f":"IF(Walidacja!B627,\"Poprawny\",\"Podany numer PESEL jest niepoprawny\")","v":"Podany numer PESEL jest niepoprawny"}]
[null,null,null,null,{"$f":"IF(Walidacja!B628,\"Poprawny\",\"Podany numer PESEL jest niepoprawny\")","v":"Podany numer PESEL jest niepoprawny"}]
[null,null,null,null,{"$f":"IF(Walidacja!B629,\"Poprawny\",\"Podany numer PESEL jest niepoprawny\")","v":"Podany numer PESEL jest niepoprawny"}]
[null,null,null,null,{"$f":"IF(Walidacja!B630,\"Poprawny\",\"Podany numer PESEL jest niepoprawny\")","v":"Podany numer PESEL jest niepoprawny"}]
[null,null,null,null,{"$f":"IF(Walidacja!B631,\"Poprawny\",\"Podany numer PESEL jest niepoprawny\")","v":"Podany numer PESEL jest niepoprawny"}]
[null,null,null,null,{"$f":"IF(Walidacja!B632,\"Poprawny\",\"Podany numer PESEL jest niepoprawny\")","v":"Podany numer PESEL jest niepoprawny"}]
[null,null,null,null,{"$f":"IF(Walidacja!B633,\"Poprawny\",\"Podany numer PESEL jest niepoprawny\")","v":"Podany numer PESEL jest niepoprawny"}]
[null,null,null,null,{"$f":"IF(Walidacja!B634,\"Poprawny\",\"Podany numer PESEL jest niepoprawny\")","v":"Podany numer PESEL jest niepoprawny"}]
[null,null,null,null,{"$f":"IF(Walidacja!B635,\"Poprawny\",\"Podany numer PESEL jest niepoprawny\")","v":"Podany numer PESEL jest niepoprawny"}]
[null,null,null,null,{"$f":"IF(Walidacja!B636,\"Poprawny\",\"Podany numer PESEL jest niepoprawny\")","v":"Podany numer PESEL jest niepoprawny"}]
[null,null,null,null,{"$f":"IF(Walidacja!B637,\"Poprawny\",\"Podany numer PESEL jest niepoprawny\")","v":"Podany numer PESEL jest niepoprawny"}]
[null,null,null,null,{"$f":"IF(Walidacja!B638,\"Poprawny\",\"Podany numer PESEL jest niepoprawny\")","v":"Podany numer PESEL jest niepoprawny"}]
[null,null,null,null,{"$f":"IF(Walidacja!B639,\"Poprawny\",\"Podany numer PESEL jest niepoprawny\")","v":"Podany numer PESEL jest niepoprawny"}]
[null,null,null,null,{"$f":"IF(Walidacja!B640,\"Poprawny\",\"Podany numer PESEL jest niepoprawny\")","v":"Podany numer PESEL jest niepoprawny"}]
[null,null,null,null,{"$f":"IF(Walidacja!B641,\"Poprawny\",\"Podany numer PESEL jest niepoprawny\")","v":"Podany numer PESEL jest niepoprawny"}]
[null,null,null,null,{"$f":"IF(Walidacja!B642,\"Poprawny\",\"Podany numer PESEL jest niepoprawny\")","v":"Podany numer PESEL jest niepoprawny"}]
[null,null,null,null,{"$f":"IF(Walidacja!B643,\"Poprawny\",\"Podany numer PESEL jest niepoprawny\")","v":"Podany numer PESEL jest niepoprawny"}]
[null,null,null,null,{"$f":"IF(Walidacja!B644,\"Poprawny\",\"Podany numer PESEL jest niepoprawny\")","v":"Podany numer PESEL jest niepoprawny"}]
[null,null,null,null,{"$f":"IF(Walidacja!B645,\"Poprawny\",\"Podany numer PESEL jest niepoprawny\")","v":"Podany numer PESEL jest niepoprawny"}]
[null,null,null,null,{"$f":"IF(Walidacja!B646,\"Poprawny\",\"Podany numer PESEL jest niepoprawny\")","v":"Podany numer PESEL jest niepoprawny"}]
[null,null,null,null,{"$f":"IF(Walidacja!B647,\"Poprawny\",\"Podany numer PESEL jest niepoprawny\")","v":"Podany numer PESEL jest niepoprawny"}]
[null,null,null,null,{"$f":"IF(Walidacja!B648,\"Poprawny\",\"Podany numer PESEL jest niepoprawny\")","v":"Podany numer PESEL jest niepoprawny"}]
[null,null,null,null,{"$f":"IF(Walidacja!B649,\"Poprawny\",\"Podany numer PESEL jest niepoprawny\")","v":"Podany numer PESEL jest niepoprawny"}]
[null,null,null,null,{"$f":"IF(Walidacja!B650,\"Poprawny\",\"Podany numer PESEL jest niepoprawny\")","v":"Podany numer PESEL jest niepoprawny"}]
[null,null,null,null,{"$f":"IF(Walidacja!B651,\"Poprawny\",\"Podany numer PESEL jest niepoprawny\")","v":"Podany numer PESEL jest niepoprawny"}]
[null,null,null,null,{"$f":"IF(Walidacja!B652,\"Poprawny\",\"Podany numer PESEL jest niepoprawny\")","v":"Podany numer PESEL jest niepoprawny"}]
[null,null,null,null,{"$f":"IF(Walidacja!B653,\"Poprawny\",\"Podany numer PESEL jest niepoprawny\")","v":"Podany numer PESEL jest niepoprawny"}]
[null,null,null,null,{"$f":"IF(Walidacja!B654,\"Poprawny\",\"Podany numer PESEL jest niepoprawny\")","v":"Podany numer PESEL jest niepoprawny"}]
[null,null,null,null,{"$f":"IF(Walidacja!B655,\"Poprawny\",\"Podany numer PESEL jest niepoprawny\")","v":"Podany numer PESEL jest niepoprawny"}]
[null,null,null,null,{"$f":"IF(Walidacja!B656,\"Poprawny\",\"Podany numer PESEL jest niepoprawny\")","v":"Podany numer PESEL jest niepoprawny"}]
[null,null,null,null,{"$f":"IF(Walidacja!B657,\"Poprawny\",\"Podany numer PESEL jest niepoprawny\")","v":"Podany numer PESEL jest niepoprawny"}]
[null,null,null,null,{"$f":"IF(Walidacja!B658,\"Poprawny\",\"Podany numer PESEL jest niepoprawny\")","v":"Podany numer PESEL jest niepoprawny"}]
[null,null,null,null,{"$f":"IF(Walidacja!B659,\"Poprawny\",\"Podany numer PESEL jest niepoprawny\")","v":"Podany numer PESEL jest niepoprawny"}]
[null,null,null,null,{"$f":"IF(Walidacja!B660,\"Poprawny\",\"Podany numer PESEL jest niepoprawny\")","v":"Podany numer PESEL jest niepoprawny"}]
[null,null,null,null,{"$f":"IF(Walidacja!B661,\"Poprawny\",\"Podany numer PESEL jest niepoprawny\")","v":"Podany numer PESEL jest niepoprawny"}]
[null,null,null,null,{"$f":"IF(Walidacja!B662,\"Poprawny\",\"Podany numer PESEL jest niepoprawny\")","v":"Podany numer PESEL jest niepoprawny"}]
[null,null,null,null,{"$f":"IF(Walidacja!B663,\"Poprawny\",\"Podany numer PESEL jest niepoprawny\")","v":"Podany numer PESEL jest niepoprawny"}]
[null,null,null,null,{"$f":"IF(Walidacja!B664,\"Poprawny\",\"Podany numer PESEL jest niepoprawny\")","v":"Podany numer PESEL jest niepoprawny"}]
[null,null,null,null,{"$f":"IF(Walidacja!B665,\"Poprawny\",\"Podany numer PESEL jest niepoprawny\")","v":"Podany numer PESEL jest niepoprawny"}]
[null,null,null,null,{"$f":"IF(Walidacja!B666,\"Poprawny\",\"Podany numer PESEL jest niepoprawny\")","v":"Podany numer PESEL jest niepoprawny"}]
[null,null,null,null,{"$f":"IF(Walidacja!B667,\"Poprawny\",\"Podany numer PESEL jest niepoprawny\")","v":"Podany numer PESEL jest niepoprawny"}]
[null,null,null,null,{"$f":"IF(Walidacja!B668,\"Poprawny\",\"Podany numer PESEL jest niepoprawny\")","v":"Podany numer PESEL jest niepoprawny"}]
[null,null,null,null,{"$f":"IF(Walidacja!B669,\"Poprawny\",\"Podany numer PESEL jest niepoprawny\")","v":"Podany numer PESEL jest niepoprawny"}]
[null,null,null,null,{"$f":"IF(Walidacja!B670,\"Poprawny\",\"Podany numer PESEL jest niepoprawny\")","v":"Podany numer PESEL jest niepoprawny"}]
[null,null,null,null,{"$f":"IF(Walidacja!B671,\"Poprawny\",\"Podany numer PESEL jest niepoprawny\")","v":"Podany numer PESEL jest niepoprawny"}]
[null,null,null,null,{"$f":"IF(Walidacja!B672,\"Poprawny\",\"Podany numer PESEL jest niepoprawny\")","v":"Podany numer PESEL jest niepoprawny"}]
[null,null,null,null,{"$f":"IF(Walidacja!B673,\"Poprawny\",\"Podany numer PESEL jest niepoprawny\")","v":"Podany numer PESEL jest niepoprawny"}]
[null,null,null,null,{"$f":"IF(Walidacja!B674,\"Poprawny\",\"Podany numer PESEL jest niepoprawny\")","v":"Podany numer PESEL jest niepoprawny"}]
[null,null,null,null,{"$f":"IF(Walidacja!B675,\"Poprawny\",\"Podany numer PESEL jest niepoprawny\")","v":"Podany numer PESEL jest niepoprawny"}]
[null,null,null,null,{"$f":"IF(Walidacja!B676,\"Poprawny\",\"Podany numer PESEL jest niepoprawny\")","v":"Podany numer PESEL jest niepoprawny"}]
[null,null,null,null,{"$f":"IF(Walidacja!B677,\"Poprawny\",\"Podany numer PESEL jest niepoprawny\")","v":"Podany numer PESEL jest niepoprawny"}]
[null,null,null,null,{"$f":"IF(Walidacja!B678,\"Poprawny\",\"Podany numer PESEL jest niepoprawny\")","v":"Podany numer PESEL jest niepoprawny"}]
[null,null,null,null,{"$f":"IF(Walidacja!B679,\"Poprawny\",\"Podany numer PESEL jest niepoprawny\")","v":"Podany numer PESEL jest niepoprawny"}]
[null,null,null,null,{"$f":"IF(Walidacja!B680,\"Poprawny\",\"Podany numer PESEL jest niepoprawny\")","v":"Podany numer PESEL jest niepoprawny"}]
[null,null,null,null,{"$f":"IF(Walidacja!B681,\"Poprawny\",\"Podany numer PESEL jest niepoprawny\")","v":"Podany numer PESEL jest niepoprawny"}]
[null,null,null,null,{"$f":"IF(Walidacja!B682,\"Poprawny\",\"Podany numer PESEL jest niepoprawny\")","v":"Podany numer PESEL jest niepoprawny"}]
[null,null,null,null,{"$f":"IF(Walidacja!B683,\"Poprawny\",\"Podany numer PESEL jest niepoprawny\")","v":"Podany numer PESEL jest niepoprawny"}]
[null,null,null,null,{"$f":"IF(Walidacja!B684,\"Poprawny\",\"Podany numer PESEL jest niepoprawny\")","v":"Podany numer PESEL jest niepoprawny"}]
[null,null,null,null,{"$f":"IF(Walidacja!B685,\"Poprawny\",\"Podany numer PESEL jest niepoprawny\")","v":"Podany numer PESEL jest niepoprawny"}]
[null,null,null,null,{"$f":"IF(Walidacja!B686,\"Poprawny\",\"Podany numer PESEL jest niepoprawny\")","v":"Podany numer PESEL jest niepoprawny"}]
[null,null,null,null,{"$f":"IF(Walidacja!B687,\"Poprawny\",\"Podany numer PESEL jest niepoprawny\")","v":"Podany numer PESEL jest niepoprawny"}]
[null,null,null,null,{"$f":"IF(Walidacja!B688,\"Poprawny\",\"Podany numer PESEL jest niepoprawny\")","v":"Podany numer PESEL jest niepoprawny"}]
[null,null,null,null,{"$f":"IF(Walidacja!B689,\"Poprawny\",\"Podany numer PESEL jest niepoprawny\")","v":"Podany numer PESEL jest niepoprawny"}]
[null,null,null,null,{"$f":"IF(Walidacja!B690,\"Poprawny\",\"Podany numer PESEL jest niepoprawny\")","v":"Podany numer PESEL jest niepoprawny"}]
[null,null,null,null,{"$f":"IF(Walidacja!B691,\"Poprawny\",\"Podany numer PESEL jest niepoprawny\")","v":"Podany numer PESEL jest niepoprawny"}]
[null,null,null,null,{"$f":"IF(Walidacja!B692,\"Poprawny\",\"Podany numer PESEL jest niepoprawny\")","v":"Podany numer PESEL jest niepoprawny"}]
[null,null,null,null,{"$f":"IF(Walidacja!B693,\"Poprawny\",\"Podany numer PESEL jest niepoprawny\")","v":"Podany numer PESEL jest niepoprawny"}]
[null,null,null,null,{"$f":"IF(Walidacja!B694,\"Poprawny\",\"Podany numer PESEL jest niepoprawny\")","v":"Podany numer PESEL jest niepoprawny"}]
[null,null,null,null,{"$f":"IF(Walidacja!B695,\"Poprawny\",\"Podany numer PESEL jest niepoprawny\")","v":"Podany numer PESEL jest niepoprawny"}]
[null,null,null,null,{"$f":"IF(Walidacja!B696,\"Poprawny\",\"Podany numer PESEL jest niepoprawny\")","v":"Podany numer PESEL jest niepoprawny"}]
[null,null,null,null,{"$f":"IF(Walidacja!B697,\"Poprawny\",\"Podany numer PESEL jest niepoprawny\")","v":"Podany numer PESEL jest niepoprawny"}]
[null,null,null,null,{"$f":"IF(Walidacja!B698,\"Poprawny\",\"Podany numer PESEL jest niepoprawny\")","v":"Podany numer PESEL jest niepoprawny"}]
[null,null,null,null,{"$f":"IF(Walidacja!B699,\"Poprawny\",\"Podany numer PESEL jest niepoprawny\")","v":"Podany numer PESEL jest niepoprawny"}]
[null,null,null,null,{"$f":"IF(Walidacja!B700,\"Poprawny\",\"Podany numer PESEL jest niepoprawny\")","v":"Podany numer PESEL jest niepoprawny"}]
[null,null,null,null,{"$f":"IF(Walidacja!B701,\"Poprawny\",\"Podany numer PESEL jest niepoprawny\")","v":"Podany numer PESEL jest niepoprawny"}]
[null,null,null,null,{"$f":"IF(Walidacja!B702,\"Poprawny\",\"Podany numer PESEL jest niepoprawny\")","v":"Podany numer PESEL jest niepoprawny"}]
[null,null,null,null,{"$f":"IF(Walidacja!B703,\"Poprawny\",\"Podany numer PESEL jest niepoprawny\")","v":"Podany numer PESEL jest niepoprawny"}]
[null,null,null,null,{"$f":"IF(Walidacja!B704,\"Poprawny\",\"Podany numer PESEL jest niepoprawny\")","v":"Podany numer PESEL jest niepoprawny"}]
[null,null,null,null,{"$f":"IF(Walidacja!B705,\"Poprawny\",\"Podany numer PESEL jest niepoprawny\")","v":"Podany numer PESEL jest niepoprawny"}]
[null,null,null,null,{"$f":"IF(Walidacja!B706,\"Poprawny\",\"Podany numer PESEL jest niepoprawny\")","v":"Podany numer PESEL jest niepoprawny"}]
[null,null,null,null,{"$f":"IF(Walidacja!B707,\"Poprawny\",\"Podany numer PESEL jest niepoprawny\")","v":"Podany numer PESEL jest niepoprawny"}]
[null,null,null,null,{"$f":"IF(Walidacja!B708,\"Poprawny\",\"Podany numer PESEL jest niepoprawny\")","v":"Podany numer PESEL jest niepoprawny"}]
[null,null,null,null,{"$f":"IF(Walidacja!B709,\"Poprawny\",\"Podany numer PESEL jest niepoprawny\")","v":"Podany numer PESEL jest niepoprawny"}]
[null,null,null,null,{"$f":"IF(Walidacja!B710,\"Poprawny\",\"Podany numer PESEL jest niepoprawny\")","v":"Podany numer PESEL jest niepoprawny"}]
[null,null,null,null,{"$f":"IF(Walidacja!B711,\"Poprawny\",\"Podany numer PESEL jest niepoprawny\")","v":"Podany numer PESEL jest niepoprawny"}]
[null,null,null,null,{"$f":"IF(Walidacja!B712,\"Poprawny\",\"Podany numer PESEL jest niepoprawny\")","v":"Podany numer PESEL jest niepoprawny"}]
[null,null,null,null,{"$f":"IF(Walidacja!B713,\"Poprawny\",\"Podany numer PESEL jest niepoprawny\")","v":"Podany numer PESEL jest niepoprawny"}]
[null,null,null,null,{"$f":"IF(Walidacja!B714,\"Poprawny\",\"Podany numer PESEL jest niepoprawny\")","v":"Podany numer PESEL jest niepoprawny"}]
[null,null,null,null,{"$f":"IF(Walidacja!B715,\"Poprawny\",\"Podany numer PESEL jest niepoprawny\")","v":"Podany numer PESEL jest niepoprawny"}]
[null,null,null,null,{"$f":"IF(Walidacja!B716,\"Poprawny\",\"Podany numer PESEL jest niepoprawny\")","v":"Podany numer PESEL jest niepoprawny"}]
[null,null,null,null,{"$f":"IF(Walidacja!B717,\"Poprawny\",\"Podany numer PESEL jest niepoprawny\")","v":"Podany numer PESEL jest niepoprawny"}]
[null,null,null,null,{"$f":"IF(Walidacja!B718,\"Poprawny\",\"Podany numer PESEL jest niepoprawny\")","v":"Podany numer PESEL jest niepoprawny"}]
[null,null,null,null,{"$f":"IF(Walidacja!B719,\"Poprawny\",\"Podany numer PESEL jest niepoprawny\")","v":"Podany numer PESEL jest niepoprawny"}]
[null,null,null,null,{"$f":"IF(Walidacja!B720,\"Poprawny\",\"Podany numer PESEL jest niepoprawny\")","v":"Podany numer PESEL jest niepoprawny"}]
[null,null,null,null,{"$f":"IF(Walidacja!B721,\"Poprawny\",\"Podany numer PESEL jest niepoprawny\")","v":"Podany numer PESEL jest niepoprawny"}]
[null,null,null,null,{"$f":"IF(Walidacja!B722,\"Poprawny\",\"Podany numer PESEL jest niepoprawny\")","v":"Podany numer PESEL jest niepoprawny"}]
[null,null,null,null,{"$f":"IF(Walidacja!B723,\"Poprawny\",\"Podany numer PESEL jest niepoprawny\")","v":"Podany numer PESEL jest niepoprawny"}]
[null,null,null,null,{"$f":"IF(Walidacja!B724,\"Poprawny\",\"Podany numer PESEL jest niepoprawny\")","v":"Podany numer PESEL jest niepoprawny"}]
[null,null,null,null,{"$f":"IF(Walidacja!B725,\"Poprawny\",\"Podany numer PESEL jest niepoprawny\")","v":"Podany numer PESEL jest niepoprawny"}]
[null,null,null,null,{"$f":"IF(Walidacja!B726,\"Poprawny\",\"Podany numer PESEL jest niepoprawny\")","v":"Podany numer PESEL jest niepoprawny"}]
[null,null,null,null,{"$f":"IF(Walidacja!B727,\"Poprawny\",\"Podany numer PESEL jest niepoprawny\")","v":"Podany numer PESEL jest niepoprawny"}]
[null,null,null,null,{"$f":"IF(Walidacja!B728,\"Poprawny\",\"Podany numer PESEL jest niepoprawny\")","v":"Podany numer PESEL jest niepoprawny"}]
[null,null,null,null,{"$f":"IF(Walidacja!B729,\"Poprawny\",\"Podany numer PESEL jest niepoprawny\")","v":"Podany numer PESEL jest niepoprawny"}]
[null,null,null,null,{"$f":"IF(Walidacja!B730,\"Poprawny\",\"Podany numer PESEL jest niepoprawny\")","v":"Podany numer PESEL jest niepoprawny"}]
[null,null,null,null,{"$f":"IF(Walidacja!B731,\"Poprawny\",\"Podany numer PESEL jest niepoprawny\")","v":"Podany numer PESEL jest niepoprawny"}]
[null,null,null,null,{"$f":"IF(Walidacja!B732,\"Poprawny\",\"Podany numer PESEL jest niepoprawny\")","v":"Podany numer PESEL jest niepoprawny"}]
[null,null,null,null,{"$f":"IF(Walidacja!B733,\"Poprawny\",\"Podany numer PESEL jest niepoprawny\")","v":"Podany numer PESEL jest niepoprawny"}]
[null,null,null,null,{"$f":"IF(Walidacja!B734,\"Poprawny\",\"Podany numer PESEL jest niepoprawny\")","v":"Podany numer PESEL jest niepoprawny"}]
[null,null,null,null,{"$f":"IF(Walidacja!B735,\"Poprawny\",\"Podany numer PESEL jest niepoprawny\")","v":"Podany numer PESEL jest niepoprawny"}]
[null,null,null,null,{"$f":"IF(Walidacja!B736,\"Poprawny\",\"Podany numer PESEL jest niepoprawny\")","v":"Podany numer PESEL jest niepoprawny"}]
[null,null,null,null,{"$f":"IF(Walidacja!B737,\"Poprawny\",\"Podany numer PESEL jest niepoprawny\")","v":"Podany numer PESEL jest niepoprawny"}]
[null,null,null,null,{"$f":"IF(Walidacja!B738,\"Poprawny\",\"Podany numer PESEL jest niepoprawny\")","v":"Podany numer PESEL jest niepoprawny"}]
[null,null,null,null,{"$f":"IF(Walidacja!B739,\"Poprawny\",\"Podany numer PESEL jest niepoprawny\")","v":"Podany numer PESEL jest niepoprawny"}]
[null,null,null,null,{"$f":"IF(Walidacja!B740,\"Poprawny\",\"Podany numer PESEL jest niepoprawny\")","v":"Podany numer PESEL jest niepoprawny"}]
[null,null,null,null,{"$f":"IF(Walidacja!B741,\"Poprawny\",\"Podany numer PESEL jest niepoprawny\")","v":"Podany numer PESEL jest niepoprawny"}]
[null,null,null,null,{"$f":"IF(Walidacja!B742,\"Poprawny\",\"Podany numer PESEL jest niepoprawny\")","v":"Podany numer PESEL jest niepoprawny"}]
[null,null,null,null,{"$f":"IF(Walidacja!B743,\"Poprawny\",\"Podany numer PESEL jest niepoprawny\")","v":"Podany numer PESEL jest niepoprawny"}]
[null,null,null,null,{"$f":"IF(Walidacja!B744,\"Poprawny\",\"Podany numer PESEL jest niepoprawny\")","v":"Podany numer PESEL jest niepoprawny"}]
[null,null,null,null,{"$f":"IF(Walidacja!B745,\"Poprawny\",\"Podany numer PESEL jest niepoprawny\")","v":"Podany numer PESEL jest niepoprawny"}]
[null,null,null,null,{"$f":"IF(Walidacja!B746,\"Poprawny\",\"Podany numer PESEL jest niepoprawny\")","v":"Podany numer PESEL jest niepoprawny"}]
[null,null,null,null,{"$f":"IF(Walidacja!B747,\"Poprawny\",\"Podany numer PESEL jest niepoprawny\")","v":"Podany numer PESEL jest niepoprawny"}]
[null,null,null,null,{"$f":"IF(Walidacja!B748,\"Poprawny\",\"Podany numer PESEL jest niepoprawny\")","v":"Podany numer PESEL jest niepoprawny"}]
[null,null,null,null,{"$f":"IF(Walidacja!B749,\"Poprawny\",\"Podany numer PESEL jest niepoprawny\")","v":"Podany numer PESEL jest niepoprawny"}]
[null,null,null,null,{"$f":"IF(Walidacja!B750,\"Poprawny\",\"Podany numer PESEL jest niepoprawny\")","v":"Podany numer PESEL jest niepoprawny"}]
[null,null,null,null,{"$f":"IF(Walidacja!B751,\"Poprawny\",\"Podany numer PESEL jest niepoprawny\")","v":"Podany numer PESEL jest niepoprawny"}]
[null,null,null,null,{"$f":"IF(Walidacja!B752,\"Poprawny\",\"Podany numer PESEL jest niepoprawny\")","v":"Podany numer PESEL jest niepoprawny"}]
[null,null,null,null,{"$f":"IF(Walidacja!B753,\"Poprawny\",\"Podany numer PESEL jest niepoprawny\")","v":"Podany numer PESEL jest niepoprawny"}]
[null,null,null,null,{"$f":"IF(Walidacja!B754,\"Poprawny\",\"Podany numer PESEL jest niepoprawny\")","v":"Podany numer PESEL jest niepoprawny"}]
[null,null,null,null,{"$f":"IF(Walidacja!B755,\"Poprawny\",\"Podany numer PESEL jest niepoprawny\")","v":"Podany numer PESEL jest niepoprawny"}]
[null,null,null,null,{"$f":"IF(Walidacja!B756,\"Poprawny\",\"Podany numer PESEL jest niepoprawny\")","v":"Podany numer PESEL jest niepoprawny"}]
[null,null,null,null,{"$f":"IF(Walidacja!B757,\"Poprawny\",\"Podany numer PESEL jest niepoprawny\")","v":"Podany numer PESEL jest niepoprawny"}]
[null,null,null,null,{"$f":"IF(Walidacja!B758,\"Poprawny\",\"Podany numer PESEL jest niepoprawny\")","v":"Podany numer PESEL jest niepoprawny"}]
[null,null,null,null,{"$f":"IF(Walidacja!B759,\"Poprawny\",\"Podany numer PESEL jest niepoprawny\")","v":"Podany numer PESEL jest niepoprawny"}]
[null,null,null,null,{"$f":"IF(Walidacja!B760,\"Poprawny\",\"Podany numer PESEL jest niepoprawny\")","v":"Podany numer PESEL jest niepoprawny"}]
[null,null,null,null,{"$f":"IF(Walidacja!B761,\"Poprawny\",\"Podany numer PESEL jest niepoprawny\")","v":"Podany numer PESEL jest niepoprawny"}]
[null,null,null,null,{"$f":"IF(Walidacja!B762,\"Poprawny\",\"Podany numer PESEL jest niepoprawny\")","v":"Podany numer PESEL jest niepoprawny"}]
[null,null,null,null,{"$f":"IF(Walidacja!B763,\"Poprawny\",\"Podany numer PESEL jest niepoprawny\")","v":"Podany numer PESEL jest niepoprawny"}]
[null,null,null,null,{"$f":"IF(Walidacja!B764,\"Poprawny\",\"Podany numer PESEL jest niepoprawny\")","v":"Podany numer PESEL jest niepoprawny"}]
[null,null,null,null,{"$f":"IF(Walidacja!B765,\"Poprawny\",\"Podany numer PESEL jest niepoprawny\")","v":"Podany numer PESEL jest niepoprawny"}]
[null,null,null,null,{"$f":"IF(Walidacja!B766,\"Poprawny\",\"Podany numer PESEL jest niepoprawny\")","v":"Podany numer PESEL jest niepoprawny"}]
[null,null,null,null,{"$f":"IF(Walidacja!B767,\"Poprawny\",\"Podany numer PESEL jest niepoprawny\")","v":"Podany numer PESEL jest niepoprawny"}]
[null,null,null,null,{"$f":"IF(Walidacja!B768,\"Poprawny\",\"Podany numer PESEL jest niepoprawny\")","v":"Podany numer PESEL jest niepoprawny"}]
[null,null,null,null,{"$f":"IF(Walidacja!B769,\"Poprawny\",\"Podany numer PESEL jest niepoprawny\")","v":"Podany numer PESEL jest niepoprawny"}]
[null,null,null,null,{"$f":"IF(Walidacja!B770,\"Poprawny\",\"Podany numer PESEL jest niepoprawny\")","v":"Podany numer PESEL jest niepoprawny"}]
[null,null,null,null,{"$f":"IF(Walidacja!B771,\"Poprawny\",\"Podany numer PESEL jest niepoprawny\")","v":"Podany numer PESEL jest niepoprawny"}]
[null,null,null,null,{"$f":"IF(Walidacja!B772,\"Poprawny\",\"Podany numer PESEL jest niepoprawny\")","v":"Podany numer PESEL jest niepoprawny"}]
[null,null,null,null,{"$f":"IF(Walidacja!B773,\"Poprawny\",\"Podany numer PESEL jest niepoprawny\")","v":"Podany numer PESEL jest niepoprawny"}]
[null,null,null,null,{"$f":"IF(Walidacja!B774,\"Poprawny\",\"Podany numer PESEL jest niepoprawny\")","v":"Podany numer PESEL jest niepoprawny"}]
[null,null,null,null,{"$f":"IF(Walidacja!B775,\"Poprawny\",\"Podany numer PESEL jest niepoprawny\")","v":"Podany numer PESEL jest niepoprawny"}]
[null,null,null,null,{"$f":"IF(Walidacja!B776,\"Poprawny\",\"Podany numer PESEL jest niepoprawny\")","v":"Podany numer PESEL jest niepoprawny"}]
[null,null,null,null,{"$f":"IF(Walidacja!B777,\"Poprawny\",\"Podany numer PESEL jest niepoprawny\")","v":"Podany numer PESEL jest niepoprawny"}]
[null,null,null,null,{"$f":"IF(Walidacja!B778,\"Poprawny\",\"Podany numer PESEL jest niepoprawny\")","v":"Podany numer PESEL jest niepoprawny"}]
[null,null,null,null,{"$f":"IF(Walidacja!B779,\"Poprawny\",\"Podany numer PESEL jest niepoprawny\")","v":"Podany numer PESEL jest niepoprawny"}]
[null,null,null,null,{"$f":"IF(Walidacja!B780,\"Poprawny\",\"Podany numer PESEL jest niepoprawny\")","v":"Podany numer PESEL jest niepoprawny"}]
[null,null,null,null,{"$f":"IF(Walidacja!B781,\"Poprawny\",\"Podany numer PESEL jest niepoprawny\")","v":"Podany numer PESEL jest niepoprawny"}]
[null,null,null,null,{"$f":"IF(Walidacja!B782,\"Poprawny\",\"Podany numer PESEL jest niepoprawny\")","v":"Podany numer PESEL jest niepoprawny"}]
[null,null,null,null,{"$f":"IF(Walidacja!B783,\"Poprawny\",\"Podany numer PESEL jest niepoprawny\")","v":"Podany numer PESEL jest niepoprawny"}]
[null,null,null,null,{"$f":"IF(Walidacja!B784,\"Poprawny\",\"Podany numer PESEL jest niepoprawny\")","v":"Podany numer PESEL jest niepoprawny"}]
[null,null,null,null,{"$f":"IF(Walidacja!B785,\"Poprawny\",\"Podany numer PESEL jest niepoprawny\")","v":"Podany numer PESEL jest niepoprawny"}]
[null,null,null,null,{"$f":"IF(Walidacja!B786,\"Poprawny\",\"Podany numer PESEL jest niepoprawny\")","v":"Podany numer PESEL jest niepoprawny"}]
[null,null,null,null,{"$f":"IF(Walidacja!B787,\"Poprawny\",\"Podany numer PESEL jest niepoprawny\")","v":"Podany numer PESEL jest niepoprawny"}]
[null,null,null,null,{"$f":"IF(Walidacja!B788,\"Poprawny\",\"Podany numer PESEL jest niepoprawny\")","v":"Podany numer PESEL jest niepoprawny"}]
[null,null,null,null,{"$f":"IF(Walidacja!B789,\"Poprawny\",\"Podany numer PESEL jest niepoprawny\")","v":"Podany numer PESEL jest niepoprawny"}]
[null,null,null,null,{"$f":"IF(Walidacja!B790,\"Poprawny\",\"Podany numer PESEL jest niepoprawny\")","v":"Podany numer PESEL jest niepoprawny"}]
[null,null,null,null,{"$f":"IF(Walidacja!B791,\"Poprawny\",\"Podany numer PESEL jest niepoprawny\")","v":"Podany numer PESEL jest niepoprawny"}]
[null,null,null,null,{"$f":"IF(Walidacja!B792,\"Poprawny\",\"Podany numer PESEL jest niepoprawny\")","v":"Podany numer PESEL jest niepoprawny"}]
[null,null,null,null,{"$f":"IF(Walidacja!B793,\"Poprawny\",\"Podany numer PESEL jest niepoprawny\")","v":"Podany numer PESEL jest niepoprawny"}]
[null,null,null,null,{"$f":"IF(Walidacja!B794,\"Poprawny\",\"Podany numer PESEL jest niepoprawny\")","v":"Podany numer PESEL jest niepoprawny"}]
[null,null,null,null,{"$f":"IF(Walidacja!B795,\"Poprawny\",\"Podany numer PESEL jest niepoprawny\")","v":"Podany numer PESEL jest niepoprawny"}]
[null,null,null,null,{"$f":"IF(Walidacja!B796,\"Poprawny\",\"Podany numer PESEL jest niepoprawny\")","v":"Podany numer PESEL jest niepoprawny"}]
[null,null,null,null,{"$f":"IF(Walidacja!B797,\"Poprawny\",\"Podany numer PESEL jest niepoprawny\")","v":"Podany numer PESEL jest niepoprawny"}]
[null,null,null,null,{"$f":"IF(Walidacja!B798,\"Poprawny\",\"Podany numer PESEL jest niepoprawny\")","v":"Podany numer PESEL jest niepoprawny"}]
[null,null,null,null,{"$f":"IF(Walidacja!B799,\"Poprawny\",\"Podany numer PESEL jest niepoprawny\")","v":"Podany numer PESEL jest niepoprawny"}]
[null,null,null,null,{"$f":"IF(Walidacja!B800,\"Poprawny\",\"Podany numer PESEL jest niepoprawny\")","v":"Podany numer PESEL jest niepoprawny"}]
[null,null,null,null,{"$f":"IF(Walidacja!B801,\"Poprawny\",\"Podany numer PESEL jest niepoprawny\")","v":"Podany numer PESEL jest niepoprawny"}]
[null,null,null,null,{"$f":"IF(Walidacja!B802,\"Poprawny\",\"Podany numer PESEL jest niepoprawny\")","v":"Podany numer PESEL jest niepoprawny"}]
[null,null,null,null,{"$f":"IF(Walidacja!B803,\"Poprawny\",\"Podany numer PESEL jest niepoprawny\")","v":"Podany numer PESEL jest niepoprawny"}]
[null,null,null,null,{"$f":"IF(Walidacja!B804,\"Poprawny\",\"Podany numer PESEL jest niepoprawny\")","v":"Podany numer PESEL jest niepoprawny"}]
[null,null,null,null,{"$f":"IF(Walidacja!B805,\"Poprawny\",\"Podany numer PESEL jest niepoprawny\")","v":"Podany numer PESEL jest niepoprawny"}]
[null,null,null,null,{"$f":"IF(Walidacja!B806,\"Poprawny\",\"Podany numer PESEL jest niepoprawny\")","v":"Podany numer PESEL jest niepoprawny"}]
[null,null,null,null,{"$f":"IF(Walidacja!B807,\"Poprawny\",\"Podany numer PESEL jest niepoprawny\")","v":"Podany numer PESEL jest niepoprawny"}]
[null,null,null,null,{"$f":"IF(Walidacja!B808,\"Poprawny\",\"Podany numer PESEL jest niepoprawny\")","v":"Podany numer PESEL jest niepoprawny"}]
[null,null,null,null,{"$f":"IF(Walidacja!B809,\"Poprawny\",\"Podany numer PESEL jest niepoprawny\")","v":"Podany numer PESEL jest niepoprawny"}]
[null,null,null,null,{"$f":"IF(Walidacja!B810,\"Poprawny\",\"Podany numer PESEL jest niepoprawny\")","v":"Podany numer PESEL jest niepoprawny"}]
[null,null,null,null,{"$f":"IF(Walidacja!B811,\"Poprawny\",\"Podany numer PESEL jest niepoprawny\")","v":"Podany numer PESEL jest niepoprawny"}]
[null,null,null,null,{"$f":"IF(Walidacja!B812,\"Poprawny\",\"Podany numer PESEL jest niepoprawny\")","v":"Podany numer PESEL jest niepoprawny"}]
[null,null,null,null,{"$f":"IF(Walidacja!B813,\"Poprawny\",\"Podany numer PESEL jest niepoprawny\")","v":"Podany numer PESEL jest niepoprawny"}]
[null,null,null,null,{"$f":"IF(Walidacja!B814,\"Poprawny\",\"Podany numer PESEL jest niepoprawny\")","v":"Podany numer PESEL jest niepoprawny"}]
[null,null,null,null,{"$f":"IF(Walidacja!B815,\"Poprawny\",\"Podany numer PESEL jest niepoprawny\")","v":"Podany numer PESEL jest niepoprawny"}]
[null,null,null,null,{"$f":"IF(Walidacja!B816,\"Poprawny\",\"Podany numer PESEL jest niepoprawny\")","v":"Podany numer PESEL jest niepoprawny"}]
[null,null,null,null,{"$f":"IF(Walidacja!B817,\"Poprawny\",\"Podany numer PESEL jest niepoprawny\")","v":"Podany numer PESEL jest niepoprawny"}]
[null,null,null,null,{"$f":"IF(Walidacja!B818,\"Poprawny\",\"Podany numer PESEL jest niepoprawny\")","v":"Podany numer PESEL jest niepoprawny"}]
[null,null,null,null,{"$f":"IF(Walidacja!B819,\"Poprawny\",\"Podany numer PESEL jest niepoprawny\")","v":"Podany numer PESEL jest niepoprawny"}]
[null,null,null,null,{"$f":"IF(Walidacja!B820,\"Poprawny\",\"Podany numer PESEL jest niepoprawny\")","v":"Podany numer PESEL jest niepoprawny"}]
[null,null,null,null,{"$f":"IF(Walidacja!B821,\"Poprawny\",\"Podany numer PESEL jest niepoprawny\")","v":"Podany numer PESEL jest niepoprawny"}]
[null,null,null,null,{"$f":"IF(Walidacja!B822,\"Poprawny\",\"Podany numer PESEL jest niepoprawny\")","v":"Podany numer PESEL jest niepoprawny"}]
[null,null,null,null,{"$f":"IF(Walidacja!B823,\"Poprawny\",\"Podany numer PESEL jest niepoprawny\")","v":"Podany numer PESEL jest niepoprawny"}]
[null,null,null,null,{"$f":"IF(Walidacja!B824,\"Poprawny\",\"Podany numer PESEL jest niepoprawny\")","v":"Podany numer PESEL jest niepoprawny"}]
[null,null,null,null,{"$f":"IF(Walidacja!B825,\"Poprawny\",\"Podany numer PESEL jest niepoprawny\")","v":"Podany numer PESEL jest niepoprawny"}]
[null,null,null,null,{"$f":"IF(Walidacja!B826,\"Poprawny\",\"Podany numer PESEL jest niepoprawny\")","v":"Podany numer PESEL jest niepoprawny"}]
[null,null,null,null,{"$f":"IF(Walidacja!B827,\"Poprawny\",\"Podany numer PESEL jest niepoprawny\")","v":"Podany numer PESEL jest niepoprawny"}]
[null,null,null,null,{"$f":"IF(Walidacja!B828,\"Poprawny\",\"Podany numer PESEL jest niepoprawny\")","v":"Podany numer PESEL jest niepoprawny"}]
[null,null,null,null,{"$f":"IF(Walidacja!B829,\"Poprawny\",\"Podany numer PESEL jest niepoprawny\")","v":"Podany numer PESEL jest niepoprawny"}]
[null,null,null,null,{"$f":"IF(Walidacja!B830,\"Poprawny\",\"Podany numer PESEL jest niepoprawny\")","v":"Podany numer PESEL jest niepoprawny"}]
[null,null,null,null,{"$f":"IF(Walidacja!B831,\"Poprawny\",\"Podany numer PESEL jest niepoprawny\")","v":"Podany numer PESEL jest niepoprawny"}]
[null,null,null,null,{"$f":"IF(Walidacja!B832,\"Poprawny\",\"Podany numer PESEL jest niepoprawny\")","v":"Podany numer PESEL jest niepoprawny"}]
[null,null,null,null,{"$f":"IF(Walidacja!B833,\"Poprawny\",\"Podany numer PESEL jest niepoprawny\")","v":"Podany numer PESEL jest niepoprawny"}]
[null,null,null,null,{"$f":"IF(Walidacja!B834,\"Poprawny\",\"Podany numer PESEL jest niepoprawny\")","v":"Podany numer PESEL jest niepoprawny"}]
[null,null,null,null,{"$f":"IF(Walidacja!B835,\"Poprawny\",\"Podany numer PESEL jest niepoprawny\")","v":"Podany numer PESEL jest niepoprawny"}]
[null,null,null,null,{"$f":"IF(Walidacja!B836,\"Poprawny\",\"Podany numer PESEL jest niepoprawny\")","v":"Podany numer PESEL jest niepoprawny"}]
[null,null,null,null,{"$f":"IF(Walidacja!B837,\"Poprawny\",\"Podany numer PESEL jest niepoprawny\")","v":"Podany numer PESEL jest niepoprawny"}]
[null,null,null,null,{"$f":"IF(Walidacja!B838,\"Poprawny\",\"Podany numer PESEL jest niepoprawny\")","v":"Podany numer PESEL jest niepoprawny"}]
[null,null,null,null,{"$f":"IF(Walidacja!B839,\"Poprawny\",\"Podany numer PESEL jest niepoprawny\")","v":"Podany numer PESEL jest niepoprawny"}]
[null,null,null,null,{"$f":"IF(Walidacja!B840,\"Poprawny\",\"Podany numer PESEL jest niepoprawny\")","v":"Podany numer PESEL jest niepoprawny"}]
[null,null,null,null,{"$f":"IF(Walidacja!B841,\"Poprawny\",\"Podany numer PESEL jest niepoprawny\")","v":"Podany numer PESEL jest niepoprawny"}]
[null,null,null,null,{"$f":"IF(Walidacja!B842,\"Poprawny\",\"Podany numer PESEL jest niepoprawny\")","v":"Podany numer PESEL jest niepoprawny"}]
[null,null,null,null,{"$f":"IF(Walidacja!B843,\"Poprawny\",\"Podany numer PESEL jest niepoprawny\")","v":"Podany numer PESEL jest niepoprawny"}]
[null,null,null,null,{"$f":"IF(Walidacja!B844,\"Poprawny\",\"Podany numer PESEL jest niepoprawny\")","v":"Podany numer PESEL jest niepoprawny"}]
[null,null,null,null,{"$f":"IF(Walidacja!B845,\"Poprawny\",\"Podany numer PESEL jest niepoprawny\")","v":"Podany numer PESEL jest niepoprawny"}]
[null,null,null,null,{"$f":"IF(Walidacja!B846,\"Poprawny\",\"Podany numer PESEL jest niepoprawny\")","v":"Podany numer PESEL jest niepoprawny"}]
[null,null,null,null,{"$f":"IF(Walidacja!B847,\"Poprawny\",\"Podany numer PESEL jest niepoprawny\")","v":"Podany numer PESEL jest niepoprawny"}]
[null,null,null,null,{"$f":"IF(Walidacja!B848,\"Poprawny\",\"Podany numer PESEL jest niepoprawny\")","v":"Podany numer PESEL jest niepoprawny"}]
[null,null,null,null,{"$f":"IF(Walidacja!B849,\"Poprawny\",\"Podany numer PESEL jest niepoprawny\")","v":"Podany numer PESEL jest niepoprawny"}]
[null,null,null,null,{"$f":"IF(Walidacja!B850,\"Poprawny\",\"Podany numer PESEL jest niepoprawny\")","v":"Podany numer PESEL jest niepoprawny"}]
[null,null,null,null,{"$f":"IF(Walidacja!B851,\"Poprawny\",\"Podany numer PESEL jest niepoprawny\")","v":"Podany numer PESEL jest niepoprawny"}]
[null,null,null,null,{"$f":"IF(Walidacja!B852,\"Poprawny\",\"Podany numer PESEL jest niepoprawny\")","v":"Podany numer PESEL jest niepoprawny"}]
[null,null,null,null,{"$f":"IF(Walidacja!B853,\"Poprawny\",\"Podany numer PESEL jest niepoprawny\")","v":"Podany numer PESEL jest niepoprawny"}]
[null,null,null,null,{"$f":"IF(Walidacja!B854,\"Poprawny\",\"Podany numer PESEL jest niepoprawny\")","v":"Podany numer PESEL jest niepoprawny"}]
[null,null,null,null,{"$f":"IF(Walidacja!B855,\"Poprawny\",\"Podany numer PESEL jest niepoprawny\")","v":"Podany numer PESEL jest niepoprawny"}]
[null,null,null,null,{"$f":"IF(Walidacja!B856,\"Poprawny\",\"Podany numer PESEL jest niepoprawny\")","v":"Podany numer PESEL jest niepoprawny"}]
[null,null,null,null,{"$f":"IF(Walidacja!B857,\"Poprawny\",\"Podany numer PESEL jest niepoprawny\")","v":"Podany numer PESEL jest niepoprawny"}]
[null,null,null,null,{"$f":"IF(Walidacja!B858,\"Poprawny\",\"Podany numer PESEL jest niepoprawny\")","v":"Podany numer PESEL jest niepoprawny"}]
[null,null,null,null,{"$f":"IF(Walidacja!B859,\"Poprawny\",\"Podany numer PESEL jest niepoprawny\")","v":"Podany numer PESEL jest niepoprawny"}]
[null,null,null,null,{"$f":"IF(Walidacja!B860,\"Poprawny\",\"Podany numer PESEL jest niepoprawny\")","v":"Podany numer PESEL jest niepoprawny"}]
[null,null,null,null,{"$f":"IF(Walidacja!B861,\"Poprawny\",\"Podany numer PESEL jest niepoprawny\")","v":"Podany numer PESEL jest niepoprawny"}]
[null,null,null,null,{"$f":"IF(Walidacja!B862,\"Poprawny\",\"Podany numer PESEL jest niepoprawny\")","v":"Podany numer PESEL jest niepoprawny"}]
[null,null,null,null,{"$f":"IF(Walidacja!B863,\"Poprawny\",\"Podany numer PESEL jest niepoprawny\")","v":"Podany numer PESEL jest niepoprawny"}]
[null,null,null,null,{"$f":"IF(Walidacja!B864,\"Poprawny\",\"Podany numer PESEL jest niepoprawny\")","v":"Podany numer PESEL jest niepoprawny"}]
[null,null,null,null,{"$f":"IF(Walidacja!B865,\"Poprawny\",\"Podany numer PESEL jest niepoprawny\")","v":"Podany numer PESEL jest niepoprawny"}]
[null,null,null,null,{"$f":"IF(Walidacja!B866,\"Poprawny\",\"Podany numer PESEL jest niepoprawny\")","v":"Podany numer PESEL jest niepoprawny"}]
[null,null,null,null,{"$f":"IF(Walidacja!B867,\"Poprawny\",\"Podany numer PESEL jest niepoprawny\")","v":"Podany numer PESEL jest niepoprawny"}]
[null,null,null,null,{"$f":"IF(Walidacja!B868,\"Poprawny\",\"Podany numer PESEL jest niepoprawny\")","v":"Podany numer PESEL jest niepoprawny"}]
[null,null,null,null,{"$f":"IF(Walidacja!B869,\"Poprawny\",\"Podany numer PESEL jest niepoprawny\")","v":"Podany numer PESEL jest niepoprawny"}]
[null,null,null,null,{"$f":"IF(Walidacja!B870,\"Poprawny\",\"Podany numer PESEL jest niepoprawny\")","v":"Podany numer PESEL jest niepoprawny"}]
[null,null,null,null,{"$f":"IF(Walidacja!B871,\"Poprawny\",\"Podany numer PESEL jest niepoprawny\")","v":"Podany numer PESEL jest niepoprawny"}]
[null,null,null,null,{"$f":"IF(Walidacja!B872,\"Poprawny\",\"Podany numer PESEL jest niepoprawny\")","v":"Podany numer PESEL jest niepoprawny"}]
[null,null,null,null,{"$f":"IF(Walidacja!B873,\"Poprawny\",\"Podany numer PESEL jest niepoprawny\")","v":"Podany numer PESEL jest niepoprawny"}]
[null,null,null,null,{"$f":"IF(Walidacja!B874,\"Poprawny\",\"Podany numer PESEL jest niepoprawny\")","v":"Podany numer PESEL jest niepoprawny"}]
[null,null,null,null,{"$f":"IF(Walidacja!B875,\"Poprawny\",\"Podany numer PESEL jest niepoprawny\")","v":"Podany numer PESEL jest niepoprawny"}]
[null,null,null,null,{"$f":"IF(Walidacja!B876,\"Poprawny\",\"Podany numer PESEL jest niepoprawny\")","v":"Podany numer PESEL jest niepoprawny"}]
[null,null,null,null,{"$f":"IF(Walidacja!B877,\"Poprawny\",\"Podany numer PESEL jest niepoprawny\")","v":"Podany numer PESEL jest niepoprawny"}]
[null,null,null,null,{"$f":"IF(Walidacja!B878,\"Poprawny\",\"Podany numer PESEL jest niepoprawny\")","v":"Podany numer PESEL jest niepoprawny"}]
[null,null,null,null,{"$f":"IF(Walidacja!B879,\"Poprawny\",\"Podany numer PESEL jest niepoprawny\")","v":"Podany numer PESEL jest niepoprawny"}]
[null,null,null,null,{"$f":"IF(Walidacja!B880,\"Poprawny\",\"Podany numer PESEL jest niepoprawny\")","v":"Podany numer PESEL jest niepoprawny"}]
[null,null,null,null,{"$f":"IF(Walidacja!B881,\"Poprawny\",\"Podany numer PESEL jest niepoprawny\")","v":"Podany numer PESEL jest niepoprawny"}]
[null,null,null,null,{"$f":"IF(Walidacja!B882,\"Poprawny\",\"Podany numer PESEL jest niepoprawny\")","v":"Podany numer PESEL jest niepoprawny"}]
[null,null,null,null,{"$f":"IF(Walidacja!B883,\"Poprawny\",\"Podany numer PESEL jest niepoprawny\")","v":"Podany numer PESEL jest niepoprawny"}]
[null,null,null,null,{"$f":"IF(Walidacja!B884,\"Poprawny\",\"Podany numer PESEL jest niepoprawny\")","v":"Podany numer PESEL jest niepoprawny"}]
[null,null,null,null,{"$f":"IF(Walidacja!B885,\"Poprawny\",\"Podany numer PESEL jest niepoprawny\")","v":"Podany numer PESEL jest niepoprawny"}]
[null,null,null,null,{"$f":"IF(Walidacja!B886,\"Poprawny\",\"Podany numer PESEL jest niepoprawny\")","v":"Podany numer PESEL jest niepoprawny"}]
[null,null,null,null,{"$f":"IF(Walidacja!B887,\"Poprawny\",\"Podany numer PESEL jest niepoprawny\")","v":"Podany numer PESEL jest niepoprawny"}]
[null,null,null,null,{"$f":"IF(Walidacja!B888,\"Poprawny\",\"Podany numer PESEL jest niepoprawny\")","v":"Podany numer PESEL jest niepoprawny"}]
[null,null,null,null,{"$f":"IF(Walidacja!B889,\"Poprawny\",\"Podany numer PESEL jest niepoprawny\")","v":"Podany numer PESEL jest niepoprawny"}]
[null,null,null,null,{"$f":"IF(Walidacja!B890,\"Poprawny\",\"Podany numer PESEL jest niepoprawny\")","v":"Podany numer PESEL jest niepoprawny"}]
[null,null,null,null,{"$f":"IF(Walidacja!B891,\"Poprawny\",\"Podany numer PESEL jest niepoprawny\")","v":"Podany numer PESEL jest niepoprawny"}]
[null,null,null,null,{"$f":"IF(Walidacja!B892,\"Poprawny\",\"Podany numer PESEL jest niepoprawny\")","v":"Podany numer PESEL jest niepoprawny"}]
[null,null,null,null,{"$f":"IF(Walidacja!B893,\"Poprawny\",\"Podany numer PESEL jest niepoprawny\")","v":"Podany numer PESEL jest niepoprawny"}]
[null,null,null,null,{"$f":"IF(Walidacja!B894,\"Poprawny\",\"Podany numer PESEL jest niepoprawny\")","v":"Podany numer PESEL jest niepoprawny"}]
[null,null,null,null,{"$f":"IF(Walidacja!B895,\"Poprawny\",\"Podany numer PESEL jest niepoprawny\")","v":"Podany numer PESEL jest niepoprawny"}]
[null,null,null,null,{"$f":"IF(Walidacja!B896,\"Poprawny\",\"Podany numer PESEL jest niepoprawny\")","v":"Podany numer PESEL jest niepoprawny"}]
[null,null,null,null,{"$f":"IF(Walidacja!B897,\"Poprawny\",\"Podany numer PESEL jest niepoprawny\")","v":"Podany numer PESEL jest niepoprawny"}]
[null,null,null,null,{"$f":"IF(Walidacja!B898,\"Poprawny\",\"Podany numer PESEL jest niepoprawny\")","v":"Podany numer PESEL jest niepoprawny"}]
[null,null,null,null,{"$f":"IF(Walidacja!B899,\"Poprawny\",\"Podany numer PESEL jest niepoprawny\")","v":"Podany numer PESEL jest niepoprawny"}]
[null,null,null,null,{"$f":"IF(Walidacja!B900,\"Poprawny\",\"Podany numer PESEL jest niepoprawny\")","v":"Podany numer PESEL jest niepoprawny"}]
[null,null,null,null,{"$f":"IF(Walidacja!B901,\"Poprawny\",\"Podany numer PESEL jest niepoprawny\")","v":"Podany numer PESEL jest niepoprawny"}]
[null,null,null,null,{"$f":"IF(Walidacja!B902,\"Poprawny\",\"Podany numer PESEL jest niepoprawny\")","v":"Podany numer PESEL jest niepoprawny"}]
[null,null,null,null,{"$f":"IF(Walidacja!B903,\"Poprawny\",\"Podany numer PESEL jest niepoprawny\")","v":"Podany numer PESEL jest niepoprawny"}]
[null,null,null,null,{"$f":"IF(Walidacja!B904,\"Poprawny\",\"Podany numer PESEL jest niepoprawny\")","v":"Podany numer PESEL jest niepoprawny"}]
[null,null,null,null,{"$f":"IF(Walidacja!B905,\"Poprawny\",\"Podany numer PESEL jest niepoprawny\")","v":"Podany numer PESEL jest niepoprawny"}]
[null,null,null,null,{"$f":"IF(Walidacja!B906,\"Poprawny\",\"Podany numer PESEL jest niepoprawny\")","v":"Podany numer PESEL jest niepoprawny"}]
[null,null,null,null,{"$f":"IF(Walidacja!B907,\"Poprawny\",\"Podany numer PESEL jest niepoprawny\")","v":"Podany numer PESEL jest niepoprawny"}]
[null,null,null,null,{"$f":"IF(Walidacja!B908,\"Poprawny\",\"Podany numer PESEL jest niepoprawny\")","v":"Podany numer PESEL jest niepoprawny"}]
[null,null,null,null,{"$f":"IF(Walidacja!B909,\"Poprawny\",\"Podany numer PESEL jest niepoprawny\")","v":"Podany numer PESEL jest niepoprawny"}]
[null,null,null,null,{"$f":"IF(Walidacja!B910,\"Poprawny\",\"Podany numer PESEL jest niepoprawny\")","v":"Podany numer PESEL jest niepoprawny"}]
[null,null,null,null,{"$f":"IF(Walidacja!B911,\"Poprawny\",\"Podany numer PESEL jest niepoprawny\")","v":"Podany numer PESEL jest niepoprawny"}]
[null,null,null,null,{"$f":"IF(Walidacja!B912,\"Poprawny\",\"Podany numer PESEL jest niepoprawny\")","v":"Podany numer PESEL jest niepoprawny"}]
[null,null,null,null,{"$f":"IF(Walidacja!B913,\"Poprawny\",\"Podany numer PESEL jest niepoprawny\")","v":"Podany numer PESEL jest niepoprawny"}]
[null,null,null,null,{"$f":"IF(Walidacja!B914,\"Poprawny\",\"Podany numer PESEL jest niepoprawny\")","v":"Podany numer PESEL jest niepoprawny"}]
[null,null,null,null,{"$f":"IF(Walidacja!B915,\"Poprawny\",\"Podany numer PESEL jest niepoprawny\")","v":"Podany numer PESEL jest niepoprawny"}]
[null,null,null,null,{"$f":"IF(Walidacja!B916,\"Poprawny\",\"Podany numer PESEL jest niepoprawny\")","v":"Podany numer PESEL jest niepoprawny"}]
[null,null,null,null,{"$f":"IF(Walidacja!B917,\"Poprawny\",\"Podany numer PESEL jest niepoprawny\")","v":"Podany numer PESEL jest niepoprawny"}]
[null,null,null,null,{"$f":"IF(Walidacja!B918,\"Poprawny\",\"Podany numer PESEL jest niepoprawny\")","v":"Podany numer PESEL jest niepoprawny"}]
[null,null,null,null,{"$f":"IF(Walidacja!B919,\"Poprawny\",\"Podany numer PESEL jest niepoprawny\")","v":"Podany numer PESEL jest niepoprawny"}]
[null,null,null,null,{"$f":"IF(Walidacja!B920,\"Poprawny\",\"Podany numer PESEL jest niepoprawny\")","v":"Podany numer PESEL jest niepoprawny"}]
[null,null,null,null,{"$f":"IF(Walidacja!B921,\"Poprawny\",\"Podany numer PESEL jest niepoprawny\")","v":"Podany numer PESEL jest niepoprawny"}]
[null,null,null,null,{"$f":"IF(Walidacja!B922,\"Poprawny\",\"Podany numer PESEL jest niepoprawny\")","v":"Podany numer PESEL jest niepoprawny"}]
[null,null,null,null,{"$f":"IF(Walidacja!B923,\"Poprawny\",\"Podany numer PESEL jest niepoprawny\")","v":"Podany numer PESEL jest niepoprawny"}]
[null,null,null,null,{"$f":"IF(Walidacja!B924,\"Poprawny\",\"Podany numer PESEL jest niepoprawny\")","v":"Podany numer PESEL jest niepoprawny"}]
[null,null,null,null,{"$f":"IF(Walidacja!B925,\"Poprawny\",\"Podany numer PESEL jest niepoprawny\")","v":"Podany numer PESEL jest niepoprawny"}]
[null,null,null,null,{"$f":"IF(Walidacja!B926,\"Poprawny\",\"Podany numer PESEL jest niepoprawny\")","v":"Podany numer PESEL jest niepoprawny"}]
[null,null,null,null,{"$f":"IF(Walidacja!B927,\"Poprawny\",\"Podany numer PESEL jest niepoprawny\")","v":"Podany numer PESEL jest niepoprawny"}]
[null,null,null,null,{"$f":"IF(Walidacja!B928,\"Poprawny\",\"Podany numer PESEL jest niepoprawny\")","v":"Podany numer PESEL jest niepoprawny"}]
[null,null,null,null,{"$f":"IF(Walidacja!B929,\"Poprawny\",\"Podany numer PESEL jest niepoprawny\")","v":"Podany numer PESEL jest niepoprawny"}]
[null,null,null,null,{"$f":"IF(Walidacja!B930,\"Poprawny\",\"Podany numer PESEL jest niepoprawny\")","v":"Podany numer PESEL jest niepoprawny"}]
[null,null,null,null,{"$f":"IF(Walidacja!B931,\"Poprawny\",\"Podany numer PESEL jest niepoprawny\")","v":"Podany numer PESEL jest niepoprawny"}]
[null,null,null,null,{"$f":"IF(Walidacja!B932,\"Poprawny\",\"Podany numer PESEL jest niepoprawny\")","v":"Podany numer PESEL jest niepoprawny"}]
[null,null,null,null,{"$f":"IF(Walidacja!B933,\"Poprawny\",\"Podany numer PESEL jest niepoprawny\")","v":"Podany numer PESEL jest niepoprawny"}]
[null,null,null,null,{"$f":"IF(Walidacja!B934,\"Poprawny\",\"Podany numer PESEL jest niepoprawny\")","v":"Podany numer PESEL jest niepoprawny"}]
[null,null,null,null,{"$f":"IF(Walidacja!B935,\"Poprawny\",\"Podany numer PESEL jest niepoprawny\")","v":"Podany numer PESEL jest niepoprawny"}]
[null,null,null,null,{"$f":"IF(Walidacja!B936,\"Poprawny\",\"Podany numer PESEL jest niepoprawny\")","v":"Podany numer PESEL jest niepoprawny"}]
[null,null,null,null,{"$f":"IF(Walidacja!B937,\"Poprawny\",\"Podany numer PESEL jest niepoprawny\")","v":"Podany numer PESEL jest niepoprawny"}]
[null,null,null,null,{"$f":"IF(Walidacja!B938,\"Poprawny\",\"Podany numer PESEL jest niepoprawny\")","v":"Podany numer PESEL jest niepoprawny"}]
[null,null,null,null,{"$f":"IF(Walidacja!B939,\"Poprawny\",\"Podany numer PESEL jest niepoprawny\")","v":"Podany numer PESEL jest niepoprawny"}]
[null,null,null,null,{"$f":"IF(Walidacja!B940,\"Poprawny\",\"Podany numer PESEL jest niepoprawny\")","v":"Podany numer PESEL jest niepoprawny"}]
[null,null,null,null,{"$f":"IF(Walidacja!B941,\"Poprawny\",\"Podany numer PESEL jest niepoprawny\")","v":"Podany numer PESEL jest niepoprawny"}]
[null,null,null,null,{"$f":"IF(Walidacja!B942,\"Poprawny\",\"Podany numer PESEL jest niepoprawny\")","v":"Podany numer PESEL jest niepoprawny"}]
[null,null,null,null,{"$f":"IF(Walidacja!B943,\"Poprawny\",\"Podany numer PESEL jest niepoprawny\")","v":"Podany numer PESEL jest niepoprawny"}]
[null,null,null,null,{"$f":"IF(Walidacja!B944,\"Poprawny\",\"Podany numer PESEL jest niepoprawny\")","v":"Podany numer PESEL jest niepoprawny"}]
[null,null,null,null,{"$f":"IF(Walidacja!B945,\"Poprawny\",\"Podany numer PESEL jest niepoprawny\")","v":"Podany numer PESEL jest niepoprawny"}]
[null,null,null,null,{"$f":"IF(Walidacja!B946,\"Poprawny\",\"Podany numer PESEL jest niepoprawny\")","v":"Podany numer PESEL jest niepoprawny"}]
[null,null,null,null,{"$f":"IF(Walidacja!B947,\"Poprawny\",\"Podany numer PESEL jest niepoprawny\")","v":"Podany numer PESEL jest niepoprawny"}]
[null,null,null,null,{"$f":"IF(Walidacja!B948,\"Poprawny\",\"Podany numer PESEL jest niepoprawny\")","v":"Podany numer PESEL jest niepoprawny"}]
[null,null,null,null,{"$f":"IF(Walidacja!B949,\"Poprawny\",\"Podany numer PESEL jest niepoprawny\")","v":"Podany numer PESEL jest niepoprawny"}]
[null,null,null,null,{"$f":"IF(Walidacja!B950,\"Poprawny\",\"Podany numer PESEL jest niepoprawny\")","v":"Podany numer PESEL jest niepoprawny"}]
[null,null,null,null,{"$f":"IF(Walidacja!B951,\"Poprawny\",\"Podany numer PESEL jest niepoprawny\")","v":"Podany numer PESEL jest niepoprawny"}]
[null,null,null,null,{"$f":"IF(Walidacja!B952,\"Poprawny\",\"Podany numer PESEL jest niepoprawny\")","v":"Podany numer PESEL jest niepoprawny"}]
[null,null,null,null,{"$f":"IF(Walidacja!B953,\"Poprawny\",\"Podany numer PESEL jest niepoprawny\")","v":"Podany numer PESEL jest niepoprawny"}]
[null,null,null,null,{"$f":"IF(Walidacja!B954,\"Poprawny\",\"Podany numer PESEL jest niepoprawny\")","v":"Podany numer PESEL jest niepoprawny"}]
[null,null,null,null,{"$f":"IF(Walidacja!B955,\"Poprawny\",\"Podany numer PESEL jest niepoprawny\")","v":"Podany numer PESEL jest niepoprawny"}]
[null,null,null,null,{"$f":"IF(Walidacja!B956,\"Poprawny\",\"Podany numer PESEL jest niepoprawny\")","v":"Podany numer PESEL jest niepoprawny"}]
[null,null,null,null,{"$f":"IF(Walidacja!B957,\"Poprawny\",\"Podany numer PESEL jest niepoprawny\")","v":"Podany numer PESEL jest niepoprawny"}]
[null,null,null,null,{"$f":"IF(Walidacja!B958,\"Poprawny\",\"Podany numer PESEL jest niepoprawny\")","v":"Podany numer PESEL jest niepoprawny"}]
[null,null,null,null,{"$f":"IF(Walidacja!B959,\"Poprawny\",\"Podany numer PESEL jest niepoprawny\")","v":"Podany numer PESEL jest niepoprawny"}]
[null,null,null,null,{"$f":"IF(Walidacja!B960,\"Poprawny\",\"Podany numer PESEL jest niepoprawny\")","v":"Podany numer PESEL jest niepoprawny"}]
[null,null,null,null,{"$f":"IF(Walidacja!B961,\"Poprawny\",\"Podany numer PESEL jest niepoprawny\")","v":"Podany numer PESEL jest niepoprawny"}]
[null,null,null,null,{"$f":"IF(Walidacja!B962,\"Poprawny\",\"Podany numer PESEL jest niepoprawny\")","v":"Podany numer PESEL jest niepoprawny"}]
[null,null,null,null,{"$f":"IF(Walidacja!B963,\"Poprawny\",\"Podany numer PESEL jest niepoprawny\")","v":"Podany numer PESEL jest niepoprawny"}]
[null,null,null,null,{"$f":"IF(Walidacja!B964,\"Poprawny\",\"Podany numer PESEL jest niepoprawny\")","v":"Podany numer PESEL jest niepoprawny"}]
[null,null,null,null,{"$f":"IF(Walidacja!B965,\"Poprawny\",\"Podany numer PESEL jest niepoprawny\")","v":"Podany numer PESEL jest niepoprawny"}]
[null,null,null,null,{"$f":"IF(Walidacja!B966,\"Poprawny\",\"Podany numer PESEL jest niepoprawny\")","v":"Podany numer PESEL jest niepoprawny"}]
[null,null,null,null,{"$f":"IF(Walidacja!B967,\"Poprawny\",\"Podany numer PESEL jest niepoprawny\")","v":"Podany numer PESEL jest niepoprawny"}]
[null,null,null,null,{"$f":"IF(Walidacja!B968,\"Poprawny\",\"Podany numer PESEL jest niepoprawny\")","v":"Podany numer PESEL jest niepoprawny"}]
[null,null,null,null,{"$f":"IF(Walidacja!B969,\"Poprawny\",\"Podany numer PESEL jest niepoprawny\")","v":"Podany numer PESEL jest niepoprawny"}]
[null,null,null,null,{"$f":"IF(Walidacja!B970,\"Poprawny\",\"Podany numer PESEL jest niepoprawny\")","v":"Podany numer PESEL jest niepoprawny"}]
[null,null,null,null,{"$f":"IF(Walidacja!B971,\"Poprawny\",\"Podany numer PESEL jest niepoprawny\")","v":"Podany numer PESEL jest niepoprawny"}]
[null,null,null,null,{"$f":"IF(Walidacja!B972,\"Poprawny\",\"Podany numer PESEL jest niepoprawny\")","v":"Podany numer PESEL jest niepoprawny"}]
[null,null,null,null,{"$f":"IF(Walidacja!B973,\"Poprawny\",\"Podany numer PESEL jest niepoprawny\")","v":"Podany numer PESEL jest niepoprawny"}]
[null,null,null,null,{"$f":"IF(Walidacja!B974,\"Poprawny\",\"Podany numer PESEL jest niepoprawny\")","v":"Podany numer PESEL jest niepoprawny"}]
[null,null,null,null,{"$f":"IF(Walidacja!B975,\"Poprawny\",\"Podany numer PESEL jest niepoprawny\")","v":"Podany numer PESEL jest niepoprawny"}]
[null,null,null,null,{"$f":"IF(Walidacja!B976,\"Poprawny\",\"Podany numer PESEL jest niepoprawny\")","v":"Podany numer PESEL jest niepoprawny"}]
[null,null,null,null,{"$f":"IF(Walidacja!B977,\"Poprawny\",\"Podany numer PESEL jest niepoprawny\")","v":"Podany numer PESEL jest niepoprawny"}]
[null,null,null,null,{"$f":"IF(Walidacja!B978,\"Poprawny\",\"Podany numer PESEL jest niepoprawny\")","v":"Podany numer PESEL jest niepoprawny"}]
[null,null,null,null,{"$f":"IF(Walidacja!B979,\"Poprawny\",\"Podany numer PESEL jest niepoprawny\")","v":"Podany numer PESEL jest niepoprawny"}]
[null,null,null,null,{"$f":"IF(Walidacja!B980,\"Poprawny\",\"Podany numer PESEL jest niepoprawny\")","v":"Podany numer PESEL jest niepoprawny"}]
[null,null,null,null,{"$f":"IF(Walidacja!B981,\"Poprawny\",\"Podany numer PESEL jest niepoprawny\")","v":"Podany numer PESEL jest niepoprawny"}]
[null,null,null,null,{"$f":"IF(Walidacja!B982,\"Poprawny\",\"Podany numer PESEL jest niepoprawny\")","v":"Podany numer PESEL jest niepoprawny"}]
[null,null,null,null,{"$f":"IF(Walidacja!B983,\"Poprawny\",\"Podany numer PESEL jest niepoprawny\")","v":"Podany numer PESEL jest niepoprawny"}]
[null,null,null,null,{"$f":"IF(Walidacja!B984,\"Poprawny\",\"Podany numer PESEL jest niepoprawny\")","v":"Podany numer PESEL jest niepoprawny"}]
[null,null,null,null,{"$f":"IF(Walidacja!B985,\"Poprawny\",\"Podany numer PESEL jest niepoprawny\")","v":"Podany numer PESEL jest niepoprawny"}]
[null,null,null,null,{"$f":"IF(Walidacja!B986,\"Poprawny\",\"Podany numer PESEL jest niepoprawny\")","v":"Podany numer PESEL jest niepoprawny"}]
[null,null,null,null,{"$f":"IF(Walidacja!B987,\"Poprawny\",\"Podany numer PESEL jest niepoprawny\")","v":"Podany numer PESEL jest niepoprawny"}]
[null,null,null,null,{"$f":"IF(Walidacja!B988,\"Poprawny\",\"Podany numer PESEL jest niepoprawny\")","v":"Podany numer PESEL jest niepoprawny"}]
[null,null,null,null,{"$f":"IF(Walidacja!B989,\"Poprawny\",\"Podany numer PESEL jest niepoprawny\")","v":"Podany numer PESEL jest niepoprawny"}]
[null,null,null,null,{"$f":"IF(Walidacja!B990,\"Poprawny\",\"Podany numer PESEL jest niepoprawny\")","v":"Podany numer PESEL jest niepoprawny"}]
[null,null,null,null,{"$f":"IF(Walidacja!B991,\"Poprawny\",\"Podany numer PESEL jest niepoprawny\")","v":"Podany numer PESEL jest niepoprawny"}]
[null,null,null,null,{"$f":"IF(Walidacja!B992,\"Poprawny\",\"Podany numer PESEL jest niepoprawny\")","v":"Podany numer PESEL jest niepoprawny"}]
[null,null,null,null,{"$f":"IF(Walidacja!B993,\"Poprawny\",\"Podany numer PESEL jest niepoprawny\")","v":"Podany numer PESEL jest niepoprawny"}]
[null,null,null,null,{"$f":"IF(Walidacja!B994,\"Poprawny\",\"Podany numer PESEL jest niepoprawny\")","v":"Podany numer PESEL jest niepoprawny"}]
[null,null,null,null,{"$f":"IF(Walidacja!B995,\"Poprawny\",\"Podany numer PESEL jest niepoprawny\")","v":"Podany numer PESEL jest niepoprawny"}]
[null,null,null,null,{"$f":"IF(Walidacja!B996,\"Poprawny\",\"Podany numer PESEL jest niepoprawny\")","v":"Podany numer PESEL jest niepoprawny"}]
[null,null,null,null,{"$f":"IF(Walidacja!B997,\"Poprawny\",\"Podany numer PESEL jest niepoprawny\")","v":"Podany numer PESEL jest niepoprawny"}]
[null,null,null,null,{"$f":"IF(Walidacja!B998,\"Poprawny\",\"Podany numer PESEL jest niepoprawny\")","v":"Podany numer PESEL jest niepoprawny"}]
[null,null,null,null,{"$f":"IF(Walidacja!B999,\"Poprawny\",\"Podany numer PESEL jest niepoprawny\")","v":"Podany numer PESEL jest niepoprawny"}]

{"sheet":"Arkusz1","index":1,"n_rows":0,"n_cols":0,"rows_kept":0,"cut":false,"hidden":false,"merged":[]}

{"sheet":"Walidacja","index":2,"n_rows":10000,"n_cols":2,"rows_kept":10000,"cut":false,"hidden":false,"merged":[]}
["Tak",{"$f":"Sprawdz_pesel(Formularz!#REF!)","v":{"$error":"#VALUE!"}}]
["Nie",{"$f":"Sprawdz_pesel(Formularz!C16)","v":false}]
[null,{"$f":"Sprawdz_pesel(Formularz!C17)","v":false}]
[null,{"$f":"Sprawdz_pesel(Formularz!C18)","v":false}]
[null,{"$f":"Sprawdz_pesel(Formularz!C19)","v":false}]
[null,{"$f":"Sprawdz_pesel(Formularz!C20)","v":false}]
[null,{"$f":"Sprawdz_pesel(Formularz!C21)","v":false}]
[null,{"$f":"Sprawdz_pesel(Formularz!C22)","v":false}]
[null,{"$f":"Sprawdz_pesel(Formularz!C23)","v":false}]
[null,{"$f":"Sprawdz_pesel(Formularz!C24)","v":false}]
[null,{"$f":"Sprawdz_pesel(Formularz!C25)","v":false}]
[null,{"$f":"Sprawdz_pesel(Formularz!C26)","v":false}]
[null,{"$f":"Sprawdz_pesel(Formularz!C27)","v":false}]
[null,{"$f":"Sprawdz_pesel(Formularz!C28)","v":false}]
[null,{"$f":"Sprawdz_pesel(Formularz!C29)","v":false}]
[null,{"$f":"Sprawdz_pesel(Formularz!C30)","v":false}]
[null,{"$f":"Sprawdz_pesel(Formularz!C31)","v":false}]
[null,{"$f":"Sprawdz_pesel(Formularz!C32)","v":false}]
[null,{"$f":"Sprawdz_pesel(Formularz!C33)","v":false}]
[null,{"$f":"Sprawdz_pesel(Formularz!C34)","v":false}]
[null,{"$f":"Sprawdz_pesel(Formularz!C35)","v":false}]
[null,{"$f":"Sprawdz_pesel(Formularz!C36)","v":false}]
[null,{"$f":"Sprawdz_pesel(Formularz!C37)","v":false}]
[null,{"$f":"Sprawdz_pesel(Formularz!C38)","v":false}]
[null,{"$f":"Sprawdz_pesel(Formularz!C39)","v":false}]
[null,{"$f":"Sprawdz_pesel(Formularz!C40)","v":false}]
[null,{"$f":"Sprawdz_pesel(Formularz!C41)","v":false}]
[null,{"$f":"Sprawdz_pesel(Formularz!C42)","v":false}]
[null,{"$f":"Sprawdz_pesel(Formularz!C43)","v":false}]
[null,{"$f":"Sprawdz_pesel(Formularz!C44)","v":false}]
[null,{"$f":"Sprawdz_pesel(Formularz!C45)","v":false}]
[null,{"$f":"Sprawdz_pesel(Formularz!C46)","v":false}]
[null,{"$f":"Sprawdz_pesel(Formularz!C47)","v":false}]
[null,{"$f":"Sprawdz_pesel(Formularz!C48)","v":false}]
[null,{"$f":"Sprawdz_pesel(Formularz!C49)","v":false}]
[null,{"$f":"Sprawdz_pesel(Formularz!C50)","v":false}]
[null,{"$f":"Sprawdz_pesel(Formularz!C51)","v":false}]
[null,{"$f":"Sprawdz_pesel(Formularz!C52)","v":false}]
[null,{"$f":"Sprawdz_pesel(Formularz!C53)","v":false}]
[null,{"$f":"Sprawdz_pesel(Formularz!C54)","v":false}]
[null,{"$f":"Sprawdz_pesel(Formularz!C55)","v":false}]
[null,{"$f":"Sprawdz_pesel(Formularz!C56)","v":false}]
[null,{"$f":"Sprawdz_pesel(Formularz!C57)","v":false}]
[null,{"$f":"Sprawdz_pesel(Formularz!C58)","v":false}]
[null,{"$f":"Sprawdz_pesel(Formularz!C59)","v":false}]
[null,{"$f":"Sprawdz_pesel(Formularz!C60)","v":false}]
[null,{"$f":"Sprawdz_pesel(Formularz!C61)","v":false}]
[null,{"$f":"Sprawdz_pesel(Formularz!C62)","v":false}]
[null,{"$f":"Sprawdz_pesel(Formularz!C63)","v":false}]
[null,{"$f":"Sprawdz_pesel(Formularz!C64)","v":false}]
[null,{"$f":"Sprawdz_pesel(Formularz!C65)","v":false}]
[null,{"$f":"Sprawdz_pesel(Formularz!C66)","v":false}]
[null,{"$f":"Sprawdz_pesel(Formularz!C67)","v":false}]
[null,{"$f":"Sprawdz_pesel(Formularz!C68)","v":false}]
[null,{"$f":"Sprawdz_pesel(Formularz!C69)","v":false}]
[null,{"$f":"Sprawdz_pesel(Formularz!C70)","v":false}]
[null,{"$f":"Sprawdz_pesel(Formularz!C71)","v":false}]
[null,{"$f":"Sprawdz_pesel(Formularz!C72)","v":false}]
[null,{"$f":"Sprawdz_pesel(Formularz!C73)","v":false}]
[null,{"$f":"Sprawdz_pesel(Formularz!C74)","v":false}]
[null,{"$f":"Sprawdz_pesel(Formularz!C75)","v":false}]
[null,{"$f":"Sprawdz_pesel(Formularz!C76)","v":false}]
[null,{"$f":"Sprawdz_pesel(Formularz!C77)","v":false}]
[null,{"$f":"Sprawdz_pesel(Formularz!C78)","v":false}]
[null,{"$f":"Sprawdz_pesel(Formularz!C79)","v":false}]
[null,{"$f":"Sprawdz_pesel(Formularz!C80)","v":false}]
[null,{"$f":"Sprawdz_pesel(Formularz!C81)","v":false}]
[null,{"$f":"Sprawdz_pesel(Formularz!C82)","v":false}]
[null,{"$f":"Sprawdz_pesel(Formularz!C83)","v":false}]
[null,{"$f":"Sprawdz_pesel(Formularz!C84)","v":false}]
[null,{"$f":"Sprawdz_pesel(Formularz!C85)","v":false}]
[null,{"$f":"Sprawdz_pesel(Formularz!C86)","v":false}]
[null,{"$f":"Sprawdz_pesel(Formularz!C87)","v":false}]
[null,{"$f":"Sprawdz_pesel(Formularz!C88)","v":false}]
[null,{"$f":"Sprawdz_pesel(Formularz!C89)","v":false}]
[null,{"$f":"Sprawdz_pesel(Formularz!C90)","v":false}]
[null,{"$f":"Sprawdz_pesel(Formularz!C91)","v":false}]
[null,{"$f":"Sprawdz_pesel(Formularz!C92)","v":false}]
[null,{"$f":"Sprawdz_pesel(Formularz!C93)","v":false}]
[null,{"$f":"Sprawdz_pesel(Formularz!C94)","v":false}]
[null,{"$f":"Sprawdz_pesel(Formularz!C95)","v":false}]
[null,{"$f":"Sprawdz_pesel(Formularz!C96)","v":false}]
[null,{"$f":"Sprawdz_pesel(Formularz!C97)","v":false}]
[null,{"$f":"Sprawdz_pesel(Formularz!C98)","v":false}]
[null,{"$f":"Sprawdz_pesel(Formularz!C99)","v":false}]
[null,{"$f":"Sprawdz_pesel(Formularz!C100)","v":false}]
[null,{"$f":"Sprawdz_pesel(Formularz!C101)","v":false}]
[null,{"$f":"Sprawdz_pesel(Formularz!C102)","v":false}]
[null,{"$f":"Sprawdz_pesel(Formularz!C103)","v":false}]
[null,{"$f":"Sprawdz_pesel(Formularz!C104)","v":false}]
[null,{"$f":"Sprawdz_pesel(Formularz!C105)","v":false}]
[null,{"$f":"Sprawdz_pesel(Formularz!C106)","v":false}]
[null,{"$f":"Sprawdz_pesel(Formularz!C107)","v":false}]
[null,{"$f":"Sprawdz_pesel(Formularz!C108)","v":false}]
[null,{"$f":"Sprawdz_pesel(Formularz!C109)","v":false}]
[null,{"$f":"Sprawdz_pesel(Formularz!C110)","v":false}]
[null,{"$f":"Sprawdz_pesel(Formularz!C111)","v":false}]
[null,{"$f":"Sprawdz_pesel(Formularz!C112)","v":false}]
[null,{"$f":"Sprawdz_pesel(Formularz!C113)","v":false}]
[null,{"$f":"Sprawdz_pesel(Formularz!C114)","v":false}]
[null,{"$f":"Sprawdz_pesel(Formularz!C115)","v":false}]
[null,{"$f":"Sprawdz_pesel(Formularz!C116)","v":false}]
[null,{"$f":"Sprawdz_pesel(Formularz!C117)","v":false}]
[null,{"$f":"Sprawdz_pesel(Formularz!C118)","v":false}]
[null,{"$f":"Sprawdz_pesel(Formularz!C119)","v":false}]
[null,{"$f":"Sprawdz_pesel(Formularz!C120)","v":false}]
[null,{"$f":"Sprawdz_pesel(Formularz!C121)","v":false}]
[null,{"$f":"Sprawdz_pesel(Formularz!C122)","v":false}]
[null,{"$f":"Sprawdz_pesel(Formularz!C123)","v":false}]
[null,{"$f":"Sprawdz_pesel(Formularz!C124)","v":false}]
[null,{"$f":"Sprawdz_pesel(Formularz!C125)","v":false}]
[null,{"$f":"Sprawdz_pesel(Formularz!C126)","v":false}]
[null,{"$f":"Sprawdz_pesel(Formularz!C127)","v":false}]
[null,{"$f":"Sprawdz_pesel(Formularz!C128)","v":false}]
[null,{"$f":"Sprawdz_pesel(Formularz!C129)","v":false}]
[null,{"$f":"Sprawdz_pesel(Formularz!C130)","v":false}]
[null,{"$f":"Sprawdz_pesel(Formularz!C131)","v":false}]
[null,{"$f":"Sprawdz_pesel(Formularz!C132)","v":false}]
[null,{"$f":"Sprawdz_pesel(Formularz!C133)","v":false}]
[null,{"$f":"Sprawdz_pesel(Formularz!C134)","v":false}]
[null,{"$f":"Sprawdz_pesel(Formularz!C135)","v":false}]
[null,{"$f":"Sprawdz_pesel(Formularz!C136)","v":false}]
[null,{"$f":"Sprawdz_pesel(Formularz!C137)","v":false}]
[null,{"$f":"Sprawdz_pesel(Formularz!C138)","v":false}]
[null,{"$f":"Sprawdz_pesel(Formularz!C139)","v":false}]
[null,{"$f":"Sprawdz_pesel(Formularz!C140)","v":false}]
[null,{"$f":"Sprawdz_pesel(Formularz!C141)","v":false}]
[null,{"$f":"Sprawdz_pesel(Formularz!C142)","v":false}]
[null,{"$f":"Sprawdz_pesel(Formularz!C143)","v":false}]
[null,{"$f":"Sprawdz_pesel(Formularz!C144)","v":false}]
[null,{"$f":"Sprawdz_pesel(Formularz!C145)","v":false}]
[null,{"$f":"Sprawdz_pesel(Formularz!C146)","v":false}]
[null,{"$f":"Sprawdz_pesel(Formularz!C147)","v":false}]
[null,{"$f":"Sprawdz_pesel(Formularz!C148)","v":false}]
[null,{"$f":"Sprawdz_pesel(Formularz!C149)","v":false}]
[null,{"$f":"Sprawdz_pesel(Formularz!C150)","v":false}]
[null,{"$f":"Sprawdz_pesel(Formularz!C151)","v":false}]
[null,{"$f":"Sprawdz_pesel(Formularz!C152)","v":false}]
[null,{"$f":"Sprawdz_pesel(Formularz!C153)","v":false}]
[null,{"$f":"Sprawdz_pesel(Formularz!C154)","v":false}]
[null,{"$f":"Sprawdz_pesel(Formularz!C155)","v":false}]
[null,{"$f":"Sprawdz_pesel(Formularz!C156)","v":false}]
[null,{"$f":"Sprawdz_pesel(Formularz!C157)","v":false}]
[null,{"$f":"Sprawdz_pesel(Formularz!C158)","v":false}]
[null,{"$f":"Sprawdz_pesel(Formularz!C159)","v":false}]
[null,{"$f":"Sprawdz_pesel(Formularz!C160)","v":false}]
[null,{"$f":"Sprawdz_pesel(Formularz!C161)","v":false}]
[null,{"$f":"Sprawdz_pesel(Formularz!C162)","v":false}]
[null,{"$f":"Sprawdz_pesel(Formularz!C163)","v":false}]
[null,{"$f":"Sprawdz_pesel(Formularz!C164)","v":false}]
[null,{"$f":"Sprawdz_pesel(Formularz!C165)","v":false}]
[null,{"$f":"Sprawdz_pesel(Formularz!C166)","v":false}]
[null,{"$f":"Sprawdz_pesel(Formularz!C167)","v":false}]
[null,{"$f":"Sprawdz_pesel(Formularz!C168)","v":false}]
[null,{"$f":"Sprawdz_pesel(Formularz!C169)","v":false}]
[null,{"$f":"Sprawdz_pesel(Formularz!C170)","v":false}]
[null,{"$f":"Sprawdz_pesel(Formularz!C171)","v":false}]
[null,{"$f":"Sprawdz_pesel(Formularz!C172)","v":false}]
[null,{"$f":"Sprawdz_pesel(Formularz!C173)","v":false}]
[null,{"$f":"Sprawdz_pesel(Formularz!C174)","v":false}]
[null,{"$f":"Sprawdz_pesel(Formularz!C175)","v":false}]
[null,{"$f":"Sprawdz_pesel(Formularz!C176)","v":false}]
[null,{"$f":"Sprawdz_pesel(Formularz!C177)","v":false}]
[null,{"$f":"Sprawdz_pesel(Formularz!C178)","v":false}]
[null,{"$f":"Sprawdz_pesel(Formularz!C179)","v":false}]
[null,{"$f":"Sprawdz_pesel(Formularz!C180)","v":false}]
[null,{"$f":"Sprawdz_pesel(Formularz!C181)","v":false}]
[null,{"$f":"Sprawdz_pesel(Formularz!C182)","v":false}]
[null,{"$f":"Sprawdz_pesel(Formularz!C183)","v":false}]
[null,{"$f":"Sprawdz_pesel(Formularz!C184)","v":false}]
[null,{"$f":"Sprawdz_pesel(Formularz!C185)","v":false}]
[null,{"$f":"Sprawdz_pesel(Formularz!C186)","v":false}]
[null,{"$f":"Sprawdz_pesel(Formularz!C187)","v":false}]
[null,{"$f":"Sprawdz_pesel(Formularz!C188)","v":false}]
[null,{"$f":"Sprawdz_pesel(Formularz!C189)","v":false}]
[null,{"$f":"Sprawdz_pesel(Formularz!C190)","v":false}]
[null,{"$f":"Sprawdz_pesel(Formularz!C191)","v":false}]
[null,{"$f":"Sprawdz_pesel(Formularz!C192)","v":false}]
[null,{"$f":"Sprawdz_pesel(Formularz!C193)","v":false}]
[null,{"$f":"Sprawdz_pesel(Formularz!C194)","v":false}]
[null,{"$f":"Sprawdz_pesel(Formularz!C195)","v":false}]
[null,{"$f":"Sprawdz_pesel(Formularz!C196)","v":false}]
[null,{"$f":"Sprawdz_pesel(Formularz!C197)","v":false}]
[null,{"$f":"Sprawdz_pesel(Formularz!C198)","v":false}]
[null,{"$f":"Sprawdz_pesel(Formularz!C199)","v":false}]
[null,{"$f":"Sprawdz_pesel(Formularz!C200)","v":false}]
[null,{"$f":"Sprawdz_pesel(Formularz!C201)","v":false}]
[null,{"$f":"Sprawdz_pesel(Formularz!C202)","v":false}]
[null,{"$f":"Sprawdz_pesel(Formularz!C203)","v":false}]
[null,{"$f":"Sprawdz_pesel(Formularz!C204)","v":false}]
[null,{"$f":"Sprawdz_pesel(Formularz!C205)","v":false}]
[null,{"$f":"Sprawdz_pesel(Formularz!C206)","v":false}]
[null,{"$f":"Sprawdz_pesel(Formularz!C207)","v":false}]
[null,{"$f":"Sprawdz_pesel(Formularz!C208)","v":false}]
[null,{"$f":"Sprawdz_pesel(Formularz!C209)","v":false}]
[null,{"$f":"Sprawdz_pesel(Formularz!C210)","v":false}]
[null,{"$f":"Sprawdz_pesel(Formularz!C211)","v":false}]
[null,{"$f":"Sprawdz_pesel(Formularz!C212)","v":false}]
[null,{"$f":"Sprawdz_pesel(Formularz!C213)","v":false}]
[null,{"$f":"Sprawdz_pesel(Formularz!C214)","v":false}]
[null,{"$f":"Sprawdz_pesel(Formularz!C215)","v":false}]
[null,{"$f":"Sprawdz_pesel(Formularz!C216)","v":false}]
[null,{"$f":"Sprawdz_pesel(Formularz!C217)","v":false}]
[null,{"$f":"Sprawdz_pesel(Formularz!C218)","v":false}]
[null,{"$f":"Sprawdz_pesel(Formularz!C219)","v":false}]
[null,{"$f":"Sprawdz_pesel(Formularz!C220)","v":false}]
[null,{"$f":"Sprawdz_pesel(Formularz!C221)","v":false}]
[null,{"$f":"Sprawdz_pesel(Formularz!C222)","v":false}]
[null,{"$f":"Sprawdz_pesel(Formularz!C223)","v":false}]
[null,{"$f":"Sprawdz_pesel(Formularz!C224)","v":false}]
[null,{"$f":"Sprawdz_pesel(Formularz!C225)","v":false}]
[null,{"$f":"Sprawdz_pesel(Formularz!C226)","v":false}]
[null,{"$f":"Sprawdz_pesel(Formularz!C227)","v":false}]
[null,{"$f":"Sprawdz_pesel(Formularz!C228)","v":false}]
[null,{"$f":"Sprawdz_pesel(Formularz!C229)","v":false}]
[null,{"$f":"Sprawdz_pesel(Formularz!C230)","v":false}]
[null,{"$f":"Sprawdz_pesel(Formularz!C231)","v":false}]
[null,{"$f":"Sprawdz_pesel(Formularz!C232)","v":false}]
[null,{"$f":"Sprawdz_pesel(Formularz!C233)","v":false}]
[null,{"$f":"Sprawdz_pesel(Formularz!C234)","v":false}]
[null,{"$f":"Sprawdz_pesel(Formularz!C235)","v":false}]
[null,{"$f":"Sprawdz_pesel(Formularz!C236)","v":false}]
[null,{"$f":"Sprawdz_pesel(Formularz!C237)","v":false}]
[null,{"$f":"Sprawdz_pesel(Formularz!C238)","v":false}]
[null,{"$f":"Sprawdz_pesel(Formularz!C239)","v":false}]
[null,{"$f":"Sprawdz_pesel(Formularz!C240)","v":false}]
[null,{"$f":"Sprawdz_pesel(Formularz!C241)","v":false}]
[null,{"$f":"Sprawdz_pesel(Formularz!C242)","v":false}]
[null,{"$f":"Sprawdz_pesel(Formularz!C243)","v":false}]
[null,{"$f":"Sprawdz_pesel(Formularz!C244)","v":false}]
[null,{"$f":"Sprawdz_pesel(Formularz!C245)","v":false}]
[null,{"$f":"Sprawdz_pesel(Formularz!C246)","v":false}]
[null,{"$f":"Sprawdz_pesel(Formularz!C247)","v":false}]
[null,{"$f":"Sprawdz_pesel(Formularz!C248)","v":false}]
[null,{"$f":"Sprawdz_pesel(Formularz!C249)","v":false}]
[null,{"$f":"Sprawdz_pesel(Formularz!C250)","v":false}]
[null,{"$f":"Sprawdz_pesel(Formularz!C251)","v":false}]
[null,{"$f":"Sprawdz_pesel(Formularz!C252)","v":false}]
[null,{"$f":"Sprawdz_pesel(Formularz!C253)","v":false}]
[null,{"$f":"Sprawdz_pesel(Formularz!C254)","v":false}]
[null,{"$f":"Sprawdz_pesel(Formularz!C255)","v":false}]
[null,{"$f":"Sprawdz_pesel(Formularz!C256)","v":false}]
[null,{"$f":"Sprawdz_pesel(Formularz!C257)","v":false}]
[null,{"$f":"Sprawdz_pesel(Formularz!C258)","v":false}]
[null,{"$f":"Sprawdz_pesel(Formularz!C259)","v":false}]
[null,{"$f":"Sprawdz_pesel(Formularz!C260)","v":false}]
[null,{"$f":"Sprawdz_pesel(Formularz!C261)","v":false}]
[null,{"$f":"Sprawdz_pesel(Formularz!C262)","v":false}]
[null,{"$f":"Sprawdz_pesel(Formularz!C263)","v":false}]
[null,{"$f":"Sprawdz_pesel(Formularz!C264)","v":false}]
[null,{"$f":"Sprawdz_pesel(Formularz!C265)","v":false}]
[null,{"$f":"Sprawdz_pesel(Formularz!C266)","v":false}]
[null,{"$f":"Sprawdz_pesel(Formularz!C267)","v":false}]
[null,{"$f":"Sprawdz_pesel(Formularz!C268)","v":false}]
[null,{"$f":"Sprawdz_pesel(Formularz!C269)","v":false}]
[null,{"$f":"Sprawdz_pesel(Formularz!C270)","v":false}]
[null,{"$f":"Sprawdz_pesel(Formularz!C271)","v":false}]
[null,{"$f":"Sprawdz_pesel(Formularz!C272)","v":false}]
[null,{"$f":"Sprawdz_pesel(Formularz!C273)","v":false}]
[null,{"$f":"Sprawdz_pesel(Formularz!C274)","v":false}]
[null,{"$f":"Sprawdz_pesel(Formularz!C275)","v":false}]
[null,{"$f":"Sprawdz_pesel(Formularz!C276)","v":false}]
[null,{"$f":"Sprawdz_pesel(Formularz!C277)","v":false}]
[null,{"$f":"Sprawdz_pesel(Formularz!C278)","v":false}]
[null,{"$f":"Sprawdz_pesel(Formularz!C279)","v":false}]
[null,{"$f":"Sprawdz_pesel(Formularz!C280)","v":false}]
[null,{"$f":"Sprawdz_pesel(Formularz!C281)","v":false}]
[null,{"$f":"Sprawdz_pesel(Formularz!C282)","v":false}]
[null,{"$f":"Sprawdz_pesel(Formularz!C283)","v":false}]
[null,{"$f":"Sprawdz_pesel(Formularz!C284)","v":false}]
[null,{"$f":"Sprawdz_pesel(Formularz!C285)","v":false}]
[null,{"$f":"Sprawdz_pesel(Formularz!C286)","v":false}]
[null,{"$f":"Sprawdz_pesel(Formularz!C287)","v":false}]
[null,{"$f":"Sprawdz_pesel(Formularz!C288)","v":false}]
[null,{"$f":"Sprawdz_pesel(Formularz!C289)","v":false}]
[null,{"$f":"Sprawdz_pesel(Formularz!C290)","v":false}]
[null,{"$f":"Sprawdz_pesel(Formularz!C291)","v":false}]
[null,{"$f":"Sprawdz_pesel(Formularz!C292)","v":false}]
[null,{"$f":"Sprawdz_pesel(Formularz!C293)","v":false}]
[null,{"$f":"Sprawdz_pesel(Formularz!C294)","v":false}]
[null,{"$f":"Sprawdz_pesel(Formularz!C295)","v":false}]
[null,{"$f":"Sprawdz_pesel(Formularz!C296)","v":false}]
[null,{"$f":"Sprawdz_pesel(Formularz!C297)","v":false}]
[null,{"$f":"Sprawdz_pesel(Formularz!C298)","v":false}]
[null,{"$f":"Sprawdz_pesel(Formularz!C299)","v":false}]
[null,{"$f":"Sprawdz_pesel(Formularz!C300)","v":false}]
[null,{"$f":"Sprawdz_pesel(Formularz!C301)","v":false}]
[null,{"$f":"Sprawdz_pesel(Formularz!C302)","v":false}]
[null,{"$f":"Sprawdz_pesel(Formularz!C303)","v":false}]
[null,{"$f":"Sprawdz_pesel(Formularz!C304)","v":false}]
[null,{"$f":"Sprawdz_pesel(Formularz!C305)","v":false}]
[null,{"$f":"Sprawdz_pesel(Formularz!C306)","v":false}]
[null,{"$f":"Sprawdz_pesel(Formularz!C307)","v":false}]
[null,{"$f":"Sprawdz_pesel(Formularz!C308)","v":false}]
[null,{"$f":"Sprawdz_pesel(Formularz!C309)","v":false}]
[null,{"$f":"Sprawdz_pesel(Formularz!C310)","v":false}]
[null,{"$f":"Sprawdz_pesel(Formularz!C311)","v":false}]
[null,{"$f":"Sprawdz_pesel(Formularz!C312)","v":false}]
[null,{"$f":"Sprawdz_pesel(Formularz!C313)","v":false}]
[null,{"$f":"Sprawdz_pesel(Formularz!C314)","v":false}]
[null,{"$f":"Sprawdz_pesel(Formularz!C315)","v":false}]
[null,{"$f":"Sprawdz_pesel(Formularz!C316)","v":false}]
[null,{"$f":"Sprawdz_pesel(Formularz!C317)","v":false}]
[null,{"$f":"Sprawdz_pesel(Formularz!C318)","v":false}]
[null,{"$f":"Sprawdz_pesel(Formularz!C319)","v":false}]
[null,{"$f":"Sprawdz_pesel(Formularz!C320)","v":false}]
[null,{"$f":"Sprawdz_pesel(Formularz!C321)","v":false}]
[null,{"$f":"Sprawdz_pesel(Formularz!C322)","v":false}]
[null,{"$f":"Sprawdz_pesel(Formularz!C323)","v":false}]
[null,{"$f":"Sprawdz_pesel(Formularz!C324)","v":false}]
[null,{"$f":"Sprawdz_pesel(Formularz!C325)","v":false}]
[null,{"$f":"Sprawdz_pesel(Formularz!C326)","v":false}]
[null,{"$f":"Sprawdz_pesel(Formularz!C327)","v":false}]
[null,{"$f":"Sprawdz_pesel(Formularz!C328)","v":false}]
[null,{"$f":"Sprawdz_pesel(Formularz!C329)","v":false}]
[null,{"$f":"Sprawdz_pesel(Formularz!C330)","v":false}]
[null,{"$f":"Sprawdz_pesel(Formularz!C331)","v":false}]
[null,{"$f":"Sprawdz_pesel(Formularz!C332)","v":false}]
[null,{"$f":"Sprawdz_pesel(Formularz!C333)","v":false}]
[null,{"$f":"Sprawdz_pesel(Formularz!C334)","v":false}]
[null,{"$f":"Sprawdz_pesel(Formularz!C335)","v":false}]
[null,{"$f":"Sprawdz_pesel(Formularz!C336)","v":false}]
[null,{"$f":"Sprawdz_pesel(Formularz!C337)","v":false}]
[null,{"$f":"Sprawdz_pesel(Formularz!C338)","v":false}]
[null,{"$f":"Sprawdz_pesel(Formularz!C339)","v":false}]
[null,{"$f":"Sprawdz_pesel(Formularz!C340)","v":false}]
[null,{"$f":"Sprawdz_pesel(Formularz!C341)","v":false}]
[null,{"$f":"Sprawdz_pesel(Formularz!C342)","v":false}]
[null,{"$f":"Sprawdz_pesel(Formularz!C343)","v":false}]
[null,{"$f":"Sprawdz_pesel(Formularz!C344)","v":false}]
[null,{"$f":"Sprawdz_pesel(Formularz!C345)","v":false}]
[null,{"$f":"Sprawdz_pesel(Formularz!C346)","v":false}]
[null,{"$f":"Sprawdz_pesel(Formularz!C347)","v":false}]
[null,{"$f":"Sprawdz_pesel(Formularz!C348)","v":false}]
[null,{"$f":"Sprawdz_pesel(Formularz!C349)","v":false}]
[null,{"$f":"Sprawdz_pesel(Formularz!C350)","v":false}]
[null,{"$f":"Sprawdz_pesel(Formularz!C351)","v":false}]
[null,{"$f":"Sprawdz_pesel(Formularz!C352)","v":false}]
[null,{"$f":"Sprawdz_pesel(Formularz!C353)","v":false}]
[null,{"$f":"Sprawdz_pesel(Formularz!C354)","v":false}]
[null,{"$f":"Sprawdz_pesel(Formularz!C355)","v":false}]
[null,{"$f":"Sprawdz_pesel(Formularz!C356)","v":false}]
[null,{"$f":"Sprawdz_pesel(Formularz!C357)","v":false}]
[null,{"$f":"Sprawdz_pesel(Formularz!C358)","v":false}]
[null,{"$f":"Sprawdz_pesel(Formularz!C359)","v":false}]
[null,{"$f":"Sprawdz_pesel(Formularz!C360)","v":false}]
[null,{"$f":"Sprawdz_pesel(Formularz!C361)","v":false}]
[null,{"$f":"Sprawdz_pesel(Formularz!C362)","v":false}]
[null,{"$f":"Sprawdz_pesel(Formularz!C363)","v":false}]
[null,{"$f":"Sprawdz_pesel(Formularz!C364)","v":false}]
[null,{"$f":"Sprawdz_pesel(Formularz!C365)","v":false}]
[null,{"$f":"Sprawdz_pesel(Formularz!C366)","v":false}]
[null,{"$f":"Sprawdz_pesel(Formularz!C367)","v":false}]
[null,{"$f":"Sprawdz_pesel(Formularz!C368)","v":false}]
[null,{"$f":"Sprawdz_pesel(Formularz!C369)","v":false}]
[null,{"$f":"Sprawdz_pesel(Formularz!C370)","v":false}]
[null,{"$f":"Sprawdz_pesel(Formularz!C371)","v":false}]
[null,{"$f":"Sprawdz_pesel(Formularz!C372)","v":false}]
[null,{"$f":"Sprawdz_pesel(Formularz!C373)","v":false}]
[null,{"$f":"Sprawdz_pesel(Formularz!C374)","v":false}]
[null,{"$f":"Sprawdz_pesel(Formularz!C375)","v":false}]
[null,{"$f":"Sprawdz_pesel(Formularz!C376)","v":false}]
[null,{"$f":"Sprawdz_pesel(Formularz!C377)","v":false}]
[null,{"$f":"Sprawdz_pesel(Formularz!C378)","v":false}]
[null,{"$f":"Sprawdz_pesel(Formularz!C379)","v":false}]
[null,{"$f":"Sprawdz_pesel(Formularz!C380)","v":false}]
[null,{"$f":"Sprawdz_pesel(Formularz!C381)","v":false}]
[null,{"$f":"Sprawdz_pesel(Formularz!C382)","v":false}]
[null,{"$f":"Sprawdz_pesel(Formularz!C383)","v":false}]
[null,{"$f":"Sprawdz_pesel(Formularz!C384)","v":false}]
[null,{"$f":"Sprawdz_pesel(Formularz!C385)","v":false}]
[null,{"$f":"Sprawdz_pesel(Formularz!C386)","v":false}]
[null,{"$f":"Sprawdz_pesel(Formularz!C387)","v":false}]
[null,{"$f":"Sprawdz_pesel(Formularz!C388)","v":false}]
[null,{"$f":"Sprawdz_pesel(Formularz!C389)","v":false}]
[null,{"$f":"Sprawdz_pesel(Formularz!C390)","v":false}]
[null,{"$f":"Sprawdz_pesel(Formularz!C391)","v":false}]
[null,{"$f":"Sprawdz_pesel(Formularz!C392)","v":false}]
[null,{"$f":"Sprawdz_pesel(Formularz!C393)","v":false}]
[null,{"$f":"Sprawdz_pesel(Formularz!C394)","v":false}]
[null,{"$f":"Sprawdz_pesel(Formularz!C395)","v":false}]
[null,{"$f":"Sprawdz_pesel(Formularz!C396)","v":false}]
[null,{"$f":"Sprawdz_pesel(Formularz!C397)","v":false}]
[null,{"$f":"Sprawdz_pesel(Formularz!C398)","v":false}]
[null,{"$f":"Sprawdz_pesel(Formularz!C399)","v":false}]
[null,{"$f":"Sprawdz_pesel(Formularz!C400)","v":false}]
[null,{"$f":"Sprawdz_pesel(Formularz!C401)","v":false}]
[null,{"$f":"Sprawdz_pesel(Formularz!C402)","v":false}]
[null,{"$f":"Sprawdz_pesel(Formularz!C403)","v":false}]
[null,{"$f":"Sprawdz_pesel(Formularz!C404)","v":false}]
[null,{"$f":"Sprawdz_pesel(Formularz!C405)","v":false}]
[null,{"$f":"Sprawdz_pesel(Formularz!C406)","v":false}]
[null,{"$f":"Sprawdz_pesel(Formularz!C407)","v":false}]
[null,{"$f":"Sprawdz_pesel(Formularz!C408)","v":false}]
[null,{"$f":"Sprawdz_pesel(Formularz!C409)","v":false}]
[null,{"$f":"Sprawdz_pesel(Formularz!C410)","v":false}]
[null,{"$f":"Sprawdz_pesel(Formularz!C411)","v":false}]
[null,{"$f":"Sprawdz_pesel(Formularz!C412)","v":false}]
[null,{"$f":"Sprawdz_pesel(Formularz!C413)","v":false}]
[null,{"$f":"Sprawdz_pesel(Formularz!C414)","v":false}]
[null,{"$f":"Sprawdz_pesel(Formularz!C415)","v":false}]
[null,{"$f":"Sprawdz_pesel(Formularz!C416)","v":false}]
[null,{"$f":"Sprawdz_pesel(Formularz!C417)","v":false}]
[null,{"$f":"Sprawdz_pesel(Formularz!C418)","v":false}]
[null,{"$f":"Sprawdz_pesel(Formularz!C419)","v":false}]
[null,{"$f":"Sprawdz_pesel(Formularz!C420)","v":false}]
[null,{"$f":"Sprawdz_pesel(Formularz!C421)","v":false}]
[null,{"$f":"Sprawdz_pesel(Formularz!C422)","v":false}]
[null,{"$f":"Sprawdz_pesel(Formularz!C423)","v":false}]
[null,{"$f":"Sprawdz_pesel(Formularz!C424)","v":false}]
[null,{"$f":"Sprawdz_pesel(Formularz!C425)","v":false}]
[null,{"$f":"Sprawdz_pesel(Formularz!C426)","v":false}]
[null,{"$f":"Sprawdz_pesel(Formularz!C427)","v":false}]
[null,{"$f":"Sprawdz_pesel(Formularz!C428)","v":false}]
[null,{"$f":"Sprawdz_pesel(Formularz!C429)","v":false}]
[null,{"$f":"Sprawdz_pesel(Formularz!C430)","v":false}]
[null,{"$f":"Sprawdz_pesel(Formularz!C431)","v":false}]
[null,{"$f":"Sprawdz_pesel(Formularz!C432)","v":false}]
[null,{"$f":"Sprawdz_pesel(Formularz!C433)","v":false}]
[null,{"$f":"Sprawdz_pesel(Formularz!C434)","v":false}]
[null,{"$f":"Sprawdz_pesel(Formularz!C435)","v":false}]
[null,{"$f":"Sprawdz_pesel(Formularz!C436)","v":false}]
[null,{"$f":"Sprawdz_pesel(Formularz!C437)","v":false}]
[null,{"$f":"Sprawdz_pesel(Formularz!C438)","v":false}]
[null,{"$f":"Sprawdz_pesel(Formularz!C439)","v":false}]
[null,{"$f":"Sprawdz_pesel(Formularz!C440)","v":false}]
[null,{"$f":"Sprawdz_pesel(Formularz!C441)","v":false}]
[null,{"$f":"Sprawdz_pesel(Formularz!C442)","v":false}]
[null,{"$f":"Sprawdz_pesel(Formularz!C443)","v":false}]
[null,{"$f":"Sprawdz_pesel(Formularz!C444)","v":false}]
[null,{"$f":"Sprawdz_pesel(Formularz!C445)","v":false}]
[null,{"$f":"Sprawdz_pesel(Formularz!C446)","v":false}]
[null,{"$f":"Sprawdz_pesel(Formularz!C447)","v":false}]
[null,{"$f":"Sprawdz_pesel(Formularz!C448)","v":false}]
[null,{"$f":"Sprawdz_pesel(Formularz!C449)","v":false}]
[null,{"$f":"Sprawdz_pesel(Formularz!C450)","v":false}]
[null,{"$f":"Sprawdz_pesel(Formularz!C451)","v":false}]
[null,{"$f":"Sprawdz_pesel(Formularz!C452)","v":false}]
[null,{"$f":"Sprawdz_pesel(Formularz!C453)","v":false}]
[null,{"$f":"Sprawdz_pesel(Formularz!C454)","v":false}]
[null,{"$f":"Sprawdz_pesel(Formularz!C455)","v":false}]
[null,{"$f":"Sprawdz_pesel(Formularz!C456)","v":false}]
[null,{"$f":"Sprawdz_pesel(Formularz!C457)","v":false}]
[null,{"$f":"Sprawdz_pesel(Formularz!C458)","v":false}]
[null,{"$f":"Sprawdz_pesel(Formularz!C459)","v":false}]
[null,{"$f":"Sprawdz_pesel(Formularz!C460)","v":false}]
[null,{"$f":"Sprawdz_pesel(Formularz!C461)","v":false}]
[null,{"$f":"Sprawdz_pesel(Formularz!C462)","v":false}]
[null,{"$f":"Sprawdz_pesel(Formularz!C463)","v":false}]
[null,{"$f":"Sprawdz_pesel(Formularz!C464)","v":false}]
[null,{"$f":"Sprawdz_pesel(Formularz!C465)","v":false}]
[null,{"$f":"Sprawdz_pesel(Formularz!C466)","v":false}]
[null,{"$f":"Sprawdz_pesel(Formularz!C467)","v":false}]
[null,{"$f":"Sprawdz_pesel(Formularz!C468)","v":false}]
[null,{"$f":"Sprawdz_pesel(Formularz!C469)","v":false}]
[null,{"$f":"Sprawdz_pesel(Formularz!C470)","v":false}]
[null,{"$f":"Sprawdz_pesel(Formularz!C471)","v":false}]
[null,{"$f":"Sprawdz_pesel(Formularz!C472)","v":false}]
[null,{"$f":"Sprawdz_pesel(Formularz!C473)","v":false}]
[null,{"$f":"Sprawdz_pesel(Formularz!C474)","v":false}]
[null,{"$f":"Sprawdz_pesel(Formularz!C475)","v":false}]
[null,{"$f":"Sprawdz_pesel(Formularz!C476)","v":false}]
[null,{"$f":"Sprawdz_pesel(Formularz!C477)","v":false}]
[null,{"$f":"Sprawdz_pesel(Formularz!C478)","v":false}]
[null,{"$f":"Sprawdz_pesel(Formularz!C479)","v":false}]
[null,{"$f":"Sprawdz_pesel(Formularz!C480)","v":false}]
[null,{"$f":"Sprawdz_pesel(Formularz!C481)","v":false}]
[null,{"$f":"Sprawdz_pesel(Formularz!C482)","v":false}]
[null,{"$f":"Sprawdz_pesel(Formularz!C483)","v":false}]
[null,{"$f":"Sprawdz_pesel(Formularz!C484)","v":false}]
[null,{"$f":"Sprawdz_pesel(Formularz!C485)","v":false}]
[null,{"$f":"Sprawdz_pesel(Formularz!C486)","v":false}]
[null,{"$f":"Sprawdz_pesel(Formularz!C487)","v":false}]
[null,{"$f":"Sprawdz_pesel(Formularz!C488)","v":false}]
[null,{"$f":"Sprawdz_pesel(Formularz!C489)","v":false}]
[null,{"$f":"Sprawdz_pesel(Formularz!C490)","v":false}]
[null,{"$f":"Sprawdz_pesel(Formularz!C491)","v":false}]
[null,{"$f":"Sprawdz_pesel(Formularz!C492)","v":false}]
[null,{"$f":"Sprawdz_pesel(Formularz!C493)","v":false}]
[null,{"$f":"Sprawdz_pesel(Formularz!C494)","v":false}]
[null,{"$f":"Sprawdz_pesel(Formularz!C495)","v":false}]
[null,{"$f":"Sprawdz_pesel(Formularz!C496)","v":false}]
[null,{"$f":"Sprawdz_pesel(Formularz!C497)","v":false}]
[null,{"$f":"Sprawdz_pesel(Formularz!C498)","v":false}]
[null,{"$f":"Sprawdz_pesel(Formularz!C499)","v":false}]
[null,{"$f":"Sprawdz_pesel(Formularz!C500)","v":false}]
[null,{"$f":"Sprawdz_pesel(Formularz!C501)","v":false}]
[null,{"$f":"Sprawdz_pesel(Formularz!C502)","v":false}]
[null,{"$f":"Sprawdz_pesel(Formularz!C503)","v":false}]
[null,{"$f":"Sprawdz_pesel(Formularz!C504)","v":false}]
[null,{"$f":"Sprawdz_pesel(Formularz!C505)","v":false}]
[null,{"$f":"Sprawdz_pesel(Formularz!C506)","v":false}]
[null,{"$f":"Sprawdz_pesel(Formularz!C507)","v":false}]
[null,{"$f":"Sprawdz_pesel(Formularz!C508)","v":false}]
[null,{"$f":"Sprawdz_pesel(Formularz!C509)","v":false}]
[null,{"$f":"Sprawdz_pesel(Formularz!C510)","v":false}]
[null,{"$f":"Sprawdz_pesel(Formularz!C511)","v":false}]
[null,{"$f":"Sprawdz_pesel(Formularz!C512)","v":false}]
[null,{"$f":"Sprawdz_pesel(Formularz!C513)","v":false}]
[null,{"$f":"Sprawdz_pesel(Formularz!C514)","v":false}]
[null,{"$f":"Sprawdz_pesel(Formularz!C515)","v":false}]
[null,{"$f":"Sprawdz_pesel(Formularz!C516)","v":false}]
[null,{"$f":"Sprawdz_pesel(Formularz!C517)","v":false}]
[null,{"$f":"Sprawdz_pesel(Formularz!C518)","v":false}]
[null,{"$f":"Sprawdz_pesel(Formularz!C519)","v":false}]
[null,{"$f":"Sprawdz_pesel(Formularz!C520)","v":false}]
[null,{"$f":"Sprawdz_pesel(Formularz!C521)","v":false}]
[null,{"$f":"Sprawdz_pesel(Formularz!C522)","v":false}]
[null,{"$f":"Sprawdz_pesel(Formularz!C523)","v":false}]
[null,{"$f":"Sprawdz_pesel(Formularz!C524)","v":false}]
[null,{"$f":"Sprawdz_pesel(Formularz!C525)","v":false}]
[null,{"$f":"Sprawdz_pesel(Formularz!C526)","v":false}]
[null,{"$f":"Sprawdz_pesel(Formularz!C527)","v":false}]
[null,{"$f":"Sprawdz_pesel(Formularz!C528)","v":false}]
[null,{"$f":"Sprawdz_pesel(Formularz!C529)","v":false}]
[null,{"$f":"Sprawdz_pesel(Formularz!C530)","v":false}]
[null,{"$f":"Sprawdz_pesel(Formularz!C531)","v":false}]
[null,{"$f":"Sprawdz_pesel(Formularz!C532)","v":false}]
[null,{"$f":"Sprawdz_pesel(Formularz!C533)","v":false}]
[null,{"$f":"Sprawdz_pesel(Formularz!C534)","v":false}]
[null,{"$f":"Sprawdz_pesel(Formularz!C535)","v":false}]
[null,{"$f":"Sprawdz_pesel(Formularz!C536)","v":false}]
[null,{"$f":"Sprawdz_pesel(Formularz!C537)","v":false}]
[null,{"$f":"Sprawdz_pesel(Formularz!C538)","v":false}]
[null,{"$f":"Sprawdz_pesel(Formularz!C539)","v":false}]
[null,{"$f":"Sprawdz_pesel(Formularz!C540)","v":false}]
[null,{"$f":"Sprawdz_pesel(Formularz!C541)","v":false}]
[null,{"$f":"Sprawdz_pesel(Formularz!C542)","v":false}]
[null,{"$f":"Sprawdz_pesel(Formularz!C543)","v":false}]
[null,{"$f":"Sprawdz_pesel(Formularz!C544)","v":false}]
[null,{"$f":"Sprawdz_pesel(Formularz!C545)","v":false}]
[null,{"$f":"Sprawdz_pesel(Formularz!C546)","v":false}]
[null,{"$f":"Sprawdz_pesel(Formularz!C547)","v":false}]
[null,{"$f":"Sprawdz_pesel(Formularz!C548)","v":false}]
[null,{"$f":"Sprawdz_pesel(Formularz!C549)","v":false}]
[null,{"$f":"Sprawdz_pesel(Formularz!C550)","v":false}]
[null,{"$f":"Sprawdz_pesel(Formularz!C551)","v":false}]
[null,{"$f":"Sprawdz_pesel(Formularz!C552)","v":false}]
[null,{"$f":"Sprawdz_pesel(Formularz!C553)","v":false}]
[null,{"$f":"Sprawdz_pesel(Formularz!C554)","v":false}]
[null,{"$f":"Sprawdz_pesel(Formularz!C555)","v":false}]
[null,{"$f":"Sprawdz_pesel(Formularz!C556)","v":false}]
[null,{"$f":"Sprawdz_pesel(Formularz!C557)","v":false}]
[null,{"$f":"Sprawdz_pesel(Formularz!C558)","v":false}]
[null,{"$f":"Sprawdz_pesel(Formularz!C559)","v":false}]
[null,{"$f":"Sprawdz_pesel(Formularz!C560)","v":false}]
[null,{"$f":"Sprawdz_pesel(Formularz!C561)","v":false}]
[null,{"$f":"Sprawdz_pesel(Formularz!C562)","v":false}]
[null,{"$f":"Sprawdz_pesel(Formularz!C563)","v":false}]
[null,{"$f":"Sprawdz_pesel(Formularz!C564)","v":false}]
[null,{"$f":"Sprawdz_pesel(Formularz!C565)","v":false}]
[null,{"$f":"Sprawdz_pesel(Formularz!C566)","v":false}]
[null,{"$f":"Sprawdz_pesel(Formularz!C567)","v":false}]
[null,{"$f":"Sprawdz_pesel(Formularz!C568)","v":false}]
[null,{"$f":"Sprawdz_pesel(Formularz!C569)","v":false}]
[null,{"$f":"Sprawdz_pesel(Formularz!C570)","v":false}]
[null,{"$f":"Sprawdz_pesel(Formularz!C571)","v":false}]
[null,{"$f":"Sprawdz_pesel(Formularz!C572)","v":false}]
[null,{"$f":"Sprawdz_pesel(Formularz!C573)","v":false}]
[null,{"$f":"Sprawdz_pesel(Formularz!C574)","v":false}]
[null,{"$f":"Sprawdz_pesel(Formularz!C575)","v":false}]
[null,{"$f":"Sprawdz_pesel(Formularz!C576)","v":false}]
[null,{"$f":"Sprawdz_pesel(Formularz!C577)","v":false}]
[null,{"$f":"Sprawdz_pesel(Formularz!C578)","v":false}]
[null,{"$f":"Sprawdz_pesel(Formularz!C579)","v":false}]
[null,{"$f":"Sprawdz_pesel(Formularz!C580)","v":false}]
[null,{"$f":"Sprawdz_pesel(Formularz!C581)","v":false}]
[null,{"$f":"Sprawdz_pesel(Formularz!C582)","v":false}]
[null,{"$f":"Sprawdz_pesel(Formularz!C583)","v":false}]
[null,{"$f":"Sprawdz_pesel(Formularz!C584)","v":false}]
[null,{"$f":"Sprawdz_pesel(Formularz!C585)","v":false}]
[null,{"$f":"Sprawdz_pesel(Formularz!C586)","v":false}]
[null,{"$f":"Sprawdz_pesel(Formularz!C587)","v":false}]
[null,{"$f":"Sprawdz_pesel(Formularz!C588)","v":false}]
[null,{"$f":"Sprawdz_pesel(Formularz!C589)","v":false}]
[null,{"$f":"Sprawdz_pesel(Formularz!C590)","v":false}]
[null,{"$f":"Sprawdz_pesel(Formularz!C591)","v":false}]
[null,{"$f":"Sprawdz_pesel(Formularz!C592)","v":false}]
[null,{"$f":"Sprawdz_pesel(Formularz!C593)","v":false}]
[null,{"$f":"Sprawdz_pesel(Formularz!C594)","v":false}]
[null,{"$f":"Sprawdz_pesel(Formularz!C595)","v":false}]
[null,{"$f":"Sprawdz_pesel(Formularz!C596)","v":false}]
[null,{"$f":"Sprawdz_pesel(Formularz!C597)","v":false}]
[null,{"$f":"Sprawdz_pesel(Formularz!C598)","v":false}]
[null,{"$f":"Sprawdz_pesel(Formularz!C599)","v":false}]
[null,{"$f":"Sprawdz_pesel(Formularz!C600)","v":false}]
[null,{"$f":"Sprawdz_pesel(Formularz!C601)","v":false}]
[null,{"$f":"Sprawdz_pesel(Formularz!C602)","v":false}]
[null,{"$f":"Sprawdz_pesel(Formularz!C603)","v":false}]
[null,{"$f":"Sprawdz_pesel(Formularz!C604)","v":false}]
[null,{"$f":"Sprawdz_pesel(Formularz!C605)","v":false}]
[null,{"$f":"Sprawdz_pesel(Formularz!C606)","v":false}]
[null,{"$f":"Sprawdz_pesel(Formularz!C607)","v":false}]
[null,{"$f":"Sprawdz_pesel(Formularz!C608)","v":false}]
[null,{"$f":"Sprawdz_pesel(Formularz!C609)","v":false}]
[null,{"$f":"Sprawdz_pesel(Formularz!C610)","v":false}]
[null,{"$f":"Sprawdz_pesel(Formularz!C611)","v":false}]
[null,{"$f":"Sprawdz_pesel(Formularz!C612)","v":false}]
[null,{"$f":"Sprawdz_pesel(Formularz!C613)","v":false}]
[null,{"$f":"Sprawdz_pesel(Formularz!C614)","v":false}]
[null,{"$f":"Sprawdz_pesel(Formularz!C615)","v":false}]
[null,{"$f":"Sprawdz_pesel(Formularz!C616)","v":false}]
[null,{"$f":"Sprawdz_pesel(Formularz!C617)","v":false}]
[null,{"$f":"Sprawdz_pesel(Formularz!C618)","v":false}]
[null,{"$f":"Sprawdz_pesel(Formularz!C619)","v":false}]
[null,{"$f":"Sprawdz_pesel(Formularz!C620)","v":false}]
[null,{"$f":"Sprawdz_pesel(Formularz!C621)","v":false}]
[null,{"$f":"Sprawdz_pesel(Formularz!C622)","v":false}]
[null,{"$f":"Sprawdz_pesel(Formularz!C623)","v":false}]
[null,{"$f":"Sprawdz_pesel(Formularz!C624)","v":false}]
[null,{"$f":"Sprawdz_pesel(Formularz!C625)","v":false}]
[null,{"$f":"Sprawdz_pesel(Formularz!C626)","v":false}]
[null,{"$f":"Sprawdz_pesel(Formularz!C627)","v":false}]
[null,{"$f":"Sprawdz_pesel(Formularz!C628)","v":false}]
[null,{"$f":"Sprawdz_pesel(Formularz!C629)","v":false}]
[null,{"$f":"Sprawdz_pesel(Formularz!C630)","v":false}]
[null,{"$f":"Sprawdz_pesel(Formularz!C631)","v":false}]
[null,{"$f":"Sprawdz_pesel(Formularz!C632)","v":false}]
[null,{"$f":"Sprawdz_pesel(Formularz!C633)","v":false}]
[null,{"$f":"Sprawdz_pesel(Formularz!C634)","v":false}]
[null,{"$f":"Sprawdz_pesel(Formularz!C635)","v":false}]
[null,{"$f":"Sprawdz_pesel(Formularz!C636)","v":false}]
[null,{"$f":"Sprawdz_pesel(Formularz!C637)","v":false}]
[null,{"$f":"Sprawdz_pesel(Formularz!C638)","v":false}]
[null,{"$f":"Sprawdz_pesel(Formularz!C639)","v":false}]
[null,{"$f":"Sprawdz_pesel(Formularz!C640)","v":false}]
[null,{"$f":"Sprawdz_pesel(Formularz!C641)","v":false}]
[null,{"$f":"Sprawdz_pesel(Formularz!C642)","v":false}]
[null,{"$f":"Sprawdz_pesel(Formularz!C643)","v":false}]
[null,{"$f":"Sprawdz_pesel(Formularz!C644)","v":false}]
[null,{"$f":"Sprawdz_pesel(Formularz!C645)","v":false}]
[null,{"$f":"Sprawdz_pesel(Formularz!C646)","v":false}]
[null,{"$f":"Sprawdz_pesel(Formularz!C647)","v":false}]
[null,{"$f":"Sprawdz_pesel(Formularz!C648)","v":false}]
[null,{"$f":"Sprawdz_pesel(Formularz!C649)","v":false}]
[null,{"$f":"Sprawdz_pesel(Formularz!C650)","v":false}]
[null,{"$f":"Sprawdz_pesel(Formularz!C651)","v":false}]
[null,{"$f":"Sprawdz_pesel(Formularz!C652)","v":false}]
[null,{"$f":"Sprawdz_pesel(Formularz!C653)","v":false}]
[null,{"$f":"Sprawdz_pesel(Formularz!C654)","v":false}]
[null,{"$f":"Sprawdz_pesel(Formularz!C655)","v":false}]
[null,{"$f":"Sprawdz_pesel(Formularz!C656)","v":false}]
[null,{"$f":"Sprawdz_pesel(Formularz!C657)","v":false}]
[null,{"$f":"Sprawdz_pesel(Formularz!C658)","v":false}]
[null,{"$f":"Sprawdz_pesel(Formularz!C659)","v":false}]
[null,{"$f":"Sprawdz_pesel(Formularz!C660)","v":false}]
[null,{"$f":"Sprawdz_pesel(Formularz!C661)","v":false}]
[null,{"$f":"Sprawdz_pesel(Formularz!C662)","v":false}]
[null,{"$f":"Sprawdz_pesel(Formularz!C663)","v":false}]
[null,{"$f":"Sprawdz_pesel(Formularz!C664)","v":false}]
[null,{"$f":"Sprawdz_pesel(Formularz!C665)","v":false}]
[null,{"$f":"Sprawdz_pesel(Formularz!C666)","v":false}]
[null,{"$f":"Sprawdz_pesel(Formularz!C667)","v":false}]
[null,{"$f":"Sprawdz_pesel(Formularz!C668)","v":false}]
[null,{"$f":"Sprawdz_pesel(Formularz!C669)","v":false}]
[null,{"$f":"Sprawdz_pesel(Formularz!C670)","v":false}]
[null,{"$f":"Sprawdz_pesel(Formularz!C671)","v":false}]
[null,{"$f":"Sprawdz_pesel(Formularz!C672)","v":false}]
[null,{"$f":"Sprawdz_pesel(Formularz!C673)","v":false}]
[null,{"$f":"Sprawdz_pesel(Formularz!C674)","v":false}]
[null,{"$f":"Sprawdz_pesel(Formularz!C675)","v":false}]
[null,{"$f":"Sprawdz_pesel(Formularz!C676)","v":false}]
[null,{"$f":"Sprawdz_pesel(Formularz!C677)","v":false}]
[null,{"$f":"Sprawdz_pesel(Formularz!C678)","v":false}]
[null,{"$f":"Sprawdz_pesel(Formularz!C679)","v":false}]
[null,{"$f":"Sprawdz_pesel(Formularz!C680)","v":false}]
[null,{"$f":"Sprawdz_pesel(Formularz!C681)","v":false}]
[null,{"$f":"Sprawdz_pesel(Formularz!C682)","v":false}]
[null,{"$f":"Sprawdz_pesel(Formularz!C683)","v":false}]
[null,{"$f":"Sprawdz_pesel(Formularz!C684)","v":false}]
[null,{"$f":"Sprawdz_pesel(Formularz!C685)","v":false}]
[null,{"$f":"Sprawdz_pesel(Formularz!C686)","v":false}]
[null,{"$f":"Sprawdz_pesel(Formularz!C687)","v":false}]
[null,{"$f":"Sprawdz_pesel(Formularz!C688)","v":false}]
[null,{"$f":"Sprawdz_pesel(Formularz!C689)","v":false}]
[null,{"$f":"Sprawdz_pesel(Formularz!C690)","v":false}]
[null,{"$f":"Sprawdz_pesel(Formularz!C691)","v":false}]
[null,{"$f":"Sprawdz_pesel(Formularz!C692)","v":false}]
[null,{"$f":"Sprawdz_pesel(Formularz!C693)","v":false}]
[null,{"$f":"Sprawdz_pesel(Formularz!C694)","v":false}]
[null,{"$f":"Sprawdz_pesel(Formularz!C695)","v":false}]
[null,{"$f":"Sprawdz_pesel(Formularz!C696)","v":false}]
[null,{"$f":"Sprawdz_pesel(Formularz!C697)","v":false}]
[null,{"$f":"Sprawdz_pesel(Formularz!C698)","v":false}]
[null,{"$f":"Sprawdz_pesel(Formularz!C699)","v":false}]
[null,{"$f":"Sprawdz_pesel(Formularz!C700)","v":false}]
[null,{"$f":"Sprawdz_pesel(Formularz!C701)","v":false}]
[null,{"$f":"Sprawdz_pesel(Formularz!C702)","v":false}]
[null,{"$f":"Sprawdz_pesel(Formularz!C703)","v":false}]
[null,{"$f":"Sprawdz_pesel(Formularz!C704)","v":false}]
[null,{"$f":"Sprawdz_pesel(Formularz!C705)","v":false}]
[null,{"$f":"Sprawdz_pesel(Formularz!C706)","v":false}]
[null,{"$f":"Sprawdz_pesel(Formularz!C707)","v":false}]
[null,{"$f":"Sprawdz_pesel(Formularz!C708)","v":false}]
[null,{"$f":"Sprawdz_pesel(Formularz!C709)","v":false}]
[null,{"$f":"Sprawdz_pesel(Formularz!C710)","v":false}]
[null,{"$f":"Sprawdz_pesel(Formularz!C711)","v":false}]
[null,{"$f":"Sprawdz_pesel(Formularz!C712)","v":false}]
[null,{"$f":"Sprawdz_pesel(Formularz!C713)","v":false}]
[null,{"$f":"Sprawdz_pesel(Formularz!C714)","v":false}]
[null,{"$f":"Sprawdz_pesel(Formularz!C715)","v":false}]
[null,{"$f":"Sprawdz_pesel(Formularz!C716)","v":false}]
[null,{"$f":"Sprawdz_pesel(Formularz!C717)","v":false}]
[null,{"$f":"Sprawdz_pesel(Formularz!C718)","v":false}]
[null,{"$f":"Sprawdz_pesel(Formularz!C719)","v":false}]
[null,{"$f":"Sprawdz_pesel(Formularz!C720)","v":false}]
[null,{"$f":"Sprawdz_pesel(Formularz!C721)","v":false}]
[null,{"$f":"Sprawdz_pesel(Formularz!C722)","v":false}]
[null,{"$f":"Sprawdz_pesel(Formularz!C723)","v":false}]
[null,{"$f":"Sprawdz_pesel(Formularz!C724)","v":false}]
[null,{"$f":"Sprawdz_pesel(Formularz!C725)","v":false}]
[null,{"$f":"Sprawdz_pesel(Formularz!C726)","v":false}]
[null,{"$f":"Sprawdz_pesel(Formularz!C727)","v":false}]
[null,{"$f":"Sprawdz_pesel(Formularz!C728)","v":false}]
[null,{"$f":"Sprawdz_pesel(Formularz!C729)","v":false}]
[null,{"$f":"Sprawdz_pesel(Formularz!C730)","v":false}]
[null,{"$f":"Sprawdz_pesel(Formularz!C731)","v":false}]
[null,{"$f":"Sprawdz_pesel(Formularz!C732)","v":false}]
[null,{"$f":"Sprawdz_pesel(Formularz!C733)","v":false}]
[null,{"$f":"Sprawdz_pesel(Formularz!C734)","v":false}]
[null,{"$f":"Sprawdz_pesel(Formularz!C735)","v":false}]
[null,{"$f":"Sprawdz_pesel(Formularz!C736)","v":false}]
[null,{"$f":"Sprawdz_pesel(Formularz!C737)","v":false}]
[null,{"$f":"Sprawdz_pesel(Formularz!C738)","v":false}]
[null,{"$f":"Sprawdz_pesel(Formularz!C739)","v":false}]
[null,{"$f":"Sprawdz_pesel(Formularz!C740)","v":false}]
[null,{"$f":"Sprawdz_pesel(Formularz!C741)","v":false}]
[null,{"$f":"Sprawdz_pesel(Formularz!C742)","v":false}]
[null,{"$f":"Sprawdz_pesel(Formularz!C743)","v":false}]
[null,{"$f":"Sprawdz_pesel(Formularz!C744)","v":false}]
[null,{"$f":"Sprawdz_pesel(Formularz!C745)","v":false}]
[null,{"$f":"Sprawdz_pesel(Formularz!C746)","v":false}]
[null,{"$f":"Sprawdz_pesel(Formularz!C747)","v":false}]
[null,{"$f":"Sprawdz_pesel(Formularz!C748)","v":false}]
[null,{"$f":"Sprawdz_pesel(Formularz!C749)","v":false}]
[null,{"$f":"Sprawdz_pesel(Formularz!C750)","v":false}]
[null,{"$f":"Sprawdz_pesel(Formularz!C751)","v":false}]
[null,{"$f":"Sprawdz_pesel(Formularz!C752)","v":false}]
[null,{"$f":"Sprawdz_pesel(Formularz!C753)","v":false}]
[null,{"$f":"Sprawdz_pesel(Formularz!C754)","v":false}]
[null,{"$f":"Sprawdz_pesel(Formularz!C755)","v":false}]
[null,{"$f":"Sprawdz_pesel(Formularz!C756)","v":false}]
[null,{"$f":"Sprawdz_pesel(Formularz!C757)","v":false}]
[null,{"$f":"Sprawdz_pesel(Formularz!C758)","v":false}]
[null,{"$f":"Sprawdz_pesel(Formularz!C759)","v":false}]
[null,{"$f":"Sprawdz_pesel(Formularz!C760)","v":false}]
[null,{"$f":"Sprawdz_pesel(Formularz!C761)","v":false}]
[null,{"$f":"Sprawdz_pesel(Formularz!C762)","v":false}]
[null,{"$f":"Sprawdz_pesel(Formularz!C763)","v":false}]
[null,{"$f":"Sprawdz_pesel(Formularz!C764)","v":false}]
[null,{"$f":"Sprawdz_pesel(Formularz!C765)","v":false}]
[null,{"$f":"Sprawdz_pesel(Formularz!C766)","v":false}]
[null,{"$f":"Sprawdz_pesel(Formularz!C767)","v":false}]
[null,{"$f":"Sprawdz_pesel(Formularz!C768)","v":false}]
[null,{"$f":"Sprawdz_pesel(Formularz!C769)","v":false}]
[null,{"$f":"Sprawdz_pesel(Formularz!C770)","v":false}]
[null,{"$f":"Sprawdz_pesel(Formularz!C771)","v":false}]
[null,{"$f":"Sprawdz_pesel(Formularz!C772)","v":false}]
[null,{"$f":"Sprawdz_pesel(Formularz!C773)","v":false}]
[null,{"$f":"Sprawdz_pesel(Formularz!C774)","v":false}]
[null,{"$f":"Sprawdz_pesel(Formularz!C775)","v":false}]
[null,{"$f":"Sprawdz_pesel(Formularz!C776)","v":false}]
[null,{"$f":"Sprawdz_pesel(Formularz!C777)","v":false}]
[null,{"$f":"Sprawdz_pesel(Formularz!C778)","v":false}]
[null,{"$f":"Sprawdz_pesel(Formularz!C779)","v":false}]
[null,{"$f":"Sprawdz_pesel(Formularz!C780)","v":false}]
[null,{"$f":"Sprawdz_pesel(Formularz!C781)","v":false}]
[null,{"$f":"Sprawdz_pesel(Formularz!C782)","v":false}]
[null,{"$f":"Sprawdz_pesel(Formularz!C783)","v":false}]
[null,{"$f":"Sprawdz_pesel(Formularz!C784)","v":false}]
[null,{"$f":"Sprawdz_pesel(Formularz!C785)","v":false}]
[null,{"$f":"Sprawdz_pesel(Formularz!C786)","v":false}]
[null,{"$f":"Sprawdz_pesel(Formularz!C787)","v":false}]
[null,{"$f":"Sprawdz_pesel(Formularz!C788)","v":false}]
[null,{"$f":"Sprawdz_pesel(Formularz!C789)","v":false}]
[null,{"$f":"Sprawdz_pesel(Formularz!C790)","v":false}]
[null,{"$f":"Sprawdz_pesel(Formularz!C791)","v":false}]
[null,{"$f":"Sprawdz_pesel(Formularz!C792)","v":false}]
[null,{"$f":"Sprawdz_pesel(Formularz!C793)","v":false}]
[null,{"$f":"Sprawdz_pesel(Formularz!C794)","v":false}]
[null,{"$f":"Sprawdz_pesel(Formularz!C795)","v":false}]
[null,{"$f":"Sprawdz_pesel(Formularz!C796)","v":false}]
[null,{"$f":"Sprawdz_pesel(Formularz!C797)","v":false}]
[null,{"$f":"Sprawdz_pesel(Formularz!C798)","v":false}]
[null,{"$f":"Sprawdz_pesel(Formularz!C799)","v":false}]
[null,{"$f":"Sprawdz_pesel(Formularz!C800)","v":false}]
[null,{"$f":"Sprawdz_pesel(Formularz!C801)","v":false}]
[null,{"$f":"Sprawdz_pesel(Formularz!C802)","v":false}]
[null,{"$f":"Sprawdz_pesel(Formularz!C803)","v":false}]
[null,{"$f":"Sprawdz_pesel(Formularz!C804)","v":false}]
[null,{"$f":"Sprawdz_pesel(Formularz!C805)","v":false}]
[null,{"$f":"Sprawdz_pesel(Formularz!C806)","v":false}]
[null,{"$f":"Sprawdz_pesel(Formularz!C807)","v":false}]
[null,{"$f":"Sprawdz_pesel(Formularz!C808)","v":false}]
[null,{"$f":"Sprawdz_pesel(Formularz!C809)","v":false}]
[null,{"$f":"Sprawdz_pesel(Formularz!C810)","v":false}]
[null,{"$f":"Sprawdz_pesel(Formularz!C811)","v":false}]
[null,{"$f":"Sprawdz_pesel(Formularz!C812)","v":false}]
[null,{"$f":"Sprawdz_pesel(Formularz!C813)","v":false}]
[null,{"$f":"Sprawdz_pesel(Formularz!C814)","v":false}]
[null,{"$f":"Sprawdz_pesel(Formularz!C815)","v":false}]
[null,{"$f":"Sprawdz_pesel(Formularz!C816)","v":false}]
[null,{"$f":"Sprawdz_pesel(Formularz!C817)","v":false}]
[null,{"$f":"Sprawdz_pesel(Formularz!C818)","v":false}]
[null,{"$f":"Sprawdz_pesel(Formularz!C819)","v":false}]
[null,{"$f":"Sprawdz_pesel(Formularz!C820)","v":false}]
[null,{"$f":"Sprawdz_pesel(Formularz!C821)","v":false}]
[null,{"$f":"Sprawdz_pesel(Formularz!C822)","v":false}]
[null,{"$f":"Sprawdz_pesel(Formularz!C823)","v":false}]
[null,{"$f":"Sprawdz_pesel(Formularz!C824)","v":false}]
[null,{"$f":"Sprawdz_pesel(Formularz!C825)","v":false}]
[null,{"$f":"Sprawdz_pesel(Formularz!C826)","v":false}]
[null,{"$f":"Sprawdz_pesel(Formularz!C827)","v":false}]
[null,{"$f":"Sprawdz_pesel(Formularz!C828)","v":false}]
[null,{"$f":"Sprawdz_pesel(Formularz!C829)","v":false}]
[null,{"$f":"Sprawdz_pesel(Formularz!C830)","v":false}]
[null,{"$f":"Sprawdz_pesel(Formularz!C831)","v":false}]
[null,{"$f":"Sprawdz_pesel(Formularz!C832)","v":false}]
[null,{"$f":"Sprawdz_pesel(Formularz!C833)","v":false}]
[null,{"$f":"Sprawdz_pesel(Formularz!C834)","v":false}]
[null,{"$f":"Sprawdz_pesel(Formularz!C835)","v":false}]
[null,{"$f":"Sprawdz_pesel(Formularz!C836)","v":false}]
[null,{"$f":"Sprawdz_pesel(Formularz!C837)","v":false}]
[null,{"$f":"Sprawdz_pesel(Formularz!C838)","v":false}]
[null,{"$f":"Sprawdz_pesel(Formularz!C839)","v":false}]
[null,{"$f":"Sprawdz_pesel(Formularz!C840)","v":false}]
[null,{"$f":"Sprawdz_pesel(Formularz!C841)","v":false}]
[null,{"$f":"Sprawdz_pesel(Formularz!C842)","v":false}]
[null,{"$f":"Sprawdz_pesel(Formularz!C843)","v":false}]
[null,{"$f":"Sprawdz_pesel(Formularz!C844)","v":false}]
[null,{"$f":"Sprawdz_pesel(Formularz!C845)","v":false}]
[null,{"$f":"Sprawdz_pesel(Formularz!C846)","v":false}]
[null,{"$f":"Sprawdz_pesel(Formularz!C847)","v":false}]
[null,{"$f":"Sprawdz_pesel(Formularz!C848)","v":false}]
[null,{"$f":"Sprawdz_pesel(Formularz!C849)","v":false}]
[null,{"$f":"Sprawdz_pesel(Formularz!C850)","v":false}]
[null,{"$f":"Sprawdz_pesel(Formularz!C851)","v":false}]
[null,{"$f":"Sprawdz_pesel(Formularz!C852)","v":false}]
[null,{"$f":"Sprawdz_pesel(Formularz!C853)","v":false}]
[null,{"$f":"Sprawdz_pesel(Formularz!C854)","v":false}]
[null,{"$f":"Sprawdz_pesel(Formularz!C855)","v":false}]
[null,{"$f":"Sprawdz_pesel(Formularz!C856)","v":false}]
[null,{"$f":"Sprawdz_pesel(Formularz!C857)","v":false}]
[null,{"$f":"Sprawdz_pesel(Formularz!C858)","v":false}]
[null,{"$f":"Sprawdz_pesel(Formularz!C859)","v":false}]
[null,{"$f":"Sprawdz_pesel(Formularz!C860)","v":false}]
[null,{"$f":"Sprawdz_pesel(Formularz!C861)","v":false}]
[null,{"$f":"Sprawdz_pesel(Formularz!C862)","v":false}]
[null,{"$f":"Sprawdz_pesel(Formularz!C863)","v":false}]
[null,{"$f":"Sprawdz_pesel(Formularz!C864)","v":false}]
[null,{"$f":"Sprawdz_pesel(Formularz!C865)","v":false}]
[null,{"$f":"Sprawdz_pesel(Formularz!C866)","v":false}]
[null,{"$f":"Sprawdz_pesel(Formularz!C867)","v":false}]
[null,{"$f":"Sprawdz_pesel(Formularz!C868)","v":false}]
[null,{"$f":"Sprawdz_pesel(Formularz!C869)","v":false}]
[null,{"$f":"Sprawdz_pesel(Formularz!C870)","v":false}]
[null,{"$f":"Sprawdz_pesel(Formularz!C871)","v":false}]
[null,{"$f":"Sprawdz_pesel(Formularz!C872)","v":false}]
[null,{"$f":"Sprawdz_pesel(Formularz!C873)","v":false}]
[null,{"$f":"Sprawdz_pesel(Formularz!C874)","v":false}]
[null,{"$f":"Sprawdz_pesel(Formularz!C875)","v":false}]
[null,{"$f":"Sprawdz_pesel(Formularz!C876)","v":false}]
[null,{"$f":"Sprawdz_pesel(Formularz!C877)","v":false}]
[null,{"$f":"Sprawdz_pesel(Formularz!C878)","v":false}]
[null,{"$f":"Sprawdz_pesel(Formularz!C879)","v":false}]
[null,{"$f":"Sprawdz_pesel(Formularz!C880)","v":false}]
[null,{"$f":"Sprawdz_pesel(Formularz!C881)","v":false}]
[null,{"$f":"Sprawdz_pesel(Formularz!C882)","v":false}]
[null,{"$f":"Sprawdz_pesel(Formularz!C883)","v":false}]
[null,{"$f":"Sprawdz_pesel(Formularz!C884)","v":false}]
[null,{"$f":"Sprawdz_pesel(Formularz!C885)","v":false}]
[null,{"$f":"Sprawdz_pesel(Formularz!C886)","v":false}]
[null,{"$f":"Sprawdz_pesel(Formularz!C887)","v":false}]
[null,{"$f":"Sprawdz_pesel(Formularz!C888)","v":false}]
[null,{"$f":"Sprawdz_pesel(Formularz!C889)","v":false}]
[null,{"$f":"Sprawdz_pesel(Formularz!C890)","v":false}]
[null,{"$f":"Sprawdz_pesel(Formularz!C891)","v":false}]
[null,{"$f":"Sprawdz_pesel(Formularz!C892)","v":false}]
[null,{"$f":"Sprawdz_pesel(Formularz!C893)","v":false}]
[null,{"$f":"Sprawdz_pesel(Formularz!C894)","v":false}]
[null,{"$f":"Sprawdz_pesel(Formularz!C895)","v":false}]
[null,{"$f":"Sprawdz_pesel(Formularz!C896)","v":false}]
[null,{"$f":"Sprawdz_pesel(Formularz!C897)","v":false}]
[null,{"$f":"Sprawdz_pesel(Formularz!C898)","v":false}]
[null,{"$f":"Sprawdz_pesel(Formularz!C899)","v":false}]
[null,{"$f":"Sprawdz_pesel(Formularz!C900)","v":false}]
[null,{"$f":"Sprawdz_pesel(Formularz!C901)","v":false}]
[null,{"$f":"Sprawdz_pesel(Formularz!C902)","v":false}]
[null,{"$f":"Sprawdz_pesel(Formularz!C903)","v":false}]
[null,{"$f":"Sprawdz_pesel(Formularz!C904)","v":false}]
[null,{"$f":"Sprawdz_pesel(Formularz!C905)","v":false}]
[null,{"$f":"Sprawdz_pesel(Formularz!C906)","v":false}]
[null,{"$f":"Sprawdz_pesel(Formularz!C907)","v":false}]
[null,{"$f":"Sprawdz_pesel(Formularz!C908)","v":false}]
[null,{"$f":"Sprawdz_pesel(Formularz!C909)","v":false}]
[null,{"$f":"Sprawdz_pesel(Formularz!C910)","v":false}]
[null,{"$f":"Sprawdz_pesel(Formularz!C911)","v":false}]
[null,{"$f":"Sprawdz_pesel(Formularz!C912)","v":false}]
[null,{"$f":"Sprawdz_pesel(Formularz!C913)","v":false}]
[null,{"$f":"Sprawdz_pesel(Formularz!C914)","v":false}]
[null,{"$f":"Sprawdz_pesel(Formularz!C915)","v":false}]
[null,{"$f":"Sprawdz_pesel(Formularz!C916)","v":false}]
[null,{"$f":"Sprawdz_pesel(Formularz!C917)","v":false}]
[null,{"$f":"Sprawdz_pesel(Formularz!C918)","v":false}]
[null,{"$f":"Sprawdz_pesel(Formularz!C919)","v":false}]
[null,{"$f":"Sprawdz_pesel(Formularz!C920)","v":false}]
[null,{"$f":"Sprawdz_pesel(Formularz!C921)","v":false}]
[null,{"$f":"Sprawdz_pesel(Formularz!C922)","v":false}]
[null,{"$f":"Sprawdz_pesel(Formularz!C923)","v":false}]
[null,{"$f":"Sprawdz_pesel(Formularz!C924)","v":false}]
[null,{"$f":"Sprawdz_pesel(Formularz!C925)","v":false}]
[null,{"$f":"Sprawdz_pesel(Formularz!C926)","v":false}]
[null,{"$f":"Sprawdz_pesel(Formularz!C927)","v":false}]
[null,{"$f":"Sprawdz_pesel(Formularz!C928)","v":false}]
[null,{"$f":"Sprawdz_pesel(Formularz!C929)","v":false}]
[null,{"$f":"Sprawdz_pesel(Formularz!C930)","v":false}]
[null,{"$f":"Sprawdz_pesel(Formularz!C931)","v":false}]
[null,{"$f":"Sprawdz_pesel(Formularz!C932)","v":false}]
[null,{"$f":"Sprawdz_pesel(Formularz!C933)","v":false}]
[null,{"$f":"Sprawdz_pesel(Formularz!C934)","v":false}]
[null,{"$f":"Sprawdz_pesel(Formularz!C935)","v":false}]
[null,{"$f":"Sprawdz_pesel(Formularz!C936)","v":false}]
[null,{"$f":"Sprawdz_pesel(Formularz!C937)","v":false}]
[null,{"$f":"Sprawdz_pesel(Formularz!C938)","v":false}]
[null,{"$f":"Sprawdz_pesel(Formularz!C939)","v":false}]
[null,{"$f":"Sprawdz_pesel(Formularz!C940)","v":false}]
[null,{"$f":"Sprawdz_pesel(Formularz!C941)","v":false}]
[null,{"$f":"Sprawdz_pesel(Formularz!C942)","v":false}]
[null,{"$f":"Sprawdz_pesel(Formularz!C943)","v":false}]
[null,{"$f":"Sprawdz_pesel(Formularz!C944)","v":false}]
[null,{"$f":"Sprawdz_pesel(Formularz!C945)","v":false}]
[null,{"$f":"Sprawdz_pesel(Formularz!C946)","v":false}]
[null,{"$f":"Sprawdz_pesel(Formularz!C947)","v":false}]
[null,{"$f":"Sprawdz_pesel(Formularz!C948)","v":false}]
[null,{"$f":"Sprawdz_pesel(Formularz!C949)","v":false}]
[null,{"$f":"Sprawdz_pesel(Formularz!C950)","v":false}]
[null,{"$f":"Sprawdz_pesel(Formularz!C951)","v":false}]
[null,{"$f":"Sprawdz_pesel(Formularz!C952)","v":false}]
[null,{"$f":"Sprawdz_pesel(Formularz!C953)","v":false}]
[null,{"$f":"Sprawdz_pesel(Formularz!C954)","v":false}]
[null,{"$f":"Sprawdz_pesel(Formularz!C955)","v":false}]
[null,{"$f":"Sprawdz_pesel(Formularz!C956)","v":false}]
[null,{"$f":"Sprawdz_pesel(Formularz!C957)","v":false}]
[null,{"$f":"Sprawdz_pesel(Formularz!C958)","v":false}]
[null,{"$f":"Sprawdz_pesel(Formularz!C959)","v":false}]
[null,{"$f":"Sprawdz_pesel(Formularz!C960)","v":false}]
[null,{"$f":"Sprawdz_pesel(Formularz!C961)","v":false}]
[null,{"$f":"Sprawdz_pesel(Formularz!C962)","v":false}]
[null,{"$f":"Sprawdz_pesel(Formularz!C963)","v":false}]
[null,{"$f":"Sprawdz_pesel(Formularz!C964)","v":false}]
[null,{"$f":"Sprawdz_pesel(Formularz!C965)","v":false}]
[null,{"$f":"Sprawdz_pesel(Formularz!C966)","v":false}]
[null,{"$f":"Sprawdz_pesel(Formularz!C967)","v":false}]
[null,{"$f":"Sprawdz_pesel(Formularz!C968)","v":false}]
[null,{"$f":"Sprawdz_pesel(Formularz!C969)","v":false}]
[null,{"$f":"Sprawdz_pesel(Formularz!C970)","v":false}]
[null,{"$f":"Sprawdz_pesel(Formularz!C971)","v":false}]
[null,{"$f":"Sprawdz_pesel(Formularz!C972)","v":false}]
[null,{"$f":"Sprawdz_pesel(Formularz!C973)","v":false}]
[null,{"$f":"Sprawdz_pesel(Formularz!C974)","v":false}]
[null,{"$f":"Sprawdz_pesel(Formularz!C975)","v":false}]
[null,{"$f":"Sprawdz_pesel(Formularz!C976)","v":false}]
[null,{"$f":"Sprawdz_pesel(Formularz!C977)","v":false}]
[null,{"$f":"Sprawdz_pesel(Formularz!C978)","v":false}]
[null,{"$f":"Sprawdz_pesel(Formularz!C979)","v":false}]
[null,{"$f":"Sprawdz_pesel(Formularz!C980)","v":false}]
[null,{"$f":"Sprawdz_pesel(Formularz!C981)","v":false}]
[null,{"$f":"Sprawdz_pesel(Formularz!C982)","v":false}]
[null,{"$f":"Sprawdz_pesel(Formularz!C983)","v":false}]
[null,{"$f":"Sprawdz_pesel(Formularz!C984)","v":false}]
[null,{"$f":"Sprawdz_pesel(Formularz!C985)","v":false}]
[null,{"$f":"Sprawdz_pesel(Formularz!C986)","v":false}]
[null,{"$f":"Sprawdz_pesel(Formularz!C987)","v":false}]
[null,{"$f":"Sprawdz_pesel(Formularz!C988)","v":false}]
[null,{"$f":"Sprawdz_pesel(Formularz!C989)","v":false}]
[null,{"$f":"Sprawdz_pesel(Formularz!C990)","v":false}]
[null,{"$f":"Sprawdz_pesel(Formularz!C991)","v":false}]
[null,{"$f":"Sprawdz_pesel(Formularz!C992)","v":false}]
[null,{"$f":"Sprawdz_pesel(Formularz!C993)","v":false}]
[null,{"$f":"Sprawdz_pesel(Formularz!C994)","v":false}]
[null,{"$f":"Sprawdz_pesel(Formularz!C995)","v":false}]
[null,{"$f":"Sprawdz_pesel(Formularz!C996)","v":false}]
[null,{"$f":"Sprawdz_pesel(Formularz!C997)","v":false}]
[null,{"$f":"Sprawdz_pesel(Formularz!C998)","v":false}]
[null,{"$f":"Sprawdz_pesel(Formularz!C999)","v":false}]
[null,{"$f":"Sprawdz_pesel(Formularz!C1000)","v":false}]
[null,{"$f":"Sprawdz_pesel(Formularz!C1001)","v":false}]
[null,{"$f":"Sprawdz_pesel(Formularz!C1002)","v":false}]
[null,{"$f":"Sprawdz_pesel(Formularz!C1003)","v":false}]
[null,{"$f":"Sprawdz_pesel(Formularz!C1004)","v":false}]
[null,{"$f":"Sprawdz_pesel(Formularz!C1005)","v":false}]
[null,{"$f":"Sprawdz_pesel(Formularz!C1006)","v":false}]
[null,{"$f":"Sprawdz_pesel(Formularz!C1007)","v":false}]
[null,{"$f":"Sprawdz_pesel(Formularz!C1008)","v":false}]
[null,{"$f":"Sprawdz_pesel(Formularz!C1009)","v":false}]
[null,{"$f":"Sprawdz_pesel(Formularz!C1010)","v":false}]
[null,{"$f":"Sprawdz_pesel(Formularz!C1011)","v":false}]
[null,{"$f":"Sprawdz_pesel(Formularz!C1012)","v":false}]
[null,{"$f":"Sprawdz_pesel(Formularz!C1013)","v":false}]
[null,{"$f":"Sprawdz_pesel(Formularz!#REF!)","v":{"$error":"#VALUE!"}}]
[null,{"$f":"Sprawdz_pesel(Formularz!#REF!)","v":{"$error":"#VALUE!"}}]
[null,{"$f":"Sprawdz_pesel(Formularz!#REF!)","v":{"$error":"#VALUE!"}}]
[null,{"$f":"Sprawdz_pesel(Formularz!#REF!)","v":{"$error":"#VALUE!"}}]
[null,{"$f":"Sprawdz_pesel(Formularz!#REF!)","v":{"$error":"#VALUE!"}}]
[null,{"$f":"Sprawdz_pesel(Formularz!#REF!)","v":{"$error":"#VALUE!"}}]
[null,{"$f":"Sprawdz_pesel(Formularz!#REF!)","v":{"$error":"#VALUE!"}}]
[null,{"$f":"Sprawdz_pesel(Formularz!#REF!)","v":{"$error":"#VALUE!"}}]
[null,{"$f":"Sprawdz_pesel(Formularz!#REF!)","v":{"$error":"#VALUE!"}}]
[null,{"$f":"Sprawdz_pesel(Formularz!#REF!)","v":{"$error":"#VALUE!"}}]
[null,{"$f":"Sprawdz_pesel(Formularz!#REF!)","v":{"$error":"#VALUE!"}}]
[null,{"$f":"Sprawdz_pesel(Formularz!#REF!)","v":{"$error":"#VALUE!"}}]
[null,{"$f":"Sprawdz_pesel(Formularz!#REF!)","v":{"$error":"#VALUE!"}}]
[null,{"$f":"Sprawdz_pesel(Formularz!#REF!)","v":{"$error":"#VALUE!"}}]
[null,{"$f":"Sprawdz_pesel(Formularz!#REF!)","v":{"$error":"#VALUE!"}}]
[null,{"$f":"Sprawdz_pesel(Formularz!#REF!)","v":{"$error":"#VALUE!"}}]
[null,{"$f":"Sprawdz_pesel(Formularz!#REF!)","v":{"$error":"#VALUE!"}}]
[null,{"$f":"Sprawdz_pesel(Formularz!#REF!)","v":{"$error":"#VALUE!"}}]
[null,{"$f":"Sprawdz_pesel(Formularz!#REF!)","v":{"$error":"#VALUE!"}}]
[null,{"$f":"Sprawdz_pesel(Formularz!#REF!)","v":{"$error":"#VALUE!"}}]
[null,{"$f":"Sprawdz_pesel(Formularz!#REF!)","v":{"$error":"#VALUE!"}}]
[null,{"$f":"Sprawdz_pesel(Formularz!#REF!)","v":{"$error":"#VALUE!"}}]
[null,{"$f":"Sprawdz_pesel(Formularz!#REF!)","v":{"$error":"#VALUE!"}}]
[null,{"$f":"Sprawdz_pesel(Formularz!#REF!)","v":{"$error":"#VALUE!"}}]
[null,{"$f":"Sprawdz_pesel(Formularz!#REF!)","v":{"$error":"#VALUE!"}}]
[null,{"$f":"Sprawdz_pesel(Formularz!#REF!)","v":{"$error":"#VALUE!"}}]
[null,{"$f":"Sprawdz_pesel(Formularz!#REF!)","v":{"$error":"#VALUE!"}}]
[null,{"$f":"Sprawdz_pesel(Formularz!#REF!)","v":{"$error":"#VALUE!"}}]
[null,{"$f":"Sprawdz_pesel(Formularz!#REF!)","v":{"$error":"#VALUE!"}}]
[null,{"$f":"Sprawdz_pesel(Formularz!#REF!)","v":{"$error":"#VALUE!"}}]
[null,{"$f":"Sprawdz_pesel(Formularz!#REF!)","v":{"$error":"#VALUE!"}}]
[null,{"$f":"Sprawdz_pesel(Formularz!#REF!)","v":{"$error":"#VALUE!"}}]
[null,{"$f":"Sprawdz_pesel(Formularz!#REF!)","v":{"$error":"#VALUE!"}}]
[null,{"$f":"Sprawdz_pesel(Formularz!#REF!)","v":{"$error":"#VALUE!"}}]
[null,{"$f":"Sprawdz_pesel(Formularz!#REF!)","v":{"$error":"#VALUE!"}}]
[null,{"$f":"Sprawdz_pesel(Formularz!#REF!)","v":{"$error":"#VALUE!"}}]
[null,{"$f":"Sprawdz_pesel(Formularz!#REF!)","v":{"$error":"#VALUE!"}}]
[null,{"$f":"Sprawdz_pesel(Formularz!#REF!)","v":{"$error":"#VALUE!"}}]
[null,{"$f":"Sprawdz_pesel(Formularz!#REF!)","v":{"$error":"#VALUE!"}}]
[null,{"$f":"Sprawdz_pesel(Formularz!#REF!)","v":{"$error":"#VALUE!"}}]
[null,{"$f":"Sprawdz_pesel(Formularz!#REF!)","v":{"$error":"#VALUE!"}}]
[null,{"$f":"Sprawdz_pesel(Formularz!#REF!)","v":{"$error":"#VALUE!"}}]
[null,{"$f":"Sprawdz_pesel(Formularz!#REF!)","v":{"$error":"#VALUE!"}}]
[null,{"$f":"Sprawdz_pesel(Formularz!#REF!)","v":{"$error":"#VALUE!"}}]
[null,{"$f":"Sprawdz_pesel(Formularz!#REF!)","v":{"$error":"#VALUE!"}}]
[null,{"$f":"Sprawdz_pesel(Formularz!#REF!)","v":{"$error":"#VALUE!"}}]
[null,{"$f":"Sprawdz_pesel(Formularz!#REF!)","v":{"$error":"#VALUE!"}}]
[null,{"$f":"Sprawdz_pesel(Formularz!#REF!)","v":{"$error":"#VALUE!"}}]
[null,{"$f":"Sprawdz_pesel(Formularz!#REF!)","v":{"$error":"#VALUE!"}}]
[null,{"$f":"Sprawdz_pesel(Formularz!#REF!)","v":{"$error":"#VALUE!"}}]
[null,{"$f":"Sprawdz_pesel(Formularz!#REF!)","v":{"$error":"#VALUE!"}}]
[null,{"$f":"Sprawdz_pesel(Formularz!#REF!)","v":{"$error":"#VALUE!"}}]
[null,{"$f":"Sprawdz_pesel(Formularz!#REF!)","v":{"$error":"#VALUE!"}}]
[null,{"$f":"Sprawdz_pesel(Formularz!#REF!)","v":{"$error":"#VALUE!"}}]
[null,{"$f":"Sprawdz_pesel(Formularz!#REF!)","v":{"$error":"#VALUE!"}}]
[null,{"$f":"Sprawdz_pesel(Formularz!#REF!)","v":{"$error":"#VALUE!"}}]
[null,{"$f":"Sprawdz_pesel(Formularz!#REF!)","v":{"$error":"#VALUE!"}}]
[null,{"$f":"Sprawdz_pesel(Formularz!#REF!)","v":{"$error":"#VALUE!"}}]
[null,{"$f":"Sprawdz_pesel(Formularz!#REF!)","v":{"$error":"#VALUE!"}}]
[null,{"$f":"Sprawdz_pesel(Formularz!#REF!)","v":{"$error":"#VALUE!"}}]
[null,{"$f":"Sprawdz_pesel(Formularz!#REF!)","v":{"$error":"#VALUE!"}}]
[null,{"$f":"Sprawdz_pesel(Formularz!#REF!)","v":{"$error":"#VALUE!"}}]
[null,{"$f":"Sprawdz_pesel(Formularz!#REF!)","v":{"$error":"#VALUE!"}}]
[null,{"$f":"Sprawdz_pesel(Formularz!#REF!)","v":{"$error":"#VALUE!"}}]
[null,{"$f":"Sprawdz_pesel(Formularz!#REF!)","v":{"$error":"#VALUE!"}}]
[null,{"$f":"Sprawdz_pesel(Formularz!#REF!)","v":{"$error":"#VALUE!"}}]
[null,{"$f":"Sprawdz_pesel(Formularz!#REF!)","v":{"$error":"#VALUE!"}}]
[null,{"$f":"Sprawdz_pesel(Formularz!#REF!)","v":{"$error":"#VALUE!"}}]
[null,{"$f":"Sprawdz_pesel(Formularz!#REF!)","v":{"$error":"#VALUE!"}}]
[null,{"$f":"Sprawdz_pesel(Formularz!#REF!)","v":{"$error":"#VALUE!"}}]
[null,{"$f":"Sprawdz_pesel(Formularz!#REF!)","v":{"$error":"#VALUE!"}}]
[null,{"$f":"Sprawdz_pesel(Formularz!#REF!)","v":{"$error":"#VALUE!"}}]
[null,{"$f":"Sprawdz_pesel(Formularz!#REF!)","v":{"$error":"#VALUE!"}}]
[null,{"$f":"Sprawdz_pesel(Formularz!#REF!)","v":{"$error":"#VALUE!"}}]
[null,{"$f":"Sprawdz_pesel(Formularz!#REF!)","v":{"$error":"#VALUE!"}}]
[null,{"$f":"Sprawdz_pesel(Formularz!#REF!)","v":{"$error":"#VALUE!"}}]
[null,{"$f":"Sprawdz_pesel(Formularz!#REF!)","v":{"$error":"#VALUE!"}}]
[null,{"$f":"Sprawdz_pesel(Formularz!#REF!)","v":{"$error":"#VALUE!"}}]
[null,{"$f":"Sprawdz_pesel(Formularz!#REF!)","v":{"$error":"#VALUE!"}}]
[null,{"$f":"Sprawdz_pesel(Formularz!#REF!)","v":{"$error":"#VALUE!"}}]
[null,{"$f":"Sprawdz_pesel(Formularz!#REF!)","v":{"$error":"#VALUE!"}}]
[null,{"$f":"Sprawdz_pesel(Formularz!#REF!)","v":{"$error":"#VALUE!"}}]
[null,{"$f":"Sprawdz_pesel(Formularz!#REF!)","v":{"$error":"#VALUE!"}}]
[null,{"$f":"Sprawdz_pesel(Formularz!#REF!)","v":{"$error":"#VALUE!"}}]
[null,{"$f":"Sprawdz_pesel(Formularz!#REF!)","v":{"$error":"#VALUE!"}}]
[null,{"$f":"Sprawdz_pesel(Formularz!#REF!)","v":{"$error":"#VALUE!"}}]
[null,{"$f":"Sprawdz_pesel(Formularz!#REF!)","v":{"$error":"#VALUE!"}}]
[null,{"$f":"Sprawdz_pesel(Formularz!#REF!)","v":{"$error":"#VALUE!"}}]
[null,{"$f":"Sprawdz_pesel(Formularz!#REF!)","v":{"$error":"#VALUE!"}}]
[null,{"$f":"Sprawdz_pesel(Formularz!#REF!)","v":{"$error":"#VALUE!"}}]
[null,{"$f":"Sprawdz_pesel(Formularz!#REF!)","v":{"$error":"#VALUE!"}}]
[null,{"$f":"Sprawdz_pesel(Formularz!#REF!)","v":{"$error":"#VALUE!"}}]
[null,{"$f":"Sprawdz_pesel(Formularz!#REF!)","v":{"$error":"#VALUE!"}}]
[null,{"$f":"Sprawdz_pesel(Formularz!#REF!)","v":{"$error":"#VALUE!"}}]
[null,{"$f":"Sprawdz_pesel(Formularz!#REF!)","v":{"$error":"#VALUE!"}}]
[null,{"$f":"Sprawdz_pesel(Formularz!#REF!)","v":{"$error":"#VALUE!"}}]
[null,{"$f":"Sprawdz_pesel(Formularz!#REF!)","v":{"$error":"#VALUE!"}}]
[null,{"$f":"Sprawdz_pesel(Formularz!#REF!)","v":{"$error":"#VALUE!"}}]
[null,{"$f":"Sprawdz_pesel(Formularz!#REF!)","v":{"$error":"#VALUE!"}}]
[null,{"$f":"Sprawdz_pesel(Formularz!#REF!)","v":{"$error":"#VALUE!"}}]
[null,{"$f":"Sprawdz_pesel(Formularz!#REF!)","v":{"$error":"#VALUE!"}}]
[null,{"$f":"Sprawdz_pesel(Formularz!#REF!)","v":{"$error":"#VALUE!"}}]
[null,{"$f":"Sprawdz_pesel(Formularz!#REF!)","v":{"$error":"#VALUE!"}}]
[null,{"$f":"Sprawdz_pesel(Formularz!#REF!)","v":{"$error":"#VALUE!"}}]
[null,{"$f":"Sprawdz_pesel(Formularz!#REF!)","v":{"$error":"#VALUE!"}}]
[null,{"$f":"Sprawdz_pesel(Formularz!#REF!)","v":{"$error":"#VALUE!"}}]
[null,{"$f":"Sprawdz_pesel(Formularz!#REF!)","v":{"$error":"#VALUE!"}}]
[null,{"$f":"Sprawdz_pesel(Formularz!#REF!)","v":{"$error":"#VALUE!"}}]
[null,{"$f":"Sprawdz_pesel(Formularz!#REF!)","v":{"$error":"#VALUE!"}}]
[null,{"$f":"Sprawdz_pesel(Formularz!#REF!)","v":{"$error":"#VALUE!"}}]
[null,{"$f":"Sprawdz_pesel(Formularz!#REF!)","v":{"$error":"#VALUE!"}}]
[null,{"$f":"Sprawdz_pesel(Formularz!#REF!)","v":{"$error":"#VALUE!"}}]
[null,{"$f":"Sprawdz_pesel(Formularz!#REF!)","v":{"$error":"#VALUE!"}}]
[null,{"$f":"Sprawdz_pesel(Formularz!#REF!)","v":{"$error":"#VALUE!"}}]
[null,{"$f":"Sprawdz_pesel(Formularz!#REF!)","v":{"$error":"#VALUE!"}}]
[null,{"$f":"Sprawdz_pesel(Formularz!#REF!)","v":{"$error":"#VALUE!"}}]
[null,{"$f":"Sprawdz_pesel(Formularz!#REF!)","v":{"$error":"#VALUE!"}}]
[null,{"$f":"Sprawdz_pesel(Formularz!#REF!)","v":{"$error":"#VALUE!"}}]
[null,{"$f":"Sprawdz_pesel(Formularz!#REF!)","v":{"$error":"#VALUE!"}}]
[null,{"$f":"Sprawdz_pesel(Formularz!#REF!)","v":{"$error":"#VALUE!"}}]
[null,{"$f":"Sprawdz_pesel(Formularz!#REF!)","v":{"$error":"#VALUE!"}}]
[null,{"$f":"Sprawdz_pesel(Formularz!#REF!)","v":{"$error":"#VALUE!"}}]
[null,{"$f":"Sprawdz_pesel(Formularz!#REF!)","v":{"$error":"#VALUE!"}}]
[null,{"$f":"Sprawdz_pesel(Formularz!#REF!)","v":{"$error":"#VALUE!"}}]
[null,{"$f":"Sprawdz_pesel(Formularz!#REF!)","v":{"$error":"#VALUE!"}}]
[null,{"$f":"Sprawdz_pesel(Formularz!#REF!)","v":{"$error":"#VALUE!"}}]
[null,{"$f":"Sprawdz_pesel(Formularz!#REF!)","v":{"$error":"#VALUE!"}}]
[null,{"$f":"Sprawdz_pesel(Formularz!#REF!)","v":{"$error":"#VALUE!"}}]
[null,{"$f":"Sprawdz_pesel(Formularz!#REF!)","v":{"$error":"#VALUE!"}}]
[null,{"$f":"Sprawdz_pesel(Formularz!#REF!)","v":{"$error":"#VALUE!"}}]
[null,{"$f":"Sprawdz_pesel(Formularz!#REF!)","v":{"$error":"#VALUE!"}}]
[null,{"$f":"Sprawdz_pesel(Formularz!#REF!)","v":{"$error":"#VALUE!"}}]
[null,{"$f":"Sprawdz_pesel(Formularz!#REF!)","v":{"$error":"#VALUE!"}}]
[null,{"$f":"Sprawdz_pesel(Formularz!#REF!)","v":{"$error":"#VALUE!"}}]
[null,{"$f":"Sprawdz_pesel(Formularz!#REF!)","v":{"$error":"#VALUE!"}}]
[null,{"$f":"Sprawdz_pesel(Formularz!#REF!)","v":{"$error":"#VALUE!"}}]
[null,{"$f":"Sprawdz_pesel(Formularz!#REF!)","v":{"$error":"#VALUE!"}}]
[null,{"$f":"Sprawdz_pesel(Formularz!#REF!)","v":{"$error":"#VALUE!"}}]
[null,{"$f":"Sprawdz_pesel(Formularz!#REF!)","v":{"$error":"#VALUE!"}}]
[null,{"$f":"Sprawdz_pesel(Formularz!#REF!)","v":{"$error":"#VALUE!"}}]
[null,{"$f":"Sprawdz_pesel(Formularz!#REF!)","v":{"$error":"#VALUE!"}}]
[null,{"$f":"Sprawdz_pesel(Formularz!#REF!)","v":{"$error":"#VALUE!"}}]
[null,{"$f":"Sprawdz_pesel(Formularz!#REF!)","v":{"$error":"#VALUE!"}}]
[null,{"$f":"Sprawdz_pesel(Formularz!#REF!)","v":{"$error":"#VALUE!"}}]
[null,{"$f":"Sprawdz_pesel(Formularz!#REF!)","v":{"$error":"#VALUE!"}}]
[null,{"$f":"Sprawdz_pesel(Formularz!#REF!)","v":{"$error":"#VALUE!"}}]
[null,{"$f":"Sprawdz_pesel(Formularz!#REF!)","v":{"$error":"#VALUE!"}}]
[null,{"$f":"Sprawdz_pesel(Formularz!#REF!)","v":{"$error":"#VALUE!"}}]
[null,{"$f":"Sprawdz_pesel(Formularz!#REF!)","v":{"$error":"#VALUE!"}}]
[null,{"$f":"Sprawdz_pesel(Formularz!#REF!)","v":{"$error":"#VALUE!"}}]
[null,{"$f":"Sprawdz_pesel(Formularz!#REF!)","v":{"$error":"#VALUE!"}}]
[null,{"$f":"Sprawdz_pesel(Formularz!#REF!)","v":{"$error":"#VALUE!"}}]
[null,{"$f":"Sprawdz_pesel(Formularz!#REF!)","v":{"$error":"#VALUE!"}}]
[null,{"$f":"Sprawdz_pesel(Formularz!#REF!)","v":{"$error":"#VALUE!"}}]
[null,{"$f":"Sprawdz_pesel(Formularz!#REF!)","v":{"$error":"#VALUE!"}}]
[null,{"$f":"Sprawdz_pesel(Formularz!#REF!)","v":{"$error":"#VALUE!"}}]
[null,{"$f":"Sprawdz_pesel(Formularz!#REF!)","v":{"$error":"#VALUE!"}}]
[null,{"$f":"Sprawdz_pesel(Formularz!#REF!)","v":{"$error":"#VALUE!"}}]
[null,{"$f":"Sprawdz_pesel(Formularz!#REF!)","v":{"$error":"#VALUE!"}}]
[null,{"$f":"Sprawdz_pesel(Formularz!#REF!)","v":{"$error":"#VALUE!"}}]
[null,{"$f":"Sprawdz_pesel(Formularz!#REF!)","v":{"$error":"#VALUE!"}}]
[null,{"$f":"Sprawdz_pesel(Formularz!#REF!)","v":{"$error":"#VALUE!"}}]
[null,{"$f":"Sprawdz_pesel(Formularz!#REF!)","v":{"$error":"#VALUE!"}}]
[null,{"$f":"Sprawdz_pesel(Formularz!#REF!)","v":{"$error":"#VALUE!"}}]
[null,{"$f":"Sprawdz_pesel(Formularz!#REF!)","v":{"$error":"#VALUE!"}}]
[null,{"$f":"Sprawdz_pesel(Formularz!#REF!)","v":{"$error":"#VALUE!"}}]
[null,{"$f":"Sprawdz_pesel(Formularz!#REF!)","v":{"$error":"#VALUE!"}}]
[null,{"$f":"Sprawdz_pesel(Formularz!#REF!)","v":{"$error":"#VALUE!"}}]
[null,{"$f":"Sprawdz_pesel(Formularz!#REF!)","v":{"$error":"#VALUE!"}}]
[null,{"$f":"Sprawdz_pesel(Formularz!#REF!)","v":{"$error":"#VALUE!"}}]
[null,{"$f":"Sprawdz_pesel(Formularz!#REF!)","v":{"$error":"#VALUE!"}}]
[null,{"$f":"Sprawdz_pesel(Formularz!#REF!)","v":{"$error":"#VALUE!"}}]
[null,{"$f":"Sprawdz_pesel(Formularz!#REF!)","v":{"$error":"#VALUE!"}}]
[null,{"$f":"Sprawdz_pesel(Formularz!#REF!)","v":{"$error":"#VALUE!"}}]
[null,{"$f":"Sprawdz_pesel(Formularz!#REF!)","v":{"$error":"#VALUE!"}}]
[null,{"$f":"Sprawdz_pesel(Formularz!#REF!)","v":{"$error":"#VALUE!"}}]
[null,{"$f":"Sprawdz_pesel(Formularz!#REF!)","v":{"$error":"#VALUE!"}}]
[null,{"$f":"Sprawdz_pesel(Formularz!#REF!)","v":{"$error":"#VALUE!"}}]
[null,{"$f":"Sprawdz_pesel(Formularz!#REF!)","v":{"$error":"#VALUE!"}}]
[null,{"$f":"Sprawdz_pesel(Formularz!#REF!)","v":{"$error":"#VALUE!"}}]
[null,{"$f":"Sprawdz_pesel(Formularz!#REF!)","v":{"$error":"#VALUE!"}}]
[null,{"$f":"Sprawdz_pesel(Formularz!#REF!)","v":{"$error":"#VALUE!"}}]
[null,{"$f":"Sprawdz_pesel(Formularz!#REF!)","v":{"$error":"#VALUE!"}}]
[null,{"$f":"Sprawdz_pesel(Formularz!#REF!)","v":{"$error":"#VALUE!"}}]
[null,{"$f":"Sprawdz_pesel(Formularz!#REF!)","v":{"$error":"#VALUE!"}}]
[null,{"$f":"Sprawdz_pesel(Formularz!#REF!)","v":{"$error":"#VALUE!"}}]
[null,{"$f":"Sprawdz_pesel(Formularz!#REF!)","v":{"$error":"#VALUE!"}}]
[null,{"$f":"Sprawdz_pesel(Formularz!#REF!)","v":{"$error":"#VALUE!"}}]
[null,{"$f":"Sprawdz_pesel(Formularz!#REF!)","v":{"$error":"#VALUE!"}}]
[null,{"$f":"Sprawdz_pesel(Formularz!#REF!)","v":{"$error":"#VALUE!"}}]
[null,{"$f":"Sprawdz_pesel(Formularz!#REF!)","v":{"$error":"#VALUE!"}}]
[null,{"$f":"Sprawdz_pesel(Formularz!#REF!)","v":{"$error":"#VALUE!"}}]
[null,{"$f":"Sprawdz_pesel(Formularz!#REF!)","v":{"$error":"#VALUE!"}}]
[null,{"$f":"Sprawdz_pesel(Formularz!#REF!)","v":{"$error":"#VALUE!"}}]
[null,{"$f":"Sprawdz_pesel(Formularz!#REF!)","v":{"$error":"#VALUE!"}}]
[null,{"$f":"Sprawdz_pesel(Formularz!#REF!)","v":{"$error":"#VALUE!"}}]
[null,{"$f":"Sprawdz_pesel(Formularz!#REF!)","v":{"$error":"#VALUE!"}}]
[null,{"$f":"Sprawdz_pesel(Formularz!#REF!)","v":{"$error":"#VALUE!"}}]
[null,{"$f":"Sprawdz_pesel(Formularz!#REF!)","v":{"$error":"#VALUE!"}}]
[null,{"$f":"Sprawdz_pesel(Formularz!#REF!)","v":{"$error":"#VALUE!"}}]
[null,{"$f":"Sprawdz_pesel(Formularz!#REF!)","v":{"$error":"#VALUE!"}}]
[null,{"$f":"Sprawdz_pesel(Formularz!#REF!)","v":{"$error":"#VALUE!"}}]
[null,{"$f":"Sprawdz_pesel(Formularz!#REF!)","v":{"$error":"#VALUE!"}}]
[null,{"$f":"Sprawdz_pesel(Formularz!#REF!)","v":{"$error":"#VALUE!"}}]
[null,{"$f":"Sprawdz_pesel(Formularz!#REF!)","v":{"$error":"#VALUE!"}}]
[null,{"$f":"Sprawdz_pesel(Formularz!#REF!)","v":{"$error":"#VALUE!"}}]
[null,{"$f":"Sprawdz_pesel(Formularz!#REF!)","v":{"$error":"#VALUE!"}}]
[null,{"$f":"Sprawdz_pesel(Formularz!#REF!)","v":{"$error":"#VALUE!"}}]
[null,{"$f":"Sprawdz_pesel(Formularz!#REF!)","v":{"$error":"#VALUE!"}}]
[null,{"$f":"Sprawdz_pesel(Formularz!#REF!)","v":{"$error":"#VALUE!"}}]
[null,{"$f":"Sprawdz_pesel(Formularz!#REF!)","v":{"$error":"#VALUE!"}}]
[null,{"$f":"Sprawdz_pesel(Formularz!#REF!)","v":{"$error":"#VALUE!"}}]
[null,{"$f":"Sprawdz_pesel(Formularz!#REF!)","v":{"$error":"#VALUE!"}}]
[null,{"$f":"Sprawdz_pesel(Formularz!#REF!)","v":{"$error":"#VALUE!"}}]
[null,{"$f":"Sprawdz_pesel(Formularz!#REF!)","v":{"$error":"#VALUE!"}}]
[null,{"$f":"Sprawdz_pesel(Formularz!#REF!)","v":{"$error":"#VALUE!"}}]
[null,{"$f":"Sprawdz_pesel(Formularz!#REF!)","v":{"$error":"#VALUE!"}}]
[null,{"$f":"Sprawdz_pesel(Formularz!#REF!)","v":{"$error":"#VALUE!"}}]
[null,{"$f":"Sprawdz_pesel(Formularz!#REF!)","v":{"$error":"#VALUE!"}}]
[null,{"$f":"Sprawdz_pesel(Formularz!#REF!)","v":{"$error":"#VALUE!"}}]
[null,{"$f":"Sprawdz_pesel(Formularz!#REF!)","v":{"$error":"#VALUE!"}}]
[null,{"$f":"Sprawdz_pesel(Formularz!#REF!)","v":{"$error":"#VALUE!"}}]
[null,{"$f":"Sprawdz_pesel(Formularz!#REF!)","v":{"$error":"#VALUE!"}}]
[null,{"$f":"Sprawdz_pesel(Formularz!#REF!)","v":{"$error":"#VALUE!"}}]
[null,{"$f":"Sprawdz_pesel(Formularz!#REF!)","v":{"$error":"#VALUE!"}}]
[null,{"$f":"Sprawdz_pesel(Formularz!#REF!)","v":{"$error":"#VALUE!"}}]
[null,{"$f":"Sprawdz_pesel(Formularz!#REF!)","v":{"$error":"#VALUE!"}}]
[null,{"$f":"Sprawdz_pesel(Formularz!#REF!)","v":{"$error":"#VALUE!"}}]
[null,{"$f":"Sprawdz_pesel(Formularz!#REF!)","v":{"$error":"#VALUE!"}}]
[null,{"$f":"Sprawdz_pesel(Formularz!#REF!)","v":{"$error":"#VALUE!"}}]
[null,{"$f":"Sprawdz_pesel(Formularz!#REF!)","v":{"$error":"#VALUE!"}}]
[null,{"$f":"Sprawdz_pesel(Formularz!#REF!)","v":{"$error":"#VALUE!"}}]
[null,{"$f":"Sprawdz_pesel(Formularz!#REF!)","v":{"$error":"#VALUE!"}}]
[null,{"$f":"Sprawdz_pesel(Formularz!#REF!)","v":{"$error":"#VALUE!"}}]
[null,{"$f":"Sprawdz_pesel(Formularz!#REF!)","v":{"$error":"#VALUE!"}}]
[null,{"$f":"Sprawdz_pesel(Formularz!#REF!)","v":{"$error":"#VALUE!"}}]
[null,{"$f":"Sprawdz_pesel(Formularz!#REF!)","v":{"$error":"#VALUE!"}}]
[null,{"$f":"Sprawdz_pesel(Formularz!#REF!)","v":{"$error":"#VALUE!"}}]
[null,{"$f":"Sprawdz_pesel(Formularz!#REF!)","v":{"$error":"#VALUE!"}}]
[null,{"$f":"Sprawdz_pesel(Formularz!#REF!)","v":{"$error":"#VALUE!"}}]
[null,{"$f":"Sprawdz_pesel(Formularz!#REF!)","v":{"$error":"#VALUE!"}}]
[null,{"$f":"Sprawdz_pesel(Formularz!#REF!)","v":{"$error":"#VALUE!"}}]
[null,{"$f":"Sprawdz_pesel(Formularz!#REF!)","v":{"$error":"#VALUE!"}}]
[null,{"$f":"Sprawdz_pesel(Formularz!#REF!)","v":{"$error":"#VALUE!"}}]
[null,{"$f":"Sprawdz_pesel(Formularz!#REF!)","v":{"$error":"#VALUE!"}}]
[null,{"$f":"Sprawdz_pesel(Formularz!#REF!)","v":{"$error":"#VALUE!"}}]
[null,{"$f":"Sprawdz_pesel(Formularz!#REF!)","v":{"$error":"#VALUE!"}}]
[null,{"$f":"Sprawdz_pesel(Formularz!#REF!)","v":{"$error":"#VALUE!"}}]
[null,{"$f":"Sprawdz_pesel(Formularz!#REF!)","v":{"$error":"#VALUE!"}}]
[null,{"$f":"Sprawdz_pesel(Formularz!#REF!)","v":{"$error":"#VALUE!"}}]
[null,{"$f":"Sprawdz_pesel(Formularz!#REF!)","v":{"$error":"#VALUE!"}}]
[null,{"$f":"Sprawdz_pesel(Formularz!#REF!)","v":{"$error":"#VALUE!"}}]
[null,{"$f":"Sprawdz_pesel(Formularz!#REF!)","v":{"$error":"#VALUE!"}}]
[null,{"$f":"Sprawdz_pesel(Formularz!#REF!)","v":{"$error":"#VALUE!"}}]
[null,{"$f":"Sprawdz_pesel(Formularz!#REF!)","v":{"$error":"#VALUE!"}}]
[null,{"$f":"Sprawdz_pesel(Formularz!#REF!)","v":{"$error":"#VALUE!"}}]
[null,{"$f":"Sprawdz_pesel(Formularz!#REF!)","v":{"$error":"#VALUE!"}}]
[null,{"$f":"Sprawdz_pesel(Formularz!#REF!)","v":{"$error":"#VALUE!"}}]
[null,{"$f":"Sprawdz_pesel(Formularz!#REF!)","v":{"$error":"#VALUE!"}}]
[null,{"$f":"Sprawdz_pesel(Formularz!#REF!)","v":{"$error":"#VALUE!"}}]
[null,{"$f":"Sprawdz_pesel(Formularz!#REF!)","v":{"$error":"#VALUE!"}}]
[null,{"$f":"Sprawdz_pesel(Formularz!#REF!)","v":{"$error":"#VALUE!"}}]
[null,{"$f":"Sprawdz_pesel(Formularz!#REF!)","v":{"$error":"#VALUE!"}}]
[null,{"$f":"Sprawdz_pesel(Formularz!#REF!)","v":{"$error":"#VALUE!"}}]
[null,{"$f":"Sprawdz_pesel(Formularz!#REF!)","v":{"$error":"#VALUE!"}}]
[null,{"$f":"Sprawdz_pesel(Formularz!#REF!)","v":{"$error":"#VALUE!"}}]
[null,{"$f":"Sprawdz_pesel(Formularz!#REF!)","v":{"$error":"#VALUE!"}}]
[null,{"$f":"Sprawdz_pesel(Formularz!#REF!)","v":{"$error":"#VALUE!"}}]
[null,{"$f":"Sprawdz_pesel(Formularz!#REF!)","v":{"$error":"#VALUE!"}}]
[null,{"$f":"Sprawdz_pesel(Formularz!#REF!)","v":{"$error":"#VALUE!"}}]
[null,{"$f":"Sprawdz_pesel(Formularz!#REF!)","v":{"$error":"#VALUE!"}}]
[null,{"$f":"Sprawdz_pesel(Formularz!#REF!)","v":{"$error":"#VALUE!"}}]
[null,{"$f":"Sprawdz_pesel(Formularz!#REF!)","v":{"$error":"#VALUE!"}}]
[null,{"$f":"Sprawdz_pesel(Formularz!#REF!)","v":{"$error":"#VALUE!"}}]
[null,{"$f":"Sprawdz_pesel(Formularz!#REF!)","v":{"$error":"#VALUE!"}}]
[null,{"$f":"Sprawdz_pesel(Formularz!#REF!)","v":{"$error":"#VALUE!"}}]
[null,{"$f":"Sprawdz_pesel(Formularz!#REF!)","v":{"$error":"#VALUE!"}}]
[null,{"$f":"Sprawdz_pesel(Formularz!#REF!)","v":{"$error":"#VALUE!"}}]
[null,{"$f":"Sprawdz_pesel(Formularz!#REF!)","v":{"$error":"#VALUE!"}}]
[null,{"$f":"Sprawdz_pesel(Formularz!#REF!)","v":{"$error":"#VALUE!"}}]
[null,{"$f":"Sprawdz_pesel(Formularz!#REF!)","v":{"$error":"#VALUE!"}}]
[null,{"$f":"Sprawdz_pesel(Formularz!#REF!)","v":{"$error":"#VALUE!"}}]
[null,{"$f":"Sprawdz_pesel(Formularz!#REF!)","v":{"$error":"#VALUE!"}}]
[null,{"$f":"Sprawdz_pesel(Formularz!#REF!)","v":{"$error":"#VALUE!"}}]
[null,{"$f":"Sprawdz_pesel(Formularz!#REF!)","v":{"$error":"#VALUE!"}}]
[null,{"$f":"Sprawdz_pesel(Formularz!#REF!)","v":{"$error":"#VALUE!"}}]
[null,{"$f":"Sprawdz_pesel(Formularz!#REF!)","v":{"$error":"#VALUE!"}}]
[null,{"$f":"Sprawdz_pesel(Formularz!#REF!)","v":{"$error":"#VALUE!"}}]
[null,{"$f":"Sprawdz_pesel(Formularz!#REF!)","v":{"$error":"#VALUE!"}}]
[null,{"$f":"Sprawdz_pesel(Formularz!#REF!)","v":{"$error":"#VALUE!"}}]
[null,{"$f":"Sprawdz_pesel(Formularz!#REF!)","v":{"$error":"#VALUE!"}}]
[null,{"$f":"Sprawdz_pesel(Formularz!#REF!)","v":{"$error":"#VALUE!"}}]
[null,{"$f":"Sprawdz_pesel(Formularz!#REF!)","v":{"$error":"#VALUE!"}}]
[null,{"$f":"Sprawdz_pesel(Formularz!#REF!)","v":{"$error":"#VALUE!"}}]
[null,{"$f":"Sprawdz_pesel(Formularz!#REF!)","v":{"$error":"#VALUE!"}}]
[null,{"$f":"Sprawdz_pesel(Formularz!#REF!)","v":{"$error":"#VALUE!"}}]
[null,{"$f":"Sprawdz_pesel(Formularz!#REF!)","v":{"$error":"#VALUE!"}}]
[null,{"$f":"Sprawdz_pesel(Formularz!#REF!)","v":{"$error":"#VALUE!"}}]
[null,{"$f":"Sprawdz_pesel(Formularz!#REF!)","v":{"$error":"#VALUE!"}}]
[null,{"$f":"Sprawdz_pesel(Formularz!#REF!)","v":{"$error":"#VALUE!"}}]
[null,{"$f":"Sprawdz_pesel(Formularz!#REF!)","v":{"$error":"#VALUE!"}}]
[null,{"$f":"Sprawdz_pesel(Formularz!#REF!)","v":{"$error":"#VALUE!"}}]
[null,{"$f":"Sprawdz_pesel(Formularz!#REF!)","v":{"$error":"#VALUE!"}}]
[null,{"$f":"Sprawdz_pesel(Formularz!#REF!)","v":{"$error":"#VALUE!"}}]
[null,{"$f":"Sprawdz_pesel(Formularz!#REF!)","v":{"$error":"#VALUE!"}}]
[null,{"$f":"Sprawdz_pesel(Formularz!#REF!)","v":{"$error":"#VALUE!"}}]
[null,{"$f":"Sprawdz_pesel(Formularz!#REF!)","v":{"$error":"#VALUE!"}}]
[null,{"$f":"Sprawdz_pesel(Formularz!#REF!)","v":{"$error":"#VALUE!"}}]
[null,{"$f":"Sprawdz_pesel(Formularz!#REF!)","v":{"$error":"#VALUE!"}}]
[null,{"$f":"Sprawdz_pesel(Formularz!#REF!)","v":{"$error":"#VALUE!"}}]
[null,{"$f":"Sprawdz_pesel(Formularz!#REF!)","v":{"$error":"#VALUE!"}}]
[null,{"$f":"Sprawdz_pesel(Formularz!#REF!)","v":{"$error":"#VALUE!"}}]
[null,{"$f":"Sprawdz_pesel(Formularz!#REF!)","v":{"$error":"#VALUE!"}}]
[null,{"$f":"Sprawdz_pesel(Formularz!#REF!)","v":{"$error":"#VALUE!"}}]
[null,{"$f":"Sprawdz_pesel(Formularz!#REF!)","v":{"$error":"#VALUE!"}}]
[null,{"$f":"Sprawdz_pesel(Formularz!#REF!)","v":{"$error":"#VALUE!"}}]
[null,{"$f":"Sprawdz_pesel(Formularz!#REF!)","v":{"$error":"#VALUE!"}}]
[null,{"$f":"Sprawdz_pesel(Formularz!#REF!)","v":{"$error":"#VALUE!"}}]
[null,{"$f":"Sprawdz_pesel(Formularz!#REF!)","v":{"$error":"#VALUE!"}}]
[null,{"$f":"Sprawdz_pesel(Formularz!#REF!)","v":{"$error":"#VALUE!"}}]
[null,{"$f":"Sprawdz_pesel(Formularz!#REF!)","v":{"$error":"#VALUE!"}}]
[null,{"$f":"Sprawdz_pesel(Formularz!#REF!)","v":{"$error":"#VALUE!"}}]
[null,{"$f":"Sprawdz_pesel(Formularz!#REF!)","v":{"$error":"#VALUE!"}}]
[null,{"$f":"Sprawdz_pesel(Formularz!#REF!)","v":{"$error":"#VALUE!"}}]
[null,{"$f":"Sprawdz_pesel(Formularz!#REF!)","v":{"$error":"#VALUE!"}}]
[null,{"$f":"Sprawdz_pesel(Formularz!#REF!)","v":{"$error":"#VALUE!"}}]
[null,{"$f":"Sprawdz_pesel(Formularz!#REF!)","v":{"$error":"#VALUE!"}}]
[null,{"$f":"Sprawdz_pesel(Formularz!#REF!)","v":{"$error":"#VALUE!"}}]
[null,{"$f":"Sprawdz_pesel(Formularz!#REF!)","v":{"$error":"#VALUE!"}}]
[null,{"$f":"Sprawdz_pesel(Formularz!#REF!)","v":{"$error":"#VALUE!"}}]
[null,{"$f":"Sprawdz_pesel(Formularz!#REF!)","v":{"$error":"#VALUE!"}}]
[null,{"$f":"Sprawdz_pesel(Formularz!#REF!)","v":{"$error":"#VALUE!"}}]
[null,{"$f":"Sprawdz_pesel(Formularz!#REF!)","v":{"$error":"#VALUE!"}}]
[null,{"$f":"Sprawdz_pesel(Formularz!#REF!)","v":{"$error":"#VALUE!"}}]
[null,{"$f":"Sprawdz_pesel(Formularz!#REF!)","v":{"$error":"#VALUE!"}}]
[null,{"$f":"Sprawdz_pesel(Formularz!#REF!)","v":{"$error":"#VALUE!"}}]
[null,{"$f":"Sprawdz_pesel(Formularz!#REF!)","v":{"$error":"#VALUE!"}}]
[null,{"$f":"Sprawdz_pesel(Formularz!#REF!)","v":{"$error":"#VALUE!"}}]
[null,{"$f":"Sprawdz_pesel(Formularz!#REF!)","v":{"$error":"#VALUE!"}}]
[null,{"$f":"Sprawdz_pesel(Formularz!#REF!)","v":{"$error":"#VALUE!"}}]
[null,{"$f":"Sprawdz_pesel(Formularz!#REF!)","v":{"$error":"#VALUE!"}}]
[null,{"$f":"Sprawdz_pesel(Formularz!#REF!)","v":{"$error":"#VALUE!"}}]
[null,{"$f":"Sprawdz_pesel(Formularz!#REF!)","v":{"$error":"#VALUE!"}}]
[null,{"$f":"Sprawdz_pesel(Formularz!#REF!)","v":{"$error":"#VALUE!"}}]
[null,{"$f":"Sprawdz_pesel(Formularz!#REF!)","v":{"$error":"#VALUE!"}}]
[null,{"$f":"Sprawdz_pesel(Formularz!#REF!)","v":{"$error":"#VALUE!"}}]
[null,{"$f":"Sprawdz_pesel(Formularz!#REF!)","v":{"$error":"#VALUE!"}}]
[null,{"$f":"Sprawdz_pesel(Formularz!#REF!)","v":{"$error":"#VALUE!"}}]
[null,{"$f":"Sprawdz_pesel(Formularz!#REF!)","v":{"$error":"#VALUE!"}}]
[null,{"$f":"Sprawdz_pesel(Formularz!#REF!)","v":{"$error":"#VALUE!"}}]
[null,{"$f":"Sprawdz_pesel(Formularz!#REF!)","v":{"$error":"#VALUE!"}}]
[null,{"$f":"Sprawdz_pesel(Formularz!#REF!)","v":{"$error":"#VALUE!"}}]
[null,{"$f":"Sprawdz_pesel(Formularz!#REF!)","v":{"$error":"#VALUE!"}}]
[null,{"$f":"Sprawdz_pesel(Formularz!#REF!)","v":{"$error":"#VALUE!"}}]
[null,{"$f":"Sprawdz_pesel(Formularz!#REF!)","v":{"$error":"#VALUE!"}}]
[null,{"$f":"Sprawdz_pesel(Formularz!#REF!)","v":{"$error":"#VALUE!"}}]
[null,{"$f":"Sprawdz_pesel(Formularz!#REF!)","v":{"$error":"#VALUE!"}}]
[null,{"$f":"Sprawdz_pesel(Formularz!#REF!)","v":{"$error":"#VALUE!"}}]
[null,{"$f":"Sprawdz_pesel(Formularz!#REF!)","v":{"$error":"#VALUE!"}}]
[null,{"$f":"Sprawdz_pesel(Formularz!#REF!)","v":{"$error":"#VALUE!"}}]
[null,{"$f":"Sprawdz_pesel(Formularz!#REF!)","v":{"$error":"#VALUE!"}}]
[null,{"$f":"Sprawdz_pesel(Formularz!#REF!)","v":{"$error":"#VALUE!"}}]
[null,{"$f":"Sprawdz_pesel(Formularz!#REF!)","v":{"$error":"#VALUE!"}}]
[null,{"$f":"Sprawdz_pesel(Formularz!#REF!)","v":{"$error":"#VALUE!"}}]
[null,{"$f":"Sprawdz_pesel(Formularz!#REF!)","v":{"$error":"#VALUE!"}}]
[null,{"$f":"Sprawdz_pesel(Formularz!#REF!)","v":{"$error":"#VALUE!"}}]
[null,{"$f":"Sprawdz_pesel(Formularz!#REF!)","v":{"$error":"#VALUE!"}}]
[null,{"$f":"Sprawdz_pesel(Formularz!#REF!)","v":{"$error":"#VALUE!"}}]
[null,{"$f":"Sprawdz_pesel(Formularz!#REF!)","v":{"$error":"#VALUE!"}}]
[null,{"$f":"Sprawdz_pesel(Formularz!#REF!)","v":{"$error":"#VALUE!"}}]
[null,{"$f":"Sprawdz_pesel(Formularz!#REF!)","v":{"$error":"#VALUE!"}}]
[null,{"$f":"Sprawdz_pesel(Formularz!#REF!)","v":{"$error":"#VALUE!"}}]
[null,{"$f":"Sprawdz_pesel(Formularz!#REF!)","v":{"$error":"#VALUE!"}}]
[null,{"$f":"Sprawdz_pesel(Formularz!#REF!)","v":{"$error":"#VALUE!"}}]
[null,{"$f":"Sprawdz_pesel(Formularz!#REF!)","v":{"$error":"#VALUE!"}}]
[null,{"$f":"Sprawdz_pesel(Formularz!#REF!)","v":{"$error":"#VALUE!"}}]
[null,{"$f":"Sprawdz_pesel(Formularz!#REF!)","v":{"$error":"#VALUE!"}}]
[null,{"$f":"Sprawdz_pesel(Formularz!#REF!)","v":{"$error":"#VALUE!"}}]
[null,{"$f":"Sprawdz_pesel(Formularz!#REF!)","v":{"$error":"#VALUE!"}}]
[null,{"$f":"Sprawdz_pesel(Formularz!#REF!)","v":{"$error":"#VALUE!"}}]
[null,{"$f":"Sprawdz_pesel(Formularz!#REF!)","v":{"$error":"#VALUE!"}}]
[null,{"$f":"Sprawdz_pesel(Formularz!#REF!)","v":{"$error":"#VALUE!"}}]
[null,{"$f":"Sprawdz_pesel(Formularz!#REF!)","v":{"$error":"#VALUE!"}}]
[null,{"$f":"Sprawdz_pesel(Formularz!#REF!)","v":{"$error":"#VALUE!"}}]
[null,{"$f":"Sprawdz_pesel(Formularz!#REF!)","v":{"$error":"#VALUE!"}}]
[null,{"$f":"Sprawdz_pesel(Formularz!#REF!)","v":{"$error":"#VALUE!"}}]
[null,{"$f":"Sprawdz_pesel(Formularz!#REF!)","v":{"$error":"#VALUE!"}}]
[null,{"$f":"Sprawdz_pesel(Formularz!#REF!)","v":{"$error":"#VALUE!"}}]
[null,{"$f":"Sprawdz_pesel(Formularz!#REF!)","v":{"$error":"#VALUE!"}}]
[null,{"$f":"Sprawdz_pesel(Formularz!#REF!)","v":{"$error":"#VALUE!"}}]
[null,{"$f":"Sprawdz_pesel(Formularz!#REF!)","v":{"$error":"#VALUE!"}}]
[null,{"$f":"Sprawdz_pesel(Formularz!#REF!)","v":{"$error":"#VALUE!"}}]
[null,{"$f":"Sprawdz_pesel(Formularz!#REF!)","v":{"$error":"#VALUE!"}}]
[null,{"$f":"Sprawdz_pesel(Formularz!#REF!)","v":{"$error":"#VALUE!"}}]
[null,{"$f":"Sprawdz_pesel(Formularz!#REF!)","v":{"$error":"#VALUE!"}}]
[null,{"$f":"Sprawdz_pesel(Formularz!#REF!)","v":{"$error":"#VALUE!"}}]
[null,{"$f":"Sprawdz_pesel(Formularz!#REF!)","v":{"$error":"#VALUE!"}}]
[null,{"$f":"Sprawdz_pesel(Formularz!#REF!)","v":{"$error":"#VALUE!"}}]
[null,{"$f":"Sprawdz_pesel(Formularz!#REF!)","v":{"$error":"#VALUE!"}}]
[null,{"$f":"Sprawdz_pesel(Formularz!#REF!)","v":{"$error":"#VALUE!"}}]
[null,{"$f":"Sprawdz_pesel(Formularz!#REF!)","v":{"$error":"#VALUE!"}}]
[null,{"$f":"Sprawdz_pesel(Formularz!#REF!)","v":{"$error":"#VALUE!"}}]
[null,{"$f":"Sprawdz_pesel(Formularz!#REF!)","v":{"$error":"#VALUE!"}}]
[null,{"$f":"Sprawdz_pesel(Formularz!#REF!)","v":{"$error":"#VALUE!"}}]
[null,{"$f":"Sprawdz_pesel(Formularz!#REF!)","v":{"$error":"#VALUE!"}}]
[null,{"$f":"Sprawdz_pesel(Formularz!#REF!)","v":{"$error":"#VALUE!"}}]
[null,{"$f":"Sprawdz_pesel(Formularz!#REF!)","v":{"$error":"#VALUE!"}}]
[null,{"$f":"Sprawdz_pesel(Formularz!#REF!)","v":{"$error":"#VALUE!"}}]
[null,{"$f":"Sprawdz_pesel(Formularz!#REF!)","v":{"$error":"#VALUE!"}}]
[null,{"$f":"Sprawdz_pesel(Formularz!#REF!)","v":{"$error":"#VALUE!"}}]
[null,{"$f":"Sprawdz_pesel(Formularz!#REF!)","v":{"$error":"#VALUE!"}}]
[null,{"$f":"Sprawdz_pesel(Formularz!#REF!)","v":{"$error":"#VALUE!"}}]
[null,{"$f":"Sprawdz_pesel(Formularz!#REF!)","v":{"$error":"#VALUE!"}}]
[null,{"$f":"Sprawdz_pesel(Formularz!#REF!)","v":{"$error":"#VALUE!"}}]
[null,{"$f":"Sprawdz_pesel(Formularz!#REF!)","v":{"$error":"#VALUE!"}}]
[null,{"$f":"Sprawdz_pesel(Formularz!#REF!)","v":{"$error":"#VALUE!"}}]
[null,{"$f":"Sprawdz_pesel(Formularz!#REF!)","v":{"$error":"#VALUE!"}}]
[null,{"$f":"Sprawdz_pesel(Formularz!#REF!)","v":{"$error":"#VALUE!"}}]
[null,{"$f":"Sprawdz_pesel(Formularz!#REF!)","v":{"$error":"#VALUE!"}}]
[null,{"$f":"Sprawdz_pesel(Formularz!#REF!)","v":{"$error":"#VALUE!"}}]
[null,{"$f":"Sprawdz_pesel(Formularz!#REF!)","v":{"$error":"#VALUE!"}}]
[null,{"$f":"Sprawdz_pesel(Formularz!#REF!)","v":{"$error":"#VALUE!"}}]
[null,{"$f":"Sprawdz_pesel(Formularz!#REF!)","v":{"$error":"#VALUE!"}}]
[null,{"$f":"Sprawdz_pesel(Formularz!#REF!)","v":{"$error":"#VALUE!"}}]
[null,{"$f":"Sprawdz_pesel(Formularz!#REF!)","v":{"$error":"#VALUE!"}}]
[null,{"$f":"Sprawdz_pesel(Formularz!#REF!)","v":{"$error":"#VALUE!"}}]
[null,{"$f":"Sprawdz_pesel(Formularz!#REF!)","v":{"$error":"#VALUE!"}}]
[null,{"$f":"Sprawdz_pesel(Formularz!#REF!)","v":{"$error":"#VALUE!"}}]
[null,{"$f":"Sprawdz_pesel(Formularz!#REF!)","v":{"$error":"#VALUE!"}}]
[null,{"$f":"Sprawdz_pesel(Formularz!#REF!)","v":{"$error":"#VALUE!"}}]
[null,{"$f":"Sprawdz_pesel(Formularz!#REF!)","v":{"$error":"#VALUE!"}}]
[null,{"$f":"Sprawdz_pesel(Formularz!#REF!)","v":{"$error":"#VALUE!"}}]
[null,{"$f":"Sprawdz_pesel(Formularz!#REF!)","v":{"$error":"#VALUE!"}}]
[null,{"$f":"Sprawdz_pesel(Formularz!#REF!)","v":{"$error":"#VALUE!"}}]
[null,{"$f":"Sprawdz_pesel(Formularz!#REF!)","v":{"$error":"#VALUE!"}}]
[null,{"$f":"Sprawdz_pesel(Formularz!#REF!)","v":{"$error":"#VALUE!"}}]
[null,{"$f":"Sprawdz_pesel(Formularz!#REF!)","v":{"$error":"#VALUE!"}}]
[null,{"$f":"Sprawdz_pesel(Formularz!#REF!)","v":{"$error":"#VALUE!"}}]
[null,{"$f":"Sprawdz_pesel(Formularz!#REF!)","v":{"$error":"#VALUE!"}}]
[null,{"$f":"Sprawdz_pesel(Formularz!#REF!)","v":{"$error":"#VALUE!"}}]
[null,{"$f":"Sprawdz_pesel(Formularz!#REF!)","v":{"$error":"#VALUE!"}}]
[null,{"$f":"Sprawdz_pesel(Formularz!#REF!)","v":{"$error":"#VALUE!"}}]
[null,{"$f":"Sprawdz_pesel(Formularz!#REF!)","v":{"$error":"#VALUE!"}}]
[null,{"$f":"Sprawdz_pesel(Formularz!#REF!)","v":{"$error":"#VALUE!"}}]
[null,{"$f":"Sprawdz_pesel(Formularz!#REF!)","v":{"$error":"#VALUE!"}}]
[null,{"$f":"Sprawdz_pesel(Formularz!#REF!)","v":{"$error":"#VALUE!"}}]
[null,{"$f":"Sprawdz_pesel(Formularz!#REF!)","v":{"$error":"#VALUE!"}}]
[null,{"$f":"Sprawdz_pesel(Formularz!#REF!)","v":{"$error":"#VALUE!"}}]
[null,{"$f":"Sprawdz_pesel(Formularz!#REF!)","v":{"$error":"#VALUE!"}}]
[null,{"$f":"Sprawdz_pesel(Formularz!#REF!)","v":{"$error":"#VALUE!"}}]
[null,{"$f":"Sprawdz_pesel(Formularz!#REF!)","v":{"$error":"#VALUE!"}}]
[null,{"$f":"Sprawdz_pesel(Formularz!#REF!)","v":{"$error":"#VALUE!"}}]
[null,{"$f":"Sprawdz_pesel(Formularz!#REF!)","v":{"$error":"#VALUE!"}}]
[null,{"$f":"Sprawdz_pesel(Formularz!#REF!)","v":{"$error":"#VALUE!"}}]
[null,{"$f":"Sprawdz_pesel(Formularz!#REF!)","v":{"$error":"#VALUE!"}}]
[null,{"$f":"Sprawdz_pesel(Formularz!#REF!)","v":{"$error":"#VALUE!"}}]
[null,{"$f":"Sprawdz_pesel(Formularz!#REF!)","v":{"$error":"#VALUE!"}}]
[null,{"$f":"Sprawdz_pesel(Formularz!#REF!)","v":{"$error":"#VALUE!"}}]
[null,{"$f":"Sprawdz_pesel(Formularz!#REF!)","v":{"$error":"#VALUE!"}}]
[null,{"$f":"Sprawdz_pesel(Formularz!#REF!)","v":{"$error":"#VALUE!"}}]
[null,{"$f":"Sprawdz_pesel(Formularz!#REF!)","v":{"$error":"#VALUE!"}}]
[null,{"$f":"Sprawdz_pesel(Formularz!#REF!)","v":{"$error":"#VALUE!"}}]
[null,{"$f":"Sprawdz_pesel(Formularz!#REF!)","v":{"$error":"#VALUE!"}}]
[null,{"$f":"Sprawdz_pesel(Formularz!#REF!)","v":{"$error":"#VALUE!"}}]
[null,{"$f":"Sprawdz_pesel(Formularz!#REF!)","v":{"$error":"#VALUE!"}}]
[null,{"$f":"Sprawdz_pesel(Formularz!#REF!)","v":{"$error":"#VALUE!"}}]
[null,{"$f":"Sprawdz_pesel(Formularz!#REF!)","v":{"$error":"#VALUE!"}}]
[null,{"$f":"Sprawdz_pesel(Formularz!#REF!)","v":{"$error":"#VALUE!"}}]
[null,{"$f":"Sprawdz_pesel(Formularz!#REF!)","v":{"$error":"#VALUE!"}}]
[null,{"$f":"Sprawdz_pesel(Formularz!#REF!)","v":{"$error":"#VALUE!"}}]
[null,{"$f":"Sprawdz_pesel(Formularz!#REF!)","v":{"$error":"#VALUE!"}}]
[null,{"$f":"Sprawdz_pesel(Formularz!#REF!)","v":{"$error":"#VALUE!"}}]
[null,{"$f":"Sprawdz_pesel(Formularz!#REF!)","v":{"$error":"#VALUE!"}}]
[null,{"$f":"Sprawdz_pesel(Formularz!#REF!)","v":{"$error":"#VALUE!"}}]
[null,{"$f":"Sprawdz_pesel(Formularz!#REF!)","v":{"$error":"#VALUE!"}}]
[null,{"$f":"Sprawdz_pesel(Formularz!#REF!)","v":{"$error":"#VALUE!"}}]
[null,{"$f":"Sprawdz_pesel(Formularz!#REF!)","v":{"$error":"#VALUE!"}}]
[null,{"$f":"Sprawdz_pesel(Formularz!#REF!)","v":{"$error":"#VALUE!"}}]
[null,{"$f":"Sprawdz_pesel(Formularz!#REF!)","v":{"$error":"#VALUE!"}}]
[null,{"$f":"Sprawdz_pesel(Formularz!#REF!)","v":{"$error":"#VALUE!"}}]
[null,{"$f":"Sprawdz_pesel(Formularz!#REF!)","v":{"$error":"#VALUE!"}}]
[null,{"$f":"Sprawdz_pesel(Formularz!#REF!)","v":{"$error":"#VALUE!"}}]
[null,{"$f":"Sprawdz_pesel(Formularz!#REF!)","v":{"$error":"#VALUE!"}}]
[null,{"$f":"Sprawdz_pesel(Formularz!#REF!)","v":{"$error":"#VALUE!"}}]
[null,{"$f":"Sprawdz_pesel(Formularz!#REF!)","v":{"$error":"#VALUE!"}}]
[null,{"$f":"Sprawdz_pesel(Formularz!#REF!)","v":{"$error":"#VALUE!"}}]
[null,{"$f":"Sprawdz_pesel(Formularz!#REF!)","v":{"$error":"#VALUE!"}}]
[null,{"$f":"Sprawdz_pesel(Formularz!#REF!)","v":{"$error":"#VALUE!"}}]
[null,{"$f":"Sprawdz_pesel(Formularz!#REF!)","v":{"$error":"#VALUE!"}}]
[null,{"$f":"Sprawdz_pesel(Formularz!#REF!)","v":{"$error":"#VALUE!"}}]
[null,{"$f":"Sprawdz_pesel(Formularz!#REF!)","v":{"$error":"#VALUE!"}}]
[null,{"$f":"Sprawdz_pesel(Formularz!#REF!)","v":{"$error":"#VALUE!"}}]
[null,{"$f":"Sprawdz_pesel(Formularz!#REF!)","v":{"$error":"#VALUE!"}}]
[null,{"$f":"Sprawdz_pesel(Formularz!#REF!)","v":{"$error":"#VALUE!"}}]
[null,{"$f":"Sprawdz_pesel(Formularz!#REF!)","v":{"$error":"#VALUE!"}}]
[null,{"$f":"Sprawdz_pesel(Formularz!#REF!)","v":{"$error":"#VALUE!"}}]
[null,{"$f":"Sprawdz_pesel(Formularz!#REF!)","v":{"$error":"#VALUE!"}}]
[null,{"$f":"Sprawdz_pesel(Formularz!#REF!)","v":{"$error":"#VALUE!"}}]
[null,{"$f":"Sprawdz_pesel(Formularz!#REF!)","v":{"$error":"#VALUE!"}}]
[null,{"$f":"Sprawdz_pesel(Formularz!#REF!)","v":{"$error":"#VALUE!"}}]
[null,{"$f":"Sprawdz_pesel(Formularz!#REF!)","v":{"$error":"#VALUE!"}}]
[null,{"$f":"Sprawdz_pesel(Formularz!#REF!)","v":{"$error":"#VALUE!"}}]
[null,{"$f":"Sprawdz_pesel(Formularz!#REF!)","v":{"$error":"#VALUE!"}}]
[null,{"$f":"Sprawdz_pesel(Formularz!#REF!)","v":{"$error":"#VALUE!"}}]
[null,{"$f":"Sprawdz_pesel(Formularz!#REF!)","v":{"$error":"#VALUE!"}}]
[null,{"$f":"Sprawdz_pesel(Formularz!#REF!)","v":{"$error":"#VALUE!"}}]
[null,{"$f":"Sprawdz_pesel(Formularz!#REF!)","v":{"$error":"#VALUE!"}}]
[null,{"$f":"Sprawdz_pesel(Formularz!#REF!)","v":{"$error":"#VALUE!"}}]
[null,{"$f":"Sprawdz_pesel(Formularz!#REF!)","v":{"$error":"#VALUE!"}}]
[null,{"$f":"Sprawdz_pesel(Formularz!#REF!)","v":{"$error":"#VALUE!"}}]
[null,{"$f":"Sprawdz_pesel(Formularz!#REF!)","v":{"$error":"#VALUE!"}}]
[null,{"$f":"Sprawdz_pesel(Formularz!#REF!)","v":{"$error":"#VALUE!"}}]
[null,{"$f":"Sprawdz_pesel(Formularz!#REF!)","v":{"$error":"#VALUE!"}}]
[null,{"$f":"Sprawdz_pesel(Formularz!#REF!)","v":{"$error":"#VALUE!"}}]
[null,{"$f":"Sprawdz_pesel(Formularz!#REF!)","v":{"$error":"#VALUE!"}}]
[null,{"$f":"Sprawdz_pesel(Formularz!#REF!)","v":{"$error":"#VALUE!"}}]
[null,{"$f":"Sprawdz_pesel(Formularz!#REF!)","v":{"$error":"#VALUE!"}}]
[null,{"$f":"Sprawdz_pesel(Formularz!#REF!)","v":{"$error":"#VALUE!"}}]
[null,{"$f":"Sprawdz_pesel(Formularz!#REF!)","v":{"$error":"#VALUE!"}}]
[null,{"$f":"Sprawdz_pesel(Formularz!#REF!)","v":{"$error":"#VALUE!"}}]
[null,{"$f":"Sprawdz_pesel(Formularz!#REF!)","v":{"$error":"#VALUE!"}}]
[null,{"$f":"Sprawdz_pesel(Formularz!#REF!)","v":{"$error":"#VALUE!"}}]
[null,{"$f":"Sprawdz_pesel(Formularz!#REF!)","v":{"$error":"#VALUE!"}}]
[null,{"$f":"Sprawdz_pesel(Formularz!#REF!)","v":{"$error":"#VALUE!"}}]
[null,{"$f":"Sprawdz_pesel(Formularz!#REF!)","v":{"$error":"#VALUE!"}}]
[null,{"$f":"Sprawdz_pesel(Formularz!#REF!)","v":{"$error":"#VALUE!"}}]
[null,{"$f":"Sprawdz_pesel(Formularz!#REF!)","v":{"$error":"#VALUE!"}}]
[null,{"$f":"Sprawdz_pesel(Formularz!#REF!)","v":{"$error":"#VALUE!"}}]
[null,{"$f":"Sprawdz_pesel(Formularz!#REF!)","v":{"$error":"#VALUE!"}}]
[null,{"$f":"Sprawdz_pesel(Formularz!#REF!)","v":{"$error":"#VALUE!"}}]
[null,{"$f":"Sprawdz_pesel(Formularz!#REF!)","v":{"$error":"#VALUE!"}}]
[null,{"$f":"Sprawdz_pesel(Formularz!#REF!)","v":{"$error":"#VALUE!"}}]
[null,{"$f":"Sprawdz_pesel(Formularz!#REF!)","v":{"$error":"#VALUE!"}}]
[null,{"$f":"Sprawdz_pesel(Formularz!#REF!)","v":{"$error":"#VALUE!"}}]
[null,{"$f":"Sprawdz_pesel(Formularz!#REF!)","v":{"$error":"#VALUE!"}}]
[null,{"$f":"Sprawdz_pesel(Formularz!#REF!)","v":{"$error":"#VALUE!"}}]
[null,{"$f":"Sprawdz_pesel(Formularz!#REF!)","v":{"$error":"#VALUE!"}}]
[null,{"$f":"Sprawdz_pesel(Formularz!#REF!)","v":{"$error":"#VALUE!"}}]
[null,{"$f":"Sprawdz_pesel(Formularz!#REF!)","v":{"$error":"#VALUE!"}}]
[null,{"$f":"Sprawdz_pesel(Formularz!#REF!)","v":{"$error":"#VALUE!"}}]
[null,{"$f":"Sprawdz_pesel(Formularz!#REF!)","v":{"$error":"#VALUE!"}}]
[null,{"$f":"Sprawdz_pesel(Formularz!#REF!)","v":{"$error":"#VALUE!"}}]
[null,{"$f":"Sprawdz_pesel(Formularz!#REF!)","v":{"$error":"#VALUE!"}}]
[null,{"$f":"Sprawdz_pesel(Formularz!#REF!)","v":{"$error":"#VALUE!"}}]
[null,{"$f":"Sprawdz_pesel(Formularz!#REF!)","v":{"$error":"#VALUE!"}}]
[null,{"$f":"Sprawdz_pesel(Formularz!#REF!)","v":{"$error":"#VALUE!"}}]
[null,{"$f":"Sprawdz_pesel(Formularz!#REF!)","v":{"$error":"#VALUE!"}}]
[null,{"$f":"Sprawdz_pesel(Formularz!#REF!)","v":{"$error":"#VALUE!"}}]
[null,{"$f":"Sprawdz_pesel(Formularz!#REF!)","v":{"$error":"#VALUE!"}}]
[null,{"$f":"Sprawdz_pesel(Formularz!#REF!)","v":{"$error":"#VALUE!"}}]
[null,{"$f":"Sprawdz_pesel(Formularz!#REF!)","v":{"$error":"#VALUE!"}}]
[null,{"$f":"Sprawdz_pesel(Formularz!#REF!)","v":{"$error":"#VALUE!"}}]
[null,{"$f":"Sprawdz_pesel(Formularz!#REF!)","v":{"$error":"#VALUE!"}}]
[null,{"$f":"Sprawdz_pesel(Formularz!#REF!)","v":{"$error":"#VALUE!"}}]
[null,{"$f":"Sprawdz_pesel(Formularz!#REF!)","v":{"$error":"#VALUE!"}}]
[null,{"$f":"Sprawdz_pesel(Formularz!#REF!)","v":{"$error":"#VALUE!"}}]
[null,{"$f":"Sprawdz_pesel(Formularz!#REF!)","v":{"$error":"#VALUE!"}}]
[null,{"$f":"Sprawdz_pesel(Formularz!#REF!)","v":{"$error":"#VALUE!"}}]
[null,{"$f":"Sprawdz_pesel(Formularz!#REF!)","v":{"$error":"#VALUE!"}}]
[null,{"$f":"Sprawdz_pesel(Formularz!#REF!)","v":{"$error":"#VALUE!"}}]
[null,{"$f":"Sprawdz_pesel(Formularz!#REF!)","v":{"$error":"#VALUE!"}}]
[null,{"$f":"Sprawdz_pesel(Formularz!#REF!)","v":{"$error":"#VALUE!"}}]
[null,{"$f":"Sprawdz_pesel(Formularz!#REF!)","v":{"$error":"#VALUE!"}}]
[null,{"$f":"Sprawdz_pesel(Formularz!#REF!)","v":{"$error":"#VALUE!"}}]
[null,{"$f":"Sprawdz_pesel(Formularz!#REF!)","v":{"$error":"#VALUE!"}}]
[null,{"$f":"Sprawdz_pesel(Formularz!#REF!)","v":{"$error":"#VALUE!"}}]
[null,{"$f":"Sprawdz_pesel(Formularz!#REF!)","v":{"$error":"#VALUE!"}}]
[null,{"$f":"Sprawdz_pesel(Formularz!#REF!)","v":{"$error":"#VALUE!"}}]
[null,{"$f":"Sprawdz_pesel(Formularz!#REF!)","v":{"$error":"#VALUE!"}}]
[null,{"$f":"Sprawdz_pesel(Formularz!#REF!)","v":{"$error":"#VALUE!"}}]
[null,{"$f":"Sprawdz_pesel(Formularz!#REF!)","v":{"$error":"#VALUE!"}}]
[null,{"$f":"Sprawdz_pesel(Formularz!#REF!)","v":{"$error":"#VALUE!"}}]
[null,{"$f":"Sprawdz_pesel(Formularz!#REF!)","v":{"$error":"#VALUE!"}}]
[null,{"$f":"Sprawdz_pesel(Formularz!#REF!)","v":{"$error":"#VALUE!"}}]
[null,{"$f":"Sprawdz_pesel(Formularz!#REF!)","v":{"$error":"#VALUE!"}}]
[null,{"$f":"Sprawdz_pesel(Formularz!#REF!)","v":{"$error":"#VALUE!"}}]
[null,{"$f":"Sprawdz_pesel(Formularz!#REF!)","v":{"$error":"#VALUE!"}}]
[null,{"$f":"Sprawdz_pesel(Formularz!#REF!)","v":{"$error":"#VALUE!"}}]
[null,{"$f":"Sprawdz_pesel(Formularz!#REF!)","v":{"$error":"#VALUE!"}}]
[null,{"$f":"Sprawdz_pesel(Formularz!#REF!)","v":{"$error":"#VALUE!"}}]
[null,{"$f":"Sprawdz_pesel(Formularz!#REF!)","v":{"$error":"#VALUE!"}}]
[null,{"$f":"Sprawdz_pesel(Formularz!#REF!)","v":{"$error":"#VALUE!"}}]
[null,{"$f":"Sprawdz_pesel(Formularz!#REF!)","v":{"$error":"#VALUE!"}}]
[null,{"$f":"Sprawdz_pesel(Formularz!#REF!)","v":{"$error":"#VALUE!"}}]
[null,{"$f":"Sprawdz_pesel(Formularz!#REF!)","v":{"$error":"#VALUE!"}}]
[null,{"$f":"Sprawdz_pesel(Formularz!#REF!)","v":{"$error":"#VALUE!"}}]
[null,{"$f":"Sprawdz_pesel(Formularz!#REF!)","v":{"$error":"#VALUE!"}}]
[null,{"$f":"Sprawdz_pesel(Formularz!#REF!)","v":{"$error":"#VALUE!"}}]
[null,{"$f":"Sprawdz_pesel(Formularz!#REF!)","v":{"$error":"#VALUE!"}}]
[null,{"$f":"Sprawdz_pesel(Formularz!#REF!)","v":{"$error":"#VALUE!"}}]
[null,{"$f":"Sprawdz_pesel(Formularz!#REF!)","v":{"$error":"#VALUE!"}}]
[null,{"$f":"Sprawdz_pesel(Formularz!#REF!)","v":{"$error":"#VALUE!"}}]
[null,{"$f":"Sprawdz_pesel(Formularz!#REF!)","v":{"$error":"#VALUE!"}}]
[null,{"$f":"Sprawdz_pesel(Formularz!#REF!)","v":{"$error":"#VALUE!"}}]
[null,{"$f":"Sprawdz_pesel(Formularz!#REF!)","v":{"$error":"#VALUE!"}}]
[null,{"$f":"Sprawdz_pesel(Formularz!#REF!)","v":{"$error":"#VALUE!"}}]
[null,{"$f":"Sprawdz_pesel(Formularz!#REF!)","v":{"$error":"#VALUE!"}}]
[null,{"$f":"Sprawdz_pesel(Formularz!#REF!)","v":{"$error":"#VALUE!"}}]
[null,{"$f":"Sprawdz_pesel(Formularz!#REF!)","v":{"$error":"#VALUE!"}}]
[null,{"$f":"Sprawdz_pesel(Formularz!#REF!)","v":{"$error":"#VALUE!"}}]
[null,{"$f":"Sprawdz_pesel(Formularz!#REF!)","v":{"$error":"#VALUE!"}}]
[null,{"$f":"Sprawdz_pesel(Formularz!#REF!)","v":{"$error":"#VALUE!"}}]
[null,{"$f":"Sprawdz_pesel(Formularz!#REF!)","v":{"$error":"#VALUE!"}}]
[null,{"$f":"Sprawdz_pesel(Formularz!#REF!)","v":{"$error":"#VALUE!"}}]
[null,{"$f":"Sprawdz_pesel(Formularz!#REF!)","v":{"$error":"#VALUE!"}}]
[null,{"$f":"Sprawdz_pesel(Formularz!#REF!)","v":{"$error":"#VALUE!"}}]
[null,{"$f":"Sprawdz_pesel(Formularz!#REF!)","v":{"$error":"#VALUE!"}}]
[null,{"$f":"Sprawdz_pesel(Formularz!#REF!)","v":{"$error":"#VALUE!"}}]
[null,{"$f":"Sprawdz_pesel(Formularz!#REF!)","v":{"$error":"#VALUE!"}}]
[null,{"$f":"Sprawdz_pesel(Formularz!#REF!)","v":{"$error":"#VALUE!"}}]
[null,{"$f":"Sprawdz_pesel(Formularz!#REF!)","v":{"$error":"#VALUE!"}}]
[null,{"$f":"Sprawdz_pesel(Formularz!#REF!)","v":{"$error":"#VALUE!"}}]
[null,{"$f":"Sprawdz_pesel(Formularz!#REF!)","v":{"$error":"#VALUE!"}}]
[null,{"$f":"Sprawdz_pesel(Formularz!#REF!)","v":{"$error":"#VALUE!"}}]
[null,{"$f":"Sprawdz_pesel(Formularz!#REF!)","v":{"$error":"#VALUE!"}}]
[null,{"$f":"Sprawdz_pesel(Formularz!#REF!)","v":{"$error":"#VALUE!"}}]
[null,{"$f":"Sprawdz_pesel(Formularz!#REF!)","v":{"$error":"#VALUE!"}}]
[null,{"$f":"Sprawdz_pesel(Formularz!#REF!)","v":{"$error":"#VALUE!"}}]
[null,{"$f":"Sprawdz_pesel(Formularz!#REF!)","v":{"$error":"#VALUE!"}}]
[null,{"$f":"Sprawdz_pesel(Formularz!#REF!)","v":{"$error":"#VALUE!"}}]
[null,{"$f":"Sprawdz_pesel(Formularz!#REF!)","v":{"$error":"#VALUE!"}}]
[null,{"$f":"Sprawdz_pesel(Formularz!#REF!)","v":{"$error":"#VALUE!"}}]
[null,{"$f":"Sprawdz_pesel(Formularz!#REF!)","v":{"$error":"#VALUE!"}}]
[null,{"$f":"Sprawdz_pesel(Formularz!#REF!)","v":{"$error":"#VALUE!"}}]
[null,{"$f":"Sprawdz_pesel(Formularz!#REF!)","v":{"$error":"#VALUE!"}}]
[null,{"$f":"Sprawdz_pesel(Formularz!#REF!)","v":{"$error":"#VALUE!"}}]
[null,{"$f":"Sprawdz_pesel(Formularz!#REF!)","v":{"$error":"#VALUE!"}}]
[null,{"$f":"Sprawdz_pesel(Formularz!#REF!)","v":{"$error":"#VALUE!"}}]
[null,{"$f":"Sprawdz_pesel(Formularz!#REF!)","v":{"$error":"#VALUE!"}}]
[null,{"$f":"Sprawdz_pesel(Formularz!#REF!)","v":{"$error":"#VALUE!"}}]
[null,{"$f":"Sprawdz_pesel(Formularz!#REF!)","v":{"$error":"#VALUE!"}}]
[null,{"$f":"Sprawdz_pesel(Formularz!#REF!)","v":{"$error":"#VALUE!"}}]
[null,{"$f":"Sprawdz_pesel(Formularz!#REF!)","v":{"$error":"#VALUE!"}}]
[null,{"$f":"Sprawdz_pesel(Formularz!#REF!)","v":{"$error":"#VALUE!"}}]
[null,{"$f":"Sprawdz_pesel(Formularz!#REF!)","v":{"$error":"#VALUE!"}}]
[null,{"$f":"Sprawdz_pesel(Formularz!#REF!)","v":{"$error":"#VALUE!"}}]
[null,{"$f":"Sprawdz_pesel(Formularz!#REF!)","v":{"$error":"#VALUE!"}}]
[null,{"$f":"Sprawdz_pesel(Formularz!#REF!)","v":{"$error":"#VALUE!"}}]
[null,{"$f":"Sprawdz_pesel(Formularz!#REF!)","v":{"$error":"#VALUE!"}}]
[null,{"$f":"Sprawdz_pesel(Formularz!#REF!)","v":{"$error":"#VALUE!"}}]
[null,{"$f":"Sprawdz_pesel(Formularz!#REF!)","v":{"$error":"#VALUE!"}}]
[null,{"$f":"Sprawdz_pesel(Formularz!#REF!)","v":{"$error":"#VALUE!"}}]
[null,{"$f":"Sprawdz_pesel(Formularz!#REF!)","v":{"$error":"#VALUE!"}}]
[null,{"$f":"Sprawdz_pesel(Formularz!#REF!)","v":{"$error":"#VALUE!"}}]
[null,{"$f":"Sprawdz_pesel(Formularz!#REF!)","v":{"$error":"#VALUE!"}}]
[null,{"$f":"Sprawdz_pesel(Formularz!#REF!)","v":{"$error":"#VALUE!"}}]
[null,{"$f":"Sprawdz_pesel(Formularz!#REF!)","v":{"$error":"#VALUE!"}}]
[null,{"$f":"Sprawdz_pesel(Formularz!#REF!)","v":{"$error":"#VALUE!"}}]
[null,{"$f":"Sprawdz_pesel(Formularz!#REF!)","v":{"$error":"#VALUE!"}}]
[null,{"$f":"Sprawdz_pesel(Formularz!#REF!)","v":{"$error":"#VALUE!"}}]
[null,{"$f":"Sprawdz_pesel(Formularz!#REF!)","v":{"$error":"#VALUE!"}}]
[null,{"$f":"Sprawdz_pesel(Formularz!#REF!)","v":{"$error":"#VALUE!"}}]
[null,{"$f":"Sprawdz_pesel(Formularz!#REF!)","v":{"$error":"#VALUE!"}}]
[null,{"$f":"Sprawdz_pesel(Formularz!#REF!)","v":{"$error":"#VALUE!"}}]
[null,{"$f":"Sprawdz_pesel(Formularz!#REF!)","v":{"$error":"#VALUE!"}}]
[null,{"$f":"Sprawdz_pesel(Formularz!#REF!)","v":{"$error":"#VALUE!"}}]
[null,{"$f":"Sprawdz_pesel(Formularz!#REF!)","v":{"$error":"#VALUE!"}}]
[null,{"$f":"Sprawdz_pesel(Formularz!#REF!)","v":{"$error":"#VALUE!"}}]
[null,{"$f":"Sprawdz_pesel(Formularz!#REF!)","v":{"$error":"#VALUE!"}}]
[null,{"$f":"Sprawdz_pesel(Formularz!#REF!)","v":{"$error":"#VALUE!"}}]
[null,{"$f":"Sprawdz_pesel(Formularz!#REF!)","v":{"$error":"#VALUE!"}}]
[null,{"$f":"Sprawdz_pesel(Formularz!#REF!)","v":{"$error":"#VALUE!"}}]
[null,{"$f":"Sprawdz_pesel(Formularz!#REF!)","v":{"$error":"#VALUE!"}}]
[null,{"$f":"Sprawdz_pesel(Formularz!#REF!)","v":{"$error":"#VALUE!"}}]
[null,{"$f":"Sprawdz_pesel(Formularz!#REF!)","v":{"$error":"#VALUE!"}}]
[null,{"$f":"Sprawdz_pesel(Formularz!#REF!)","v":{"$error":"#VALUE!"}}]
[null,{"$f":"Sprawdz_pesel(Formularz!#REF!)","v":{"$error":"#VALUE!"}}]
[null,{"$f":"Sprawdz_pesel(Formularz!#REF!)","v":{"$error":"#VALUE!"}}]
[null,{"$f":"Sprawdz_pesel(Formularz!#REF!)","v":{"$error":"#VALUE!"}}]
[null,{"$f":"Sprawdz_pesel(Formularz!#REF!)","v":{"$error":"#VALUE!"}}]
[null,{"$f":"Sprawdz_pesel(Formularz!#REF!)","v":{"$error":"#VALUE!"}}]
[null,{"$f":"Sprawdz_pesel(Formularz!#REF!)","v":{"$error":"#VALUE!"}}]
[null,{"$f":"Sprawdz_pesel(Formularz!#REF!)","v":{"$error":"#VALUE!"}}]
[null,{"$f":"Sprawdz_pesel(Formularz!#REF!)","v":{"$error":"#VALUE!"}}]
[null,{"$f":"Sprawdz_pesel(Formularz!#REF!)","v":{"$error":"#VALUE!"}}]
[null,{"$f":"Sprawdz_pesel(Formularz!#REF!)","v":{"$error":"#VALUE!"}}]
[null,{"$f":"Sprawdz_pesel(Formularz!#REF!)","v":{"$error":"#VALUE!"}}]
[null,{"$f":"Sprawdz_pesel(Formularz!#REF!)","v":{"$error":"#VALUE!"}}]
[null,{"$f":"Sprawdz_pesel(Formularz!#REF!)","v":{"$error":"#VALUE!"}}]
[null,{"$f":"Sprawdz_pesel(Formularz!#REF!)","v":{"$error":"#VALUE!"}}]
[null,{"$f":"Sprawdz_pesel(Formularz!#REF!)","v":{"$error":"#VALUE!"}}]
[null,{"$f":"Sprawdz_pesel(Formularz!#REF!)","v":{"$error":"#VALUE!"}}]
[null,{"$f":"Sprawdz_pesel(Formularz!#REF!)","v":{"$error":"#VALUE!"}}]
[null,{"$f":"Sprawdz_pesel(Formularz!#REF!)","v":{"$error":"#VALUE!"}}]
[null,{"$f":"Sprawdz_pesel(Formularz!#REF!)","v":{"$error":"#VALUE!"}}]
[null,{"$f":"Sprawdz_pesel(Formularz!#REF!)","v":{"$error":"#VALUE!"}}]
[null,{"$f":"Sprawdz_pesel(Formularz!#REF!)","v":{"$error":"#VALUE!"}}]
[null,{"$f":"Sprawdz_pesel(Formularz!#REF!)","v":{"$error":"#VALUE!"}}]
[null,{"$f":"Sprawdz_pesel(Formularz!#REF!)","v":{"$error":"#VALUE!"}}]
[null,{"$f":"Sprawdz_pesel(Formularz!#REF!)","v":{"$error":"#VALUE!"}}]
[null,{"$f":"Sprawdz_pesel(Formularz!#REF!)","v":{"$error":"#VALUE!"}}]
[null,{"$f":"Sprawdz_pesel(Formularz!#REF!)","v":{"$error":"#VALUE!"}}]
[null,{"$f":"Sprawdz_pesel(Formularz!#REF!)","v":{"$error":"#VALUE!"}}]
[null,{"$f":"Sprawdz_pesel(Formularz!#REF!)","v":{"$error":"#VALUE!"}}]
[null,{"$f":"Sprawdz_pesel(Formularz!#REF!)","v":{"$error":"#VALUE!"}}]
[null,{"$f":"Sprawdz_pesel(Formularz!#REF!)","v":{"$error":"#VALUE!"}}]
[null,{"$f":"Sprawdz_pesel(Formularz!#REF!)","v":{"$error":"#VALUE!"}}]
[null,{"$f":"Sprawdz_pesel(Formularz!#REF!)","v":{"$error":"#VALUE!"}}]
[null,{"$f":"Sprawdz_pesel(Formularz!#REF!)","v":{"$error":"#VALUE!"}}]
[null,{"$f":"Sprawdz_pesel(Formularz!#REF!)","v":{"$error":"#VALUE!"}}]
[null,{"$f":"Sprawdz_pesel(Formularz!#REF!)","v":{"$error":"#VALUE!"}}]
[null,{"$f":"Sprawdz_pesel(Formularz!#REF!)","v":{"$error":"#VALUE!"}}]
[null,{"$f":"Sprawdz_pesel(Formularz!#REF!)","v":{"$error":"#VALUE!"}}]
[null,{"$f":"Sprawdz_pesel(Formularz!#REF!)","v":{"$error":"#VALUE!"}}]
[null,{"$f":"Sprawdz_pesel(Formularz!#REF!)","v":{"$error":"#VALUE!"}}]
[null,{"$f":"Sprawdz_pesel(Formularz!#REF!)","v":{"$error":"#VALUE!"}}]
[null,{"$f":"Sprawdz_pesel(Formularz!#REF!)","v":{"$error":"#VALUE!"}}]
[null,{"$f":"Sprawdz_pesel(Formularz!#REF!)","v":{"$error":"#VALUE!"}}]
[null,{"$f":"Sprawdz_pesel(Formularz!#REF!)","v":{"$error":"#VALUE!"}}]
[null,{"$f":"Sprawdz_pesel(Formularz!#REF!)","v":{"$error":"#VALUE!"}}]
[null,{"$f":"Sprawdz_pesel(Formularz!#REF!)","v":{"$error":"#VALUE!"}}]
[null,{"$f":"Sprawdz_pesel(Formularz!#REF!)","v":{"$error":"#VALUE!"}}]
[null,{"$f":"Sprawdz_pesel(Formularz!#REF!)","v":{"$error":"#VALUE!"}}]
[null,{"$f":"Sprawdz_pesel(Formularz!#REF!)","v":{"$error":"#VALUE!"}}]
[null,{"$f":"Sprawdz_pesel(Formularz!#REF!)","v":{"$error":"#VALUE!"}}]
[null,{"$f":"Sprawdz_pesel(Formularz!#REF!)","v":{"$error":"#VALUE!"}}]
[null,{"$f":"Sprawdz_pesel(Formularz!#REF!)","v":{"$error":"#VALUE!"}}]
[null,{"$f":"Sprawdz_pesel(Formularz!#REF!)","v":{"$error":"#VALUE!"}}]
[null,{"$f":"Sprawdz_pesel(Formularz!#REF!)","v":{"$error":"#VALUE!"}}]
[null,{"$f":"Sprawdz_pesel(Formularz!#REF!)","v":{"$error":"#VALUE!"}}]
[null,{"$f":"Sprawdz_pesel(Formularz!#REF!)","v":{"$error":"#VALUE!"}}]
[null,{"$f":"Sprawdz_pesel(Formularz!#REF!)","v":{"$error":"#VALUE!"}}]
[null,{"$f":"Sprawdz_pesel(Formularz!#REF!)","v":{"$error":"#VALUE!"}}]
[null,{"$f":"Sprawdz_pesel(Formularz!#REF!)","v":{"$error":"#VALUE!"}}]
[null,{"$f":"Sprawdz_pesel(Formularz!#REF!)","v":{"$error":"#VALUE!"}}]
[null,{"$f":"Sprawdz_pesel(Formularz!#REF!)","v":{"$error":"#VALUE!"}}]
[null,{"$f":"Sprawdz_pesel(Formularz!#REF!)","v":{"$error":"#VALUE!"}}]
[null,{"$f":"Sprawdz_pesel(Formularz!#REF!)","v":{"$error":"#VALUE!"}}]
[null,{"$f":"Sprawdz_pesel(Formularz!#REF!)","v":{"$error":"#VALUE!"}}]
[null,{"$f":"Sprawdz_pesel(Formularz!#REF!)","v":{"$error":"#VALUE!"}}]
[null,{"$f":"Sprawdz_pesel(Formularz!#REF!)","v":{"$error":"#VALUE!"}}]
[null,{"$f":"Sprawdz_pesel(Formularz!#REF!)","v":{"$error":"#VALUE!"}}]
[null,{"$f":"Sprawdz_pesel(Formularz!#REF!)","v":{"$error":"#VALUE!"}}]
[null,{"$f":"Sprawdz_pesel(Formularz!#REF!)","v":{"$error":"#VALUE!"}}]
[null,{"$f":"Sprawdz_pesel(Formularz!#REF!)","v":{"$error":"#VALUE!"}}]
[null,{"$f":"Sprawdz_pesel(Formularz!#REF!)","v":{"$error":"#VALUE!"}}]
[null,{"$f":"Sprawdz_pesel(Formularz!#REF!)","v":{"$error":"#VALUE!"}}]
[null,{"$f":"Sprawdz_pesel(Formularz!#REF!)","v":{"$error":"#VALUE!"}}]
[null,{"$f":"Sprawdz_pesel(Formularz!#REF!)","v":{"$error":"#VALUE!"}}]
[null,{"$f":"Sprawdz_pesel(Formularz!#REF!)","v":{"$error":"#VALUE!"}}]
[null,{"$f":"Sprawdz_pesel(Formularz!#REF!)","v":{"$error":"#VALUE!"}}]
[null,{"$f":"Sprawdz_pesel(Formularz!#REF!)","v":{"$error":"#VALUE!"}}]
[null,{"$f":"Sprawdz_pesel(Formularz!#REF!)","v":{"$error":"#VALUE!"}}]
[null,{"$f":"Sprawdz_pesel(Formularz!#REF!)","v":{"$error":"#VALUE!"}}]
[null,{"$f":"Sprawdz_pesel(Formularz!#REF!)","v":{"$error":"#VALUE!"}}]
[null,{"$f":"Sprawdz_pesel(Formularz!#REF!)","v":{"$error":"#VALUE!"}}]
[null,{"$f":"Sprawdz_pesel(Formularz!#REF!)","v":{"$error":"#VALUE!"}}]
[null,{"$f":"Sprawdz_pesel(Formularz!#REF!)","v":{"$error":"#VALUE!"}}]
[null,{"$f":"Sprawdz_pesel(Formularz!#REF!)","v":{"$error":"#VALUE!"}}]
[null,{"$f":"Sprawdz_pesel(Formularz!#REF!)","v":{"$error":"#VALUE!"}}]
[null,{"$f":"Sprawdz_pesel(Formularz!#REF!)","v":{"$error":"#VALUE!"}}]
[null,{"$f":"Sprawdz_pesel(Formularz!#REF!)","v":{"$error":"#VALUE!"}}]
[null,{"$f":"Sprawdz_pesel(Formularz!#REF!)","v":{"$error":"#VALUE!"}}]
[null,{"$f":"Sprawdz_pesel(Formularz!#REF!)","v":{"$error":"#VALUE!"}}]
[null,{"$f":"Sprawdz_pesel(Formularz!#REF!)","v":{"$error":"#VALUE!"}}]
[null,{"$f":"Sprawdz_pesel(Formularz!#REF!)","v":{"$error":"#VALUE!"}}]
[null,{"$f":"Sprawdz_pesel(Formularz!#REF!)","v":{"$error":"#VALUE!"}}]
[null,{"$f":"Sprawdz_pesel(Formularz!#REF!)","v":{"$error":"#VALUE!"}}]
[null,{"$f":"Sprawdz_pesel(Formularz!#REF!)","v":{"$error":"#VALUE!"}}]
[null,{"$f":"Sprawdz_pesel(Formularz!#REF!)","v":{"$error":"#VALUE!"}}]
[null,{"$f":"Sprawdz_pesel(Formularz!#REF!)","v":{"$error":"#VALUE!"}}]
[null,{"$f":"Sprawdz_pesel(Formularz!#REF!)","v":{"$error":"#VALUE!"}}]
[null,{"$f":"Sprawdz_pesel(Formularz!#REF!)","v":{"$error":"#VALUE!"}}]
[null,{"$f":"Sprawdz_pesel(Formularz!#REF!)","v":{"$error":"#VALUE!"}}]
[null,{"$f":"Sprawdz_pesel(Formularz!#REF!)","v":{"$error":"#VALUE!"}}]
[null,{"$f":"Sprawdz_pesel(Formularz!#REF!)","v":{"$error":"#VALUE!"}}]
[null,{"$f":"Sprawdz_pesel(Formularz!#REF!)","v":{"$error":"#VALUE!"}}]
[null,{"$f":"Sprawdz_pesel(Formularz!#REF!)","v":{"$error":"#VALUE!"}}]
[null,{"$f":"Sprawdz_pesel(Formularz!#REF!)","v":{"$error":"#VALUE!"}}]
[null,{"$f":"Sprawdz_pesel(Formularz!#REF!)","v":{"$error":"#VALUE!"}}]
[null,{"$f":"Sprawdz_pesel(Formularz!#REF!)","v":{"$error":"#VALUE!"}}]
[null,{"$f":"Sprawdz_pesel(Formularz!#REF!)","v":{"$error":"#VALUE!"}}]
[null,{"$f":"Sprawdz_pesel(Formularz!#REF!)","v":{"$error":"#VALUE!"}}]
[null,{"$f":"Sprawdz_pesel(Formularz!#REF!)","v":{"$error":"#VALUE!"}}]
[null,{"$f":"Sprawdz_pesel(Formularz!#REF!)","v":{"$error":"#VALUE!"}}]
[null,{"$f":"Sprawdz_pesel(Formularz!#REF!)","v":{"$error":"#VALUE!"}}]
[null,{"$f":"Sprawdz_pesel(Formularz!#REF!)","v":{"$error":"#VALUE!"}}]
[null,{"$f":"Sprawdz_pesel(Formularz!#REF!)","v":{"$error":"#VALUE!"}}]
[null,{"$f":"Sprawdz_pesel(Formularz!#REF!)","v":{"$error":"#VALUE!"}}]
[null,{"$f":"Sprawdz_pesel(Formularz!#REF!)","v":{"$error":"#VALUE!"}}]
[null,{"$f":"Sprawdz_pesel(Formularz!#REF!)","v":{"$error":"#VALUE!"}}]
[null,{"$f":"Sprawdz_pesel(Formularz!#REF!)","v":{"$error":"#VALUE!"}}]
[null,{"$f":"Sprawdz_pesel(Formularz!#REF!)","v":{"$error":"#VALUE!"}}]
[null,{"$f":"Sprawdz_pesel(Formularz!#REF!)","v":{"$error":"#VALUE!"}}]
[null,{"$f":"Sprawdz_pesel(Formularz!#REF!)","v":{"$error":"#VALUE!"}}]
[null,{"$f":"Sprawdz_pesel(Formularz!#REF!)","v":{"$error":"#VALUE!"}}]
[null,{"$f":"Sprawdz_pesel(Formularz!#REF!)","v":{"$error":"#VALUE!"}}]
[null,{"$f":"Sprawdz_pesel(Formularz!#REF!)","v":{"$error":"#VALUE!"}}]
[null,{"$f":"Sprawdz_pesel(Formularz!#REF!)","v":{"$error":"#VALUE!"}}]
[null,{"$f":"Sprawdz_pesel(Formularz!#REF!)","v":{"$error":"#VALUE!"}}]
[null,{"$f":"Sprawdz_pesel(Formularz!#REF!)","v":{"$error":"#VALUE!"}}]
[null,{"$f":"Sprawdz_pesel(Formularz!#REF!)","v":{"$error":"#VALUE!"}}]
[null,{"$f":"Sprawdz_pesel(Formularz!#REF!)","v":{"$error":"#VALUE!"}}]
[null,{"$f":"Sprawdz_pesel(Formularz!#REF!)","v":{"$error":"#VALUE!"}}]
[null,{"$f":"Sprawdz_pesel(Formularz!#REF!)","v":{"$error":"#VALUE!"}}]
[null,{"$f":"Sprawdz_pesel(Formularz!#REF!)","v":{"$error":"#VALUE!"}}]
[null,{"$f":"Sprawdz_pesel(Formularz!#REF!)","v":{"$error":"#VALUE!"}}]
[null,{"$f":"Sprawdz_pesel(Formularz!#REF!)","v":{"$error":"#VALUE!"}}]
[null,{"$f":"Sprawdz_pesel(Formularz!#REF!)","v":{"$error":"#VALUE!"}}]
[null,{"$f":"Sprawdz_pesel(Formularz!#REF!)","v":{"$error":"#VALUE!"}}]
[null,{"$f":"Sprawdz_pesel(Formularz!#REF!)","v":{"$error":"#VALUE!"}}]
[null,{"$f":"Sprawdz_pesel(Formularz!#REF!)","v":{"$error":"#VALUE!"}}]
[null,{"$f":"Sprawdz_pesel(Formularz!#REF!)","v":{"$error":"#VALUE!"}}]
[null,{"$f":"Sprawdz_pesel(Formularz!#REF!)","v":{"$error":"#VALUE!"}}]
[null,{"$f":"Sprawdz_pesel(Formularz!#REF!)","v":{"$error":"#VALUE!"}}]
[null,{"$f":"Sprawdz_pesel(Formularz!#REF!)","v":{"$error":"#VALUE!"}}]
[null,{"$f":"Sprawdz_pesel(Formularz!#REF!)","v":{"$error":"#VALUE!"}}]
[null,{"$f":"Sprawdz_pesel(Formularz!#REF!)","v":{"$error":"#VALUE!"}}]
[null,{"$f":"Sprawdz_pesel(Formularz!#REF!)","v":{"$error":"#VALUE!"}}]
[null,{"$f":"Sprawdz_pesel(Formularz!#REF!)","v":{"$error":"#VALUE!"}}]
[null,{"$f":"Sprawdz_pesel(Formularz!#REF!)","v":{"$error":"#VALUE!"}}]
[null,{"$f":"Sprawdz_pesel(Formularz!#REF!)","v":{"$error":"#VALUE!"}}]
[null,{"$f":"Sprawdz_pesel(Formularz!#REF!)","v":{"$error":"#VALUE!"}}]
[null,{"$f":"Sprawdz_pesel(Formularz!#REF!)","v":{"$error":"#VALUE!"}}]
[null,{"$f":"Sprawdz_pesel(Formularz!#REF!)","v":{"$error":"#VALUE!"}}]
[null,{"$f":"Sprawdz_pesel(Formularz!#REF!)","v":{"$error":"#VALUE!"}}]
[null,{"$f":"Sprawdz_pesel(Formularz!#REF!)","v":{"$error":"#VALUE!"}}]
[null,{"$f":"Sprawdz_pesel(Formularz!#REF!)","v":{"$error":"#VALUE!"}}]
[null,{"$f":"Sprawdz_pesel(Formularz!#REF!)","v":{"$error":"#VALUE!"}}]
[null,{"$f":"Sprawdz_pesel(Formularz!#REF!)","v":{"$error":"#VALUE!"}}]
[null,{"$f":"Sprawdz_pesel(Formularz!#REF!)","v":{"$error":"#VALUE!"}}]
[null,{"$f":"Sprawdz_pesel(Formularz!#REF!)","v":{"$error":"#VALUE!"}}]
[null,{"$f":"Sprawdz_pesel(Formularz!#REF!)","v":{"$error":"#VALUE!"}}]
[null,{"$f":"Sprawdz_pesel(Formularz!#REF!)","v":{"$error":"#VALUE!"}}]
[null,{"$f":"Sprawdz_pesel(Formularz!#REF!)","v":{"$error":"#VALUE!"}}]
[null,{"$f":"Sprawdz_pesel(Formularz!#REF!)","v":{"$error":"#VALUE!"}}]
[null,{"$f":"Sprawdz_pesel(Formularz!#REF!)","v":{"$error":"#VALUE!"}}]
[null,{"$f":"Sprawdz_pesel(Formularz!#REF!)","v":{"$error":"#VALUE!"}}]
[null,{"$f":"Sprawdz_pesel(Formularz!#REF!)","v":{"$error":"#VALUE!"}}]
[null,{"$f":"Sprawdz_pesel(Formularz!#REF!)","v":{"$error":"#VALUE!"}}]
[null,{"$f":"Sprawdz_pesel(Formularz!#REF!)","v":{"$error":"#VALUE!"}}]
[null,{"$f":"Sprawdz_pesel(Formularz!#REF!)","v":{"$error":"#VALUE!"}}]
[null,{"$f":"Sprawdz_pesel(Formularz!#REF!)","v":{"$error":"#VALUE!"}}]
[null,{"$f":"Sprawdz_pesel(Formularz!#REF!)","v":{"$error":"#VALUE!"}}]
[null,{"$f":"Sprawdz_pesel(Formularz!#REF!)","v":{"$error":"#VALUE!"}}]
[null,{"$f":"Sprawdz_pesel(Formularz!#REF!)","v":{"$error":"#VALUE!"}}]
[null,{"$f":"Sprawdz_pesel(Formularz!#REF!)","v":{"$error":"#VALUE!"}}]
[null,{"$f":"Sprawdz_pesel(Formularz!#REF!)","v":{"$error":"#VALUE!"}}]
[null,{"$f":"Sprawdz_pesel(Formularz!#REF!)","v":{"$error":"#VALUE!"}}]
[null,{"$f":"Sprawdz_pesel(Formularz!#REF!)","v":{"$error":"#VALUE!"}}]
[null,{"$f":"Sprawdz_pesel(Formularz!#REF!)","v":{"$error":"#VALUE!"}}]
[null,{"$f":"Sprawdz_pesel(Formularz!#REF!)","v":{"$error":"#VALUE!"}}]
[null,{"$f":"Sprawdz_pesel(Formularz!#REF!)","v":{"$error":"#VALUE!"}}]
[null,{"$f":"Sprawdz_pesel(Formularz!#REF!)","v":{"$error":"#VALUE!"}}]
[null,{"$f":"Sprawdz_pesel(Formularz!#REF!)","v":{"$error":"#VALUE!"}}]
[null,{"$f":"Sprawdz_pesel(Formularz!#REF!)","v":{"$error":"#VALUE!"}}]
[null,{"$f":"Sprawdz_pesel(Formularz!#REF!)","v":{"$error":"#VALUE!"}}]
[null,{"$f":"Sprawdz_pesel(Formularz!#REF!)","v":{"$error":"#VALUE!"}}]
[null,{"$f":"Sprawdz_pesel(Formularz!#REF!)","v":{"$error":"#VALUE!"}}]
[null,{"$f":"Sprawdz_pesel(Formularz!#REF!)","v":{"$error":"#VALUE!"}}]
[null,{"$f":"Sprawdz_pesel(Formularz!#REF!)","v":{"$error":"#VALUE!"}}]
[null,{"$f":"Sprawdz_pesel(Formularz!#REF!)","v":{"$error":"#VALUE!"}}]
[null,{"$f":"Sprawdz_pesel(Formularz!#REF!)","v":{"$error":"#VALUE!"}}]
[null,{"$f":"Sprawdz_pesel(Formularz!#REF!)","v":{"$error":"#VALUE!"}}]
[null,{"$f":"Sprawdz_pesel(Formularz!#REF!)","v":{"$error":"#VALUE!"}}]
[null,{"$f":"Sprawdz_pesel(Formularz!#REF!)","v":{"$error":"#VALUE!"}}]
[null,{"$f":"Sprawdz_pesel(Formularz!#REF!)","v":{"$error":"#VALUE!"}}]
[null,{"$f":"Sprawdz_pesel(Formularz!#REF!)","v":{"$error":"#VALUE!"}}]
[null,{"$f":"Sprawdz_pesel(Formularz!#REF!)","v":{"$error":"#VALUE!"}}]
[null,{"$f":"Sprawdz_pesel(Formularz!#REF!)","v":{"$error":"#VALUE!"}}]
[null,{"$f":"Sprawdz_pesel(Formularz!#REF!)","v":{"$error":"#VALUE!"}}]
[null,{"$f":"Sprawdz_pesel(Formularz!#REF!)","v":{"$error":"#VALUE!"}}]
[null,{"$f":"Sprawdz_pesel(Formularz!#REF!)","v":{"$error":"#VALUE!"}}]
[null,{"$f":"Sprawdz_pesel(Formularz!#REF!)","v":{"$error":"#VALUE!"}}]
[null,{"$f":"Sprawdz_pesel(Formularz!#REF!)","v":{"$error":"#VALUE!"}}]
[null,{"$f":"Sprawdz_pesel(Formularz!#REF!)","v":{"$error":"#VALUE!"}}]
[null,{"$f":"Sprawdz_pesel(Formularz!#REF!)","v":{"$error":"#VALUE!"}}]
[null,{"$f":"Sprawdz_pesel(Formularz!#REF!)","v":{"$error":"#VALUE!"}}]
[null,{"$f":"Sprawdz_pesel(Formularz!#REF!)","v":{"$error":"#VALUE!"}}]
[null,{"$f":"Sprawdz_pesel(Formularz!#REF!)","v":{"$error":"#VALUE!"}}]
[null,{"$f":"Sprawdz_pesel(Formularz!#REF!)","v":{"$error":"#VALUE!"}}]
[null,{"$f":"Sprawdz_pesel(Formularz!#REF!)","v":{"$error":"#VALUE!"}}]
[null,{"$f":"Sprawdz_pesel(Formularz!#REF!)","v":{"$error":"#VALUE!"}}]
[null,{"$f":"Sprawdz_pesel(Formularz!#REF!)","v":{"$error":"#VALUE!"}}]
[null,{"$f":"Sprawdz_pesel(Formularz!#REF!)","v":{"$error":"#VALUE!"}}]
[null,{"$f":"Sprawdz_pesel(Formularz!#REF!)","v":{"$error":"#VALUE!"}}]
[null,{"$f":"Sprawdz_pesel(Formularz!#REF!)","v":{"$error":"#VALUE!"}}]
[null,{"$f":"Sprawdz_pesel(Formularz!#REF!)","v":{"$error":"#VALUE!"}}]
[null,{"$f":"Sprawdz_pesel(Formularz!#REF!)","v":{"$error":"#VALUE!"}}]
[null,{"$f":"Sprawdz_pesel(Formularz!#REF!)","v":{"$error":"#VALUE!"}}]
[null,{"$f":"Sprawdz_pesel(Formularz!#REF!)","v":{"$error":"#VALUE!"}}]
[null,{"$f":"Sprawdz_pesel(Formularz!#REF!)","v":{"$error":"#VALUE!"}}]
[null,{"$f":"Sprawdz_pesel(Formularz!#REF!)","v":{"$error":"#VALUE!"}}]
[null,{"$f":"Sprawdz_pesel(Formularz!#REF!)","v":{"$error":"#VALUE!"}}]
[null,{"$f":"Sprawdz_pesel(Formularz!#REF!)","v":{"$error":"#VALUE!"}}]
[null,{"$f":"Sprawdz_pesel(Formularz!#REF!)","v":{"$error":"#VALUE!"}}]
[null,{"$f":"Sprawdz_pesel(Formularz!#REF!)","v":{"$error":"#VALUE!"}}]
[null,{"$f":"Sprawdz_pesel(Formularz!#REF!)","v":{"$error":"#VALUE!"}}]
[null,{"$f":"Sprawdz_pesel(Formularz!#REF!)","v":{"$error":"#VALUE!"}}]
[null,{"$f":"Sprawdz_pesel(Formularz!#REF!)","v":{"$error":"#VALUE!"}}]
[null,{"$f":"Sprawdz_pesel(Formularz!#REF!)","v":{"$error":"#VALUE!"}}]
[null,{"$f":"Sprawdz_pesel(Formularz!#REF!)","v":{"$error":"#VALUE!"}}]
[null,{"$f":"Sprawdz_pesel(Formularz!#REF!)","v":{"$error":"#VALUE!"}}]
[null,{"$f":"Sprawdz_pesel(Formularz!#REF!)","v":{"$error":"#VALUE!"}}]
[null,{"$f":"Sprawdz_pesel(Formularz!#REF!)","v":{"$error":"#VALUE!"}}]
[null,{"$f":"Sprawdz_pesel(Formularz!#REF!)","v":{"$error":"#VALUE!"}}]
[null,{"$f":"Sprawdz_pesel(Formularz!#REF!)","v":{"$error":"#VALUE!"}}]
[null,{"$f":"Sprawdz_pesel(Formularz!#REF!)","v":{"$error":"#VALUE!"}}]
[null,{"$f":"Sprawdz_pesel(Formularz!#REF!)","v":{"$error":"#VALUE!"}}]
[null,{"$f":"Sprawdz_pesel(Formularz!#REF!)","v":{"$error":"#VALUE!"}}]
[null,{"$f":"Sprawdz_pesel(Formularz!#REF!)","v":{"$error":"#VALUE!"}}]
[null,{"$f":"Sprawdz_pesel(Formularz!#REF!)","v":{"$error":"#VALUE!"}}]
[null,{"$f":"Sprawdz_pesel(Formularz!#REF!)","v":{"$error":"#VALUE!"}}]
[null,{"$f":"Sprawdz_pesel(Formularz!#REF!)","v":{"$error":"#VALUE!"}}]
[null,{"$f":"Sprawdz_pesel(Formularz!#REF!)","v":{"$error":"#VALUE!"}}]
[null,{"$f":"Sprawdz_pesel(Formularz!#REF!)","v":{"$error":"#VALUE!"}}]
[null,{"$f":"Sprawdz_pesel(Formularz!#REF!)","v":{"$error":"#VALUE!"}}]
[null,{"$f":"Sprawdz_pesel(Formularz!#REF!)","v":{"$error":"#VALUE!"}}]
[null,{"$f":"Sprawdz_pesel(Formularz!#REF!)","v":{"$error":"#VALUE!"}}]
[null,{"$f":"Sprawdz_pesel(Formularz!#REF!)","v":{"$error":"#VALUE!"}}]
[null,{"$f":"Sprawdz_pesel(Formularz!#REF!)","v":{"$error":"#VALUE!"}}]
[null,{"$f":"Sprawdz_pesel(Formularz!#REF!)","v":{"$error":"#VALUE!"}}]
[null,{"$f":"Sprawdz_pesel(Formularz!#REF!)","v":{"$error":"#VALUE!"}}]
[null,{"$f":"Sprawdz_pesel(Formularz!#REF!)","v":{"$error":"#VALUE!"}}]
[null,{"$f":"Sprawdz_pesel(Formularz!#REF!)","v":{"$error":"#VALUE!"}}]
[null,{"$f":"Sprawdz_pesel(Formularz!#REF!)","v":{"$error":"#VALUE!"}}]
[null,{"$f":"Sprawdz_pesel(Formularz!#REF!)","v":{"$error":"#VALUE!"}}]
[null,{"$f":"Sprawdz_pesel(Formularz!#REF!)","v":{"$error":"#VALUE!"}}]
[null,{"$f":"Sprawdz_pesel(Formularz!#REF!)","v":{"$error":"#VALUE!"}}]
[null,{"$f":"Sprawdz_pesel(Formularz!#REF!)","v":{"$error":"#VALUE!"}}]
[null,{"$f":"Sprawdz_pesel(Formularz!#REF!)","v":{"$error":"#VALUE!"}}]
[null,{"$f":"Sprawdz_pesel(Formularz!#REF!)","v":{"$error":"#VALUE!"}}]
[null,{"$f":"Sprawdz_pesel(Formularz!#REF!)","v":{"$error":"#VALUE!"}}]
[null,{"$f":"Sprawdz_pesel(Formularz!#REF!)","v":{"$error":"#VALUE!"}}]
[null,{"$f":"Sprawdz_pesel(Formularz!#REF!)","v":{"$error":"#VALUE!"}}]
[null,{"$f":"Sprawdz_pesel(Formularz!#REF!)","v":{"$error":"#VALUE!"}}]
[null,{"$f":"Sprawdz_pesel(Formularz!#REF!)","v":{"$error":"#VALUE!"}}]
[null,{"$f":"Sprawdz_pesel(Formularz!#REF!)","v":{"$error":"#VALUE!"}}]
[null,{"$f":"Sprawdz_pesel(Formularz!#REF!)","v":{"$error":"#VALUE!"}}]
[null,{"$f":"Sprawdz_pesel(Formularz!#REF!)","v":{"$error":"#VALUE!"}}]
[null,{"$f":"Sprawdz_pesel(Formularz!#REF!)","v":{"$error":"#VALUE!"}}]
[null,{"$f":"Sprawdz_pesel(Formularz!#REF!)","v":{"$error":"#VALUE!"}}]
[null,{"$f":"Sprawdz_pesel(Formularz!#REF!)","v":{"$error":"#VALUE!"}}]
[null,{"$f":"Sprawdz_pesel(Formularz!#REF!)","v":{"$error":"#VALUE!"}}]
[null,{"$f":"Sprawdz_pesel(Formularz!#REF!)","v":{"$error":"#VALUE!"}}]
[null,{"$f":"Sprawdz_pesel(Formularz!#REF!)","v":{"$error":"#VALUE!"}}]
[null,{"$f":"Sprawdz_pesel(Formularz!#REF!)","v":{"$error":"#VALUE!"}}]
[null,{"$f":"Sprawdz_pesel(Formularz!#REF!)","v":{"$error":"#VALUE!"}}]
[null,{"$f":"Sprawdz_pesel(Formularz!#REF!)","v":{"$error":"#VALUE!"}}]
[null,{"$f":"Sprawdz_pesel(Formularz!#REF!)","v":{"$error":"#VALUE!"}}]
[null,{"$f":"Sprawdz_pesel(Formularz!#REF!)","v":{"$error":"#VALUE!"}}]
[null,{"$f":"Sprawdz_pesel(Formularz!#REF!)","v":{"$error":"#VALUE!"}}]
[null,{"$f":"Sprawdz_pesel(Formularz!#REF!)","v":{"$error":"#VALUE!"}}]
[null,{"$f":"Sprawdz_pesel(Formularz!#REF!)","v":{"$error":"#VALUE!"}}]
[null,{"$f":"Sprawdz_pesel(Formularz!#REF!)","v":{"$error":"#VALUE!"}}]
[null,{"$f":"Sprawdz_pesel(Formularz!#REF!)","v":{"$error":"#VALUE!"}}]
[null,{"$f":"Sprawdz_pesel(Formularz!#REF!)","v":{"$error":"#VALUE!"}}]
[null,{"$f":"Sprawdz_pesel(Formularz!#REF!)","v":{"$error":"#VALUE!"}}]
[null,{"$f":"Sprawdz_pesel(Formularz!#REF!)","v":{"$error":"#VALUE!"}}]
[null,{"$f":"Sprawdz_pesel(Formularz!#REF!)","v":{"$error":"#VALUE!"}}]
[null,{"$f":"Sprawdz_pesel(Formularz!#REF!)","v":{"$error":"#VALUE!"}}]
[null,{"$f":"Sprawdz_pesel(Formularz!#REF!)","v":{"$error":"#VALUE!"}}]
[null,{"$f":"Sprawdz_pesel(Formularz!#REF!)","v":{"$error":"#VALUE!"}}]
[null,{"$f":"Sprawdz_pesel(Formularz!#REF!)","v":{"$error":"#VALUE!"}}]
[null,{"$f":"Sprawdz_pesel(Formularz!#REF!)","v":{"$error":"#VALUE!"}}]
[null,{"$f":"Sprawdz_pesel(Formularz!#REF!)","v":{"$error":"#VALUE!"}}]
[null,{"$f":"Sprawdz_pesel(Formularz!#REF!)","v":{"$error":"#VALUE!"}}]
[null,{"$f":"Sprawdz_pesel(Formularz!#REF!)","v":{"$error":"#VALUE!"}}]
[null,{"$f":"Sprawdz_pesel(Formularz!#REF!)","v":{"$error":"#VALUE!"}}]
[null,{"$f":"Sprawdz_pesel(Formularz!#REF!)","v":{"$error":"#VALUE!"}}]
[null,{"$f":"Sprawdz_pesel(Formularz!#REF!)","v":{"$error":"#VALUE!"}}]
[null,{"$f":"Sprawdz_pesel(Formularz!#REF!)","v":{"$error":"#VALUE!"}}]
[null,{"$f":"Sprawdz_pesel(Formularz!#REF!)","v":{"$error":"#VALUE!"}}]
[null,{"$f":"Sprawdz_pesel(Formularz!#REF!)","v":{"$error":"#VALUE!"}}]
[null,{"$f":"Sprawdz_pesel(Formularz!#REF!)","v":{"$error":"#VALUE!"}}]
[null,{"$f":"Sprawdz_pesel(Formularz!#REF!)","v":{"$error":"#VALUE!"}}]
[null,{"$f":"Sprawdz_pesel(Formularz!#REF!)","v":{"$error":"#VALUE!"}}]
[null,{"$f":"Sprawdz_pesel(Formularz!#REF!)","v":{"$error":"#VALUE!"}}]
[null,{"$f":"Sprawdz_pesel(Formularz!#REF!)","v":{"$error":"#VALUE!"}}]
[null,{"$f":"Sprawdz_pesel(Formularz!#REF!)","v":{"$error":"#VALUE!"}}]
[null,{"$f":"Sprawdz_pesel(Formularz!#REF!)","v":{"$error":"#VALUE!"}}]
[null,{"$f":"Sprawdz_pesel(Formularz!#REF!)","v":{"$error":"#VALUE!"}}]
[null,{"$f":"Sprawdz_pesel(Formularz!#REF!)","v":{"$error":"#VALUE!"}}]
[null,{"$f":"Sprawdz_pesel(Formularz!#REF!)","v":{"$error":"#VALUE!"}}]
[null,{"$f":"Sprawdz_pesel(Formularz!#REF!)","v":{"$error":"#VALUE!"}}]
[null,{"$f":"Sprawdz_pesel(Formularz!#REF!)","v":{"$error":"#VALUE!"}}]
[null,{"$f":"Sprawdz_pesel(Formularz!#REF!)","v":{"$error":"#VALUE!"}}]
[null,{"$f":"Sprawdz_pesel(Formularz!#REF!)","v":{"$error":"#VALUE!"}}]
[null,{"$f":"Sprawdz_pesel(Formularz!#REF!)","v":{"$error":"#VALUE!"}}]
[null,{"$f":"Sprawdz_pesel(Formularz!#REF!)","v":{"$error":"#VALUE!"}}]
[null,{"$f":"Sprawdz_pesel(Formularz!#REF!)","v":{"$error":"#VALUE!"}}]
[null,{"$f":"Sprawdz_pesel(Formularz!#REF!)","v":{"$error":"#VALUE!"}}]
[null,{"$f":"Sprawdz_pesel(Formularz!#REF!)","v":{"$error":"#VALUE!"}}]
[null,{"$f":"Sprawdz_pesel(Formularz!#REF!)","v":{"$error":"#VALUE!"}}]
[null,{"$f":"Sprawdz_pesel(Formularz!#REF!)","v":{"$error":"#VALUE!"}}]
[null,{"$f":"Sprawdz_pesel(Formularz!#REF!)","v":{"$error":"#VALUE!"}}]
[null,{"$f":"Sprawdz_pesel(Formularz!#REF!)","v":{"$error":"#VALUE!"}}]
[null,{"$f":"Sprawdz_pesel(Formularz!#REF!)","v":{"$error":"#VALUE!"}}]
[null,{"$f":"Sprawdz_pesel(Formularz!#REF!)","v":{"$error":"#VALUE!"}}]
[null,{"$f":"Sprawdz_pesel(Formularz!#REF!)","v":{"$error":"#VALUE!"}}]
[null,{"$f":"Sprawdz_pesel(Formularz!#REF!)","v":{"$error":"#VALUE!"}}]
[null,{"$f":"Sprawdz_pesel(Formularz!#REF!)","v":{"$error":"#VALUE!"}}]
[null,{"$f":"Sprawdz_pesel(Formularz!#REF!)","v":{"$error":"#VALUE!"}}]
[null,{"$f":"Sprawdz_pesel(Formularz!#REF!)","v":{"$error":"#VALUE!"}}]
[null,{"$f":"Sprawdz_pesel(Formularz!#REF!)","v":{"$error":"#VALUE!"}}]
[null,{"$f":"Sprawdz_pesel(Formularz!#REF!)","v":{"$error":"#VALUE!"}}]
[null,{"$f":"Sprawdz_pesel(Formularz!#REF!)","v":{"$error":"#VALUE!"}}]
[null,{"$f":"Sprawdz_pesel(Formularz!#REF!)","v":{"$error":"#VALUE!"}}]
[null,{"$f":"Sprawdz_pesel(Formularz!#REF!)","v":{"$error":"#VALUE!"}}]
[null,{"$f":"Sprawdz_pesel(Formularz!#REF!)","v":{"$error":"#VALUE!"}}]
[null,{"$f":"Sprawdz_pesel(Formularz!#REF!)","v":{"$error":"#VALUE!"}}]
[null,{"$f":"Sprawdz_pesel(Formularz!#REF!)","v":{"$error":"#VALUE!"}}]
[null,{"$f":"Sprawdz_pesel(Formularz!#REF!)","v":{"$error":"#VALUE!"}}]
[null,{"$f":"Sprawdz_pesel(Formularz!#REF!)","v":{"$error":"#VALUE!"}}]
[null,{"$f":"Sprawdz_pesel(Formularz!#REF!)","v":{"$error":"#VALUE!"}}]
[null,{"$f":"Sprawdz_pesel(Formularz!#REF!)","v":{"$error":"#VALUE!"}}]
[null,{"$f":"Sprawdz_pesel(Formularz!#REF!)","v":{"$error":"#VALUE!"}}]
[null,{"$f":"Sprawdz_pesel(Formularz!#REF!)","v":{"$error":"#VALUE!"}}]
[null,{"$f":"Sprawdz_pesel(Formularz!#REF!)","v":{"$error":"#VALUE!"}}]
[null,{"$f":"Sprawdz_pesel(Formularz!#REF!)","v":{"$error":"#VALUE!"}}]
[null,{"$f":"Sprawdz_pesel(Formularz!#REF!)","v":{"$error":"#VALUE!"}}]
[null,{"$f":"Sprawdz_pesel(Formularz!#REF!)","v":{"$error":"#VALUE!"}}]
[null,{"$f":"Sprawdz_pesel(Formularz!#REF!)","v":{"$error":"#VALUE!"}}]
[null,{"$f":"Sprawdz_pesel(Formularz!#REF!)","v":{"$error":"#VALUE!"}}]
[null,{"$f":"Sprawdz_pesel(Formularz!#REF!)","v":{"$error":"#VALUE!"}}]
[null,{"$f":"Sprawdz_pesel(Formularz!#REF!)","v":{"$error":"#VALUE!"}}]
[null,{"$f":"Sprawdz_pesel(Formularz!#REF!)","v":{"$error":"#VALUE!"}}]
[null,{"$f":"Sprawdz_pesel(Formularz!#REF!)","v":{"$error":"#VALUE!"}}]
[null,{"$f":"Sprawdz_pesel(Formularz!#REF!)","v":{"$error":"#VALUE!"}}]
[null,{"$f":"Sprawdz_pesel(Formularz!#REF!)","v":{"$error":"#VALUE!"}}]
[null,{"$f":"Sprawdz_pesel(Formularz!#REF!)","v":{"$error":"#VALUE!"}}]
[null,{"$f":"Sprawdz_pesel(Formularz!#REF!)","v":{"$error":"#VALUE!"}}]
[null,{"$f":"Sprawdz_pesel(Formularz!#REF!)","v":{"$error":"#VALUE!"}}]
[null,{"$f":"Sprawdz_pesel(Formularz!#REF!)","v":{"$error":"#VALUE!"}}]
[null,{"$f":"Sprawdz_pesel(Formularz!#REF!)","v":{"$error":"#VALUE!"}}]
[null,{"$f":"Sprawdz_pesel(Formularz!#REF!)","v":{"$error":"#VALUE!"}}]
[null,{"$f":"Sprawdz_pesel(Formularz!#REF!)","v":{"$error":"#VALUE!"}}]
[null,{"$f":"Sprawdz_pesel(Formularz!#REF!)","v":{"$error":"#VALUE!"}}]
[null,{"$f":"Sprawdz_pesel(Formularz!#REF!)","v":{"$error":"#VALUE!"}}]
[null,{"$f":"Sprawdz_pesel(Formularz!#REF!)","v":{"$error":"#VALUE!"}}]
[null,{"$f":"Sprawdz_pesel(Formularz!#REF!)","v":{"$error":"#VALUE!"}}]
[null,{"$f":"Sprawdz_pesel(Formularz!#REF!)","v":{"$error":"#VALUE!"}}]
[null,{"$f":"Sprawdz_pesel(Formularz!#REF!)","v":{"$error":"#VALUE!"}}]
[null,{"$f":"Sprawdz_pesel(Formularz!#REF!)","v":{"$error":"#VALUE!"}}]
[null,{"$f":"Sprawdz_pesel(Formularz!#REF!)","v":{"$error":"#VALUE!"}}]
[null,{"$f":"Sprawdz_pesel(Formularz!#REF!)","v":{"$error":"#VALUE!"}}]
[null,{"$f":"Sprawdz_pesel(Formularz!#REF!)","v":{"$error":"#VALUE!"}}]
[null,{"$f":"Sprawdz_pesel(Formularz!#REF!)","v":{"$error":"#VALUE!"}}]
[null,{"$f":"Sprawdz_pesel(Formularz!#REF!)","v":{"$error":"#VALUE!"}}]
[null,{"$f":"Sprawdz_pesel(Formularz!#REF!)","v":{"$error":"#VALUE!"}}]
[null,{"$f":"Sprawdz_pesel(Formularz!#REF!)","v":{"$error":"#VALUE!"}}]
[null,{"$f":"Sprawdz_pesel(Formularz!#REF!)","v":{"$error":"#VALUE!"}}]
[null,{"$f":"Sprawdz_pesel(Formularz!#REF!)","v":{"$error":"#VALUE!"}}]
[null,{"$f":"Sprawdz_pesel(Formularz!#REF!)","v":{"$error":"#VALUE!"}}]
[null,{"$f":"Sprawdz_pesel(Formularz!#REF!)","v":{"$error":"#VALUE!"}}]
[null,{"$f":"Sprawdz_pesel(Formularz!#REF!)","v":{"$error":"#VALUE!"}}]
[null,{"$f":"Sprawdz_pesel(Formularz!#REF!)","v":{"$error":"#VALUE!"}}]
[null,{"$f":"Sprawdz_pesel(Formularz!#REF!)","v":{"$error":"#VALUE!"}}]
[null,{"$f":"Sprawdz_pesel(Formularz!#REF!)","v":{"$error":"#VALUE!"}}]
[null,{"$f":"Sprawdz_pesel(Formularz!#REF!)","v":{"$error":"#VALUE!"}}]
[null,{"$f":"Sprawdz_pesel(Formularz!#REF!)","v":{"$error":"#VALUE!"}}]
[null,{"$f":"Sprawdz_pesel(Formularz!#REF!)","v":{"$error":"#VALUE!"}}]
[null,{"$f":"Sprawdz_pesel(Formularz!#REF!)","v":{"$error":"#VALUE!"}}]
[null,{"$f":"Sprawdz_pesel(Formularz!#REF!)","v":{"$error":"#VALUE!"}}]
[null,{"$f":"Sprawdz_pesel(Formularz!#REF!)","v":{"$error":"#VALUE!"}}]
[null,{"$f":"Sprawdz_pesel(Formularz!#REF!)","v":{"$error":"#VALUE!"}}]
[null,{"$f":"Sprawdz_pesel(Formularz!#REF!)","v":{"$error":"#VALUE!"}}]
[null,{"$f":"Sprawdz_pesel(Formularz!#REF!)","v":{"$error":"#VALUE!"}}]
[null,{"$f":"Sprawdz_pesel(Formularz!#REF!)","v":{"$error":"#VALUE!"}}]
[null,{"$f":"Sprawdz_pesel(Formularz!#REF!)","v":{"$error":"#VALUE!"}}]
[null,{"$f":"Sprawdz_pesel(Formularz!#REF!)","v":{"$error":"#VALUE!"}}]
[null,{"$f":"Sprawdz_pesel(Formularz!#REF!)","v":{"$error":"#VALUE!"}}]
[null,{"$f":"Sprawdz_pesel(Formularz!#REF!)","v":{"$error":"#VALUE!"}}]
[null,{"$f":"Sprawdz_pesel(Formularz!#REF!)","v":{"$error":"#VALUE!"}}]
[null,{"$f":"Sprawdz_pesel(Formularz!#REF!)","v":{"$error":"#VALUE!"}}]
[null,{"$f":"Sprawdz_pesel(Formularz!#REF!)","v":{"$error":"#VALUE!"}}]
[null,{"$f":"Sprawdz_pesel(Formularz!#REF!)","v":{"$error":"#VALUE!"}}]
[null,{"$f":"Sprawdz_pesel(Formularz!#REF!)","v":{"$error":"#VALUE!"}}]
[null,{"$f":"Sprawdz_pesel(Formularz!#REF!)","v":{"$error":"#VALUE!"}}]
[null,{"$f":"Sprawdz_pesel(Formularz!#REF!)","v":{"$error":"#VALUE!"}}]
[null,{"$f":"Sprawdz_pesel(Formularz!#REF!)","v":{"$error":"#VALUE!"}}]
[null,{"$f":"Sprawdz_pesel(Formularz!#REF!)","v":{"$error":"#VALUE!"}}]
[null,{"$f":"Sprawdz_pesel(Formularz!#REF!)","v":{"$error":"#VALUE!"}}]
[null,{"$f":"Sprawdz_pesel(Formularz!#REF!)","v":{"$error":"#VALUE!"}}]
[null,{"$f":"Sprawdz_pesel(Formularz!#REF!)","v":{"$error":"#VALUE!"}}]
[null,{"$f":"Sprawdz_pesel(Formularz!#REF!)","v":{"$error":"#VALUE!"}}]
[null,{"$f":"Sprawdz_pesel(Formularz!#REF!)","v":{"$error":"#VALUE!"}}]
[null,{"$f":"Sprawdz_pesel(Formularz!#REF!)","v":{"$error":"#VALUE!"}}]
[null,{"$f":"Sprawdz_pesel(Formularz!#REF!)","v":{"$error":"#VALUE!"}}]
[null,{"$f":"Sprawdz_pesel(Formularz!#REF!)","v":{"$error":"#VALUE!"}}]
[null,{"$f":"Sprawdz_pesel(Formularz!#REF!)","v":{"$error":"#VALUE!"}}]
[null,{"$f":"Sprawdz_pesel(Formularz!#REF!)","v":{"$error":"#VALUE!"}}]
[null,{"$f":"Sprawdz_pesel(Formularz!#REF!)","v":{"$error":"#VALUE!"}}]
[null,{"$f":"Sprawdz_pesel(Formularz!#REF!)","v":{"$error":"#VALUE!"}}]
[null,{"$f":"Sprawdz_pesel(Formularz!#REF!)","v":{"$error":"#VALUE!"}}]
[null,{"$f":"Sprawdz_pesel(Formularz!#REF!)","v":{"$error":"#VALUE!"}}]
[null,{"$f":"Sprawdz_pesel(Formularz!#REF!)","v":{"$error":"#VALUE!"}}]
[null,{"$f":"Sprawdz_pesel(Formularz!#REF!)","v":{"$error":"#VALUE!"}}]
[null,{"$f":"Sprawdz_pesel(Formularz!#REF!)","v":{"$error":"#VALUE!"}}]
[null,{"$f":"Sprawdz_pesel(Formularz!#REF!)","v":{"$error":"#VALUE!"}}]
[null,{"$f":"Sprawdz_pesel(Formularz!#REF!)","v":{"$error":"#VALUE!"}}]
[null,{"$f":"Sprawdz_pesel(Formularz!#REF!)","v":{"$error":"#VALUE!"}}]
[null,{"$f":"Sprawdz_pesel(Formularz!#REF!)","v":{"$error":"#VALUE!"}}]
[null,{"$f":"Sprawdz_pesel(Formularz!#REF!)","v":{"$error":"#VALUE!"}}]
[null,{"$f":"Sprawdz_pesel(Formularz!#REF!)","v":{"$error":"#VALUE!"}}]
[null,{"$f":"Sprawdz_pesel(Formularz!#REF!)","v":{"$error":"#VALUE!"}}]
[null,{"$f":"Sprawdz_pesel(Formularz!#REF!)","v":{"$error":"#VALUE!"}}]
[null,{"$f":"Sprawdz_pesel(Formularz!#REF!)","v":{"$error":"#VALUE!"}}]
[null,{"$f":"Sprawdz_pesel(Formularz!#REF!)","v":{"$error":"#VALUE!"}}]
[null,{"$f":"Sprawdz_pesel(Formularz!#REF!)","v":{"$error":"#VALUE!"}}]
[null,{"$f":"Sprawdz_pesel(Formularz!#REF!)","v":{"$error":"#VALUE!"}}]
[null,{"$f":"Sprawdz_pesel(Formularz!#REF!)","v":{"$error":"#VALUE!"}}]
[null,{"$f":"Sprawdz_pesel(Formularz!#REF!)","v":{"$error":"#VALUE!"}}]
[null,{"$f":"Sprawdz_pesel(Formularz!#REF!)","v":{"$error":"#VALUE!"}}]
[null,{"$f":"Sprawdz_pesel(Formularz!#REF!)","v":{"$error":"#VALUE!"}}]
[null,{"$f":"Sprawdz_pesel(Formularz!#REF!)","v":{"$error":"#VALUE!"}}]
[null,{"$f":"Sprawdz_pesel(Formularz!#REF!)","v":{"$error":"#VALUE!"}}]
[null,{"$f":"Sprawdz_pesel(Formularz!#REF!)","v":{"$error":"#VALUE!"}}]
[null,{"$f":"Sprawdz_pesel(Formularz!#REF!)","v":{"$error":"#VALUE!"}}]
[null,{"$f":"Sprawdz_pesel(Formularz!#REF!)","v":{"$error":"#VALUE!"}}]
[null,{"$f":"Sprawdz_pesel(Formularz!#REF!)","v":{"$error":"#VALUE!"}}]
[null,{"$f":"Sprawdz_pesel(Formularz!#REF!)","v":{"$error":"#VALUE!"}}]
[null,{"$f":"Sprawdz_pesel(Formularz!#REF!)","v":{"$error":"#VALUE!"}}]
[null,{"$f":"Sprawdz_pesel(Formularz!#REF!)","v":{"$error":"#VALUE!"}}]
[null,{"$f":"Sprawdz_pesel(Formularz!#REF!)","v":{"$error":"#VALUE!"}}]
[null,{"$f":"Sprawdz_pesel(Formularz!#REF!)","v":{"$error":"#VALUE!"}}]
[null,{"$f":"Sprawdz_pesel(Formularz!#REF!)","v":{"$error":"#VALUE!"}}]
[null,{"$f":"Sprawdz_pesel(Formularz!#REF!)","v":{"$error":"#VALUE!"}}]
[null,{"$f":"Sprawdz_pesel(Formularz!#REF!)","v":{"$error":"#VALUE!"}}]
[null,{"$f":"Sprawdz_pesel(Formularz!#REF!)","v":{"$error":"#VALUE!"}}]
[null,{"$f":"Sprawdz_pesel(Formularz!#REF!)","v":{"$error":"#VALUE!"}}]
[null,{"$f":"Sprawdz_pesel(Formularz!#REF!)","v":{"$error":"#VALUE!"}}]
[null,{"$f":"Sprawdz_pesel(Formularz!#REF!)","v":{"$error":"#VALUE!"}}]
[null,{"$f":"Sprawdz_pesel(Formularz!#REF!)","v":{"$error":"#VALUE!"}}]
[null,{"$f":"Sprawdz_pesel(Formularz!#REF!)","v":{"$error":"#VALUE!"}}]
[null,{"$f":"Sprawdz_pesel(Formularz!#REF!)","v":{"$error":"#VALUE!"}}]
[null,{"$f":"Sprawdz_pesel(Formularz!#REF!)","v":{"$error":"#VALUE!"}}]
[null,{"$f":"Sprawdz_pesel(Formularz!#REF!)","v":{"$error":"#VALUE!"}}]
[null,{"$f":"Sprawdz_pesel(Formularz!#REF!)","v":{"$error":"#VALUE!"}}]
[null,{"$f":"Sprawdz_pesel(Formularz!#REF!)","v":{"$error":"#VALUE!"}}]
[null,{"$f":"Sprawdz_pesel(Formularz!#REF!)","v":{"$error":"#VALUE!"}}]
[null,{"$f":"Sprawdz_pesel(Formularz!#REF!)","v":{"$error":"#VALUE!"}}]
[null,{"$f":"Sprawdz_pesel(Formularz!#REF!)","v":{"$error":"#VALUE!"}}]
[null,{"$f":"Sprawdz_pesel(Formularz!#REF!)","v":{"$error":"#VALUE!"}}]
[null,{"$f":"Sprawdz_pesel(Formularz!#REF!)","v":{"$error":"#VALUE!"}}]
[null,{"$f":"Sprawdz_pesel(Formularz!#REF!)","v":{"$error":"#VALUE!"}}]
[null,{"$f":"Sprawdz_pesel(Formularz!#REF!)","v":{"$error":"#VALUE!"}}]
[null,{"$f":"Sprawdz_pesel(Formularz!#REF!)","v":{"$error":"#VALUE!"}}]
[null,{"$f":"Sprawdz_pesel(Formularz!#REF!)","v":{"$error":"#VALUE!"}}]
[null,{"$f":"Sprawdz_pesel(Formularz!#REF!)","v":{"$error":"#VALUE!"}}]
[null,{"$f":"Sprawdz_pesel(Formularz!#REF!)","v":{"$error":"#VALUE!"}}]
[null,{"$f":"Sprawdz_pesel(Formularz!#REF!)","v":{"$error":"#VALUE!"}}]
[null,{"$f":"Sprawdz_pesel(Formularz!#REF!)","v":{"$error":"#VALUE!"}}]
[null,{"$f":"Sprawdz_pesel(Formularz!#REF!)","v":{"$error":"#VALUE!"}}]
[null,{"$f":"Sprawdz_pesel(Formularz!#REF!)","v":{"$error":"#VALUE!"}}]
[null,{"$f":"Sprawdz_pesel(Formularz!#REF!)","v":{"$error":"#VALUE!"}}]
[null,{"$f":"Sprawdz_pesel(Formularz!#REF!)","v":{"$error":"#VALUE!"}}]
[null,{"$f":"Sprawdz_pesel(Formularz!#REF!)","v":{"$error":"#VALUE!"}}]
[null,{"$f":"Sprawdz_pesel(Formularz!#REF!)","v":{"$error":"#VALUE!"}}]
[null,{"$f":"Sprawdz_pesel(Formularz!#REF!)","v":{"$error":"#VALUE!"}}]
[null,{"$f":"Sprawdz_pesel(Formularz!#REF!)","v":{"$error":"#VALUE!"}}]
[null,{"$f":"Sprawdz_pesel(Formularz!#REF!)","v":{"$error":"#VALUE!"}}]
[null,{"$f":"Sprawdz_pesel(Formularz!#REF!)","v":{"$error":"#VALUE!"}}]
[null,{"$f":"Sprawdz_pesel(Formularz!#REF!)","v":{"$error":"#VALUE!"}}]
[null,{"$f":"Sprawdz_pesel(Formularz!#REF!)","v":{"$error":"#VALUE!"}}]
[null,{"$f":"Sprawdz_pesel(Formularz!#REF!)","v":{"$error":"#VALUE!"}}]
[null,{"$f":"Sprawdz_pesel(Formularz!#REF!)","v":{"$error":"#VALUE!"}}]
[null,{"$f":"Sprawdz_pesel(Formularz!#REF!)","v":{"$error":"#VALUE!"}}]
[null,{"$f":"Sprawdz_pesel(Formularz!#REF!)","v":{"$error":"#VALUE!"}}]
[null,{"$f":"Sprawdz_pesel(Formularz!#REF!)","v":{"$error":"#VALUE!"}}]
[null,{"$f":"Sprawdz_pesel(Formularz!#REF!)","v":{"$error":"#VALUE!"}}]
[null,{"$f":"Sprawdz_pesel(Formularz!#REF!)","v":{"$error":"#VALUE!"}}]
[null,{"$f":"Sprawdz_pesel(Formularz!#REF!)","v":{"$error":"#VALUE!"}}]
[null,{"$f":"Sprawdz_pesel(Formularz!#REF!)","v":{"$error":"#VALUE!"}}]
[null,{"$f":"Sprawdz_pesel(Formularz!#REF!)","v":{"$error":"#VALUE!"}}]
[null,{"$f":"Sprawdz_pesel(Formularz!#REF!)","v":{"$error":"#VALUE!"}}]
[null,{"$f":"Sprawdz_pesel(Formularz!#REF!)","v":{"$error":"#VALUE!"}}]
[null,{"$f":"Sprawdz_pesel(Formularz!#REF!)","v":{"$error":"#VALUE!"}}]
[null,{"$f":"Sprawdz_pesel(Formularz!#REF!)","v":{"$error":"#VALUE!"}}]
[null,{"$f":"Sprawdz_pesel(Formularz!#REF!)","v":{"$error":"#VALUE!"}}]
[null,{"$f":"Sprawdz_pesel(Formularz!#REF!)","v":{"$error":"#VALUE!"}}]
[null,{"$f":"Sprawdz_pesel(Formularz!#REF!)","v":{"$error":"#VALUE!"}}]
[null,{"$f":"Sprawdz_pesel(Formularz!#REF!)","v":{"$error":"#VALUE!"}}]
[null,{"$f":"Sprawdz_pesel(Formularz!#REF!)","v":{"$error":"#VALUE!"}}]
[null,{"$f":"Sprawdz_pesel(Formularz!#REF!)","v":{"$error":"#VALUE!"}}]
[null,{"$f":"Sprawdz_pesel(Formularz!#REF!)","v":{"$error":"#VALUE!"}}]
[null,{"$f":"Sprawdz_pesel(Formularz!#REF!)","v":{"$error":"#VALUE!"}}]
[null,{"$f":"Sprawdz_pesel(Formularz!#REF!)","v":{"$error":"#VALUE!"}}]
[null,{"$f":"Sprawdz_pesel(Formularz!#REF!)","v":{"$error":"#VALUE!"}}]
[null,{"$f":"Sprawdz_pesel(Formularz!#REF!)","v":{"$error":"#VALUE!"}}]
[null,{"$f":"Sprawdz_pesel(Formularz!#REF!)","v":{"$error":"#VALUE!"}}]
[null,{"$f":"Sprawdz_pesel(Formularz!#REF!)","v":{"$error":"#VALUE!"}}]
[null,{"$f":"Sprawdz_pesel(Formularz!#REF!)","v":{"$error":"#VALUE!"}}]
[null,{"$f":"Sprawdz_pesel(Formularz!#REF!)","v":{"$error":"#VALUE!"}}]
[null,{"$f":"Sprawdz_pesel(Formularz!#REF!)","v":{"$error":"#VALUE!"}}]
[null,{"$f":"Sprawdz_pesel(Formularz!#REF!)","v":{"$error":"#VALUE!"}}]
[null,{"$f":"Sprawdz_pesel(Formularz!#REF!)","v":{"$error":"#VALUE!"}}]
[null,{"$f":"Sprawdz_pesel(Formularz!#REF!)","v":{"$error":"#VALUE!"}}]
[null,{"$f":"Sprawdz_pesel(Formularz!#REF!)","v":{"$error":"#VALUE!"}}]
[null,{"$f":"Sprawdz_pesel(Formularz!#REF!)","v":{"$error":"#VALUE!"}}]
[null,{"$f":"Sprawdz_pesel(Formularz!#REF!)","v":{"$error":"#VALUE!"}}]
[null,{"$f":"Sprawdz_pesel(Formularz!#REF!)","v":{"$error":"#VALUE!"}}]
[null,{"$f":"Sprawdz_pesel(Formularz!#REF!)","v":{"$error":"#VALUE!"}}]
[null,{"$f":"Sprawdz_pesel(Formularz!#REF!)","v":{"$error":"#VALUE!"}}]
[null,{"$f":"Sprawdz_pesel(Formularz!#REF!)","v":{"$error":"#VALUE!"}}]
[null,{"$f":"Sprawdz_pesel(Formularz!#REF!)","v":{"$error":"#VALUE!"}}]
[null,{"$f":"Sprawdz_pesel(Formularz!#REF!)","v":{"$error":"#VALUE!"}}]
[null,{"$f":"Sprawdz_pesel(Formularz!#REF!)","v":{"$error":"#VALUE!"}}]
[null,{"$f":"Sprawdz_pesel(Formularz!#REF!)","v":{"$error":"#VALUE!"}}]
[null,{"$f":"Sprawdz_pesel(Formularz!#REF!)","v":{"$error":"#VALUE!"}}]
[null,{"$f":"Sprawdz_pesel(Formularz!#REF!)","v":{"$error":"#VALUE!"}}]
[null,{"$f":"Sprawdz_pesel(Formularz!#REF!)","v":{"$error":"#VALUE!"}}]
[null,{"$f":"Sprawdz_pesel(Formularz!#REF!)","v":{"$error":"#VALUE!"}}]
[null,{"$f":"Sprawdz_pesel(Formularz!#REF!)","v":{"$error":"#VALUE!"}}]
[null,{"$f":"Sprawdz_pesel(Formularz!#REF!)","v":{"$error":"#VALUE!"}}]
[null,{"$f":"Sprawdz_pesel(Formularz!#REF!)","v":{"$error":"#VALUE!"}}]
[null,{"$f":"Sprawdz_pesel(Formularz!#REF!)","v":{"$error":"#VALUE!"}}]
[null,{"$f":"Sprawdz_pesel(Formularz!#REF!)","v":{"$error":"#VALUE!"}}]
[null,{"$f":"Sprawdz_pesel(Formularz!#REF!)","v":{"$error":"#VALUE!"}}]
[null,{"$f":"Sprawdz_pesel(Formularz!#REF!)","v":{"$error":"#VALUE!"}}]
[null,{"$f":"Sprawdz_pesel(Formularz!#REF!)","v":{"$error":"#VALUE!"}}]
[null,{"$f":"Sprawdz_pesel(Formularz!#REF!)","v":{"$error":"#VALUE!"}}]
[null,{"$f":"Sprawdz_pesel(Formularz!#REF!)","v":{"$error":"#VALUE!"}}]
[null,{"$f":"Sprawdz_pesel(Formularz!#REF!)","v":{"$error":"#VALUE!"}}]
[null,{"$f":"Sprawdz_pesel(Formularz!#REF!)","v":{"$error":"#VALUE!"}}]
[null,{"$f":"Sprawdz_pesel(Formularz!#REF!)","v":{"$error":"#VALUE!"}}]
[null,{"$f":"Sprawdz_pesel(Formularz!#REF!)","v":{"$error":"#VALUE!"}}]
[null,{"$f":"Sprawdz_pesel(Formularz!#REF!)","v":{"$error":"#VALUE!"}}]
[null,{"$f":"Sprawdz_pesel(Formularz!#REF!)","v":{"$error":"#VALUE!"}}]
[null,{"$f":"Sprawdz_pesel(Formularz!#REF!)","v":{"$error":"#VALUE!"}}]
[null,{"$f":"Sprawdz_pesel(Formularz!#REF!)","v":{"$error":"#VALUE!"}}]
[null,{"$f":"Sprawdz_pesel(Formularz!#REF!)","v":{"$error":"#VALUE!"}}]
[null,{"$f":"Sprawdz_pesel(Formularz!#REF!)","v":{"$error":"#VALUE!"}}]
[null,{"$f":"Sprawdz_pesel(Formularz!#REF!)","v":{"$error":"#VALUE!"}}]
[null,{"$f":"Sprawdz_pesel(Formularz!#REF!)","v":{"$error":"#VALUE!"}}]
[null,{"$f":"Sprawdz_pesel(Formularz!#REF!)","v":{"$error":"#VALUE!"}}]
[null,{"$f":"Sprawdz_pesel(Formularz!#REF!)","v":{"$error":"#VALUE!"}}]
[null,{"$f":"Sprawdz_pesel(Formularz!#REF!)","v":{"$error":"#VALUE!"}}]
[null,{"$f":"Sprawdz_pesel(Formularz!#REF!)","v":{"$error":"#VALUE!"}}]
[null,{"$f":"Sprawdz_pesel(Formularz!#REF!)","v":{"$error":"#VALUE!"}}]
[null,{"$f":"Sprawdz_pesel(Formularz!#REF!)","v":{"$error":"#VALUE!"}}]
[null,{"$f":"Sprawdz_pesel(Formularz!#REF!)","v":{"$error":"#VALUE!"}}]
[null,{"$f":"Sprawdz_pesel(Formularz!#REF!)","v":{"$error":"#VALUE!"}}]
[null,{"$f":"Sprawdz_pesel(Formularz!#REF!)","v":{"$error":"#VALUE!"}}]
[null,{"$f":"Sprawdz_pesel(Formularz!#REF!)","v":{"$error":"#VALUE!"}}]
[null,{"$f":"Sprawdz_pesel(Formularz!#REF!)","v":{"$error":"#VALUE!"}}]
[null,{"$f":"Sprawdz_pesel(Formularz!#REF!)","v":{"$error":"#VALUE!"}}]
[null,{"$f":"Sprawdz_pesel(Formularz!#REF!)","v":{"$error":"#VALUE!"}}]
[null,{"$f":"Sprawdz_pesel(Formularz!#REF!)","v":{"$error":"#VALUE!"}}]
[null,{"$f":"Sprawdz_pesel(Formularz!#REF!)","v":{"$error":"#VALUE!"}}]
[null,{"$f":"Sprawdz_pesel(Formularz!#REF!)","v":{"$error":"#VALUE!"}}]
[null,{"$f":"Sprawdz_pesel(Formularz!#REF!)","v":{"$error":"#VALUE!"}}]
[null,{"$f":"Sprawdz_pesel(Formularz!#REF!)","v":{"$error":"#VALUE!"}}]
[null,{"$f":"Sprawdz_pesel(Formularz!#REF!)","v":{"$error":"#VALUE!"}}]
[null,{"$f":"Sprawdz_pesel(Formularz!#REF!)","v":{"$error":"#VALUE!"}}]
[null,{"$f":"Sprawdz_pesel(Formularz!#REF!)","v":{"$error":"#VALUE!"}}]
[null,{"$f":"Sprawdz_pesel(Formularz!#REF!)","v":{"$error":"#VALUE!"}}]
[null,{"$f":"Sprawdz_pesel(Formularz!#REF!)","v":{"$error":"#VALUE!"}}]
[null,{"$f":"Sprawdz_pesel(Formularz!#REF!)","v":{"$error":"#VALUE!"}}]
[null,{"$f":"Sprawdz_pesel(Formularz!#REF!)","v":{"$error":"#VALUE!"}}]
[null,{"$f":"Sprawdz_pesel(Formularz!#REF!)","v":{"$error":"#VALUE!"}}]
[null,{"$f":"Sprawdz_pesel(Formularz!#REF!)","v":{"$error":"#VALUE!"}}]
[null,{"$f":"Sprawdz_pesel(Formularz!#REF!)","v":{"$error":"#VALUE!"}}]
[null,{"$f":"Sprawdz_pesel(Formularz!#REF!)","v":{"$error":"#VALUE!"}}]
[null,{"$f":"Sprawdz_pesel(Formularz!#REF!)","v":{"$error":"#VALUE!"}}]
[null,{"$f":"Sprawdz_pesel(Formularz!#REF!)","v":{"$error":"#VALUE!"}}]
[null,{"$f":"Sprawdz_pesel(Formularz!#REF!)","v":{"$error":"#VALUE!"}}]
[null,{"$f":"Sprawdz_pesel(Formularz!#REF!)","v":{"$error":"#VALUE!"}}]
[null,{"$f":"Sprawdz_pesel(Formularz!#REF!)","v":{"$error":"#VALUE!"}}]
[null,{"$f":"Sprawdz_pesel(Formularz!#REF!)","v":{"$error":"#VALUE!"}}]
[null,{"$f":"Sprawdz_pesel(Formularz!#REF!)","v":{"$error":"#VALUE!"}}]
[null,{"$f":"Sprawdz_pesel(Formularz!#REF!)","v":{"$error":"#VALUE!"}}]
[null,{"$f":"Sprawdz_pesel(Formularz!#REF!)","v":{"$error":"#VALUE!"}}]
[null,{"$f":"Sprawdz_pesel(Formularz!#REF!)","v":{"$error":"#VALUE!"}}]
[null,{"$f":"Sprawdz_pesel(Formularz!#REF!)","v":{"$error":"#VALUE!"}}]
[null,{"$f":"Sprawdz_pesel(Formularz!#REF!)","v":{"$error":"#VALUE!"}}]
[null,{"$f":"Sprawdz_pesel(Formularz!#REF!)","v":{"$error":"#VALUE!"}}]
[null,{"$f":"Sprawdz_pesel(Formularz!#REF!)","v":{"$error":"#VALUE!"}}]
[null,{"$f":"Sprawdz_pesel(Formularz!#REF!)","v":{"$error":"#VALUE!"}}]
[null,{"$f":"Sprawdz_pesel(Formularz!#REF!)","v":{"$error":"#VALUE!"}}]
[null,{"$f":"Sprawdz_pesel(Formularz!#REF!)","v":{"$error":"#VALUE!"}}]
[null,{"$f":"Sprawdz_pesel(Formularz!#REF!)","v":{"$error":"#VALUE!"}}]
[null,{"$f":"Sprawdz_pesel(Formularz!#REF!)","v":{"$error":"#VALUE!"}}]
[null,{"$f":"Sprawdz_pesel(Formularz!#REF!)","v":{"$error":"#VALUE!"}}]
[null,{"$f":"Sprawdz_pesel(Formularz!#REF!)","v":{"$error":"#VALUE!"}}]
[null,{"$f":"Sprawdz_pesel(Formularz!#REF!)","v":{"$error":"#VALUE!"}}]
[null,{"$f":"Sprawdz_pesel(Formularz!#REF!)","v":{"$error":"#VALUE!"}}]
[null,{"$f":"Sprawdz_pesel(Formularz!#REF!)","v":{"$error":"#VALUE!"}}]
[null,{"$f":"Sprawdz_pesel(Formularz!#REF!)","v":{"$error":"#VALUE!"}}]
[null,{"$f":"Sprawdz_pesel(Formularz!#REF!)","v":{"$error":"#VALUE!"}}]
[null,{"$f":"Sprawdz_pesel(Formularz!#REF!)","v":{"$error":"#VALUE!"}}]
[null,{"$f":"Sprawdz_pesel(Formularz!#REF!)","v":{"$error":"#VALUE!"}}]
[null,{"$f":"Sprawdz_pesel(Formularz!#REF!)","v":{"$error":"#VALUE!"}}]
[null,{"$f":"Sprawdz_pesel(Formularz!#REF!)","v":{"$error":"#VALUE!"}}]
[null,{"$f":"Sprawdz_pesel(Formularz!#REF!)","v":{"$error":"#VALUE!"}}]
[null,{"$f":"Sprawdz_pesel(Formularz!#REF!)","v":{"$error":"#VALUE!"}}]
[null,{"$f":"Sprawdz_pesel(Formularz!#REF!)","v":{"$error":"#VALUE!"}}]
[null,{"$f":"Sprawdz_pesel(Formularz!#REF!)","v":{"$error":"#VALUE!"}}]
[null,{"$f":"Sprawdz_pesel(Formularz!#REF!)","v":{"$error":"#VALUE!"}}]
[null,{"$f":"Sprawdz_pesel(Formularz!#REF!)","v":{"$error":"#VALUE!"}}]
[null,{"$f":"Sprawdz_pesel(Formularz!#REF!)","v":{"$error":"#VALUE!"}}]
[null,{"$f":"Sprawdz_pesel(Formularz!#REF!)","v":{"$error":"#VALUE!"}}]
[null,{"$f":"Sprawdz_pesel(Formularz!#REF!)","v":{"$error":"#VALUE!"}}]
[null,{"$f":"Sprawdz_pesel(Formularz!#REF!)","v":{"$error":"#VALUE!"}}]
[null,{"$f":"Sprawdz_pesel(Formularz!#REF!)","v":{"$error":"#VALUE!"}}]
[null,{"$f":"Sprawdz_pesel(Formularz!#REF!)","v":{"$error":"#VALUE!"}}]
[null,{"$f":"Sprawdz_pesel(Formularz!#REF!)","v":{"$error":"#VALUE!"}}]
[null,{"$f":"Sprawdz_pesel(Formularz!#REF!)","v":{"$error":"#VALUE!"}}]
[null,{"$f":"Sprawdz_pesel(Formularz!#REF!)","v":{"$error":"#VALUE!"}}]
[null,{"$f":"Sprawdz_pesel(Formularz!#REF!)","v":{"$error":"#VALUE!"}}]
[null,{"$f":"Sprawdz_pesel(Formularz!#REF!)","v":{"$error":"#VALUE!"}}]
[null,{"$f":"Sprawdz_pesel(Formularz!#REF!)","v":{"$error":"#VALUE!"}}]
[null,{"$f":"Sprawdz_pesel(Formularz!#REF!)","v":{"$error":"#VALUE!"}}]
[null,{"$f":"Sprawdz_pesel(Formularz!#REF!)","v":{"$error":"#VALUE!"}}]
[null,{"$f":"Sprawdz_pesel(Formularz!#REF!)","v":{"$error":"#VALUE!"}}]
[null,{"$f":"Sprawdz_pesel(Formularz!#REF!)","v":{"$error":"#VALUE!"}}]
[null,{"$f":"Sprawdz_pesel(Formularz!#REF!)","v":{"$error":"#VALUE!"}}]
[null,{"$f":"Sprawdz_pesel(Formularz!#REF!)","v":{"$error":"#VALUE!"}}]
[null,{"$f":"Sprawdz_pesel(Formularz!#REF!)","v":{"$error":"#VALUE!"}}]
[null,{"$f":"Sprawdz_pesel(Formularz!#REF!)","v":{"$error":"#VALUE!"}}]
[null,{"$f":"Sprawdz_pesel(Formularz!#REF!)","v":{"$error":"#VALUE!"}}]
[null,{"$f":"Sprawdz_pesel(Formularz!#REF!)","v":{"$error":"#VALUE!"}}]
[null,{"$f":"Sprawdz_pesel(Formularz!#REF!)","v":{"$error":"#VALUE!"}}]
[null,{"$f":"Sprawdz_pesel(Formularz!#REF!)","v":{"$error":"#VALUE!"}}]
[null,{"$f":"Sprawdz_pesel(Formularz!#REF!)","v":{"$error":"#VALUE!"}}]
[null,{"$f":"Sprawdz_pesel(Formularz!#REF!)","v":{"$error":"#VALUE!"}}]
[null,{"$f":"Sprawdz_pesel(Formularz!#REF!)","v":{"$error":"#VALUE!"}}]
[null,{"$f":"Sprawdz_pesel(Formularz!#REF!)","v":{"$error":"#VALUE!"}}]
[null,{"$f":"Sprawdz_pesel(Formularz!#REF!)","v":{"$error":"#VALUE!"}}]
[null,{"$f":"Sprawdz_pesel(Formularz!#REF!)","v":{"$error":"#VALUE!"}}]
[null,{"$f":"Sprawdz_pesel(Formularz!#REF!)","v":{"$error":"#VALUE!"}}]
[null,{"$f":"Sprawdz_pesel(Formularz!#REF!)","v":{"$error":"#VALUE!"}}]
[null,{"$f":"Sprawdz_pesel(Formularz!#REF!)","v":{"$error":"#VALUE!"}}]
[null,{"$f":"Sprawdz_pesel(Formularz!#REF!)","v":{"$error":"#VALUE!"}}]
[null,{"$f":"Sprawdz_pesel(Formularz!#REF!)","v":{"$error":"#VALUE!"}}]
[null,{"$f":"Sprawdz_pesel(Formularz!#REF!)","v":{"$error":"#VALUE!"}}]
[null,{"$f":"Sprawdz_pesel(Formularz!#REF!)","v":{"$error":"#VALUE!"}}]
[null,{"$f":"Sprawdz_pesel(Formularz!#REF!)","v":{"$error":"#VALUE!"}}]
[null,{"$f":"Sprawdz_pesel(Formularz!#REF!)","v":{"$error":"#VALUE!"}}]
[null,{"$f":"Sprawdz_pesel(Formularz!#REF!)","v":{"$error":"#VALUE!"}}]
[null,{"$f":"Sprawdz_pesel(Formularz!#REF!)","v":{"$error":"#VALUE!"}}]
[null,{"$f":"Sprawdz_pesel(Formularz!#REF!)","v":{"$error":"#VALUE!"}}]
[null,{"$f":"Sprawdz_pesel(Formularz!#REF!)","v":{"$error":"#VALUE!"}}]
[null,{"$f":"Sprawdz_pesel(Formularz!#REF!)","v":{"$error":"#VALUE!"}}]
[null,{"$f":"Sprawdz_pesel(Formularz!#REF!)","v":{"$error":"#VALUE!"}}]
[null,{"$f":"Sprawdz_pesel(Formularz!#REF!)","v":{"$error":"#VALUE!"}}]
[null,{"$f":"Sprawdz_pesel(Formularz!#REF!)","v":{"$error":"#VALUE!"}}]
[null,{"$f":"Sprawdz_pesel(Formularz!#REF!)","v":{"$error":"#VALUE!"}}]
[null,{"$f":"Sprawdz_pesel(Formularz!#REF!)","v":{"$error":"#VALUE!"}}]
[null,{"$f":"Sprawdz_pesel(Formularz!#REF!)","v":{"$error":"#VALUE!"}}]
[null,{"$f":"Sprawdz_pesel(Formularz!#REF!)","v":{"$error":"#VALUE!"}}]
[null,{"$f":"Sprawdz_pesel(Formularz!#REF!)","v":{"$error":"#VALUE!"}}]
[null,{"$f":"Sprawdz_pesel(Formularz!#REF!)","v":{"$error":"#VALUE!"}}]
[null,{"$f":"Sprawdz_pesel(Formularz!#REF!)","v":{"$error":"#VALUE!"}}]
[null,{"$f":"Sprawdz_pesel(Formularz!#REF!)","v":{"$error":"#VALUE!"}}]
[null,{"$f":"Sprawdz_pesel(Formularz!#REF!)","v":{"$error":"#VALUE!"}}]
[null,{"$f":"Sprawdz_pesel(Formularz!#REF!)","v":{"$error":"#VALUE!"}}]
[null,{"$f":"Sprawdz_pesel(Formularz!#REF!)","v":{"$error":"#VALUE!"}}]
[null,{"$f":"Sprawdz_pesel(Formularz!#REF!)","v":{"$error":"#VALUE!"}}]
[null,{"$f":"Sprawdz_pesel(Formularz!#REF!)","v":{"$error":"#VALUE!"}}]
[null,{"$f":"Sprawdz_pesel(Formularz!#REF!)","v":{"$error":"#VALUE!"}}]
[null,{"$f":"Sprawdz_pesel(Formularz!#REF!)","v":{"$error":"#VALUE!"}}]
[null,{"$f":"Sprawdz_pesel(Formularz!#REF!)","v":{"$error":"#VALUE!"}}]
[null,{"$f":"Sprawdz_pesel(Formularz!#REF!)","v":{"$error":"#VALUE!"}}]
[null,{"$f":"Sprawdz_pesel(Formularz!#REF!)","v":{"$error":"#VALUE!"}}]
[null,{"$f":"Sprawdz_pesel(Formularz!#REF!)","v":{"$error":"#VALUE!"}}]
[null,{"$f":"Sprawdz_pesel(Formularz!#REF!)","v":{"$error":"#VALUE!"}}]
[null,{"$f":"Sprawdz_pesel(Formularz!#REF!)","v":{"$error":"#VALUE!"}}]
[null,{"$f":"Sprawdz_pesel(Formularz!#REF!)","v":{"$error":"#VALUE!"}}]
[null,{"$f":"Sprawdz_pesel(Formularz!#REF!)","v":{"$error":"#VALUE!"}}]
[null,{"$f":"Sprawdz_pesel(Formularz!#REF!)","v":{"$error":"#VALUE!"}}]
[null,{"$f":"Sprawdz_pesel(Formularz!#REF!)","v":{"$error":"#VALUE!"}}]
[null,{"$f":"Sprawdz_pesel(Formularz!#REF!)","v":{"$error":"#VALUE!"}}]
[null,{"$f":"Sprawdz_pesel(Formularz!#REF!)","v":{"$error":"#VALUE!"}}]
[null,{"$f":"Sprawdz_pesel(Formularz!#REF!)","v":{"$error":"#VALUE!"}}]
[null,{"$f":"Sprawdz_pesel(Formularz!#REF!)","v":{"$error":"#VALUE!"}}]
[null,{"$f":"Sprawdz_pesel(Formularz!#REF!)","v":{"$error":"#VALUE!"}}]
[null,{"$f":"Sprawdz_pesel(Formularz!#REF!)","v":{"$error":"#VALUE!"}}]
[null,{"$f":"Sprawdz_pesel(Formularz!#REF!)","v":{"$error":"#VALUE!"}}]
[null,{"$f":"Sprawdz_pesel(Formularz!#REF!)","v":{"$error":"#VALUE!"}}]
[null,{"$f":"Sprawdz_pesel(Formularz!#REF!)","v":{"$error":"#VALUE!"}}]
[null,{"$f":"Sprawdz_pesel(Formularz!#REF!)","v":{"$error":"#VALUE!"}}]
[null,{"$f":"Sprawdz_pesel(Formularz!#REF!)","v":{"$error":"#VALUE!"}}]
[null,{"$f":"Sprawdz_pesel(Formularz!#REF!)","v":{"$error":"#VALUE!"}}]
[null,{"$f":"Sprawdz_pesel(Formularz!#REF!)","v":{"$error":"#VALUE!"}}]
[null,{"$f":"Sprawdz_pesel(Formularz!#REF!)","v":{"$error":"#VALUE!"}}]
[null,{"$f":"Sprawdz_pesel(Formularz!#REF!)","v":{"$error":"#VALUE!"}}]
[null,{"$f":"Sprawdz_pesel(Formularz!#REF!)","v":{"$error":"#VALUE!"}}]
[null,{"$f":"Sprawdz_pesel(Formularz!#REF!)","v":{"$error":"#VALUE!"}}]
[null,{"$f":"Sprawdz_pesel(Formularz!#REF!)","v":{"$error":"#VALUE!"}}]
[null,{"$f":"Sprawdz_pesel(Formularz!#REF!)","v":{"$error":"#VALUE!"}}]
[null,{"$f":"Sprawdz_pesel(Formularz!#REF!)","v":{"$error":"#VALUE!"}}]
[null,{"$f":"Sprawdz_pesel(Formularz!#REF!)","v":{"$error":"#VALUE!"}}]
[null,{"$f":"Sprawdz_pesel(Formularz!#REF!)","v":{"$error":"#VALUE!"}}]
[null,{"$f":"Sprawdz_pesel(Formularz!#REF!)","v":{"$error":"#VALUE!"}}]
[null,{"$f":"Sprawdz_pesel(Formularz!#REF!)","v":{"$error":"#VALUE!"}}]
[null,{"$f":"Sprawdz_pesel(Formularz!#REF!)","v":{"$error":"#VALUE!"}}]
[null,{"$f":"Sprawdz_pesel(Formularz!#REF!)","v":{"$error":"#VALUE!"}}]
[null,{"$f":"Sprawdz_pesel(Formularz!#REF!)","v":{"$error":"#VALUE!"}}]
[null,{"$f":"Sprawdz_pesel(Formularz!#REF!)","v":{"$error":"#VALUE!"}}]
[null,{"$f":"Sprawdz_pesel(Formularz!#REF!)","v":{"$error":"#VALUE!"}}]
[null,{"$f":"Sprawdz_pesel(Formularz!#REF!)","v":{"$error":"#VALUE!"}}]
[null,{"$f":"Sprawdz_pesel(Formularz!#REF!)","v":{"$error":"#VALUE!"}}]
[null,{"$f":"Sprawdz_pesel(Formularz!#REF!)","v":{"$error":"#VALUE!"}}]
[null,{"$f":"Sprawdz_pesel(Formularz!#REF!)","v":{"$error":"#VALUE!"}}]
[null,{"$f":"Sprawdz_pesel(Formularz!#REF!)","v":{"$error":"#VALUE!"}}]
[null,{"$f":"Sprawdz_pesel(Formularz!#REF!)","v":{"$error":"#VALUE!"}}]
[null,{"$f":"Sprawdz_pesel(Formularz!#REF!)","v":{"$error":"#VALUE!"}}]
[null,{"$f":"Sprawdz_pesel(Formularz!#REF!)","v":{"$error":"#VALUE!"}}]
[null,{"$f":"Sprawdz_pesel(Formularz!#REF!)","v":{"$error":"#VALUE!"}}]
[null,{"$f":"Sprawdz_pesel(Formularz!#REF!)","v":{"$error":"#VALUE!"}}]
[null,{"$f":"Sprawdz_pesel(Formularz!#REF!)","v":{"$error":"#VALUE!"}}]
[null,{"$f":"Sprawdz_pesel(Formularz!#REF!)","v":{"$error":"#VALUE!"}}]
[null,{"$f":"Sprawdz_pesel(Formularz!#REF!)","v":{"$error":"#VALUE!"}}]
[null,{"$f":"Sprawdz_pesel(Formularz!#REF!)","v":{"$error":"#VALUE!"}}]
[null,{"$f":"Sprawdz_pesel(Formularz!#REF!)","v":{"$error":"#VALUE!"}}]
[null,{"$f":"Sprawdz_pesel(Formularz!#REF!)","v":{"$error":"#VALUE!"}}]
[null,{"$f":"Sprawdz_pesel(Formularz!#REF!)","v":{"$error":"#VALUE!"}}]
[null,{"$f":"Sprawdz_pesel(Formularz!#REF!)","v":{"$error":"#VALUE!"}}]
[null,{"$f":"Sprawdz_pesel(Formularz!#REF!)","v":{"$error":"#VALUE!"}}]
[null,{"$f":"Sprawdz_pesel(Formularz!#REF!)","v":{"$error":"#VALUE!"}}]
[null,{"$f":"Sprawdz_pesel(Formularz!#REF!)","v":{"$error":"#VALUE!"}}]
[null,{"$f":"Sprawdz_pesel(Formularz!#REF!)","v":{"$error":"#VALUE!"}}]
[null,{"$f":"Sprawdz_pesel(Formularz!#REF!)","v":{"$error":"#VALUE!"}}]
[null,{"$f":"Sprawdz_pesel(Formularz!#REF!)","v":{"$error":"#VALUE!"}}]
[null,{"$f":"Sprawdz_pesel(Formularz!#REF!)","v":{"$error":"#VALUE!"}}]
[null,{"$f":"Sprawdz_pesel(Formularz!#REF!)","v":{"$error":"#VALUE!"}}]
[null,{"$f":"Sprawdz_pesel(Formularz!#REF!)","v":{"$error":"#VALUE!"}}]
[null,{"$f":"Sprawdz_pesel(Formularz!#REF!)","v":{"$error":"#VALUE!"}}]
[null,{"$f":"Sprawdz_pesel(Formularz!#REF!)","v":{"$error":"#VALUE!"}}]
[null,{"$f":"Sprawdz_pesel(Formularz!#REF!)","v":{"$error":"#VALUE!"}}]
[null,{"$f":"Sprawdz_pesel(Formularz!#REF!)","v":{"$error":"#VALUE!"}}]
[null,{"$f":"Sprawdz_pesel(Formularz!#REF!)","v":{"$error":"#VALUE!"}}]
[null,{"$f":"Sprawdz_pesel(Formularz!#REF!)","v":{"$error":"#VALUE!"}}]
[null,{"$f":"Sprawdz_pesel(Formularz!#REF!)","v":{"$error":"#VALUE!"}}]
[null,{"$f":"Sprawdz_pesel(Formularz!#REF!)","v":{"$error":"#VALUE!"}}]
[null,{"$f":"Sprawdz_pesel(Formularz!#REF!)","v":{"$error":"#VALUE!"}}]
[null,{"$f":"Sprawdz_pesel(Formularz!#REF!)","v":{"$error":"#VALUE!"}}]
[null,{"$f":"Sprawdz_pesel(Formularz!#REF!)","v":{"$error":"#VALUE!"}}]
[null,{"$f":"Sprawdz_pesel(Formularz!#REF!)","v":{"$error":"#VALUE!"}}]
[null,{"$f":"Sprawdz_pesel(Formularz!#REF!)","v":{"$error":"#VALUE!"}}]
[null,{"$f":"Sprawdz_pesel(Formularz!#REF!)","v":{"$error":"#VALUE!"}}]
[null,{"$f":"Sprawdz_pesel(Formularz!#REF!)","v":{"$error":"#VALUE!"}}]
[null,{"$f":"Sprawdz_pesel(Formularz!#REF!)","v":{"$error":"#VALUE!"}}]
[null,{"$f":"Sprawdz_pesel(Formularz!#REF!)","v":{"$error":"#VALUE!"}}]
[null,{"$f":"Sprawdz_pesel(Formularz!#REF!)","v":{"$error":"#VALUE!"}}]
[null,{"$f":"Sprawdz_pesel(Formularz!#REF!)","v":{"$error":"#VALUE!"}}]
[null,{"$f":"Sprawdz_pesel(Formularz!#REF!)","v":{"$error":"#VALUE!"}}]
[null,{"$f":"Sprawdz_pesel(Formularz!#REF!)","v":{"$error":"#VALUE!"}}]
[null,{"$f":"Sprawdz_pesel(Formularz!#REF!)","v":{"$error":"#VALUE!"}}]
[null,{"$f":"Sprawdz_pesel(Formularz!#REF!)","v":{"$error":"#VALUE!"}}]
[null,{"$f":"Sprawdz_pesel(Formularz!#REF!)","v":{"$error":"#VALUE!"}}]
[null,{"$f":"Sprawdz_pesel(Formularz!#REF!)","v":{"$error":"#VALUE!"}}]
[null,{"$f":"Sprawdz_pesel(Formularz!#REF!)","v":{"$error":"#VALUE!"}}]
[null,{"$f":"Sprawdz_pesel(Formularz!#REF!)","v":{"$error":"#VALUE!"}}]
[null,{"$f":"Sprawdz_pesel(Formularz!#REF!)","v":{"$error":"#VALUE!"}}]
[null,{"$f":"Sprawdz_pesel(Formularz!#REF!)","v":{"$error":"#VALUE!"}}]
[null,{"$f":"Sprawdz_pesel(Formularz!#REF!)","v":{"$error":"#VALUE!"}}]
[null,{"$f":"Sprawdz_pesel(Formularz!#REF!)","v":{"$error":"#VALUE!"}}]
[null,{"$f":"Sprawdz_pesel(Formularz!#REF!)","v":{"$error":"#VALUE!"}}]
[null,{"$f":"Sprawdz_pesel(Formularz!#REF!)","v":{"$error":"#VALUE!"}}]
[null,{"$f":"Sprawdz_pesel(Formularz!#REF!)","v":{"$error":"#VALUE!"}}]
[null,{"$f":"Sprawdz_pesel(Formularz!#REF!)","v":{"$error":"#VALUE!"}}]
[null,{"$f":"Sprawdz_pesel(Formularz!#REF!)","v":{"$error":"#VALUE!"}}]
[null,{"$f":"Sprawdz_pesel(Formularz!#REF!)","v":{"$error":"#VALUE!"}}]
[null,{"$f":"Sprawdz_pesel(Formularz!#REF!)","v":{"$error":"#VALUE!"}}]
[null,{"$f":"Sprawdz_pesel(Formularz!#REF!)","v":{"$error":"#VALUE!"}}]
[null,{"$f":"Sprawdz_pesel(Formularz!#REF!)","v":{"$error":"#VALUE!"}}]
[null,{"$f":"Sprawdz_pesel(Formularz!#REF!)","v":{"$error":"#VALUE!"}}]
[null,{"$f":"Sprawdz_pesel(Formularz!#REF!)","v":{"$error":"#VALUE!"}}]
[null,{"$f":"Sprawdz_pesel(Formularz!#REF!)","v":{"$error":"#VALUE!"}}]
[null,{"$f":"Sprawdz_pesel(Formularz!#REF!)","v":{"$error":"#VALUE!"}}]
[null,{"$f":"Sprawdz_pesel(Formularz!#REF!)","v":{"$error":"#VALUE!"}}]
[null,{"$f":"Sprawdz_pesel(Formularz!#REF!)","v":{"$error":"#VALUE!"}}]
[null,{"$f":"Sprawdz_pesel(Formularz!#REF!)","v":{"$error":"#VALUE!"}}]
[null,{"$f":"Sprawdz_pesel(Formularz!#REF!)","v":{"$error":"#VALUE!"}}]
[null,{"$f":"Sprawdz_pesel(Formularz!#REF!)","v":{"$error":"#VALUE!"}}]
[null,{"$f":"Sprawdz_pesel(Formularz!#REF!)","v":{"$error":"#VALUE!"}}]
[null,{"$f":"Sprawdz_pesel(Formularz!#REF!)","v":{"$error":"#VALUE!"}}]
[null,{"$f":"Sprawdz_pesel(Formularz!#REF!)","v":{"$error":"#VALUE!"}}]
[null,{"$f":"Sprawdz_pesel(Formularz!#REF!)","v":{"$error":"#VALUE!"}}]
[null,{"$f":"Sprawdz_pesel(Formularz!#REF!)","v":{"$error":"#VALUE!"}}]
[null,{"$f":"Sprawdz_pesel(Formularz!#REF!)","v":{"$error":"#VALUE!"}}]
[null,{"$f":"Sprawdz_pesel(Formularz!#REF!)","v":{"$error":"#VALUE!"}}]
[null,{"$f":"Sprawdz_pesel(Formularz!#REF!)","v":{"$error":"#VALUE!"}}]
[null,{"$f":"Sprawdz_pesel(Formularz!#REF!)","v":{"$error":"#VALUE!"}}]
[null,{"$f":"Sprawdz_pesel(Formularz!#REF!)","v":{"$error":"#VALUE!"}}]
[null,{"$f":"Sprawdz_pesel(Formularz!#REF!)","v":{"$error":"#VALUE!"}}]
[null,{"$f":"Sprawdz_pesel(Formularz!#REF!)","v":{"$error":"#VALUE!"}}]
[null,{"$f":"Sprawdz_pesel(Formularz!#REF!)","v":{"$error":"#VALUE!"}}]
[null,{"$f":"Sprawdz_pesel(Formularz!#REF!)","v":{"$error":"#VALUE!"}}]
[null,{"$f":"Sprawdz_pesel(Formularz!#REF!)","v":{"$error":"#VALUE!"}}]
[null,{"$f":"Sprawdz_pesel(Formularz!#REF!)","v":{"$error":"#VALUE!"}}]
[null,{"$f":"Sprawdz_pesel(Formularz!#REF!)","v":{"$error":"#VALUE!"}}]
[null,{"$f":"Sprawdz_pesel(Formularz!#REF!)","v":{"$error":"#VALUE!"}}]
[null,{"$f":"Sprawdz_pesel(Formularz!#REF!)","v":{"$error":"#VALUE!"}}]
[null,{"$f":"Sprawdz_pesel(Formularz!#REF!)","v":{"$error":"#VALUE!"}}]
[null,{"$f":"Sprawdz_pesel(Formularz!#REF!)","v":{"$error":"#VALUE!"}}]
[null,{"$f":"Sprawdz_pesel(Formularz!#REF!)","v":{"$error":"#VALUE!"}}]
[null,{"$f":"Sprawdz_pesel(Formularz!#REF!)","v":{"$error":"#VALUE!"}}]
[null,{"$f":"Sprawdz_pesel(Formularz!#REF!)","v":{"$error":"#VALUE!"}}]
[null,{"$f":"Sprawdz_pesel(Formularz!#REF!)","v":{"$error":"#VALUE!"}}]
[null,{"$f":"Sprawdz_pesel(Formularz!#REF!)","v":{"$error":"#VALUE!"}}]
[null,{"$f":"Sprawdz_pesel(Formularz!#REF!)","v":{"$error":"#VALUE!"}}]
[null,{"$f":"Sprawdz_pesel(Formularz!#REF!)","v":{"$error":"#VALUE!"}}]
[null,{"$f":"Sprawdz_pesel(Formularz!#REF!)","v":{"$error":"#VALUE!"}}]
[null,{"$f":"Sprawdz_pesel(Formularz!#REF!)","v":{"$error":"#VALUE!"}}]
[null,{"$f":"Sprawdz_pesel(Formularz!#REF!)","v":{"$error":"#VALUE!"}}]
[null,{"$f":"Sprawdz_pesel(Formularz!#REF!)","v":{"$error":"#VALUE!"}}]
[null,{"$f":"Sprawdz_pesel(Formularz!#REF!)","v":{"$error":"#VALUE!"}}]
[null,{"$f":"Sprawdz_pesel(Formularz!#REF!)","v":{"$error":"#VALUE!"}}]
[null,{"$f":"Sprawdz_pesel(Formularz!#REF!)","v":{"$error":"#VALUE!"}}]
[null,{"$f":"Sprawdz_pesel(Formularz!#REF!)","v":{"$error":"#VALUE!"}}]
[null,{"$f":"Sprawdz_pesel(Formularz!#REF!)","v":{"$error":"#VALUE!"}}]
[null,{"$f":"Sprawdz_pesel(Formularz!#REF!)","v":{"$error":"#VALUE!"}}]
[null,{"$f":"Sprawdz_pesel(Formularz!#REF!)","v":{"$error":"#VALUE!"}}]
[null,{"$f":"Sprawdz_pesel(Formularz!#REF!)","v":{"$error":"#VALUE!"}}]
[null,{"$f":"Sprawdz_pesel(Formularz!#REF!)","v":{"$error":"#VALUE!"}}]
[null,{"$f":"Sprawdz_pesel(Formularz!#REF!)","v":{"$error":"#VALUE!"}}]
[null,{"$f":"Sprawdz_pesel(Formularz!#REF!)","v":{"$error":"#VALUE!"}}]
[null,{"$f":"Sprawdz_pesel(Formularz!#REF!)","v":{"$error":"#VALUE!"}}]
[null,{"$f":"Sprawdz_pesel(Formularz!#REF!)","v":{"$error":"#VALUE!"}}]
[null,{"$f":"Sprawdz_pesel(Formularz!#REF!)","v":{"$error":"#VALUE!"}}]
[null,{"$f":"Sprawdz_pesel(Formularz!#REF!)","v":{"$error":"#VALUE!"}}]
[null,{"$f":"Sprawdz_pesel(Formularz!#REF!)","v":{"$error":"#VALUE!"}}]
[null,{"$f":"Sprawdz_pesel(Formularz!#REF!)","v":{"$error":"#VALUE!"}}]
[null,{"$f":"Sprawdz_pesel(Formularz!#REF!)","v":{"$error":"#VALUE!"}}]
[null,{"$f":"Sprawdz_pesel(Formularz!#REF!)","v":{"$error":"#VALUE!"}}]
[null,{"$f":"Sprawdz_pesel(Formularz!#REF!)","v":{"$error":"#VALUE!"}}]
[null,{"$f":"Sprawdz_pesel(Formularz!#REF!)","v":{"$error":"#VALUE!"}}]
[null,{"$f":"Sprawdz_pesel(Formularz!#REF!)","v":{"$error":"#VALUE!"}}]
[null,{"$f":"Sprawdz_pesel(Formularz!#REF!)","v":{"$error":"#VALUE!"}}]
[null,{"$f":"Sprawdz_pesel(Formularz!#REF!)","v":{"$error":"#VALUE!"}}]
[null,{"$f":"Sprawdz_pesel(Formularz!#REF!)","v":{"$error":"#VALUE!"}}]
[null,{"$f":"Sprawdz_pesel(Formularz!#REF!)","v":{"$error":"#VALUE!"}}]
[null,{"$f":"Sprawdz_pesel(Formularz!#REF!)","v":{"$error":"#VALUE!"}}]
[null,{"$f":"Sprawdz_pesel(Formularz!#REF!)","v":{"$error":"#VALUE!"}}]
[null,{"$f":"Sprawdz_pesel(Formularz!#REF!)","v":{"$error":"#VALUE!"}}]
[null,{"$f":"Sprawdz_pesel(Formularz!#REF!)","v":{"$error":"#VALUE!"}}]
[null,{"$f":"Sprawdz_pesel(Formularz!#REF!)","v":{"$error":"#VALUE!"}}]
[null,{"$f":"Sprawdz_pesel(Formularz!#REF!)","v":{"$error":"#VALUE!"}}]
[null,{"$f":"Sprawdz_pesel(Formularz!#REF!)","v":{"$error":"#VALUE!"}}]
[null,{"$f":"Sprawdz_pesel(Formularz!#REF!)","v":{"$error":"#VALUE!"}}]
[null,{"$f":"Sprawdz_pesel(Formularz!#REF!)","v":{"$error":"#VALUE!"}}]
[null,{"$f":"Sprawdz_pesel(Formularz!#REF!)","v":{"$error":"#VALUE!"}}]
[null,{"$f":"Sprawdz_pesel(Formularz!#REF!)","v":{"$error":"#VALUE!"}}]
[null,{"$f":"Sprawdz_pesel(Formularz!#REF!)","v":{"$error":"#VALUE!"}}]
[null,{"$f":"Sprawdz_pesel(Formularz!#REF!)","v":{"$error":"#VALUE!"}}]
[null,{"$f":"Sprawdz_pesel(Formularz!#REF!)","v":{"$error":"#VALUE!"}}]
[null,{"$f":"Sprawdz_pesel(Formularz!#REF!)","v":{"$error":"#VALUE!"}}]
[null,{"$f":"Sprawdz_pesel(Formularz!#REF!)","v":{"$error":"#VALUE!"}}]
[null,{"$f":"Sprawdz_pesel(Formularz!#REF!)","v":{"$error":"#VALUE!"}}]
[null,{"$f":"Sprawdz_pesel(Formularz!#REF!)","v":{"$error":"#VALUE!"}}]
[null,{"$f":"Sprawdz_pesel(Formularz!#REF!)","v":{"$error":"#VALUE!"}}]
[null,{"$f":"Sprawdz_pesel(Formularz!#REF!)","v":{"$error":"#VALUE!"}}]
[null,{"$f":"Sprawdz_pesel(Formularz!#REF!)","v":{"$error":"#VALUE!"}}]
[null,{"$f":"Sprawdz_pesel(Formularz!#REF!)","v":{"$error":"#VALUE!"}}]
[null,{"$f":"Sprawdz_pesel(Formularz!#REF!)","v":{"$error":"#VALUE!"}}]
[null,{"$f":"Sprawdz_pesel(Formularz!#REF!)","v":{"$error":"#VALUE!"}}]
[null,{"$f":"Sprawdz_pesel(Formularz!#REF!)","v":{"$error":"#VALUE!"}}]
[null,{"$f":"Sprawdz_pesel(Formularz!#REF!)","v":{"$error":"#VALUE!"}}]
[null,{"$f":"Sprawdz_pesel(Formularz!#REF!)","v":{"$error":"#VALUE!"}}]
[null,{"$f":"Sprawdz_pesel(Formularz!#REF!)","v":{"$error":"#VALUE!"}}]
[null,{"$f":"Sprawdz_pesel(Formularz!#REF!)","v":{"$error":"#VALUE!"}}]
[null,{"$f":"Sprawdz_pesel(Formularz!#REF!)","v":{"$error":"#VALUE!"}}]
[null,{"$f":"Sprawdz_pesel(Formularz!#REF!)","v":{"$error":"#VALUE!"}}]
[null,{"$f":"Sprawdz_pesel(Formularz!#REF!)","v":{"$error":"#VALUE!"}}]
[null,{"$f":"Sprawdz_pesel(Formularz!#REF!)","v":{"$error":"#VALUE!"}}]
[null,{"$f":"Sprawdz_pesel(Formularz!#REF!)","v":{"$error":"#VALUE!"}}]
[null,{"$f":"Sprawdz_pesel(Formularz!#REF!)","v":{"$error":"#VALUE!"}}]
[null,{"$f":"Sprawdz_pesel(Formularz!#REF!)","v":{"$error":"#VALUE!"}}]
[null,{"$f":"Sprawdz_pesel(Formularz!#REF!)","v":{"$error":"#VALUE!"}}]
[null,{"$f":"Sprawdz_pesel(Formularz!#REF!)","v":{"$error":"#VALUE!"}}]
[null,{"$f":"Sprawdz_pesel(Formularz!#REF!)","v":{"$error":"#VALUE!"}}]
[null,{"$f":"Sprawdz_pesel(Formularz!#REF!)","v":{"$error":"#VALUE!"}}]
[null,{"$f":"Sprawdz_pesel(Formularz!#REF!)","v":{"$error":"#VALUE!"}}]
[null,{"$f":"Sprawdz_pesel(Formularz!#REF!)","v":{"$error":"#VALUE!"}}]
[null,{"$f":"Sprawdz_pesel(Formularz!#REF!)","v":{"$error":"#VALUE!"}}]
[null,{"$f":"Sprawdz_pesel(Formularz!#REF!)","v":{"$error":"#VALUE!"}}]
[null,{"$f":"Sprawdz_pesel(Formularz!#REF!)","v":{"$error":"#VALUE!"}}]
[null,{"$f":"Sprawdz_pesel(Formularz!#REF!)","v":{"$error":"#VALUE!"}}]
[null,{"$f":"Sprawdz_pesel(Formularz!#REF!)","v":{"$error":"#VALUE!"}}]
[null,{"$f":"Sprawdz_pesel(Formularz!#REF!)","v":{"$error":"#VALUE!"}}]
[null,{"$f":"Sprawdz_pesel(Formularz!#REF!)","v":{"$error":"#VALUE!"}}]
[null,{"$f":"Sprawdz_pesel(Formularz!#REF!)","v":{"$error":"#VALUE!"}}]
[null,{"$f":"Sprawdz_pesel(Formularz!#REF!)","v":{"$error":"#VALUE!"}}]
[null,{"$f":"Sprawdz_pesel(Formularz!#REF!)","v":{"$error":"#VALUE!"}}]
[null,{"$f":"Sprawdz_pesel(Formularz!#REF!)","v":{"$error":"#VALUE!"}}]
[null,{"$f":"Sprawdz_pesel(Formularz!#REF!)","v":{"$error":"#VALUE!"}}]
[null,{"$f":"Sprawdz_pesel(Formularz!#REF!)","v":{"$error":"#VALUE!"}}]
[null,{"$f":"Sprawdz_pesel(Formularz!#REF!)","v":{"$error":"#VALUE!"}}]
[null,{"$f":"Sprawdz_pesel(Formularz!#REF!)","v":{"$error":"#VALUE!"}}]
[null,{"$f":"Sprawdz_pesel(Formularz!#REF!)","v":{"$error":"#VALUE!"}}]
[null,{"$f":"Sprawdz_pesel(Formularz!#REF!)","v":{"$error":"#VALUE!"}}]
[null,{"$f":"Sprawdz_pesel(Formularz!#REF!)","v":{"$error":"#VALUE!"}}]
[null,{"$f":"Sprawdz_pesel(Formularz!#REF!)","v":{"$error":"#VALUE!"}}]
[null,{"$f":"Sprawdz_pesel(Formularz!#REF!)","v":{"$error":"#VALUE!"}}]
[null,{"$f":"Sprawdz_pesel(Formularz!#REF!)","v":{"$error":"#VALUE!"}}]
[null,{"$f":"Sprawdz_pesel(Formularz!#REF!)","v":{"$error":"#VALUE!"}}]
[null,{"$f":"Sprawdz_pesel(Formularz!#REF!)","v":{"$error":"#VALUE!"}}]
[null,{"$f":"Sprawdz_pesel(Formularz!#REF!)","v":{"$error":"#VALUE!"}}]
[null,{"$f":"Sprawdz_pesel(Formularz!#REF!)","v":{"$error":"#VALUE!"}}]
[null,{"$f":"Sprawdz_pesel(Formularz!#REF!)","v":{"$error":"#VALUE!"}}]
[null,{"$f":"Sprawdz_pesel(Formularz!#REF!)","v":{"$error":"#VALUE!"}}]
[null,{"$f":"Sprawdz_pesel(Formularz!#REF!)","v":{"$error":"#VALUE!"}}]
[null,{"$f":"Sprawdz_pesel(Formularz!#REF!)","v":{"$error":"#VALUE!"}}]
[null,{"$f":"Sprawdz_pesel(Formularz!#REF!)","v":{"$error":"#VALUE!"}}]
[null,{"$f":"Sprawdz_pesel(Formularz!#REF!)","v":{"$error":"#VALUE!"}}]
[null,{"$f":"Sprawdz_pesel(Formularz!#REF!)","v":{"$error":"#VALUE!"}}]
[null,{"$f":"Sprawdz_pesel(Formularz!#REF!)","v":{"$error":"#VALUE!"}}]
[null,{"$f":"Sprawdz_pesel(Formularz!#REF!)","v":{"$error":"#VALUE!"}}]
[null,{"$f":"Sprawdz_pesel(Formularz!#REF!)","v":{"$error":"#VALUE!"}}]
[null,{"$f":"Sprawdz_pesel(Formularz!#REF!)","v":{"$error":"#VALUE!"}}]
[null,{"$f":"Sprawdz_pesel(Formularz!#REF!)","v":{"$error":"#VALUE!"}}]
[null,{"$f":"Sprawdz_pesel(Formularz!#REF!)","v":{"$error":"#VALUE!"}}]
[null,{"$f":"Sprawdz_pesel(Formularz!#REF!)","v":{"$error":"#VALUE!"}}]
[null,{"$f":"Sprawdz_pesel(Formularz!#REF!)","v":{"$error":"#VALUE!"}}]
[null,{"$f":"Sprawdz_pesel(Formularz!#REF!)","v":{"$error":"#VALUE!"}}]
[null,{"$f":"Sprawdz_pesel(Formularz!#REF!)","v":{"$error":"#VALUE!"}}]
[null,{"$f":"Sprawdz_pesel(Formularz!#REF!)","v":{"$error":"#VALUE!"}}]
[null,{"$f":"Sprawdz_pesel(Formularz!#REF!)","v":{"$error":"#VALUE!"}}]
[null,{"$f":"Sprawdz_pesel(Formularz!#REF!)","v":{"$error":"#VALUE!"}}]
[null,{"$f":"Sprawdz_pesel(Formularz!#REF!)","v":{"$error":"#VALUE!"}}]
[null,{"$f":"Sprawdz_pesel(Formularz!#REF!)","v":{"$error":"#VALUE!"}}]
[null,{"$f":"Sprawdz_pesel(Formularz!#REF!)","v":{"$error":"#VALUE!"}}]
[null,{"$f":"Sprawdz_pesel(Formularz!#REF!)","v":{"$error":"#VALUE!"}}]
[null,{"$f":"Sprawdz_pesel(Formularz!#REF!)","v":{"$error":"#VALUE!"}}]
[null,{"$f":"Sprawdz_pesel(Formularz!#REF!)","v":{"$error":"#VALUE!"}}]
[null,{"$f":"Sprawdz_pesel(Formularz!#REF!)","v":{"$error":"#VALUE!"}}]
[null,{"$f":"Sprawdz_pesel(Formularz!#REF!)","v":{"$error":"#VALUE!"}}]
[null,{"$f":"Sprawdz_pesel(Formularz!#REF!)","v":{"$error":"#VALUE!"}}]
[null,{"$f":"Sprawdz_pesel(Formularz!#REF!)","v":{"$error":"#VALUE!"}}]
[null,{"$f":"Sprawdz_pesel(Formularz!#REF!)","v":{"$error":"#VALUE!"}}]
[null,{"$f":"Sprawdz_pesel(Formularz!#REF!)","v":{"$error":"#VALUE!"}}]
[null,{"$f":"Sprawdz_pesel(Formularz!#REF!)","v":{"$error":"#VALUE!"}}]
[null,{"$f":"Sprawdz_pesel(Formularz!#REF!)","v":{"$error":"#VALUE!"}}]
[null,{"$f":"Sprawdz_pesel(Formularz!#REF!)","v":{"$error":"#VALUE!"}}]
[null,{"$f":"Sprawdz_pesel(Formularz!#REF!)","v":{"$error":"#VALUE!"}}]
[null,{"$f":"Sprawdz_pesel(Formularz!#REF!)","v":{"$error":"#VALUE!"}}]
[null,{"$f":"Sprawdz_pesel(Formularz!#REF!)","v":{"$error":"#VALUE!"}}]
[null,{"$f":"Sprawdz_pesel(Formularz!#REF!)","v":{"$error":"#VALUE!"}}]
[null,{"$f":"Sprawdz_pesel(Formularz!#REF!)","v":{"$error":"#VALUE!"}}]
[null,{"$f":"Sprawdz_pesel(Formularz!#REF!)","v":{"$error":"#VALUE!"}}]
[null,{"$f":"Sprawdz_pesel(Formularz!#REF!)","v":{"$error":"#VALUE!"}}]
[null,{"$f":"Sprawdz_pesel(Formularz!#REF!)","v":{"$error":"#VALUE!"}}]
[null,{"$f":"Sprawdz_pesel(Formularz!#REF!)","v":{"$error":"#VALUE!"}}]
[null,{"$f":"Sprawdz_pesel(Formularz!#REF!)","v":{"$error":"#VALUE!"}}]
[null,{"$f":"Sprawdz_pesel(Formularz!#REF!)","v":{"$error":"#VALUE!"}}]
[null,{"$f":"Sprawdz_pesel(Formularz!#REF!)","v":{"$error":"#VALUE!"}}]
[null,{"$f":"Sprawdz_pesel(Formularz!#REF!)","v":{"$error":"#VALUE!"}}]
[null,{"$f":"Sprawdz_pesel(Formularz!#REF!)","v":{"$error":"#VALUE!"}}]
[null,{"$f":"Sprawdz_pesel(Formularz!#REF!)","v":{"$error":"#VALUE!"}}]
[null,{"$f":"Sprawdz_pesel(Formularz!#REF!)","v":{"$error":"#VALUE!"}}]
[null,{"$f":"Sprawdz_pesel(Formularz!#REF!)","v":{"$error":"#VALUE!"}}]
[null,{"$f":"Sprawdz_pesel(Formularz!#REF!)","v":{"$error":"#VALUE!"}}]
[null,{"$f":"Sprawdz_pesel(Formularz!#REF!)","v":{"$error":"#VALUE!"}}]
[null,{"$f":"Sprawdz_pesel(Formularz!#REF!)","v":{"$error":"#VALUE!"}}]
[null,{"$f":"Sprawdz_pesel(Formularz!#REF!)","v":{"$error":"#VALUE!"}}]
[null,{"$f":"Sprawdz_pesel(Formularz!#REF!)","v":{"$error":"#VALUE!"}}]
[null,{"$f":"Sprawdz_pesel(Formularz!#REF!)","v":{"$error":"#VALUE!"}}]
[null,{"$f":"Sprawdz_pesel(Formularz!#REF!)","v":{"$error":"#VALUE!"}}]
[null,{"$f":"Sprawdz_pesel(Formularz!#REF!)","v":{"$error":"#VALUE!"}}]
[null,{"$f":"Sprawdz_pesel(Formularz!#REF!)","v":{"$error":"#VALUE!"}}]
[null,{"$f":"Sprawdz_pesel(Formularz!#REF!)","v":{"$error":"#VALUE!"}}]
[null,{"$f":"Sprawdz_pesel(Formularz!#REF!)","v":{"$error":"#VALUE!"}}]
[null,{"$f":"Sprawdz_pesel(Formularz!#REF!)","v":{"$error":"#VALUE!"}}]
[null,{"$f":"Sprawdz_pesel(Formularz!#REF!)","v":{"$error":"#VALUE!"}}]
[null,{"$f":"Sprawdz_pesel(Formularz!#REF!)","v":{"$error":"#VALUE!"}}]
[null,{"$f":"Sprawdz_pesel(Formularz!#REF!)","v":{"$error":"#VALUE!"}}]
[null,{"$f":"Sprawdz_pesel(Formularz!#REF!)","v":{"$error":"#VALUE!"}}]
[null,{"$f":"Sprawdz_pesel(Formularz!#REF!)","v":{"$error":"#VALUE!"}}]
[null,{"$f":"Sprawdz_pesel(Formularz!#REF!)","v":{"$error":"#VALUE!"}}]
[null,{"$f":"Sprawdz_pesel(Formularz!#REF!)","v":{"$error":"#VALUE!"}}]
[null,{"$f":"Sprawdz_pesel(Formularz!#REF!)","v":{"$error":"#VALUE!"}}]
[null,{"$f":"Sprawdz_pesel(Formularz!#REF!)","v":{"$error":"#VALUE!"}}]
[null,{"$f":"Sprawdz_pesel(Formularz!#REF!)","v":{"$error":"#VALUE!"}}]
[null,{"$f":"Sprawdz_pesel(Formularz!#REF!)","v":{"$error":"#VALUE!"}}]
[null,{"$f":"Sprawdz_pesel(Formularz!#REF!)","v":{"$error":"#VALUE!"}}]
[null,{"$f":"Sprawdz_pesel(Formularz!#REF!)","v":{"$error":"#VALUE!"}}]
[null,{"$f":"Sprawdz_pesel(Formularz!#REF!)","v":{"$error":"#VALUE!"}}]
[null,{"$f":"Sprawdz_pesel(Formularz!#REF!)","v":{"$error":"#VALUE!"}}]
[null,{"$f":"Sprawdz_pesel(Formularz!#REF!)","v":{"$error":"#VALUE!"}}]
[null,{"$f":"Sprawdz_pesel(Formularz!#REF!)","v":{"$error":"#VALUE!"}}]
[null,{"$f":"Sprawdz_pesel(Formularz!#REF!)","v":{"$error":"#VALUE!"}}]
[null,{"$f":"Sprawdz_pesel(Formularz!#REF!)","v":{"$error":"#VALUE!"}}]
[null,{"$f":"Sprawdz_pesel(Formularz!#REF!)","v":{"$error":"#VALUE!"}}]
[null,{"$f":"Sprawdz_pesel(Formularz!#REF!)","v":{"$error":"#VALUE!"}}]
[null,{"$f":"Sprawdz_pesel(Formularz!#REF!)","v":{"$error":"#VALUE!"}}]
[null,{"$f":"Sprawdz_pesel(Formularz!#REF!)","v":{"$error":"#VALUE!"}}]
[null,{"$f":"Sprawdz_pesel(Formularz!#REF!)","v":{"$error":"#VALUE!"}}]
[null,{"$f":"Sprawdz_pesel(Formularz!#REF!)","v":{"$error":"#VALUE!"}}]
[null,{"$f":"Sprawdz_pesel(Formularz!#REF!)","v":{"$error":"#VALUE!"}}]
[null,{"$f":"Sprawdz_pesel(Formularz!#REF!)","v":{"$error":"#VALUE!"}}]
[null,{"$f":"Sprawdz_pesel(Formularz!#REF!)","v":{"$error":"#VALUE!"}}]
[null,{"$f":"Sprawdz_pesel(Formularz!#REF!)","v":{"$error":"#VALUE!"}}]
[null,{"$f":"Sprawdz_pesel(Formularz!#REF!)","v":{"$error":"#VALUE!"}}]
[null,{"$f":"Sprawdz_pesel(Formularz!#REF!)","v":{"$error":"#VALUE!"}}]
[null,{"$f":"Sprawdz_pesel(Formularz!#REF!)","v":{"$error":"#VALUE!"}}]
[null,{"$f":"Sprawdz_pesel(Formularz!#REF!)","v":{"$error":"#VALUE!"}}]
[null,{"$f":"Sprawdz_pesel(Formularz!#REF!)","v":{"$error":"#VALUE!"}}]
[null,{"$f":"Sprawdz_pesel(Formularz!#REF!)","v":{"$error":"#VALUE!"}}]
[null,{"$f":"Sprawdz_pesel(Formularz!#REF!)","v":{"$error":"#VALUE!"}}]
[null,{"$f":"Sprawdz_pesel(Formularz!#REF!)","v":{"$error":"#VALUE!"}}]
[null,{"$f":"Sprawdz_pesel(Formularz!#REF!)","v":{"$error":"#VALUE!"}}]
[null,{"$f":"Sprawdz_pesel(Formularz!#REF!)","v":{"$error":"#VALUE!"}}]
[null,{"$f":"Sprawdz_pesel(Formularz!#REF!)","v":{"$error":"#VALUE!"}}]
[null,{"$f":"Sprawdz_pesel(Formularz!#REF!)","v":{"$error":"#VALUE!"}}]
[null,{"$f":"Sprawdz_pesel(Formularz!#REF!)","v":{"$error":"#VALUE!"}}]
[null,{"$f":"Sprawdz_pesel(Formularz!#REF!)","v":{"$error":"#VALUE!"}}]
[null,{"$f":"Sprawdz_pesel(Formularz!#REF!)","v":{"$error":"#VALUE!"}}]
[null,{"$f":"Sprawdz_pesel(Formularz!#REF!)","v":{"$error":"#VALUE!"}}]
[null,{"$f":"Sprawdz_pesel(Formularz!#REF!)","v":{"$error":"#VALUE!"}}]
[null,{"$f":"Sprawdz_pesel(Formularz!#REF!)","v":{"$error":"#VALUE!"}}]
[null,{"$f":"Sprawdz_pesel(Formularz!#REF!)","v":{"$error":"#VALUE!"}}]
[null,{"$f":"Sprawdz_pesel(Formularz!#REF!)","v":{"$error":"#VALUE!"}}]
[null,{"$f":"Sprawdz_pesel(Formularz!#REF!)","v":{"$error":"#VALUE!"}}]
[null,{"$f":"Sprawdz_pesel(Formularz!#REF!)","v":{"$error":"#VALUE!"}}]
[null,{"$f":"Sprawdz_pesel(Formularz!#REF!)","v":{"$error":"#VALUE!"}}]
[null,{"$f":"Sprawdz_pesel(Formularz!#REF!)","v":{"$error":"#VALUE!"}}]
[null,{"$f":"Sprawdz_pesel(Formularz!#REF!)","v":{"$error":"#VALUE!"}}]
[null,{"$f":"Sprawdz_pesel(Formularz!#REF!)","v":{"$error":"#VALUE!"}}]
[null,{"$f":"Sprawdz_pesel(Formularz!#REF!)","v":{"$error":"#VALUE!"}}]
[null,{"$f":"Sprawdz_pesel(Formularz!#REF!)","v":{"$error":"#VALUE!"}}]
[null,{"$f":"Sprawdz_pesel(Formularz!#REF!)","v":{"$error":"#VALUE!"}}]
[null,{"$f":"Sprawdz_pesel(Formularz!#REF!)","v":{"$error":"#VALUE!"}}]
[null,{"$f":"Sprawdz_pesel(Formularz!#REF!)","v":{"$error":"#VALUE!"}}]
[null,{"$f":"Sprawdz_pesel(Formularz!#REF!)","v":{"$error":"#VALUE!"}}]
[null,{"$f":"Sprawdz_pesel(Formularz!#REF!)","v":{"$error":"#VALUE!"}}]
[null,{"$f":"Sprawdz_pesel(Formularz!#REF!)","v":{"$error":"#VALUE!"}}]
[null,{"$f":"Sprawdz_pesel(Formularz!#REF!)","v":{"$error":"#VALUE!"}}]
[null,{"$f":"Sprawdz_pesel(Formularz!#REF!)","v":{"$error":"#VALUE!"}}]
[null,{"$f":"Sprawdz_pesel(Formularz!#REF!)","v":{"$error":"#VALUE!"}}]
[null,{"$f":"Sprawdz_pesel(Formularz!#REF!)","v":{"$error":"#VALUE!"}}]
[null,{"$f":"Sprawdz_pesel(Formularz!#REF!)","v":{"$error":"#VALUE!"}}]
[null,{"$f":"Sprawdz_pesel(Formularz!#REF!)","v":{"$error":"#VALUE!"}}]
[null,{"$f":"Sprawdz_pesel(Formularz!#REF!)","v":{"$error":"#VALUE!"}}]
[null,{"$f":"Sprawdz_pesel(Formularz!#REF!)","v":{"$error":"#VALUE!"}}]
[null,{"$f":"Sprawdz_pesel(Formularz!#REF!)","v":{"$error":"#VALUE!"}}]
[null,{"$f":"Sprawdz_pesel(Formularz!#REF!)","v":{"$error":"#VALUE!"}}]
[null,{"$f":"Sprawdz_pesel(Formularz!#REF!)","v":{"$error":"#VALUE!"}}]
[null,{"$f":"Sprawdz_pesel(Formularz!#REF!)","v":{"$error":"#VALUE!"}}]
[null,{"$f":"Sprawdz_pesel(Formularz!#REF!)","v":{"$error":"#VALUE!"}}]
[null,{"$f":"Sprawdz_pesel(Formularz!#REF!)","v":{"$error":"#VALUE!"}}]
[null,{"$f":"Sprawdz_pesel(Formularz!#REF!)","v":{"$error":"#VALUE!"}}]
[null,{"$f":"Sprawdz_pesel(Formularz!#REF!)","v":{"$error":"#VALUE!"}}]
[null,{"$f":"Sprawdz_pesel(Formularz!#REF!)","v":{"$error":"#VALUE!"}}]
[null,{"$f":"Sprawdz_pesel(Formularz!#REF!)","v":{"$error":"#VALUE!"}}]
[null,{"$f":"Sprawdz_pesel(Formularz!#REF!)","v":{"$error":"#VALUE!"}}]
[null,{"$f":"Sprawdz_pesel(Formularz!#REF!)","v":{"$error":"#VALUE!"}}]
[null,{"$f":"Sprawdz_pesel(Formularz!#REF!)","v":{"$error":"#VALUE!"}}]
[null,{"$f":"Sprawdz_pesel(Formularz!#REF!)","v":{"$error":"#VALUE!"}}]
[null,{"$f":"Sprawdz_pesel(Formularz!#REF!)","v":{"$error":"#VALUE!"}}]
[null,{"$f":"Sprawdz_pesel(Formularz!#REF!)","v":{"$error":"#VALUE!"}}]
[null,{"$f":"Sprawdz_pesel(Formularz!#REF!)","v":{"$error":"#VALUE!"}}]
[null,{"$f":"Sprawdz_pesel(Formularz!#REF!)","v":{"$error":"#VALUE!"}}]
[null,{"$f":"Sprawdz_pesel(Formularz!#REF!)","v":{"$error":"#VALUE!"}}]
[null,{"$f":"Sprawdz_pesel(Formularz!#REF!)","v":{"$error":"#VALUE!"}}]
[null,{"$f":"Sprawdz_pesel(Formularz!#REF!)","v":{"$error":"#VALUE!"}}]
[null,{"$f":"Sprawdz_pesel(Formularz!#REF!)","v":{"$error":"#VALUE!"}}]
[null,{"$f":"Sprawdz_pesel(Formularz!#REF!)","v":{"$error":"#VALUE!"}}]
[null,{"$f":"Sprawdz_pesel(Formularz!#REF!)","v":{"$error":"#VALUE!"}}]
[null,{"$f":"Sprawdz_pesel(Formularz!#REF!)","v":{"$error":"#VALUE!"}}]
[null,{"$f":"Sprawdz_pesel(Formularz!#REF!)","v":{"$error":"#VALUE!"}}]
[null,{"$f":"Sprawdz_pesel(Formularz!#REF!)","v":{"$error":"#VALUE!"}}]
[null,{"$f":"Sprawdz_pesel(Formularz!#REF!)","v":{"$error":"#VALUE!"}}]
[null,{"$f":"Sprawdz_pesel(Formularz!#REF!)","v":{"$error":"#VALUE!"}}]
[null,{"$f":"Sprawdz_pesel(Formularz!#REF!)","v":{"$error":"#VALUE!"}}]
[null,{"$f":"Sprawdz_pesel(Formularz!#REF!)","v":{"$error":"#VALUE!"}}]
[null,{"$f":"Sprawdz_pesel(Formularz!#REF!)","v":{"$error":"#VALUE!"}}]
[null,{"$f":"Sprawdz_pesel(Formularz!#REF!)","v":{"$error":"#VALUE!"}}]
[null,{"$f":"Sprawdz_pesel(Formularz!#REF!)","v":{"$error":"#VALUE!"}}]
[null,{"$f":"Sprawdz_pesel(Formularz!#REF!)","v":{"$error":"#VALUE!"}}]
[null,{"$f":"Sprawdz_pesel(Formularz!#REF!)","v":{"$error":"#VALUE!"}}]
[null,{"$f":"Sprawdz_pesel(Formularz!#REF!)","v":{"$error":"#VALUE!"}}]
[null,{"$f":"Sprawdz_pesel(Formularz!#REF!)","v":{"$error":"#VALUE!"}}]
[null,{"$f":"Sprawdz_pesel(Formularz!#REF!)","v":{"$error":"#VALUE!"}}]
[null,{"$f":"Sprawdz_pesel(Formularz!#REF!)","v":{"$error":"#VALUE!"}}]
[null,{"$f":"Sprawdz_pesel(Formularz!#REF!)","v":{"$error":"#VALUE!"}}]
[null,{"$f":"Sprawdz_pesel(Formularz!#REF!)","v":{"$error":"#VALUE!"}}]
[null,{"$f":"Sprawdz_pesel(Formularz!#REF!)","v":{"$error":"#VALUE!"}}]
[null,{"$f":"Sprawdz_pesel(Formularz!#REF!)","v":{"$error":"#VALUE!"}}]
[null,{"$f":"Sprawdz_pesel(Formularz!#REF!)","v":{"$error":"#VALUE!"}}]
[null,{"$f":"Sprawdz_pesel(Formularz!#REF!)","v":{"$error":"#VALUE!"}}]
[null,{"$f":"Sprawdz_pesel(Formularz!#REF!)","v":{"$error":"#VALUE!"}}]
[null,{"$f":"Sprawdz_pesel(Formularz!#REF!)","v":{"$error":"#VALUE!"}}]
[null,{"$f":"Sprawdz_pesel(Formularz!#REF!)","v":{"$error":"#VALUE!"}}]
[null,{"$f":"Sprawdz_pesel(Formularz!#REF!)","v":{"$error":"#VALUE!"}}]
[null,{"$f":"Sprawdz_pesel(Formularz!#REF!)","v":{"$error":"#VALUE!"}}]
[null,{"$f":"Sprawdz_pesel(Formularz!#REF!)","v":{"$error":"#VALUE!"}}]
[null,{"$f":"Sprawdz_pesel(Formularz!#REF!)","v":{"$error":"#VALUE!"}}]
[null,{"$f":"Sprawdz_pesel(Formularz!#REF!)","v":{"$error":"#VALUE!"}}]
[null,{"$f":"Sprawdz_pesel(Formularz!#REF!)","v":{"$error":"#VALUE!"}}]
[null,{"$f":"Sprawdz_pesel(Formularz!#REF!)","v":{"$error":"#VALUE!"}}]
[null,{"$f":"Sprawdz_pesel(Formularz!#REF!)","v":{"$error":"#VALUE!"}}]
[null,{"$f":"Sprawdz_pesel(Formularz!#REF!)","v":{"$error":"#VALUE!"}}]
[null,{"$f":"Sprawdz_pesel(Formularz!#REF!)","v":{"$error":"#VALUE!"}}]
[null,{"$f":"Sprawdz_pesel(Formularz!#REF!)","v":{"$error":"#VALUE!"}}]
[null,{"$f":"Sprawdz_pesel(Formularz!#REF!)","v":{"$error":"#VALUE!"}}]
[null,{"$f":"Sprawdz_pesel(Formularz!#REF!)","v":{"$error":"#VALUE!"}}]
[null,{"$f":"Sprawdz_pesel(Formularz!#REF!)","v":{"$error":"#VALUE!"}}]
[null,{"$f":"Sprawdz_pesel(Formularz!#REF!)","v":{"$error":"#VALUE!"}}]
[null,{"$f":"Sprawdz_pesel(Formularz!#REF!)","v":{"$error":"#VALUE!"}}]
[null,{"$f":"Sprawdz_pesel(Formularz!#REF!)","v":{"$error":"#VALUE!"}}]
[null,{"$f":"Sprawdz_pesel(Formularz!#REF!)","v":{"$error":"#VALUE!"}}]
[null,{"$f":"Sprawdz_pesel(Formularz!#REF!)","v":{"$error":"#VALUE!"}}]
[null,{"$f":"Sprawdz_pesel(Formularz!#REF!)","v":{"$error":"#VALUE!"}}]
[null,{"$f":"Sprawdz_pesel(Formularz!#REF!)","v":{"$error":"#VALUE!"}}]
[null,{"$f":"Sprawdz_pesel(Formularz!#REF!)","v":{"$error":"#VALUE!"}}]
[null,{"$f":"Sprawdz_pesel(Formularz!#REF!)","v":{"$error":"#VALUE!"}}]
[null,{"$f":"Sprawdz_pesel(Formularz!#REF!)","v":{"$error":"#VALUE!"}}]
[null,{"$f":"Sprawdz_pesel(Formularz!#REF!)","v":{"$error":"#VALUE!"}}]
[null,{"$f":"Sprawdz_pesel(Formularz!#REF!)","v":{"$error":"#VALUE!"}}]
[null,{"$f":"Sprawdz_pesel(Formularz!#REF!)","v":{"$error":"#VALUE!"}}]
[null,{"$f":"Sprawdz_pesel(Formularz!#REF!)","v":{"$error":"#VALUE!"}}]
[null,{"$f":"Sprawdz_pesel(Formularz!#REF!)","v":{"$error":"#VALUE!"}}]
[null,{"$f":"Sprawdz_pesel(Formularz!#REF!)","v":{"$error":"#VALUE!"}}]
[null,{"$f":"Sprawdz_pesel(Formularz!#REF!)","v":{"$error":"#VALUE!"}}]
[null,{"$f":"Sprawdz_pesel(Formularz!#REF!)","v":{"$error":"#VALUE!"}}]
[null,{"$f":"Sprawdz_pesel(Formularz!#REF!)","v":{"$error":"#VALUE!"}}]
[null,{"$f":"Sprawdz_pesel(Formularz!#REF!)","v":{"$error":"#VALUE!"}}]
[null,{"$f":"Sprawdz_pesel(Formularz!#REF!)","v":{"$error":"#VALUE!"}}]
[null,{"$f":"Sprawdz_pesel(Formularz!#REF!)","v":{"$error":"#VALUE!"}}]
[null,{"$f":"Sprawdz_pesel(Formularz!#REF!)","v":{"$error":"#VALUE!"}}]
[null,{"$f":"Sprawdz_pesel(Formularz!#REF!)","v":{"$error":"#VALUE!"}}]
[null,{"$f":"Sprawdz_pesel(Formularz!#REF!)","v":{"$error":"#VALUE!"}}]
[null,{"$f":"Sprawdz_pesel(Formularz!#REF!)","v":{"$error":"#VALUE!"}}]
[null,{"$f":"Sprawdz_pesel(Formularz!#REF!)","v":{"$error":"#VALUE!"}}]
[null,{"$f":"Sprawdz_pesel(Formularz!#REF!)","v":{"$error":"#VALUE!"}}]
[null,{"$f":"Sprawdz_pesel(Formularz!#REF!)","v":{"$error":"#VALUE!"}}]
[null,{"$f":"Sprawdz_pesel(Formularz!#REF!)","v":{"$error":"#VALUE!"}}]
[null,{"$f":"Sprawdz_pesel(Formularz!#REF!)","v":{"$error":"#VALUE!"}}]
[null,{"$f":"Sprawdz_pesel(Formularz!#REF!)","v":{"$error":"#VALUE!"}}]
[null,{"$f":"Sprawdz_pesel(Formularz!#REF!)","v":{"$error":"#VALUE!"}}]
[null,{"$f":"Sprawdz_pesel(Formularz!#REF!)","v":{"$error":"#VALUE!"}}]
[null,{"$f":"Sprawdz_pesel(Formularz!#REF!)","v":{"$error":"#VALUE!"}}]
[null,{"$f":"Sprawdz_pesel(Formularz!#REF!)","v":{"$error":"#VALUE!"}}]
[null,{"$f":"Sprawdz_pesel(Formularz!#REF!)","v":{"$error":"#VALUE!"}}]
[null,{"$f":"Sprawdz_pesel(Formularz!#REF!)","v":{"$error":"#VALUE!"}}]
[null,{"$f":"Sprawdz_pesel(Formularz!#REF!)","v":{"$error":"#VALUE!"}}]
[null,{"$f":"Sprawdz_pesel(Formularz!#REF!)","v":{"$error":"#VALUE!"}}]
[null,{"$f":"Sprawdz_pesel(Formularz!#REF!)","v":{"$error":"#VALUE!"}}]
[null,{"$f":"Sprawdz_pesel(Formularz!#REF!)","v":{"$error":"#VALUE!"}}]
[null,{"$f":"Sprawdz_pesel(Formularz!#REF!)","v":{"$error":"#VALUE!"}}]
[null,{"$f":"Sprawdz_pesel(Formularz!#REF!)","v":{"$error":"#VALUE!"}}]
[null,{"$f":"Sprawdz_pesel(Formularz!#REF!)","v":{"$error":"#VALUE!"}}]
[null,{"$f":"Sprawdz_pesel(Formularz!#REF!)","v":{"$error":"#VALUE!"}}]
[null,{"$f":"Sprawdz_pesel(Formularz!#REF!)","v":{"$error":"#VALUE!"}}]
[null,{"$f":"Sprawdz_pesel(Formularz!#REF!)","v":{"$error":"#VALUE!"}}]
[null,{"$f":"Sprawdz_pesel(Formularz!#REF!)","v":{"$error":"#VALUE!"}}]
[null,{"$f":"Sprawdz_pesel(Formularz!#REF!)","v":{"$error":"#VALUE!"}}]
[null,{"$f":"Sprawdz_pesel(Formularz!#REF!)","v":{"$error":"#VALUE!"}}]
[null,{"$f":"Sprawdz_pesel(Formularz!#REF!)","v":{"$error":"#VALUE!"}}]
[null,{"$f":"Sprawdz_pesel(Formularz!#REF!)","v":{"$error":"#VALUE!"}}]
[null,{"$f":"Sprawdz_pesel(Formularz!#REF!)","v":{"$error":"#VALUE!"}}]
[null,{"$f":"Sprawdz_pesel(Formularz!#REF!)","v":{"$error":"#VALUE!"}}]
[null,{"$f":"Sprawdz_pesel(Formularz!#REF!)","v":{"$error":"#VALUE!"}}]
[null,{"$f":"Sprawdz_pesel(Formularz!#REF!)","v":{"$error":"#VALUE!"}}]
[null,{"$f":"Sprawdz_pesel(Formularz!#REF!)","v":{"$error":"#VALUE!"}}]
[null,{"$f":"Sprawdz_pesel(Formularz!#REF!)","v":{"$error":"#VALUE!"}}]
[null,{"$f":"Sprawdz_pesel(Formularz!#REF!)","v":{"$error":"#VALUE!"}}]
[null,{"$f":"Sprawdz_pesel(Formularz!#REF!)","v":{"$error":"#VALUE!"}}]
[null,{"$f":"Sprawdz_pesel(Formularz!#REF!)","v":{"$error":"#VALUE!"}}]
[null,{"$f":"Sprawdz_pesel(Formularz!#REF!)","v":{"$error":"#VALUE!"}}]
[null,{"$f":"Sprawdz_pesel(Formularz!#REF!)","v":{"$error":"#VALUE!"}}]
[null,{"$f":"Sprawdz_pesel(Formularz!#REF!)","v":{"$error":"#VALUE!"}}]
[null,{"$f":"Sprawdz_pesel(Formularz!#REF!)","v":{"$error":"#VALUE!"}}]
[null,{"$f":"Sprawdz_pesel(Formularz!#REF!)","v":{"$error":"#VALUE!"}}]
[null,{"$f":"Sprawdz_pesel(Formularz!#REF!)","v":{"$error":"#VALUE!"}}]
[null,{"$f":"Sprawdz_pesel(Formularz!#REF!)","v":{"$error":"#VALUE!"}}]
[null,{"$f":"Sprawdz_pesel(Formularz!#REF!)","v":{"$error":"#VALUE!"}}]
[null,{"$f":"Sprawdz_pesel(Formularz!#REF!)","v":{"$error":"#VALUE!"}}]
[null,{"$f":"Sprawdz_pesel(Formularz!#REF!)","v":{"$error":"#VALUE!"}}]
[null,{"$f":"Sprawdz_pesel(Formularz!#REF!)","v":{"$error":"#VALUE!"}}]
[null,{"$f":"Sprawdz_pesel(Formularz!#REF!)","v":{"$error":"#VALUE!"}}]
[null,{"$f":"Sprawdz_pesel(Formularz!#REF!)","v":{"$error":"#VALUE!"}}]
[null,{"$f":"Sprawdz_pesel(Formularz!#REF!)","v":{"$error":"#VALUE!"}}]
[null,{"$f":"Sprawdz_pesel(Formularz!#REF!)","v":{"$error":"#VALUE!"}}]
[null,{"$f":"Sprawdz_pesel(Formularz!#REF!)","v":{"$error":"#VALUE!"}}]
[null,{"$f":"Sprawdz_pesel(Formularz!#REF!)","v":{"$error":"#VALUE!"}}]
[null,{"$f":"Sprawdz_pesel(Formularz!#REF!)","v":{"$error":"#VALUE!"}}]
[null,{"$f":"Sprawdz_pesel(Formularz!#REF!)","v":{"$error":"#VALUE!"}}]
[null,{"$f":"Sprawdz_pesel(Formularz!#REF!)","v":{"$error":"#VALUE!"}}]
[null,{"$f":"Sprawdz_pesel(Formularz!#REF!)","v":{"$error":"#VALUE!"}}]
[null,{"$f":"Sprawdz_pesel(Formularz!#REF!)","v":{"$error":"#VALUE!"}}]
[null,{"$f":"Sprawdz_pesel(Formularz!#REF!)","v":{"$error":"#VALUE!"}}]
[null,{"$f":"Sprawdz_pesel(Formularz!#REF!)","v":{"$error":"#VALUE!"}}]
[null,{"$f":"Sprawdz_pesel(Formularz!#REF!)","v":{"$error":"#VALUE!"}}]
[null,{"$f":"Sprawdz_pesel(Formularz!#REF!)","v":{"$error":"#VALUE!"}}]
[null,{"$f":"Sprawdz_pesel(Formularz!#REF!)","v":{"$error":"#VALUE!"}}]
[null,{"$f":"Sprawdz_pesel(Formularz!#REF!)","v":{"$error":"#VALUE!"}}]
[null,{"$f":"Sprawdz_pesel(Formularz!#REF!)","v":{"$error":"#VALUE!"}}]
[null,{"$f":"Sprawdz_pesel(Formularz!#REF!)","v":{"$error":"#VALUE!"}}]
[null,{"$f":"Sprawdz_pesel(Formularz!#REF!)","v":{"$error":"#VALUE!"}}]
[null,{"$f":"Sprawdz_pesel(Formularz!#REF!)","v":{"$error":"#VALUE!"}}]
[null,{"$f":"Sprawdz_pesel(Formularz!#REF!)","v":{"$error":"#VALUE!"}}]
[null,{"$f":"Sprawdz_pesel(Formularz!#REF!)","v":{"$error":"#VALUE!"}}]
[null,{"$f":"Sprawdz_pesel(Formularz!#REF!)","v":{"$error":"#VALUE!"}}]
[null,{"$f":"Sprawdz_pesel(Formularz!#REF!)","v":{"$error":"#VALUE!"}}]
[null,{"$f":"Sprawdz_pesel(Formularz!#REF!)","v":{"$error":"#VALUE!"}}]
[null,{"$f":"Sprawdz_pesel(Formularz!#REF!)","v":{"$error":"#VALUE!"}}]
[null,{"$f":"Sprawdz_pesel(Formularz!#REF!)","v":{"$error":"#VALUE!"}}]
[null,{"$f":"Sprawdz_pesel(Formularz!#REF!)","v":{"$error":"#VALUE!"}}]
[null,{"$f":"Sprawdz_pesel(Formularz!#REF!)","v":{"$error":"#VALUE!"}}]
[null,{"$f":"Sprawdz_pesel(Formularz!#REF!)","v":{"$error":"#VALUE!"}}]
[null,{"$f":"Sprawdz_pesel(Formularz!#REF!)","v":{"$error":"#VALUE!"}}]
[null,{"$f":"Sprawdz_pesel(Formularz!#REF!)","v":{"$error":"#VALUE!"}}]
[null,{"$f":"Sprawdz_pesel(Formularz!#REF!)","v":{"$error":"#VALUE!"}}]
[null,{"$f":"Sprawdz_pesel(Formularz!#REF!)","v":{"$error":"#VALUE!"}}]
[null,{"$f":"Sprawdz_pesel(Formularz!#REF!)","v":{"$error":"#VALUE!"}}]
[null,{"$f":"Sprawdz_pesel(Formularz!#REF!)","v":{"$error":"#VALUE!"}}]
[null,{"$f":"Sprawdz_pesel(Formularz!#REF!)","v":{"$error":"#VALUE!"}}]
[null,{"$f":"Sprawdz_pesel(Formularz!#REF!)","v":{"$error":"#VALUE!"}}]
[null,{"$f":"Sprawdz_pesel(Formularz!#REF!)","v":{"$error":"#VALUE!"}}]
[null,{"$f":"Sprawdz_pesel(Formularz!#REF!)","v":{"$error":"#VALUE!"}}]
[null,{"$f":"Sprawdz_pesel(Formularz!#REF!)","v":{"$error":"#VALUE!"}}]
[null,{"$f":"Sprawdz_pesel(Formularz!#REF!)","v":{"$error":"#VALUE!"}}]
[null,{"$f":"Sprawdz_pesel(Formularz!#REF!)","v":{"$error":"#VALUE!"}}]
[null,{"$f":"Sprawdz_pesel(Formularz!#REF!)","v":{"$error":"#VALUE!"}}]
[null,{"$f":"Sprawdz_pesel(Formularz!#REF!)","v":{"$error":"#VALUE!"}}]
[null,{"$f":"Sprawdz_pesel(Formularz!#REF!)","v":{"$error":"#VALUE!"}}]
[null,{"$f":"Sprawdz_pesel(Formularz!#REF!)","v":{"$error":"#VALUE!"}}]
[null,{"$f":"Sprawdz_pesel(Formularz!#REF!)","v":{"$error":"#VALUE!"}}]
[null,{"$f":"Sprawdz_pesel(Formularz!#REF!)","v":{"$error":"#VALUE!"}}]
[null,{"$f":"Sprawdz_pesel(Formularz!#REF!)","v":{"$error":"#VALUE!"}}]
[null,{"$f":"Sprawdz_pesel(Formularz!#REF!)","v":{"$error":"#VALUE!"}}]
[null,{"$f":"Sprawdz_pesel(Formularz!#REF!)","v":{"$error":"#VALUE!"}}]
[null,{"$f":"Sprawdz_pesel(Formularz!#REF!)","v":{"$error":"#VALUE!"}}]
[null,{"$f":"Sprawdz_pesel(Formularz!#REF!)","v":{"$error":"#VALUE!"}}]
[null,{"$f":"Sprawdz_pesel(Formularz!#REF!)","v":{"$error":"#VALUE!"}}]
[null,{"$f":"Sprawdz_pesel(Formularz!#REF!)","v":{"$error":"#VALUE!"}}]
[null,{"$f":"Sprawdz_pesel(Formularz!#REF!)","v":{"$error":"#VALUE!"}}]
[null,{"$f":"Sprawdz_pesel(Formularz!#REF!)","v":{"$error":"#VALUE!"}}]
[null,{"$f":"Sprawdz_pesel(Formularz!#REF!)","v":{"$error":"#VALUE!"}}]
[null,{"$f":"Sprawdz_pesel(Formularz!#REF!)","v":{"$error":"#VALUE!"}}]
[null,{"$f":"Sprawdz_pesel(Formularz!#REF!)","v":{"$error":"#VALUE!"}}]
[null,{"$f":"Sprawdz_pesel(Formularz!#REF!)","v":{"$error":"#VALUE!"}}]
[null,{"$f":"Sprawdz_pesel(Formularz!#REF!)","v":{"$error":"#VALUE!"}}]
[null,{"$f":"Sprawdz_pesel(Formularz!#REF!)","v":{"$error":"#VALUE!"}}]
[null,{"$f":"Sprawdz_pesel(Formularz!#REF!)","v":{"$error":"#VALUE!"}}]
[null,{"$f":"Sprawdz_pesel(Formularz!#REF!)","v":{"$error":"#VALUE!"}}]
[null,{"$f":"Sprawdz_pesel(Formularz!#REF!)","v":{"$error":"#VALUE!"}}]
[null,{"$f":"Sprawdz_pesel(Formularz!#REF!)","v":{"$error":"#VALUE!"}}]
[null,{"$f":"Sprawdz_pesel(Formularz!#REF!)","v":{"$error":"#VALUE!"}}]
[null,{"$f":"Sprawdz_pesel(Formularz!#REF!)","v":{"$error":"#VALUE!"}}]
[null,{"$f":"Sprawdz_pesel(Formularz!#REF!)","v":{"$error":"#VALUE!"}}]
[null,{"$f":"Sprawdz_pesel(Formularz!#REF!)","v":{"$error":"#VALUE!"}}]
[null,{"$f":"Sprawdz_pesel(Formularz!#REF!)","v":{"$error":"#VALUE!"}}]
[null,{"$f":"Sprawdz_pesel(Formularz!#REF!)","v":{"$error":"#VALUE!"}}]
[null,{"$f":"Sprawdz_pesel(Formularz!#REF!)","v":{"$error":"#VALUE!"}}]
[null,{"$f":"Sprawdz_pesel(Formularz!#REF!)","v":{"$error":"#VALUE!"}}]
[null,{"$f":"Sprawdz_pesel(Formularz!#REF!)","v":{"$error":"#VALUE!"}}]
[null,{"$f":"Sprawdz_pesel(Formularz!#REF!)","v":{"$error":"#VALUE!"}}]
[null,{"$f":"Sprawdz_pesel(Formularz!#REF!)","v":{"$error":"#VALUE!"}}]
[null,{"$f":"Sprawdz_pesel(Formularz!#REF!)","v":{"$error":"#VALUE!"}}]
[null,{"$f":"Sprawdz_pesel(Formularz!#REF!)","v":{"$error":"#VALUE!"}}]
[null,{"$f":"Sprawdz_pesel(Formularz!#REF!)","v":{"$error":"#VALUE!"}}]
[null,{"$f":"Sprawdz_pesel(Formularz!#REF!)","v":{"$error":"#VALUE!"}}]
[null,{"$f":"Sprawdz_pesel(Formularz!#REF!)","v":{"$error":"#VALUE!"}}]
[null,{"$f":"Sprawdz_pesel(Formularz!#REF!)","v":{"$error":"#VALUE!"}}]
[null,{"$f":"Sprawdz_pesel(Formularz!#REF!)","v":{"$error":"#VALUE!"}}]
[null,{"$f":"Sprawdz_pesel(Formularz!#REF!)","v":{"$error":"#VALUE!"}}]
[null,{"$f":"Sprawdz_pesel(Formularz!#REF!)","v":{"$error":"#VALUE!"}}]
[null,{"$f":"Sprawdz_pesel(Formularz!#REF!)","v":{"$error":"#VALUE!"}}]
[null,{"$f":"Sprawdz_pesel(Formularz!#REF!)","v":{"$error":"#VALUE!"}}]
[null,{"$f":"Sprawdz_pesel(Formularz!#REF!)","v":{"$error":"#VALUE!"}}]
[null,{"$f":"Sprawdz_pesel(Formularz!#REF!)","v":{"$error":"#VALUE!"}}]
[null,{"$f":"Sprawdz_pesel(Formularz!#REF!)","v":{"$error":"#VALUE!"}}]
[null,{"$f":"Sprawdz_pesel(Formularz!#REF!)","v":{"$error":"#VALUE!"}}]
[null,{"$f":"Sprawdz_pesel(Formularz!#REF!)","v":{"$error":"#VALUE!"}}]
[null,{"$f":"Sprawdz_pesel(Formularz!#REF!)","v":{"$error":"#VALUE!"}}]
[null,{"$f":"Sprawdz_pesel(Formularz!#REF!)","v":{"$error":"#VALUE!"}}]
[null,{"$f":"Sprawdz_pesel(Formularz!#REF!)","v":{"$error":"#VALUE!"}}]
[null,{"$f":"Sprawdz_pesel(Formularz!#REF!)","v":{"$error":"#VALUE!"}}]
[null,{"$f":"Sprawdz_pesel(Formularz!#REF!)","v":{"$error":"#VALUE!"}}]
[null,{"$f":"Sprawdz_pesel(Formularz!#REF!)","v":{"$error":"#VALUE!"}}]
[null,{"$f":"Sprawdz_pesel(Formularz!#REF!)","v":{"$error":"#VALUE!"}}]
[null,{"$f":"Sprawdz_pesel(Formularz!#REF!)","v":{"$error":"#VALUE!"}}]
[null,{"$f":"Sprawdz_pesel(Formularz!#REF!)","v":{"$error":"#VALUE!"}}]
[null,{"$f":"Sprawdz_pesel(Formularz!#REF!)","v":{"$error":"#VALUE!"}}]
[null,{"$f":"Sprawdz_pesel(Formularz!#REF!)","v":{"$error":"#VALUE!"}}]
[null,{"$f":"Sprawdz_pesel(Formularz!#REF!)","v":{"$error":"#VALUE!"}}]
[null,{"$f":"Sprawdz_pesel(Formularz!#REF!)","v":{"$error":"#VALUE!"}}]
[null,{"$f":"Sprawdz_pesel(Formularz!#REF!)","v":{"$error":"#VALUE!"}}]
[null,{"$f":"Sprawdz_pesel(Formularz!#REF!)","v":{"$error":"#VALUE!"}}]
[null,{"$f":"Sprawdz_pesel(Formularz!#REF!)","v":{"$error":"#VALUE!"}}]
[null,{"$f":"Sprawdz_pesel(Formularz!#REF!)","v":{"$error":"#VALUE!"}}]
[null,{"$f":"Sprawdz_pesel(Formularz!#REF!)","v":{"$error":"#VALUE!"}}]
[null,{"$f":"Sprawdz_pesel(Formularz!#REF!)","v":{"$error":"#VALUE!"}}]
[null,{"$f":"Sprawdz_pesel(Formularz!#REF!)","v":{"$error":"#VALUE!"}}]
[null,{"$f":"Sprawdz_pesel(Formularz!#REF!)","v":{"$error":"#VALUE!"}}]
[null,{"$f":"Sprawdz_pesel(Formularz!#REF!)","v":{"$error":"#VALUE!"}}]
[null,{"$f":"Sprawdz_pesel(Formularz!#REF!)","v":{"$error":"#VALUE!"}}]
[null,{"$f":"Sprawdz_pesel(Formularz!#REF!)","v":{"$error":"#VALUE!"}}]
[null,{"$f":"Sprawdz_pesel(Formularz!#REF!)","v":{"$error":"#VALUE!"}}]
[null,{"$f":"Sprawdz_pesel(Formularz!#REF!)","v":{"$error":"#VALUE!"}}]
[null,{"$f":"Sprawdz_pesel(Formularz!#REF!)","v":{"$error":"#VALUE!"}}]
[null,{"$f":"Sprawdz_pesel(Formularz!#REF!)","v":{"$error":"#VALUE!"}}]
[null,{"$f":"Sprawdz_pesel(Formularz!#REF!)","v":{"$error":"#VALUE!"}}]
[null,{"$f":"Sprawdz_pesel(Formularz!#REF!)","v":{"$error":"#VALUE!"}}]
[null,{"$f":"Sprawdz_pesel(Formularz!#REF!)","v":{"$error":"#VALUE!"}}]
[null,{"$f":"Sprawdz_pesel(Formularz!#REF!)","v":{"$error":"#VALUE!"}}]
[null,{"$f":"Sprawdz_pesel(Formularz!#REF!)","v":{"$error":"#VALUE!"}}]
[null,{"$f":"Sprawdz_pesel(Formularz!#REF!)","v":{"$error":"#VALUE!"}}]
[null,{"$f":"Sprawdz_pesel(Formularz!#REF!)","v":{"$error":"#VALUE!"}}]
[null,{"$f":"Sprawdz_pesel(Formularz!#REF!)","v":{"$error":"#VALUE!"}}]
[null,{"$f":"Sprawdz_pesel(Formularz!#REF!)","v":{"$error":"#VALUE!"}}]
[null,{"$f":"Sprawdz_pesel(Formularz!#REF!)","v":{"$error":"#VALUE!"}}]
[null,{"$f":"Sprawdz_pesel(Formularz!#REF!)","v":{"$error":"#VALUE!"}}]
[null,{"$f":"Sprawdz_pesel(Formularz!#REF!)","v":{"$error":"#VALUE!"}}]
[null,{"$f":"Sprawdz_pesel(Formularz!#REF!)","v":{"$error":"#VALUE!"}}]
[null,{"$f":"Sprawdz_pesel(Formularz!#REF!)","v":{"$error":"#VALUE!"}}]
[null,{"$f":"Sprawdz_pesel(Formularz!#REF!)","v":{"$error":"#VALUE!"}}]
[null,{"$f":"Sprawdz_pesel(Formularz!#REF!)","v":{"$error":"#VALUE!"}}]
[null,{"$f":"Sprawdz_pesel(Formularz!#REF!)","v":{"$error":"#VALUE!"}}]
[null,{"$f":"Sprawdz_pesel(Formularz!#REF!)","v":{"$error":"#VALUE!"}}]
[null,{"$f":"Sprawdz_pesel(Formularz!#REF!)","v":{"$error":"#VALUE!"}}]
[null,{"$f":"Sprawdz_pesel(Formularz!#REF!)","v":{"$error":"#VALUE!"}}]
[null,{"$f":"Sprawdz_pesel(Formularz!#REF!)","v":{"$error":"#VALUE!"}}]
[null,{"$f":"Sprawdz_pesel(Formularz!#REF!)","v":{"$error":"#VALUE!"}}]
[null,{"$f":"Sprawdz_pesel(Formularz!#REF!)","v":{"$error":"#VALUE!"}}]
[null,{"$f":"Sprawdz_pesel(Formularz!#REF!)","v":{"$error":"#VALUE!"}}]
[null,{"$f":"Sprawdz_pesel(Formularz!#REF!)","v":{"$error":"#VALUE!"}}]
[null,{"$f":"Sprawdz_pesel(Formularz!#REF!)","v":{"$error":"#VALUE!"}}]
[null,{"$f":"Sprawdz_pesel(Formularz!#REF!)","v":{"$error":"#VALUE!"}}]
[null,{"$f":"Sprawdz_pesel(Formularz!#REF!)","v":{"$error":"#VALUE!"}}]
[null,{"$f":"Sprawdz_pesel(Formularz!#REF!)","v":{"$error":"#VALUE!"}}]
[null,{"$f":"Sprawdz_pesel(Formularz!#REF!)","v":{"$error":"#VALUE!"}}]
[null,{"$f":"Sprawdz_pesel(Formularz!#REF!)","v":{"$error":"#VALUE!"}}]
[null,{"$f":"Sprawdz_pesel(Formularz!#REF!)","v":{"$error":"#VALUE!"}}]
[null,{"$f":"Sprawdz_pesel(Formularz!#REF!)","v":{"$error":"#VALUE!"}}]
[null,{"$f":"Sprawdz_pesel(Formularz!#REF!)","v":{"$error":"#VALUE!"}}]
[null,{"$f":"Sprawdz_pesel(Formularz!#REF!)","v":{"$error":"#VALUE!"}}]
[null,{"$f":"Sprawdz_pesel(Formularz!#REF!)","v":{"$error":"#VALUE!"}}]
[null,{"$f":"Sprawdz_pesel(Formularz!#REF!)","v":{"$error":"#VALUE!"}}]
[null,{"$f":"Sprawdz_pesel(Formularz!#REF!)","v":{"$error":"#VALUE!"}}]
[null,{"$f":"Sprawdz_pesel(Formularz!#REF!)","v":{"$error":"#VALUE!"}}]
[null,{"$f":"Sprawdz_pesel(Formularz!#REF!)","v":{"$error":"#VALUE!"}}]
[null,{"$f":"Sprawdz_pesel(Formularz!#REF!)","v":{"$error":"#VALUE!"}}]
[null,{"$f":"Sprawdz_pesel(Formularz!#REF!)","v":{"$error":"#VALUE!"}}]
[null,{"$f":"Sprawdz_pesel(Formularz!#REF!)","v":{"$error":"#VALUE!"}}]
[null,{"$f":"Sprawdz_pesel(Formularz!#REF!)","v":{"$error":"#VALUE!"}}]
[null,{"$f":"Sprawdz_pesel(Formularz!#REF!)","v":{"$error":"#VALUE!"}}]
[null,{"$f":"Sprawdz_pesel(Formularz!#REF!)","v":{"$error":"#VALUE!"}}]
[null,{"$f":"Sprawdz_pesel(Formularz!#REF!)","v":{"$error":"#VALUE!"}}]
[null,{"$f":"Sprawdz_pesel(Formularz!#REF!)","v":{"$error":"#VALUE!"}}]
[null,{"$f":"Sprawdz_pesel(Formularz!#REF!)","v":{"$error":"#VALUE!"}}]
[null,{"$f":"Sprawdz_pesel(Formularz!#REF!)","v":{"$error":"#VALUE!"}}]
[null,{"$f":"Sprawdz_pesel(Formularz!#REF!)","v":{"$error":"#VALUE!"}}]
[null,{"$f":"Sprawdz_pesel(Formularz!#REF!)","v":{"$error":"#VALUE!"}}]
[null,{"$f":"Sprawdz_pesel(Formularz!#REF!)","v":{"$error":"#VALUE!"}}]
[null,{"$f":"Sprawdz_pesel(Formularz!#REF!)","v":{"$error":"#VALUE!"}}]
[null,{"$f":"Sprawdz_pesel(Formularz!#REF!)","v":{"$error":"#VALUE!"}}]
[null,{"$f":"Sprawdz_pesel(Formularz!#REF!)","v":{"$error":"#VALUE!"}}]
[null,{"$f":"Sprawdz_pesel(Formularz!#REF!)","v":{"$error":"#VALUE!"}}]
[null,{"$f":"Sprawdz_pesel(Formularz!#REF!)","v":{"$error":"#VALUE!"}}]
[null,{"$f":"Sprawdz_pesel(Formularz!#REF!)","v":{"$error":"#VALUE!"}}]
[null,{"$f":"Sprawdz_pesel(Formularz!#REF!)","v":{"$error":"#VALUE!"}}]
[null,{"$f":"Sprawdz_pesel(Formularz!#REF!)","v":{"$error":"#VALUE!"}}]
[null,{"$f":"Sprawdz_pesel(Formularz!#REF!)","v":{"$error":"#VALUE!"}}]
[null,{"$f":"Sprawdz_pesel(Formularz!#REF!)","v":{"$error":"#VALUE!"}}]
[null,{"$f":"Sprawdz_pesel(Formularz!#REF!)","v":{"$error":"#VALUE!"}}]
[null,{"$f":"Sprawdz_pesel(Formularz!#REF!)","v":{"$error":"#VALUE!"}}]
[null,{"$f":"Sprawdz_pesel(Formularz!#REF!)","v":{"$error":"#VALUE!"}}]
[null,{"$f":"Sprawdz_pesel(Formularz!#REF!)","v":{"$error":"#VALUE!"}}]
[null,{"$f":"Sprawdz_pesel(Formularz!#REF!)","v":{"$error":"#VALUE!"}}]
[null,{"$f":"Sprawdz_pesel(Formularz!#REF!)","v":{"$error":"#VALUE!"}}]
[null,{"$f":"Sprawdz_pesel(Formularz!#REF!)","v":{"$error":"#VALUE!"}}]
[null,{"$f":"Sprawdz_pesel(Formularz!#REF!)","v":{"$error":"#VALUE!"}}]
[null,{"$f":"Sprawdz_pesel(Formularz!#REF!)","v":{"$error":"#VALUE!"}}]
[null,{"$f":"Sprawdz_pesel(Formularz!#REF!)","v":{"$error":"#VALUE!"}}]
[null,{"$f":"Sprawdz_pesel(Formularz!#REF!)","v":{"$error":"#VALUE!"}}]
[null,{"$f":"Sprawdz_pesel(Formularz!#REF!)","v":{"$error":"#VALUE!"}}]
[null,{"$f":"Sprawdz_pesel(Formularz!#REF!)","v":{"$error":"#VALUE!"}}]
[null,{"$f":"Sprawdz_pesel(Formularz!#REF!)","v":{"$error":"#VALUE!"}}]
[null,{"$f":"Sprawdz_pesel(Formularz!#REF!)","v":{"$error":"#VALUE!"}}]
[null,{"$f":"Sprawdz_pesel(Formularz!#REF!)","v":{"$error":"#VALUE!"}}]
[null,{"$f":"Sprawdz_pesel(Formularz!#REF!)","v":{"$error":"#VALUE!"}}]
[null,{"$f":"Sprawdz_pesel(Formularz!#REF!)","v":{"$error":"#VALUE!"}}]
[null,{"$f":"Sprawdz_pesel(Formularz!#REF!)","v":{"$error":"#VALUE!"}}]
[null,{"$f":"Sprawdz_pesel(Formularz!#REF!)","v":{"$error":"#VALUE!"}}]
[null,{"$f":"Sprawdz_pesel(Formularz!#REF!)","v":{"$error":"#VALUE!"}}]
[null,{"$f":"Sprawdz_pesel(Formularz!#REF!)","v":{"$error":"#VALUE!"}}]
[null,{"$f":"Sprawdz_pesel(Formularz!#REF!)","v":{"$error":"#VALUE!"}}]
[null,{"$f":"Sprawdz_pesel(Formularz!#REF!)","v":{"$error":"#VALUE!"}}]
[null,{"$f":"Sprawdz_pesel(Formularz!#REF!)","v":{"$error":"#VALUE!"}}]
[null,{"$f":"Sprawdz_pesel(Formularz!#REF!)","v":{"$error":"#VALUE!"}}]
[null,{"$f":"Sprawdz_pesel(Formularz!#REF!)","v":{"$error":"#VALUE!"}}]
[null,{"$f":"Sprawdz_pesel(Formularz!#REF!)","v":{"$error":"#VALUE!"}}]
[null,{"$f":"Sprawdz_pesel(Formularz!#REF!)","v":{"$error":"#VALUE!"}}]
[null,{"$f":"Sprawdz_pesel(Formularz!#REF!)","v":{"$error":"#VALUE!"}}]
[null,{"$f":"Sprawdz_pesel(Formularz!#REF!)","v":{"$error":"#VALUE!"}}]
[null,{"$f":"Sprawdz_pesel(Formularz!#REF!)","v":{"$error":"#VALUE!"}}]
[null,{"$f":"Sprawdz_pesel(Formularz!#REF!)","v":{"$error":"#VALUE!"}}]
[null,{"$f":"Sprawdz_pesel(Formularz!#REF!)","v":{"$error":"#VALUE!"}}]
[null,{"$f":"Sprawdz_pesel(Formularz!#REF!)","v":{"$error":"#VALUE!"}}]
[null,{"$f":"Sprawdz_pesel(Formularz!#REF!)","v":{"$error":"#VALUE!"}}]
[null,{"$f":"Sprawdz_pesel(Formularz!#REF!)","v":{"$error":"#VALUE!"}}]
[null,{"$f":"Sprawdz_pesel(Formularz!#REF!)","v":{"$error":"#VALUE!"}}]
[null,{"$f":"Sprawdz_pesel(Formularz!#REF!)","v":{"$error":"#VALUE!"}}]
[null,{"$f":"Sprawdz_pesel(Formularz!#REF!)","v":{"$error":"#VALUE!"}}]
[null,{"$f":"Sprawdz_pesel(Formularz!#REF!)","v":{"$error":"#VALUE!"}}]
[null,{"$f":"Sprawdz_pesel(Formularz!#REF!)","v":{"$error":"#VALUE!"}}]
[null,{"$f":"Sprawdz_pesel(Formularz!#REF!)","v":{"$error":"#VALUE!"}}]
[null,{"$f":"Sprawdz_pesel(Formularz!#REF!)","v":{"$error":"#VALUE!"}}]
[null,{"$f":"Sprawdz_pesel(Formularz!#REF!)","v":{"$error":"#VALUE!"}}]
[null,{"$f":"Sprawdz_pesel(Formularz!#REF!)","v":{"$error":"#VALUE!"}}]
[null,{"$f":"Sprawdz_pesel(Formularz!#REF!)","v":{"$error":"#VALUE!"}}]
[null,{"$f":"Sprawdz_pesel(Formularz!#REF!)","v":{"$error":"#VALUE!"}}]
[null,{"$f":"Sprawdz_pesel(Formularz!#REF!)","v":{"$error":"#VALUE!"}}]
[null,{"$f":"Sprawdz_pesel(Formularz!#REF!)","v":{"$error":"#VALUE!"}}]
[null,{"$f":"Sprawdz_pesel(Formularz!#REF!)","v":{"$error":"#VALUE!"}}]
[null,{"$f":"Sprawdz_pesel(Formularz!#REF!)","v":{"$error":"#VALUE!"}}]
[null,{"$f":"Sprawdz_pesel(Formularz!#REF!)","v":{"$error":"#VALUE!"}}]
[null,{"$f":"Sprawdz_pesel(Formularz!#REF!)","v":{"$error":"#VALUE!"}}]
[null,{"$f":"Sprawdz_pesel(Formularz!#REF!)","v":{"$error":"#VALUE!"}}]
[null,{"$f":"Sprawdz_pesel(Formularz!#REF!)","v":{"$error":"#VALUE!"}}]
[null,{"$f":"Sprawdz_pesel(Formularz!#REF!)","v":{"$error":"#VALUE!"}}]
[null,{"$f":"Sprawdz_pesel(Formularz!#REF!)","v":{"$error":"#VALUE!"}}]
[null,{"$f":"Sprawdz_pesel(Formularz!#REF!)","v":{"$error":"#VALUE!"}}]
[null,{"$f":"Sprawdz_pesel(Formularz!#REF!)","v":{"$error":"#VALUE!"}}]
[null,{"$f":"Sprawdz_pesel(Formularz!#REF!)","v":{"$error":"#VALUE!"}}]
[null,{"$f":"Sprawdz_pesel(Formularz!#REF!)","v":{"$error":"#VALUE!"}}]
[null,{"$f":"Sprawdz_pesel(Formularz!#REF!)","v":{"$error":"#VALUE!"}}]
[null,{"$f":"Sprawdz_pesel(Formularz!#REF!)","v":{"$error":"#VALUE!"}}]
[null,{"$f":"Sprawdz_pesel(Formularz!#REF!)","v":{"$error":"#VALUE!"}}]
[null,{"$f":"Sprawdz_pesel(Formularz!#REF!)","v":{"$error":"#VALUE!"}}]
[null,{"$f":"Sprawdz_pesel(Formularz!#REF!)","v":{"$error":"#VALUE!"}}]
[null,{"$f":"Sprawdz_pesel(Formularz!#REF!)","v":{"$error":"#VALUE!"}}]
[null,{"$f":"Sprawdz_pesel(Formularz!#REF!)","v":{"$error":"#VALUE!"}}]
[null,{"$f":"Sprawdz_pesel(Formularz!#REF!)","v":{"$error":"#VALUE!"}}]
[null,{"$f":"Sprawdz_pesel(Formularz!#REF!)","v":{"$error":"#VALUE!"}}]
[null,{"$f":"Sprawdz_pesel(Formularz!#REF!)","v":{"$error":"#VALUE!"}}]
[null,{"$f":"Sprawdz_pesel(Formularz!#REF!)","v":{"$error":"#VALUE!"}}]
[null,{"$f":"Sprawdz_pesel(Formularz!#REF!)","v":{"$error":"#VALUE!"}}]
[null,{"$f":"Sprawdz_pesel(Formularz!#REF!)","v":{"$error":"#VALUE!"}}]
[null,{"$f":"Sprawdz_pesel(Formularz!#REF!)","v":{"$error":"#VALUE!"}}]
[null,{"$f":"Sprawdz_pesel(Formularz!#REF!)","v":{"$error":"#VALUE!"}}]
[null,{"$f":"Sprawdz_pesel(Formularz!#REF!)","v":{"$error":"#VALUE!"}}]
[null,{"$f":"Sprawdz_pesel(Formularz!#REF!)","v":{"$error":"#VALUE!"}}]
[null,{"$f":"Sprawdz_pesel(Formularz!#REF!)","v":{"$error":"#VALUE!"}}]
[null,{"$f":"Sprawdz_pesel(Formularz!#REF!)","v":{"$error":"#VALUE!"}}]
[null,{"$f":"Sprawdz_pesel(Formularz!#REF!)","v":{"$error":"#VALUE!"}}]
[null,{"$f":"Sprawdz_pesel(Formularz!#REF!)","v":{"$error":"#VALUE!"}}]
[null,{"$f":"Sprawdz_pesel(Formularz!#REF!)","v":{"$error":"#VALUE!"}}]
[null,{"$f":"Sprawdz_pesel(Formularz!#REF!)","v":{"$error":"#VALUE!"}}]
[null,{"$f":"Sprawdz_pesel(Formularz!#REF!)","v":{"$error":"#VALUE!"}}]
[null,{"$f":"Sprawdz_pesel(Formularz!#REF!)","v":{"$error":"#VALUE!"}}]
[null,{"$f":"Sprawdz_pesel(Formularz!#REF!)","v":{"$error":"#VALUE!"}}]
[null,{"$f":"Sprawdz_pesel(Formularz!#REF!)","v":{"$error":"#VALUE!"}}]
[null,{"$f":"Sprawdz_pesel(Formularz!#REF!)","v":{"$error":"#VALUE!"}}]
[null,{"$f":"Sprawdz_pesel(Formularz!#REF!)","v":{"$error":"#VALUE!"}}]
[null,{"$f":"Sprawdz_pesel(Formularz!#REF!)","v":{"$error":"#VALUE!"}}]
[null,{"$f":"Sprawdz_pesel(Formularz!#REF!)","v":{"$error":"#VALUE!"}}]
[null,{"$f":"Sprawdz_pesel(Formularz!#REF!)","v":{"$error":"#VALUE!"}}]
[null,{"$f":"Sprawdz_pesel(Formularz!#REF!)","v":{"$error":"#VALUE!"}}]
[null,{"$f":"Sprawdz_pesel(Formularz!#REF!)","v":{"$error":"#VALUE!"}}]
[null,{"$f":"Sprawdz_pesel(Formularz!#REF!)","v":{"$error":"#VALUE!"}}]
[null,{"$f":"Sprawdz_pesel(Formularz!#REF!)","v":{"$error":"#VALUE!"}}]
[null,{"$f":"Sprawdz_pesel(Formularz!#REF!)","v":{"$error":"#VALUE!"}}]
[null,{"$f":"Sprawdz_pesel(Formularz!#REF!)","v":{"$error":"#VALUE!"}}]
[null,{"$f":"Sprawdz_pesel(Formularz!#REF!)","v":{"$error":"#VALUE!"}}]
[null,{"$f":"Sprawdz_pesel(Formularz!#REF!)","v":{"$error":"#VALUE!"}}]
[null,{"$f":"Sprawdz_pesel(Formularz!#REF!)","v":{"$error":"#VALUE!"}}]
[null,{"$f":"Sprawdz_pesel(Formularz!#REF!)","v":{"$error":"#VALUE!"}}]
[null,{"$f":"Sprawdz_pesel(Formularz!#REF!)","v":{"$error":"#VALUE!"}}]
[null,{"$f":"Sprawdz_pesel(Formularz!#REF!)","v":{"$error":"#VALUE!"}}]
[null,{"$f":"Sprawdz_pesel(Formularz!#REF!)","v":{"$error":"#VALUE!"}}]
[null,{"$f":"Sprawdz_pesel(Formularz!#REF!)","v":{"$error":"#VALUE!"}}]
[null,{"$f":"Sprawdz_pesel(Formularz!#REF!)","v":{"$error":"#VALUE!"}}]
[null,{"$f":"Sprawdz_pesel(Formularz!#REF!)","v":{"$error":"#VALUE!"}}]
[null,{"$f":"Sprawdz_pesel(Formularz!#REF!)","v":{"$error":"#VALUE!"}}]
[null,{"$f":"Sprawdz_pesel(Formularz!#REF!)","v":{"$error":"#VALUE!"}}]
[null,{"$f":"Sprawdz_pesel(Formularz!#REF!)","v":{"$error":"#VALUE!"}}]
[null,{"$f":"Sprawdz_pesel(Formularz!#REF!)","v":{"$error":"#VALUE!"}}]
[null,{"$f":"Sprawdz_pesel(Formularz!#REF!)","v":{"$error":"#VALUE!"}}]
[null,{"$f":"Sprawdz_pesel(Formularz!#REF!)","v":{"$error":"#VALUE!"}}]
[null,{"$f":"Sprawdz_pesel(Formularz!#REF!)","v":{"$error":"#VALUE!"}}]
[null,{"$f":"Sprawdz_pesel(Formularz!#REF!)","v":{"$error":"#VALUE!"}}]
[null,{"$f":"Sprawdz_pesel(Formularz!#REF!)","v":{"$error":"#VALUE!"}}]
[null,{"$f":"Sprawdz_pesel(Formularz!#REF!)","v":{"$error":"#VALUE!"}}]
[null,{"$f":"Sprawdz_pesel(Formularz!#REF!)","v":{"$error":"#VALUE!"}}]
[null,{"$f":"Sprawdz_pesel(Formularz!#REF!)","v":{"$error":"#VALUE!"}}]
[null,{"$f":"Sprawdz_pesel(Formularz!#REF!)","v":{"$error":"#VALUE!"}}]
[null,{"$f":"Sprawdz_pesel(Formularz!#REF!)","v":{"$error":"#VALUE!"}}]
[null,{"$f":"Sprawdz_pesel(Formularz!#REF!)","v":{"$error":"#VALUE!"}}]
[null,{"$f":"Sprawdz_pesel(Formularz!#REF!)","v":{"$error":"#VALUE!"}}]
[null,{"$f":"Sprawdz_pesel(Formularz!#REF!)","v":{"$error":"#VALUE!"}}]
[null,{"$f":"Sprawdz_pesel(Formularz!#REF!)","v":{"$error":"#VALUE!"}}]
[null,{"$f":"Sprawdz_pesel(Formularz!#REF!)","v":{"$error":"#VALUE!"}}]
[null,{"$f":"Sprawdz_pesel(Formularz!#REF!)","v":{"$error":"#VALUE!"}}]
[null,{"$f":"Sprawdz_pesel(Formularz!#REF!)","v":{"$error":"#VALUE!"}}]
[null,{"$f":"Sprawdz_pesel(Formularz!#REF!)","v":{"$error":"#VALUE!"}}]
[null,{"$f":"Sprawdz_pesel(Formularz!#REF!)","v":{"$error":"#VALUE!"}}]
[null,{"$f":"Sprawdz_pesel(Formularz!#REF!)","v":{"$error":"#VALUE!"}}]
[null,{"$f":"Sprawdz_pesel(Formularz!#REF!)","v":{"$error":"#VALUE!"}}]
[null,{"$f":"Sprawdz_pesel(Formularz!#REF!)","v":{"$error":"#VALUE!"}}]
[null,{"$f":"Sprawdz_pesel(Formularz!#REF!)","v":{"$error":"#VALUE!"}}]
[null,{"$f":"Sprawdz_pesel(Formularz!#REF!)","v":{"$error":"#VALUE!"}}]
[null,{"$f":"Sprawdz_pesel(Formularz!#REF!)","v":{"$error":"#VALUE!"}}]
[null,{"$f":"Sprawdz_pesel(Formularz!#REF!)","v":{"$error":"#VALUE!"}}]
[null,{"$f":"Sprawdz_pesel(Formularz!#REF!)","v":{"$error":"#VALUE!"}}]
[null,{"$f":"Sprawdz_pesel(Formularz!#REF!)","v":{"$error":"#VALUE!"}}]
[null,{"$f":"Sprawdz_pesel(Formularz!#REF!)","v":{"$error":"#VALUE!"}}]
[null,{"$f":"Sprawdz_pesel(Formularz!#REF!)","v":{"$error":"#VALUE!"}}]
[null,{"$f":"Sprawdz_pesel(Formularz!#REF!)","v":{"$error":"#VALUE!"}}]
[null,{"$f":"Sprawdz_pesel(Formularz!#REF!)","v":{"$error":"#VALUE!"}}]
[null,{"$f":"Sprawdz_pesel(Formularz!#REF!)","v":{"$error":"#VALUE!"}}]
[null,{"$f":"Sprawdz_pesel(Formularz!#REF!)","v":{"$error":"#VALUE!"}}]
[null,{"$f":"Sprawdz_pesel(Formularz!#REF!)","v":{"$error":"#VALUE!"}}]
[null,{"$f":"Sprawdz_pesel(Formularz!#REF!)","v":{"$error":"#VALUE!"}}]
[null,{"$f":"Sprawdz_pesel(Formularz!#REF!)","v":{"$error":"#VALUE!"}}]
[null,{"$f":"Sprawdz_pesel(Formularz!#REF!)","v":{"$error":"#VALUE!"}}]
[null,{"$f":"Sprawdz_pesel(Formularz!#REF!)","v":{"$error":"#VALUE!"}}]
[null,{"$f":"Sprawdz_pesel(Formularz!#REF!)","v":{"$error":"#VALUE!"}}]
[null,{"$f":"Sprawdz_pesel(Formularz!#REF!)","v":{"$error":"#VALUE!"}}]
[null,{"$f":"Sprawdz_pesel(Formularz!#REF!)","v":{"$error":"#VALUE!"}}]
[null,{"$f":"Sprawdz_pesel(Formularz!#REF!)","v":{"$error":"#VALUE!"}}]
[null,{"$f":"Sprawdz_pesel(Formularz!#REF!)","v":{"$error":"#VALUE!"}}]
[null,{"$f":"Sprawdz_pesel(Formularz!#REF!)","v":{"$error":"#VALUE!"}}]
[null,{"$f":"Sprawdz_pesel(Formularz!#REF!)","v":{"$error":"#VALUE!"}}]
[null,{"$f":"Sprawdz_pesel(Formularz!#REF!)","v":{"$error":"#VALUE!"}}]
[null,{"$f":"Sprawdz_pesel(Formularz!#REF!)","v":{"$error":"#VALUE!"}}]
[null,{"$f":"Sprawdz_pesel(Formularz!#REF!)","v":{"$error":"#VALUE!"}}]
[null,{"$f":"Sprawdz_pesel(Formularz!#REF!)","v":{"$error":"#VALUE!"}}]
[null,{"$f":"Sprawdz_pesel(Formularz!#REF!)","v":{"$error":"#VALUE!"}}]
[null,{"$f":"Sprawdz_pesel(Formularz!#REF!)","v":{"$error":"#VALUE!"}}]
[null,{"$f":"Sprawdz_pesel(Formularz!#REF!)","v":{"$error":"#VALUE!"}}]
[null,{"$f":"Sprawdz_pesel(Formularz!#REF!)","v":{"$error":"#VALUE!"}}]
[null,{"$f":"Sprawdz_pesel(Formularz!#REF!)","v":{"$error":"#VALUE!"}}]
[null,{"$f":"Sprawdz_pesel(Formularz!#REF!)","v":{"$error":"#VALUE!"}}]
[null,{"$f":"Sprawdz_pesel(Formularz!#REF!)","v":{"$error":"#VALUE!"}}]
[null,{"$f":"Sprawdz_pesel(Formularz!#REF!)","v":{"$error":"#VALUE!"}}]
[null,{"$f":"Sprawdz_pesel(Formularz!#REF!)","v":{"$error":"#VALUE!"}}]
[null,{"$f":"Sprawdz_pesel(Formularz!#REF!)","v":{"$error":"#VALUE!"}}]
[null,{"$f":"Sprawdz_pesel(Formularz!#REF!)","v":{"$error":"#VALUE!"}}]
[null,{"$f":"Sprawdz_pesel(Formularz!#REF!)","v":{"$error":"#VALUE!"}}]
[null,{"$f":"Sprawdz_pesel(Formularz!#REF!)","v":{"$error":"#VALUE!"}}]
[null,{"$f":"Sprawdz_pesel(Formularz!#REF!)","v":{"$error":"#VALUE!"}}]
[null,{"$f":"Sprawdz_pesel(Formularz!#REF!)","v":{"$error":"#VALUE!"}}]
[null,{"$f":"Sprawdz_pesel(Formularz!#REF!)","v":{"$error":"#VALUE!"}}]
[null,{"$f":"Sprawdz_pesel(Formularz!#REF!)","v":{"$error":"#VALUE!"}}]
[null,{"$f":"Sprawdz_pesel(Formularz!#REF!)","v":{"$error":"#VALUE!"}}]
[null,{"$f":"Sprawdz_pesel(Formularz!#REF!)","v":{"$error":"#VALUE!"}}]
[null,{"$f":"Sprawdz_pesel(Formularz!#REF!)","v":{"$error":"#VALUE!"}}]
[null,{"$f":"Sprawdz_pesel(Formularz!#REF!)","v":{"$error":"#VALUE!"}}]
[null,{"$f":"Sprawdz_pesel(Formularz!#REF!)","v":{"$error":"#VALUE!"}}]
[null,{"$f":"Sprawdz_pesel(Formularz!#REF!)","v":{"$error":"#VALUE!"}}]
[null,{"$f":"Sprawdz_pesel(Formularz!#REF!)","v":{"$error":"#VALUE!"}}]
[null,{"$f":"Sprawdz_pesel(Formularz!#REF!)","v":{"$error":"#VALUE!"}}]
[null,{"$f":"Sprawdz_pesel(Formularz!#REF!)","v":{"$error":"#VALUE!"}}]
[null,{"$f":"Sprawdz_pesel(Formularz!#REF!)","v":{"$error":"#VALUE!"}}]
[null,{"$f":"Sprawdz_pesel(Formularz!#REF!)","v":{"$error":"#VALUE!"}}]
[null,{"$f":"Sprawdz_pesel(Formularz!#REF!)","v":{"$error":"#VALUE!"}}]
[null,{"$f":"Sprawdz_pesel(Formularz!#REF!)","v":{"$error":"#VALUE!"}}]
[null,{"$f":"Sprawdz_pesel(Formularz!#REF!)","v":{"$error":"#VALUE!"}}]
[null,{"$f":"Sprawdz_pesel(Formularz!#REF!)","v":{"$error":"#VALUE!"}}]
[null,{"$f":"Sprawdz_pesel(Formularz!#REF!)","v":{"$error":"#VALUE!"}}]
[null,{"$f":"Sprawdz_pesel(Formularz!#REF!)","v":{"$error":"#VALUE!"}}]
[null,{"$f":"Sprawdz_pesel(Formularz!#REF!)","v":{"$error":"#VALUE!"}}]
[null,{"$f":"Sprawdz_pesel(Formularz!#REF!)","v":{"$error":"#VALUE!"}}]
[null,{"$f":"Sprawdz_pesel(Formularz!#REF!)","v":{"$error":"#VALUE!"}}]
[null,{"$f":"Sprawdz_pesel(Formularz!#REF!)","v":{"$error":"#VALUE!"}}]
[null,{"$f":"Sprawdz_pesel(Formularz!#REF!)","v":{"$error":"#VALUE!"}}]
[null,{"$f":"Sprawdz_pesel(Formularz!#REF!)","v":{"$error":"#VALUE!"}}]
[null,{"$f":"Sprawdz_pesel(Formularz!#REF!)","v":{"$error":"#VALUE!"}}]
[null,{"$f":"Sprawdz_pesel(Formularz!#REF!)","v":{"$error":"#VALUE!"}}]
[null,{"$f":"Sprawdz_pesel(Formularz!#REF!)","v":{"$error":"#VALUE!"}}]
[null,{"$f":"Sprawdz_pesel(Formularz!#REF!)","v":{"$error":"#VALUE!"}}]
[null,{"$f":"Sprawdz_pesel(Formularz!#REF!)","v":{"$error":"#VALUE!"}}]
[null,{"$f":"Sprawdz_pesel(Formularz!#REF!)","v":{"$error":"#VALUE!"}}]
[null,{"$f":"Sprawdz_pesel(Formularz!#REF!)","v":{"$error":"#VALUE!"}}]
[null,{"$f":"Sprawdz_pesel(Formularz!#REF!)","v":{"$error":"#VALUE!"}}]
[null,{"$f":"Sprawdz_pesel(Formularz!#REF!)","v":{"$error":"#VALUE!"}}]
[null,{"$f":"Sprawdz_pesel(Formularz!#REF!)","v":{"$error":"#VALUE!"}}]
[null,{"$f":"Sprawdz_pesel(Formularz!#REF!)","v":{"$error":"#VALUE!"}}]
[null,{"$f":"Sprawdz_pesel(Formularz!#REF!)","v":{"$error":"#VALUE!"}}]
[null,{"$f":"Sprawdz_pesel(Formularz!#REF!)","v":{"$error":"#VALUE!"}}]
[null,{"$f":"Sprawdz_pesel(Formularz!#REF!)","v":{"$error":"#VALUE!"}}]
[null,{"$f":"Sprawdz_pesel(Formularz!#REF!)","v":{"$error":"#VALUE!"}}]
[null,{"$f":"Sprawdz_pesel(Formularz!#REF!)","v":{"$error":"#VALUE!"}}]
[null,{"$f":"Sprawdz_pesel(Formularz!#REF!)","v":{"$error":"#VALUE!"}}]
[null,{"$f":"Sprawdz_pesel(Formularz!#REF!)","v":{"$error":"#VALUE!"}}]
[null,{"$f":"Sprawdz_pesel(Formularz!#REF!)","v":{"$error":"#VALUE!"}}]
[null,{"$f":"Sprawdz_pesel(Formularz!#REF!)","v":{"$error":"#VALUE!"}}]
[null,{"$f":"Sprawdz_pesel(Formularz!#REF!)","v":{"$error":"#VALUE!"}}]
[null,{"$f":"Sprawdz_pesel(Formularz!#REF!)","v":{"$error":"#VALUE!"}}]
[null,{"$f":"Sprawdz_pesel(Formularz!#REF!)","v":{"$error":"#VALUE!"}}]
[null,{"$f":"Sprawdz_pesel(Formularz!#REF!)","v":{"$error":"#VALUE!"}}]
[null,{"$f":"Sprawdz_pesel(Formularz!#REF!)","v":{"$error":"#VALUE!"}}]
[null,{"$f":"Sprawdz_pesel(Formularz!#REF!)","v":{"$error":"#VALUE!"}}]
[null,{"$f":"Sprawdz_pesel(Formularz!#REF!)","v":{"$error":"#VALUE!"}}]
[null,{"$f":"Sprawdz_pesel(Formularz!#REF!)","v":{"$error":"#VALUE!"}}]
[null,{"$f":"Sprawdz_pesel(Formularz!#REF!)","v":{"$error":"#VALUE!"}}]
[null,{"$f":"Sprawdz_pesel(Formularz!#REF!)","v":{"$error":"#VALUE!"}}]
[null,{"$f":"Sprawdz_pesel(Formularz!#REF!)","v":{"$error":"#VALUE!"}}]
[null,{"$f":"Sprawdz_pesel(Formularz!#REF!)","v":{"$error":"#VALUE!"}}]
[null,{"$f":"Sprawdz_pesel(Formularz!#REF!)","v":{"$error":"#VALUE!"}}]
[null,{"$f":"Sprawdz_pesel(Formularz!#REF!)","v":{"$error":"#VALUE!"}}]
[null,{"$f":"Sprawdz_pesel(Formularz!#REF!)","v":{"$error":"#VALUE!"}}]
[null,{"$f":"Sprawdz_pesel(Formularz!#REF!)","v":{"$error":"#VALUE!"}}]
[null,{"$f":"Sprawdz_pesel(Formularz!#REF!)","v":{"$error":"#VALUE!"}}]
[null,{"$f":"Sprawdz_pesel(Formularz!#REF!)","v":{"$error":"#VALUE!"}}]
[null,{"$f":"Sprawdz_pesel(Formularz!#REF!)","v":{"$error":"#VALUE!"}}]
[null,{"$f":"Sprawdz_pesel(Formularz!#REF!)","v":{"$error":"#VALUE!"}}]
[null,{"$f":"Sprawdz_pesel(Formularz!#REF!)","v":{"$error":"#VALUE!"}}]
[null,{"$f":"Sprawdz_pesel(Formularz!#REF!)","v":{"$error":"#VALUE!"}}]
[null,{"$f":"Sprawdz_pesel(Formularz!#REF!)","v":{"$error":"#VALUE!"}}]
[null,{"$f":"Sprawdz_pesel(Formularz!#REF!)","v":{"$error":"#VALUE!"}}]
[null,{"$f":"Sprawdz_pesel(Formularz!#REF!)","v":{"$error":"#VALUE!"}}]
[null,{"$f":"Sprawdz_pesel(Formularz!#REF!)","v":{"$error":"#VALUE!"}}]
[null,{"$f":"Sprawdz_pesel(Formularz!#REF!)","v":{"$error":"#VALUE!"}}]
[null,{"$f":"Sprawdz_pesel(Formularz!#REF!)","v":{"$error":"#VALUE!"}}]
[null,{"$f":"Sprawdz_pesel(Formularz!#REF!)","v":{"$error":"#VALUE!"}}]
[null,{"$f":"Sprawdz_pesel(Formularz!#REF!)","v":{"$error":"#VALUE!"}}]
[null,{"$f":"Sprawdz_pesel(Formularz!#REF!)","v":{"$error":"#VALUE!"}}]
[null,{"$f":"Sprawdz_pesel(Formularz!#REF!)","v":{"$error":"#VALUE!"}}]
[null,{"$f":"Sprawdz_pesel(Formularz!#REF!)","v":{"$error":"#VALUE!"}}]
[null,{"$f":"Sprawdz_pesel(Formularz!#REF!)","v":{"$error":"#VALUE!"}}]
[null,{"$f":"Sprawdz_pesel(Formularz!#REF!)","v":{"$error":"#VALUE!"}}]
[null,{"$f":"Sprawdz_pesel(Formularz!#REF!)","v":{"$error":"#VALUE!"}}]
[null,{"$f":"Sprawdz_pesel(Formularz!#REF!)","v":{"$error":"#VALUE!"}}]
[null,{"$f":"Sprawdz_pesel(Formularz!#REF!)","v":{"$error":"#VALUE!"}}]
[null,{"$f":"Sprawdz_pesel(Formularz!#REF!)","v":{"$error":"#VALUE!"}}]
[null,{"$f":"Sprawdz_pesel(Formularz!#REF!)","v":{"$error":"#VALUE!"}}]
[null,{"$f":"Sprawdz_pesel(Formularz!#REF!)","v":{"$error":"#VALUE!"}}]
[null,{"$f":"Sprawdz_pesel(Formularz!#REF!)","v":{"$error":"#VALUE!"}}]
[null,{"$f":"Sprawdz_pesel(Formularz!#REF!)","v":{"$error":"#VALUE!"}}]
[null,{"$f":"Sprawdz_pesel(Formularz!#REF!)","v":{"$error":"#VALUE!"}}]
[null,{"$f":"Sprawdz_pesel(Formularz!#REF!)","v":{"$error":"#VALUE!"}}]
[null,{"$f":"Sprawdz_pesel(Formularz!#REF!)","v":{"$error":"#VALUE!"}}]
[null,{"$f":"Sprawdz_pesel(Formularz!#REF!)","v":{"$error":"#VALUE!"}}]
[null,{"$f":"Sprawdz_pesel(Formularz!#REF!)","v":{"$error":"#VALUE!"}}]
[null,{"$f":"Sprawdz_pesel(Formularz!#REF!)","v":{"$error":"#VALUE!"}}]
[null,{"$f":"Sprawdz_pesel(Formularz!#REF!)","v":{"$error":"#VALUE!"}}]
[null,{"$f":"Sprawdz_pesel(Formularz!#REF!)","v":{"$error":"#VALUE!"}}]
[null,{"$f":"Sprawdz_pesel(Formularz!#REF!)","v":{"$error":"#VALUE!"}}]
[null,{"$f":"Sprawdz_pesel(Formularz!#REF!)","v":{"$error":"#VALUE!"}}]
[null,{"$f":"Sprawdz_pesel(Formularz!#REF!)","v":{"$error":"#VALUE!"}}]
[null,{"$f":"Sprawdz_pesel(Formularz!#REF!)","v":{"$error":"#VALUE!"}}]
[null,{"$f":"Sprawdz_pesel(Formularz!#REF!)","v":{"$error":"#VALUE!"}}]
[null,{"$f":"Sprawdz_pesel(Formularz!#REF!)","v":{"$error":"#VALUE!"}}]
[null,{"$f":"Sprawdz_pesel(Formularz!#REF!)","v":{"$error":"#VALUE!"}}]
[null,{"$f":"Sprawdz_pesel(Formularz!#REF!)","v":{"$error":"#VALUE!"}}]
[null,{"$f":"Sprawdz_pesel(Formularz!#REF!)","v":{"$error":"#VALUE!"}}]
[null,{"$f":"Sprawdz_pesel(Formularz!#REF!)","v":{"$error":"#VALUE!"}}]
[null,{"$f":"Sprawdz_pesel(Formularz!#REF!)","v":{"$error":"#VALUE!"}}]
[null,{"$f":"Sprawdz_pesel(Formularz!#REF!)","v":{"$error":"#VALUE!"}}]
[null,{"$f":"Sprawdz_pesel(Formularz!#REF!)","v":{"$error":"#VALUE!"}}]
[null,{"$f":"Sprawdz_pesel(Formularz!#REF!)","v":{"$error":"#VALUE!"}}]
[null,{"$f":"Sprawdz_pesel(Formularz!#REF!)","v":{"$error":"#VALUE!"}}]
[null,{"$f":"Sprawdz_pesel(Formularz!#REF!)","v":{"$error":"#VALUE!"}}]
[null,{"$f":"Sprawdz_pesel(Formularz!#REF!)","v":{"$error":"#VALUE!"}}]
[null,{"$f":"Sprawdz_pesel(Formularz!#REF!)","v":{"$error":"#VALUE!"}}]
[null,{"$f":"Sprawdz_pesel(Formularz!#REF!)","v":{"$error":"#VALUE!"}}]
[null,{"$f":"Sprawdz_pesel(Formularz!#REF!)","v":{"$error":"#VALUE!"}}]
[null,{"$f":"Sprawdz_pesel(Formularz!#REF!)","v":{"$error":"#VALUE!"}}]
[null,{"$f":"Sprawdz_pesel(Formularz!#REF!)","v":{"$error":"#VALUE!"}}]
[null,{"$f":"Sprawdz_pesel(Formularz!#REF!)","v":{"$error":"#VALUE!"}}]
[null,{"$f":"Sprawdz_pesel(Formularz!#REF!)","v":{"$error":"#VALUE!"}}]
[null,{"$f":"Sprawdz_pesel(Formularz!#REF!)","v":{"$error":"#VALUE!"}}]
[null,{"$f":"Sprawdz_pesel(Formularz!#REF!)","v":{"$error":"#VALUE!"}}]
[null,{"$f":"Sprawdz_pesel(Formularz!#REF!)","v":{"$error":"#VALUE!"}}]
[null,{"$f":"Sprawdz_pesel(Formularz!#REF!)","v":{"$error":"#VALUE!"}}]
[null,{"$f":"Sprawdz_pesel(Formularz!#REF!)","v":{"$error":"#VALUE!"}}]
[null,{"$f":"Sprawdz_pesel(Formularz!#REF!)","v":{"$error":"#VALUE!"}}]
[null,{"$f":"Sprawdz_pesel(Formularz!#REF!)","v":{"$error":"#VALUE!"}}]
[null,{"$f":"Sprawdz_pesel(Formularz!#REF!)","v":{"$error":"#VALUE!"}}]
[null,{"$f":"Sprawdz_pesel(Formularz!#REF!)","v":{"$error":"#VALUE!"}}]
[null,{"$f":"Sprawdz_pesel(Formularz!#REF!)","v":{"$error":"#VALUE!"}}]
[null,{"$f":"Sprawdz_pesel(Formularz!#REF!)","v":{"$error":"#VALUE!"}}]
[null,{"$f":"Sprawdz_pesel(Formularz!#REF!)","v":{"$error":"#VALUE!"}}]
[null,{"$f":"Sprawdz_pesel(Formularz!#REF!)","v":{"$error":"#VALUE!"}}]
[null,{"$f":"Sprawdz_pesel(Formularz!#REF!)","v":{"$error":"#VALUE!"}}]
[null,{"$f":"Sprawdz_pesel(Formularz!#REF!)","v":{"$error":"#VALUE!"}}]
[null,{"$f":"Sprawdz_pesel(Formularz!#REF!)","v":{"$error":"#VALUE!"}}]
[null,{"$f":"Sprawdz_pesel(Formularz!#REF!)","v":{"$error":"#VALUE!"}}]
[null,{"$f":"Sprawdz_pesel(Formularz!#REF!)","v":{"$error":"#VALUE!"}}]
[null,{"$f":"Sprawdz_pesel(Formularz!#REF!)","v":{"$error":"#VALUE!"}}]
[null,{"$f":"Sprawdz_pesel(Formularz!#REF!)","v":{"$error":"#VALUE!"}}]
[null,{"$f":"Sprawdz_pesel(Formularz!#REF!)","v":{"$error":"#VALUE!"}}]
[null,{"$f":"Sprawdz_pesel(Formularz!#REF!)","v":{"$error":"#VALUE!"}}]
[null,{"$f":"Sprawdz_pesel(Formularz!#REF!)","v":{"$error":"#VALUE!"}}]
[null,{"$f":"Sprawdz_pesel(Formularz!#REF!)","v":{"$error":"#VALUE!"}}]
[null,{"$f":"Sprawdz_pesel(Formularz!#REF!)","v":{"$error":"#VALUE!"}}]
[null,{"$f":"Sprawdz_pesel(Formularz!#REF!)","v":{"$error":"#VALUE!"}}]
[null,{"$f":"Sprawdz_pesel(Formularz!#REF!)","v":{"$error":"#VALUE!"}}]
[null,{"$f":"Sprawdz_pesel(Formularz!#REF!)","v":{"$error":"#VALUE!"}}]
[null,{"$f":"Sprawdz_pesel(Formularz!#REF!)","v":{"$error":"#VALUE!"}}]
[null,{"$f":"Sprawdz_pesel(Formularz!#REF!)","v":{"$error":"#VALUE!"}}]
[null,{"$f":"Sprawdz_pesel(Formularz!#REF!)","v":{"$error":"#VALUE!"}}]
[null,{"$f":"Sprawdz_pesel(Formularz!#REF!)","v":{"$error":"#VALUE!"}}]
[null,{"$f":"Sprawdz_pesel(Formularz!#REF!)","v":{"$error":"#VALUE!"}}]
[null,{"$f":"Sprawdz_pesel(Formularz!#REF!)","v":{"$error":"#VALUE!"}}]
[null,{"$f":"Sprawdz_pesel(Formularz!#REF!)","v":{"$error":"#VALUE!"}}]
[null,{"$f":"Sprawdz_pesel(Formularz!#REF!)","v":{"$error":"#VALUE!"}}]
[null,{"$f":"Sprawdz_pesel(Formularz!#REF!)","v":{"$error":"#VALUE!"}}]
[null,{"$f":"Sprawdz_pesel(Formularz!#REF!)","v":{"$error":"#VALUE!"}}]
[null,{"$f":"Sprawdz_pesel(Formularz!#REF!)","v":{"$error":"#VALUE!"}}]
[null,{"$f":"Sprawdz_pesel(Formularz!#REF!)","v":{"$error":"#VALUE!"}}]
[null,{"$f":"Sprawdz_pesel(Formularz!#REF!)","v":{"$error":"#VALUE!"}}]
[null,{"$f":"Sprawdz_pesel(Formularz!#REF!)","v":{"$error":"#VALUE!"}}]
[null,{"$f":"Sprawdz_pesel(Formularz!#REF!)","v":{"$error":"#VALUE!"}}]
[null,{"$f":"Sprawdz_pesel(Formularz!#REF!)","v":{"$error":"#VALUE!"}}]
[null,{"$f":"Sprawdz_pesel(Formularz!#REF!)","v":{"$error":"#VALUE!"}}]
[null,{"$f":"Sprawdz_pesel(Formularz!#REF!)","v":{"$error":"#VALUE!"}}]
[null,{"$f":"Sprawdz_pesel(Formularz!#REF!)","v":{"$error":"#VALUE!"}}]
[null,{"$f":"Sprawdz_pesel(Formularz!#REF!)","v":{"$error":"#VALUE!"}}]
[null,{"$f":"Sprawdz_pesel(Formularz!#REF!)","v":{"$error":"#VALUE!"}}]
[null,{"$f":"Sprawdz_pesel(Formularz!#REF!)","v":{"$error":"#VALUE!"}}]
[null,{"$f":"Sprawdz_pesel(Formularz!#REF!)","v":{"$error":"#VALUE!"}}]
[null,{"$f":"Sprawdz_pesel(Formularz!#REF!)","v":{"$error":"#VALUE!"}}]
[null,{"$f":"Sprawdz_pesel(Formularz!#REF!)","v":{"$error":"#VALUE!"}}]
[null,{"$f":"Sprawdz_pesel(Formularz!#REF!)","v":{"$error":"#VALUE!"}}]
[null,{"$f":"Sprawdz_pesel(Formularz!#REF!)","v":{"$error":"#VALUE!"}}]
[null,{"$f":"Sprawdz_pesel(Formularz!#REF!)","v":{"$error":"#VALUE!"}}]
[null,{"$f":"Sprawdz_pesel(Formularz!#REF!)","v":{"$error":"#VALUE!"}}]
[null,{"$f":"Sprawdz_pesel(Formularz!#REF!)","v":{"$error":"#VALUE!"}}]
[null,{"$f":"Sprawdz_pesel(Formularz!#REF!)","v":{"$error":"#VALUE!"}}]
[null,{"$f":"Sprawdz_pesel(Formularz!#REF!)","v":{"$error":"#VALUE!"}}]
[null,{"$f":"Sprawdz_pesel(Formularz!#REF!)","v":{"$error":"#VALUE!"}}]
[null,{"$f":"Sprawdz_pesel(Formularz!#REF!)","v":{"$error":"#VALUE!"}}]
[null,{"$f":"Sprawdz_pesel(Formularz!#REF!)","v":{"$error":"#VALUE!"}}]
[null,{"$f":"Sprawdz_pesel(Formularz!#REF!)","v":{"$error":"#VALUE!"}}]
[null,{"$f":"Sprawdz_pesel(Formularz!#REF!)","v":{"$error":"#VALUE!"}}]
[null,{"$f":"Sprawdz_pesel(Formularz!#REF!)","v":{"$error":"#VALUE!"}}]
[null,{"$f":"Sprawdz_pesel(Formularz!#REF!)","v":{"$error":"#VALUE!"}}]
[null,{"$f":"Sprawdz_pesel(Formularz!#REF!)","v":{"$error":"#VALUE!"}}]
[null,{"$f":"Sprawdz_pesel(Formularz!#REF!)","v":{"$error":"#VALUE!"}}]
[null,{"$f":"Sprawdz_pesel(Formularz!#REF!)","v":{"$error":"#VALUE!"}}]
[null,{"$f":"Sprawdz_pesel(Formularz!#REF!)","v":{"$error":"#VALUE!"}}]
[null,{"$f":"Sprawdz_pesel(Formularz!#REF!)","v":{"$error":"#VALUE!"}}]
[null,{"$f":"Sprawdz_pesel(Formularz!#REF!)","v":{"$error":"#VALUE!"}}]
[null,{"$f":"Sprawdz_pesel(Formularz!#REF!)","v":{"$error":"#VALUE!"}}]
[null,{"$f":"Sprawdz_pesel(Formularz!#REF!)","v":{"$error":"#VALUE!"}}]
[null,{"$f":"Sprawdz_pesel(Formularz!#REF!)","v":{"$error":"#VALUE!"}}]
[null,{"$f":"Sprawdz_pesel(Formularz!#REF!)","v":{"$error":"#VALUE!"}}]
[null,{"$f":"Sprawdz_pesel(Formularz!#REF!)","v":{"$error":"#VALUE!"}}]
[null,{"$f":"Sprawdz_pesel(Formularz!#REF!)","v":{"$error":"#VALUE!"}}]
[null,{"$f":"Sprawdz_pesel(Formularz!#REF!)","v":{"$error":"#VALUE!"}}]
[null,{"$f":"Sprawdz_pesel(Formularz!#REF!)","v":{"$error":"#VALUE!"}}]
[null,{"$f":"Sprawdz_pesel(Formularz!#REF!)","v":{"$error":"#VALUE!"}}]
[null,{"$f":"Sprawdz_pesel(Formularz!#REF!)","v":{"$error":"#VALUE!"}}]
[null,{"$f":"Sprawdz_pesel(Formularz!#REF!)","v":{"$error":"#VALUE!"}}]
[null,{"$f":"Sprawdz_pesel(Formularz!#REF!)","v":{"$error":"#VALUE!"}}]
[null,{"$f":"Sprawdz_pesel(Formularz!#REF!)","v":{"$error":"#VALUE!"}}]
[null,{"$f":"Sprawdz_pesel(Formularz!#REF!)","v":{"$error":"#VALUE!"}}]
[null,{"$f":"Sprawdz_pesel(Formularz!#REF!)","v":{"$error":"#VALUE!"}}]
[null,{"$f":"Sprawdz_pesel(Formularz!#REF!)","v":{"$error":"#VALUE!"}}]
[null,{"$f":"Sprawdz_pesel(Formularz!#REF!)","v":{"$error":"#VALUE!"}}]
[null,{"$f":"Sprawdz_pesel(Formularz!#REF!)","v":{"$error":"#VALUE!"}}]
[null,{"$f":"Sprawdz_pesel(Formularz!#REF!)","v":{"$error":"#VALUE!"}}]
[null,{"$f":"Sprawdz_pesel(Formularz!#REF!)","v":{"$error":"#VALUE!"}}]
[null,{"$f":"Sprawdz_pesel(Formularz!#REF!)","v":{"$error":"#VALUE!"}}]
[null,{"$f":"Sprawdz_pesel(Formularz!#REF!)","v":{"$error":"#VALUE!"}}]
[null,{"$f":"Sprawdz_pesel(Formularz!#REF!)","v":{"$error":"#VALUE!"}}]
[null,{"$f":"Sprawdz_pesel(Formularz!#REF!)","v":{"$error":"#VALUE!"}}]
[null,{"$f":"Sprawdz_pesel(Formularz!#REF!)","v":{"$error":"#VALUE!"}}]
[null,{"$f":"Sprawdz_pesel(Formularz!#REF!)","v":{"$error":"#VALUE!"}}]
[null,{"$f":"Sprawdz_pesel(Formularz!#REF!)","v":{"$error":"#VALUE!"}}]
[null,{"$f":"Sprawdz_pesel(Formularz!#REF!)","v":{"$error":"#VALUE!"}}]
[null,{"$f":"Sprawdz_pesel(Formularz!#REF!)","v":{"$error":"#VALUE!"}}]
[null,{"$f":"Sprawdz_pesel(Formularz!#REF!)","v":{"$error":"#VALUE!"}}]
[null,{"$f":"Sprawdz_pesel(Formularz!#REF!)","v":{"$error":"#VALUE!"}}]
[null,{"$f":"Sprawdz_pesel(Formularz!#REF!)","v":{"$error":"#VALUE!"}}]
[null,{"$f":"Sprawdz_pesel(Formularz!#REF!)","v":{"$error":"#VALUE!"}}]
[null,{"$f":"Sprawdz_pesel(Formularz!#REF!)","v":{"$error":"#VALUE!"}}]
[null,{"$f":"Sprawdz_pesel(Formularz!#REF!)","v":{"$error":"#VALUE!"}}]
[null,{"$f":"Sprawdz_pesel(Formularz!#REF!)","v":{"$error":"#VALUE!"}}]
[null,{"$f":"Sprawdz_pesel(Formularz!#REF!)","v":{"$error":"#VALUE!"}}]
[null,{"$f":"Sprawdz_pesel(Formularz!#REF!)","v":{"$error":"#VALUE!"}}]
[null,{"$f":"Sprawdz_pesel(Formularz!#REF!)","v":{"$error":"#VALUE!"}}]
[null,{"$f":"Sprawdz_pesel(Formularz!#REF!)","v":{"$error":"#VALUE!"}}]
[null,{"$f":"Sprawdz_pesel(Formularz!#REF!)","v":{"$error":"#VALUE!"}}]
[null,{"$f":"Sprawdz_pesel(Formularz!#REF!)","v":{"$error":"#VALUE!"}}]
[null,{"$f":"Sprawdz_pesel(Formularz!#REF!)","v":{"$error":"#VALUE!"}}]
[null,{"$f":"Sprawdz_pesel(Formularz!#REF!)","v":{"$error":"#VALUE!"}}]
[null,{"$f":"Sprawdz_pesel(Formularz!#REF!)","v":{"$error":"#VALUE!"}}]
[null,{"$f":"Sprawdz_pesel(Formularz!#REF!)","v":{"$error":"#VALUE!"}}]
[null,{"$f":"Sprawdz_pesel(Formularz!#REF!)","v":{"$error":"#VALUE!"}}]
[null,{"$f":"Sprawdz_pesel(Formularz!#REF!)","v":{"$error":"#VALUE!"}}]
[null,{"$f":"Sprawdz_pesel(Formularz!#REF!)","v":{"$error":"#VALUE!"}}]
[null,{"$f":"Sprawdz_pesel(Formularz!#REF!)","v":{"$error":"#VALUE!"}}]
[null,{"$f":"Sprawdz_pesel(Formularz!#REF!)","v":{"$error":"#VALUE!"}}]
[null,{"$f":"Sprawdz_pesel(Formularz!#REF!)","v":{"$error":"#VALUE!"}}]
[null,{"$f":"Sprawdz_pesel(Formularz!#REF!)","v":{"$error":"#VALUE!"}}]
[null,{"$f":"Sprawdz_pesel(Formularz!#REF!)","v":{"$error":"#VALUE!"}}]
[null,{"$f":"Sprawdz_pesel(Formularz!#REF!)","v":{"$error":"#VALUE!"}}]
[null,{"$f":"Sprawdz_pesel(Formularz!#REF!)","v":{"$error":"#VALUE!"}}]
[null,{"$f":"Sprawdz_pesel(Formularz!#REF!)","v":{"$error":"#VALUE!"}}]
[null,{"$f":"Sprawdz_pesel(Formularz!#REF!)","v":{"$error":"#VALUE!"}}]
[null,{"$f":"Sprawdz_pesel(Formularz!#REF!)","v":{"$error":"#VALUE!"}}]
[null,{"$f":"Sprawdz_pesel(Formularz!#REF!)","v":{"$error":"#VALUE!"}}]
[null,{"$f":"Sprawdz_pesel(Formularz!#REF!)","v":{"$error":"#VALUE!"}}]
[null,{"$f":"Sprawdz_pesel(Formularz!#REF!)","v":{"$error":"#VALUE!"}}]
[null,{"$f":"Sprawdz_pesel(Formularz!#REF!)","v":{"$error":"#VALUE!"}}]
[null,{"$f":"Sprawdz_pesel(Formularz!#REF!)","v":{"$error":"#VALUE!"}}]
[null,{"$f":"Sprawdz_pesel(Formularz!#REF!)","v":{"$error":"#VALUE!"}}]
[null,{"$f":"Sprawdz_pesel(Formularz!#REF!)","v":{"$error":"#VALUE!"}}]
[null,{"$f":"Sprawdz_pesel(Formularz!#REF!)","v":{"$error":"#VALUE!"}}]
[null,{"$f":"Sprawdz_pesel(Formularz!#REF!)","v":{"$error":"#VALUE!"}}]
[null,{"$f":"Sprawdz_pesel(Formularz!#REF!)","v":{"$error":"#VALUE!"}}]
[null,{"$f":"Sprawdz_pesel(Formularz!#REF!)","v":{"$error":"#VALUE!"}}]
[null,{"$f":"Sprawdz_pesel(Formularz!#REF!)","v":{"$error":"#VALUE!"}}]
[null,{"$f":"Sprawdz_pesel(Formularz!#REF!)","v":{"$error":"#VALUE!"}}]
[null,{"$f":"Sprawdz_pesel(Formularz!#REF!)","v":{"$error":"#VALUE!"}}]
[null,{"$f":"Sprawdz_pesel(Formularz!#REF!)","v":{"$error":"#VALUE!"}}]
[null,{"$f":"Sprawdz_pesel(Formularz!#REF!)","v":{"$error":"#VALUE!"}}]
[null,{"$f":"Sprawdz_pesel(Formularz!#REF!)","v":{"$error":"#VALUE!"}}]
[null,{"$f":"Sprawdz_pesel(Formularz!#REF!)","v":{"$error":"#VALUE!"}}]
[null,{"$f":"Sprawdz_pesel(Formularz!#REF!)","v":{"$error":"#VALUE!"}}]
[null,{"$f":"Sprawdz_pesel(Formularz!#REF!)","v":{"$error":"#VALUE!"}}]
[null,{"$f":"Sprawdz_pesel(Formularz!#REF!)","v":{"$error":"#VALUE!"}}]
[null,{"$f":"Sprawdz_pesel(Formularz!#REF!)","v":{"$error":"#VALUE!"}}]
[null,{"$f":"Sprawdz_pesel(Formularz!#REF!)","v":{"$error":"#VALUE!"}}]
[null,{"$f":"Sprawdz_pesel(Formularz!#REF!)","v":{"$error":"#VALUE!"}}]
[null,{"$f":"Sprawdz_pesel(Formularz!#REF!)","v":{"$error":"#VALUE!"}}]
[null,{"$f":"Sprawdz_pesel(Formularz!#REF!)","v":{"$error":"#VALUE!"}}]
[null,{"$f":"Sprawdz_pesel(Formularz!#REF!)","v":{"$error":"#VALUE!"}}]
[null,{"$f":"Sprawdz_pesel(Formularz!#REF!)","v":{"$error":"#VALUE!"}}]
[null,{"$f":"Sprawdz_pesel(Formularz!#REF!)","v":{"$error":"#VALUE!"}}]
[null,{"$f":"Sprawdz_pesel(Formularz!#REF!)","v":{"$error":"#VALUE!"}}]
[null,{"$f":"Sprawdz_pesel(Formularz!#REF!)","v":{"$error":"#VALUE!"}}]
[null,{"$f":"Sprawdz_pesel(Formularz!#REF!)","v":{"$error":"#VALUE!"}}]
[null,{"$f":"Sprawdz_pesel(Formularz!#REF!)","v":{"$error":"#VALUE!"}}]
[null,{"$f":"Sprawdz_pesel(Formularz!#REF!)","v":{"$error":"#VALUE!"}}]
[null,{"$f":"Sprawdz_pesel(Formularz!#REF!)","v":{"$error":"#VALUE!"}}]
[null,{"$f":"Sprawdz_pesel(Formularz!#REF!)","v":{"$error":"#VALUE!"}}]
[null,{"$f":"Sprawdz_pesel(Formularz!#REF!)","v":{"$error":"#VALUE!"}}]
[null,{"$f":"Sprawdz_pesel(Formularz!#REF!)","v":{"$error":"#VALUE!"}}]
[null,{"$f":"Sprawdz_pesel(Formularz!#REF!)","v":{"$error":"#VALUE!"}}]
[null,{"$f":"Sprawdz_pesel(Formularz!#REF!)","v":{"$error":"#VALUE!"}}]
[null,{"$f":"Sprawdz_pesel(Formularz!#REF!)","v":{"$error":"#VALUE!"}}]
[null,{"$f":"Sprawdz_pesel(Formularz!#REF!)","v":{"$error":"#VALUE!"}}]
[null,{"$f":"Sprawdz_pesel(Formularz!#REF!)","v":{"$error":"#VALUE!"}}]
[null,{"$f":"Sprawdz_pesel(Formularz!#REF!)","v":{"$error":"#VALUE!"}}]
[null,{"$f":"Sprawdz_pesel(Formularz!#REF!)","v":{"$error":"#VALUE!"}}]
[null,{"$f":"Sprawdz_pesel(Formularz!#REF!)","v":{"$error":"#VALUE!"}}]
[null,{"$f":"Sprawdz_pesel(Formularz!#REF!)","v":{"$error":"#VALUE!"}}]
[null,{"$f":"Sprawdz_pesel(Formularz!#REF!)","v":{"$error":"#VALUE!"}}]
[null,{"$f":"Sprawdz_pesel(Formularz!#REF!)","v":{"$error":"#VALUE!"}}]
[null,{"$f":"Sprawdz_pesel(Formularz!#REF!)","v":{"$error":"#VALUE!"}}]
[null,{"$f":"Sprawdz_pesel(Formularz!#REF!)","v":{"$error":"#VALUE!"}}]
[null,{"$f":"Sprawdz_pesel(Formularz!#REF!)","v":{"$error":"#VALUE!"}}]
[null,{"$f":"Sprawdz_pesel(Formularz!#REF!)","v":{"$error":"#VALUE!"}}]
[null,{"$f":"Sprawdz_pesel(Formularz!#REF!)","v":{"$error":"#VALUE!"}}]
[null,{"$f":"Sprawdz_pesel(Formularz!#REF!)","v":{"$error":"#VALUE!"}}]
[null,{"$f":"Sprawdz_pesel(Formularz!#REF!)","v":{"$error":"#VALUE!"}}]
[null,{"$f":"Sprawdz_pesel(Formularz!#REF!)","v":{"$error":"#VALUE!"}}]
[null,{"$f":"Sprawdz_pesel(Formularz!#REF!)","v":{"$error":"#VALUE!"}}]
[null,{"$f":"Sprawdz_pesel(Formularz!#REF!)","v":{"$error":"#VALUE!"}}]
[null,{"$f":"Sprawdz_pesel(Formularz!#REF!)","v":{"$error":"#VALUE!"}}]
[null,{"$f":"Sprawdz_pesel(Formularz!#REF!)","v":{"$error":"#VALUE!"}}]
[null,{"$f":"Sprawdz_pesel(Formularz!#REF!)","v":{"$error":"#VALUE!"}}]
[null,{"$f":"Sprawdz_pesel(Formularz!#REF!)","v":{"$error":"#VALUE!"}}]
[null,{"$f":"Sprawdz_pesel(Formularz!#REF!)","v":{"$error":"#VALUE!"}}]
[null,{"$f":"Sprawdz_pesel(Formularz!#REF!)","v":{"$error":"#VALUE!"}}]
[null,{"$f":"Sprawdz_pesel(Formularz!#REF!)","v":{"$error":"#VALUE!"}}]
[null,{"$f":"Sprawdz_pesel(Formularz!#REF!)","v":{"$error":"#VALUE!"}}]
[null,{"$f":"Sprawdz_pesel(Formularz!#REF!)","v":{"$error":"#VALUE!"}}]
[null,{"$f":"Sprawdz_pesel(Formularz!#REF!)","v":{"$error":"#VALUE!"}}]
[null,{"$f":"Sprawdz_pesel(Formularz!#REF!)","v":{"$error":"#VALUE!"}}]
[null,{"$f":"Sprawdz_pesel(Formularz!#REF!)","v":{"$error":"#VALUE!"}}]
[null,{"$f":"Sprawdz_pesel(Formularz!#REF!)","v":{"$error":"#VALUE!"}}]
[null,{"$f":"Sprawdz_pesel(Formularz!#REF!)","v":{"$error":"#VALUE!"}}]
[null,{"$f":"Sprawdz_pesel(Formularz!#REF!)","v":{"$error":"#VALUE!"}}]
[null,{"$f":"Sprawdz_pesel(Formularz!#REF!)","v":{"$error":"#VALUE!"}}]
[null,{"$f":"Sprawdz_pesel(Formularz!#REF!)","v":{"$error":"#VALUE!"}}]
[null,{"$f":"Sprawdz_pesel(Formularz!#REF!)","v":{"$error":"#VALUE!"}}]
[null,{"$f":"Sprawdz_pesel(Formularz!#REF!)","v":{"$error":"#VALUE!"}}]
[null,{"$f":"Sprawdz_pesel(Formularz!#REF!)","v":{"$error":"#VALUE!"}}]
[null,{"$f":"Sprawdz_pesel(Formularz!#REF!)","v":{"$error":"#VALUE!"}}]
[null,{"$f":"Sprawdz_pesel(Formularz!#REF!)","v":{"$error":"#VALUE!"}}]
[null,{"$f":"Sprawdz_pesel(Formularz!#REF!)","v":{"$error":"#VALUE!"}}]
[null,{"$f":"Sprawdz_pesel(Formularz!#REF!)","v":{"$error":"#VALUE!"}}]
[null,{"$f":"Sprawdz_pesel(Formularz!#REF!)","v":{"$error":"#VALUE!"}}]
[null,{"$f":"Sprawdz_pesel(Formularz!#REF!)","v":{"$error":"#VALUE!"}}]
[null,{"$f":"Sprawdz_pesel(Formularz!#REF!)","v":{"$error":"#VALUE!"}}]
[null,{"$f":"Sprawdz_pesel(Formularz!#REF!)","v":{"$error":"#VALUE!"}}]
[null,{"$f":"Sprawdz_pesel(Formularz!#REF!)","v":{"$error":"#VALUE!"}}]
[null,{"$f":"Sprawdz_pesel(Formularz!#REF!)","v":{"$error":"#VALUE!"}}]
[null,{"$f":"Sprawdz_pesel(Formularz!#REF!)","v":{"$error":"#VALUE!"}}]
[null,{"$f":"Sprawdz_pesel(Formularz!#REF!)","v":{"$error":"#VALUE!"}}]
[null,{"$f":"Sprawdz_pesel(Formularz!#REF!)","v":{"$error":"#VALUE!"}}]
[null,{"$f":"Sprawdz_pesel(Formularz!#REF!)","v":{"$error":"#VALUE!"}}]
[null,{"$f":"Sprawdz_pesel(Formularz!#REF!)","v":{"$error":"#VALUE!"}}]
[null,{"$f":"Sprawdz_pesel(Formularz!#REF!)","v":{"$error":"#VALUE!"}}]
[null,{"$f":"Sprawdz_pesel(Formularz!#REF!)","v":{"$error":"#VALUE!"}}]
[null,{"$f":"Sprawdz_pesel(Formularz!#REF!)","v":{"$error":"#VALUE!"}}]
[null,{"$f":"Sprawdz_pesel(Formularz!#REF!)","v":{"$error":"#VALUE!"}}]
[null,{"$f":"Sprawdz_pesel(Formularz!#REF!)","v":{"$error":"#VALUE!"}}]
[null,{"$f":"Sprawdz_pesel(Formularz!#REF!)","v":{"$error":"#VALUE!"}}]
[null,{"$f":"Sprawdz_pesel(Formularz!#REF!)","v":{"$error":"#VALUE!"}}]
[null,{"$f":"Sprawdz_pesel(Formularz!#REF!)","v":{"$error":"#VALUE!"}}]
[null,{"$f":"Sprawdz_pesel(Formularz!#REF!)","v":{"$error":"#VALUE!"}}]
[null,{"$f":"Sprawdz_pesel(Formularz!#REF!)","v":{"$error":"#VALUE!"}}]
[null,{"$f":"Sprawdz_pesel(Formularz!#REF!)","v":{"$error":"#VALUE!"}}]
[null,{"$f":"Sprawdz_pesel(Formularz!#REF!)","v":{"$error":"#VALUE!"}}]
[null,{"$f":"Sprawdz_pesel(Formularz!#REF!)","v":{"$error":"#VALUE!"}}]
[null,{"$f":"Sprawdz_pesel(Formularz!#REF!)","v":{"$error":"#VALUE!"}}]
[null,{"$f":"Sprawdz_pesel(Formularz!#REF!)","v":{"$error":"#VALUE!"}}]
[null,{"$f":"Sprawdz_pesel(Formularz!#REF!)","v":{"$error":"#VALUE!"}}]
[null,{"$f":"Sprawdz_pesel(Formularz!#REF!)","v":{"$error":"#VALUE!"}}]
[null,{"$f":"Sprawdz_pesel(Formularz!#REF!)","v":{"$error":"#VALUE!"}}]
[null,{"$f":"Sprawdz_pesel(Formularz!#REF!)","v":{"$error":"#VALUE!"}}]
[null,{"$f":"Sprawdz_pesel(Formularz!#REF!)","v":{"$error":"#VALUE!"}}]
[null,{"$f":"Sprawdz_pesel(Formularz!#REF!)","v":{"$error":"#VALUE!"}}]
[null,{"$f":"Sprawdz_pesel(Formularz!#REF!)","v":{"$error":"#VALUE!"}}]
[null,{"$f":"Sprawdz_pesel(Formularz!#REF!)","v":{"$error":"#VALUE!"}}]
[null,{"$f":"Sprawdz_pesel(Formularz!#REF!)","v":{"$error":"#VALUE!"}}]
[null,{"$f":"Sprawdz_pesel(Formularz!#REF!)","v":{"$error":"#VALUE!"}}]
[null,{"$f":"Sprawdz_pesel(Formularz!#REF!)","v":{"$error":"#VALUE!"}}]
[null,{"$f":"Sprawdz_pesel(Formularz!#REF!)","v":{"$error":"#VALUE!"}}]
[null,{"$f":"Sprawdz_pesel(Formularz!#REF!)","v":{"$error":"#VALUE!"}}]
[null,{"$f":"Sprawdz_pesel(Formularz!#REF!)","v":{"$error":"#VALUE!"}}]
[null,{"$f":"Sprawdz_pesel(Formularz!#REF!)","v":{"$error":"#VALUE!"}}]
[null,{"$f":"Sprawdz_pesel(Formularz!#REF!)","v":{"$error":"#VALUE!"}}]
[null,{"$f":"Sprawdz_pesel(Formularz!#REF!)","v":{"$error":"#VALUE!"}}]
[null,{"$f":"Sprawdz_pesel(Formularz!#REF!)","v":{"$error":"#VALUE!"}}]
[null,{"$f":"Sprawdz_pesel(Formularz!#REF!)","v":{"$error":"#VALUE!"}}]
[null,{"$f":"Sprawdz_pesel(Formularz!#REF!)","v":{"$error":"#VALUE!"}}]
[null,{"$f":"Sprawdz_pesel(Formularz!#REF!)","v":{"$error":"#VALUE!"}}]
[null,{"$f":"Sprawdz_pesel(Formularz!#REF!)","v":{"$error":"#VALUE!"}}]
[null,{"$f":"Sprawdz_pesel(Formularz!#REF!)","v":{"$error":"#VALUE!"}}]
[null,{"$f":"Sprawdz_pesel(Formularz!#REF!)","v":{"$error":"#VALUE!"}}]
[null,{"$f":"Sprawdz_pesel(Formularz!#REF!)","v":{"$error":"#VALUE!"}}]
[null,{"$f":"Sprawdz_pesel(Formularz!#REF!)","v":{"$error":"#VALUE!"}}]
[null,{"$f":"Sprawdz_pesel(Formularz!#REF!)","v":{"$error":"#VALUE!"}}]
[null,{"$f":"Sprawdz_pesel(Formularz!#REF!)","v":{"$error":"#VALUE!"}}]
[null,{"$f":"Sprawdz_pesel(Formularz!#REF!)","v":{"$error":"#VALUE!"}}]
[null,{"$f":"Sprawdz_pesel(Formularz!#REF!)","v":{"$error":"#VALUE!"}}]
[null,{"$f":"Sprawdz_pesel(Formularz!#REF!)","v":{"$error":"#VALUE!"}}]
[null,{"$f":"Sprawdz_pesel(Formularz!#REF!)","v":{"$error":"#VALUE!"}}]
[null,{"$f":"Sprawdz_pesel(Formularz!#REF!)","v":{"$error":"#VALUE!"}}]
[null,{"$f":"Sprawdz_pesel(Formularz!#REF!)","v":{"$error":"#VALUE!"}}]
[null,{"$f":"Sprawdz_pesel(Formularz!#REF!)","v":{"$error":"#VALUE!"}}]
[null,{"$f":"Sprawdz_pesel(Formularz!#REF!)","v":{"$error":"#VALUE!"}}]
[null,{"$f":"Sprawdz_pesel(Formularz!#REF!)","v":{"$error":"#VALUE!"}}]
[null,{"$f":"Sprawdz_pesel(Formularz!#REF!)","v":{"$error":"#VALUE!"}}]
[null,{"$f":"Sprawdz_pesel(Formularz!#REF!)","v":{"$error":"#VALUE!"}}]
[null,{"$f":"Sprawdz_pesel(Formularz!#REF!)","v":{"$error":"#VALUE!"}}]
[null,{"$f":"Sprawdz_pesel(Formularz!#REF!)","v":{"$error":"#VALUE!"}}]
[null,{"$f":"Sprawdz_pesel(Formularz!#REF!)","v":{"$error":"#VALUE!"}}]
[null,{"$f":"Sprawdz_pesel(Formularz!#REF!)","v":{"$error":"#VALUE!"}}]
[null,{"$f":"Sprawdz_pesel(Formularz!#REF!)","v":{"$error":"#VALUE!"}}]
[null,{"$f":"Sprawdz_pesel(Formularz!#REF!)","v":{"$error":"#VALUE!"}}]
[null,{"$f":"Sprawdz_pesel(Formularz!#REF!)","v":{"$error":"#VALUE!"}}]
[null,{"$f":"Sprawdz_pesel(Formularz!#REF!)","v":{"$error":"#VALUE!"}}]
[null,{"$f":"Sprawdz_pesel(Formularz!#REF!)","v":{"$error":"#VALUE!"}}]
[null,{"$f":"Sprawdz_pesel(Formularz!#REF!)","v":{"$error":"#VALUE!"}}]
[null,{"$f":"Sprawdz_pesel(Formularz!#REF!)","v":{"$error":"#VALUE!"}}]
[null,{"$f":"Sprawdz_pesel(Formularz!#REF!)","v":{"$error":"#VALUE!"}}]
[null,{"$f":"Sprawdz_pesel(Formularz!#REF!)","v":{"$error":"#VALUE!"}}]
[null,{"$f":"Sprawdz_pesel(Formularz!#REF!)","v":{"$error":"#VALUE!"}}]
[null,{"$f":"Sprawdz_pesel(Formularz!#REF!)","v":{"$error":"#VALUE!"}}]
[null,{"$f":"Sprawdz_pesel(Formularz!#REF!)","v":{"$error":"#VALUE!"}}]
[null,{"$f":"Sprawdz_pesel(Formularz!#REF!)","v":{"$error":"#VALUE!"}}]
[null,{"$f":"Sprawdz_pesel(Formularz!#REF!)","v":{"$error":"#VALUE!"}}]
[null,{"$f":"Sprawdz_pesel(Formularz!#REF!)","v":{"$error":"#VALUE!"}}]
[null,{"$f":"Sprawdz_pesel(Formularz!#REF!)","v":{"$error":"#VALUE!"}}]
[null,{"$f":"Sprawdz_pesel(Formularz!#REF!)","v":{"$error":"#VALUE!"}}]
[null,{"$f":"Sprawdz_pesel(Formularz!#REF!)","v":{"$error":"#VALUE!"}}]
[null,{"$f":"Sprawdz_pesel(Formularz!#REF!)","v":{"$error":"#VALUE!"}}]
[null,{"$f":"Sprawdz_pesel(Formularz!#REF!)","v":{"$error":"#VALUE!"}}]
[null,{"$f":"Sprawdz_pesel(Formularz!#REF!)","v":{"$error":"#VALUE!"}}]
[null,{"$f":"Sprawdz_pesel(Formularz!#REF!)","v":{"$error":"#VALUE!"}}]
[null,{"$f":"Sprawdz_pesel(Formularz!#REF!)","v":{"$error":"#VALUE!"}}]
[null,{"$f":"Sprawdz_pesel(Formularz!#REF!)","v":{"$error":"#VALUE!"}}]
[null,{"$f":"Sprawdz_pesel(Formularz!#REF!)","v":{"$error":"#VALUE!"}}]
[null,{"$f":"Sprawdz_pesel(Formularz!#REF!)","v":{"$error":"#VALUE!"}}]
[null,{"$f":"Sprawdz_pesel(Formularz!#REF!)","v":{"$error":"#VALUE!"}}]
[null,{"$f":"Sprawdz_pesel(Formularz!#REF!)","v":{"$error":"#VALUE!"}}]
[null,{"$f":"Sprawdz_pesel(Formularz!#REF!)","v":{"$error":"#VALUE!"}}]
[null,{"$f":"Sprawdz_pesel(Formularz!#REF!)","v":{"$error":"#VALUE!"}}]
[null,{"$f":"Sprawdz_pesel(Formularz!#REF!)","v":{"$error":"#VALUE!"}}]
[null,{"$f":"Sprawdz_pesel(Formularz!#REF!)","v":{"$error":"#VALUE!"}}]
[null,{"$f":"Sprawdz_pesel(Formularz!#REF!)","v":{"$error":"#VALUE!"}}]
[null,{"$f":"Sprawdz_pesel(Formularz!#REF!)","v":{"$error":"#VALUE!"}}]
[null,{"$f":"Sprawdz_pesel(Formularz!#REF!)","v":{"$error":"#VALUE!"}}]
[null,{"$f":"Sprawdz_pesel(Formularz!#REF!)","v":{"$error":"#VALUE!"}}]
[null,{"$f":"Sprawdz_pesel(Formularz!#REF!)","v":{"$error":"#VALUE!"}}]
[null,{"$f":"Sprawdz_pesel(Formularz!#REF!)","v":{"$error":"#VALUE!"}}]
[null,{"$f":"Sprawdz_pesel(Formularz!#REF!)","v":{"$error":"#VALUE!"}}]
[null,{"$f":"Sprawdz_pesel(Formularz!#REF!)","v":{"$error":"#VALUE!"}}]
[null,{"$f":"Sprawdz_pesel(Formularz!#REF!)","v":{"$error":"#VALUE!"}}]
[null,{"$f":"Sprawdz_pesel(Formularz!#REF!)","v":{"$error":"#VALUE!"}}]
[null,{"$f":"Sprawdz_pesel(Formularz!#REF!)","v":{"$error":"#VALUE!"}}]
[null,{"$f":"Sprawdz_pesel(Formularz!#REF!)","v":{"$error":"#VALUE!"}}]
[null,{"$f":"Sprawdz_pesel(Formularz!#REF!)","v":{"$error":"#VALUE!"}}]
[null,{"$f":"Sprawdz_pesel(Formularz!#REF!)","v":{"$error":"#VALUE!"}}]
[null,{"$f":"Sprawdz_pesel(Formularz!#REF!)","v":{"$error":"#VALUE!"}}]
[null,{"$f":"Sprawdz_pesel(Formularz!#REF!)","v":{"$error":"#VALUE!"}}]
[null,{"$f":"Sprawdz_pesel(Formularz!#REF!)","v":{"$error":"#VALUE!"}}]
[null,{"$f":"Sprawdz_pesel(Formularz!#REF!)","v":{"$error":"#VALUE!"}}]
[null,{"$f":"Sprawdz_pesel(Formularz!#REF!)","v":{"$error":"#VALUE!"}}]
[null,{"$f":"Sprawdz_pesel(Formularz!#REF!)","v":{"$error":"#VALUE!"}}]
[null,{"$f":"Sprawdz_pesel(Formularz!#REF!)","v":{"$error":"#VALUE!"}}]
[null,{"$f":"Sprawdz_pesel(Formularz!#REF!)","v":{"$error":"#VALUE!"}}]
[null,{"$f":"Sprawdz_pesel(Formularz!#REF!)","v":{"$error":"#VALUE!"}}]
[null,{"$f":"Sprawdz_pesel(Formularz!#REF!)","v":{"$error":"#VALUE!"}}]
[null,{"$f":"Sprawdz_pesel(Formularz!#REF!)","v":{"$error":"#VALUE!"}}]
[null,{"$f":"Sprawdz_pesel(Formularz!#REF!)","v":{"$error":"#VALUE!"}}]
[null,{"$f":"Sprawdz_pesel(Formularz!#REF!)","v":{"$error":"#VALUE!"}}]
[null,{"$f":"Sprawdz_pesel(Formularz!#REF!)","v":{"$error":"#VALUE!"}}]
[null,{"$f":"Sprawdz_pesel(Formularz!#REF!)","v":{"$error":"#VALUE!"}}]
[null,{"$f":"Sprawdz_pesel(Formularz!#REF!)","v":{"$error":"#VALUE!"}}]
[null,{"$f":"Sprawdz_pesel(Formularz!#REF!)","v":{"$error":"#VALUE!"}}]
[null,{"$f":"Sprawdz_pesel(Formularz!#REF!)","v":{"$error":"#VALUE!"}}]
[null,{"$f":"Sprawdz_pesel(Formularz!#REF!)","v":{"$error":"#VALUE!"}}]
[null,{"$f":"Sprawdz_pesel(Formularz!#REF!)","v":{"$error":"#VALUE!"}}]
[null,{"$f":"Sprawdz_pesel(Formularz!#REF!)","v":{"$error":"#VALUE!"}}]
[null,{"$f":"Sprawdz_pesel(Formularz!#REF!)","v":{"$error":"#VALUE!"}}]
[null,{"$f":"Sprawdz_pesel(Formularz!#REF!)","v":{"$error":"#VALUE!"}}]
[null,{"$f":"Sprawdz_pesel(Formularz!#REF!)","v":{"$error":"#VALUE!"}}]
[null,{"$f":"Sprawdz_pesel(Formularz!#REF!)","v":{"$error":"#VALUE!"}}]
[null,{"$f":"Sprawdz_pesel(Formularz!#REF!)","v":{"$error":"#VALUE!"}}]
[null,{"$f":"Sprawdz_pesel(Formularz!#REF!)","v":{"$error":"#VALUE!"}}]
[null,{"$f":"Sprawdz_pesel(Formularz!#REF!)","v":{"$error":"#VALUE!"}}]
[null,{"$f":"Sprawdz_pesel(Formularz!#REF!)","v":{"$error":"#VALUE!"}}]
[null,{"$f":"Sprawdz_pesel(Formularz!#REF!)","v":{"$error":"#VALUE!"}}]
[null,{"$f":"Sprawdz_pesel(Formularz!#REF!)","v":{"$error":"#VALUE!"}}]
[null,{"$f":"Sprawdz_pesel(Formularz!#REF!)","v":{"$error":"#VALUE!"}}]
[null,{"$f":"Sprawdz_pesel(Formularz!#REF!)","v":{"$error":"#VALUE!"}}]
[null,{"$f":"Sprawdz_pesel(Formularz!#REF!)","v":{"$error":"#VALUE!"}}]
[null,{"$f":"Sprawdz_pesel(Formularz!#REF!)","v":{"$error":"#VALUE!"}}]
[null,{"$f":"Sprawdz_pesel(Formularz!#REF!)","v":{"$error":"#VALUE!"}}]
[null,{"$f":"Sprawdz_pesel(Formularz!#REF!)","v":{"$error":"#VALUE!"}}]
[null,{"$f":"Sprawdz_pesel(Formularz!#REF!)","v":{"$error":"#VALUE!"}}]
[null,{"$f":"Sprawdz_pesel(Formularz!#REF!)","v":{"$error":"#VALUE!"}}]
[null,{"$f":"Sprawdz_pesel(Formularz!#REF!)","v":{"$error":"#VALUE!"}}]
[null,{"$f":"Sprawdz_pesel(Formularz!#REF!)","v":{"$error":"#VALUE!"}}]
[null,{"$f":"Sprawdz_pesel(Formularz!#REF!)","v":{"$error":"#VALUE!"}}]
[null,{"$f":"Sprawdz_pesel(Formularz!#REF!)","v":{"$error":"#VALUE!"}}]
[null,{"$f":"Sprawdz_pesel(Formularz!#REF!)","v":{"$error":"#VALUE!"}}]
[null,{"$f":"Sprawdz_pesel(Formularz!#REF!)","v":{"$error":"#VALUE!"}}]
[null,{"$f":"Sprawdz_pesel(Formularz!#REF!)","v":{"$error":"#VALUE!"}}]
[null,{"$f":"Sprawdz_pesel(Formularz!#REF!)","v":{"$error":"#VALUE!"}}]
[null,{"$f":"Sprawdz_pesel(Formularz!#REF!)","v":{"$error":"#VALUE!"}}]
[null,{"$f":"Sprawdz_pesel(Formularz!#REF!)","v":{"$error":"#VALUE!"}}]
[null,{"$f":"Sprawdz_pesel(Formularz!#REF!)","v":{"$error":"#VALUE!"}}]
[null,{"$f":"Sprawdz_pesel(Formularz!#REF!)","v":{"$error":"#VALUE!"}}]
[null,{"$f":"Sprawdz_pesel(Formularz!#REF!)","v":{"$error":"#VALUE!"}}]
[null,{"$f":"Sprawdz_pesel(Formularz!#REF!)","v":{"$error":"#VALUE!"}}]
[null,{"$f":"Sprawdz_pesel(Formularz!#REF!)","v":{"$error":"#VALUE!"}}]
[null,{"$f":"Sprawdz_pesel(Formularz!#REF!)","v":{"$error":"#VALUE!"}}]
[null,{"$f":"Sprawdz_pesel(Formularz!#REF!)","v":{"$error":"#VALUE!"}}]
[null,{"$f":"Sprawdz_pesel(Formularz!#REF!)","v":{"$error":"#VALUE!"}}]
[null,{"$f":"Sprawdz_pesel(Formularz!#REF!)","v":{"$error":"#VALUE!"}}]
[null,{"$f":"Sprawdz_pesel(Formularz!#REF!)","v":{"$error":"#VALUE!"}}]
[null,{"$f":"Sprawdz_pesel(Formularz!#REF!)","v":{"$error":"#VALUE!"}}]
[null,{"$f":"Sprawdz_pesel(Formularz!#REF!)","v":{"$error":"#VALUE!"}}]
[null,{"$f":"Sprawdz_pesel(Formularz!#REF!)","v":{"$error":"#VALUE!"}}]
[null,{"$f":"Sprawdz_pesel(Formularz!#REF!)","v":{"$error":"#VALUE!"}}]
[null,{"$f":"Sprawdz_pesel(Formularz!#REF!)","v":{"$error":"#VALUE!"}}]
[null,{"$f":"Sprawdz_pesel(Formularz!#REF!)","v":{"$error":"#VALUE!"}}]
[null,{"$f":"Sprawdz_pesel(Formularz!#REF!)","v":{"$error":"#VALUE!"}}]
[null,{"$f":"Sprawdz_pesel(Formularz!#REF!)","v":{"$error":"#VALUE!"}}]
[null,{"$f":"Sprawdz_pesel(Formularz!#REF!)","v":{"$error":"#VALUE!"}}]
[null,{"$f":"Sprawdz_pesel(Formularz!#REF!)","v":{"$error":"#VALUE!"}}]
[null,{"$f":"Sprawdz_pesel(Formularz!#REF!)","v":{"$error":"#VALUE!"}}]
[null,{"$f":"Sprawdz_pesel(Formularz!#REF!)","v":{"$error":"#VALUE!"}}]
[null,{"$f":"Sprawdz_pesel(Formularz!#REF!)","v":{"$error":"#VALUE!"}}]
[null,{"$f":"Sprawdz_pesel(Formularz!#REF!)","v":{"$error":"#VALUE!"}}]
[null,{"$f":"Sprawdz_pesel(Formularz!#REF!)","v":{"$error":"#VALUE!"}}]
[null,{"$f":"Sprawdz_pesel(Formularz!#REF!)","v":{"$error":"#VALUE!"}}]
[null,{"$f":"Sprawdz_pesel(Formularz!#REF!)","v":{"$error":"#VALUE!"}}]
[null,{"$f":"Sprawdz_pesel(Formularz!#REF!)","v":{"$error":"#VALUE!"}}]
[null,{"$f":"Sprawdz_pesel(Formularz!#REF!)","v":{"$error":"#VALUE!"}}]
[null,{"$f":"Sprawdz_pesel(Formularz!#REF!)","v":{"$error":"#VALUE!"}}]
[null,{"$f":"Sprawdz_pesel(Formularz!#REF!)","v":{"$error":"#VALUE!"}}]
[null,{"$f":"Sprawdz_pesel(Formularz!#REF!)","v":{"$error":"#VALUE!"}}]
[null,{"$f":"Sprawdz_pesel(Formularz!#REF!)","v":{"$error":"#VALUE!"}}]
[null,{"$f":"Sprawdz_pesel(Formularz!#REF!)","v":{"$error":"#VALUE!"}}]
[null,{"$f":"Sprawdz_pesel(Formularz!#REF!)","v":{"$error":"#VALUE!"}}]
[null,{"$f":"Sprawdz_pesel(Formularz!#REF!)","v":{"$error":"#VALUE!"}}]
[null,{"$f":"Sprawdz_pesel(Formularz!#REF!)","v":{"$error":"#VALUE!"}}]
[null,{"$f":"Sprawdz_pesel(Formularz!#REF!)","v":{"$error":"#VALUE!"}}]
[null,{"$f":"Sprawdz_pesel(Formularz!#REF!)","v":{"$error":"#VALUE!"}}]
[null,{"$f":"Sprawdz_pesel(Formularz!#REF!)","v":{"$error":"#VALUE!"}}]
[null,{"$f":"Sprawdz_pesel(Formularz!#REF!)","v":{"$error":"#VALUE!"}}]
[null,{"$f":"Sprawdz_pesel(Formularz!#REF!)","v":{"$error":"#VALUE!"}}]
[null,{"$f":"Sprawdz_pesel(Formularz!#REF!)","v":{"$error":"#VALUE!"}}]
[null,{"$f":"Sprawdz_pesel(Formularz!#REF!)","v":{"$error":"#VALUE!"}}]
[null,{"$f":"Sprawdz_pesel(Formularz!#REF!)","v":{"$error":"#VALUE!"}}]
[null,{"$f":"Sprawdz_pesel(Formularz!#REF!)","v":{"$error":"#VALUE!"}}]
[null,{"$f":"Sprawdz_pesel(Formularz!#REF!)","v":{"$error":"#VALUE!"}}]
[null,{"$f":"Sprawdz_pesel(Formularz!#REF!)","v":{"$error":"#VALUE!"}}]
[null,{"$f":"Sprawdz_pesel(Formularz!#REF!)","v":{"$error":"#VALUE!"}}]
[null,{"$f":"Sprawdz_pesel(Formularz!#REF!)","v":{"$error":"#VALUE!"}}]
[null,{"$f":"Sprawdz_pesel(Formularz!#REF!)","v":{"$error":"#VALUE!"}}]
[null,{"$f":"Sprawdz_pesel(Formularz!#REF!)","v":{"$error":"#VALUE!"}}]
[null,{"$f":"Sprawdz_pesel(Formularz!#REF!)","v":{"$error":"#VALUE!"}}]
[null,{"$f":"Sprawdz_pesel(Formularz!#REF!)","v":{"$error":"#VALUE!"}}]
[null,{"$f":"Sprawdz_pesel(Formularz!#REF!)","v":{"$error":"#VALUE!"}}]
[null,{"$f":"Sprawdz_pesel(Formularz!#REF!)","v":{"$error":"#VALUE!"}}]
[null,{"$f":"Sprawdz_pesel(Formularz!#REF!)","v":{"$error":"#VALUE!"}}]
[null,{"$f":"Sprawdz_pesel(Formularz!#REF!)","v":{"$error":"#VALUE!"}}]
[null,{"$f":"Sprawdz_pesel(Formularz!#REF!)","v":{"$error":"#VALUE!"}}]
[null,{"$f":"Sprawdz_pesel(Formularz!#REF!)","v":{"$error":"#VALUE!"}}]
[null,{"$f":"Sprawdz_pesel(Formularz!#REF!)","v":{"$error":"#VALUE!"}}]
[null,{"$f":"Sprawdz_pesel(Formularz!#REF!)","v":{"$error":"#VALUE!"}}]
[null,{"$f":"Sprawdz_pesel(Formularz!#REF!)","v":{"$error":"#VALUE!"}}]
[null,{"$f":"Sprawdz_pesel(Formularz!#REF!)","v":{"$error":"#VALUE!"}}]
[null,{"$f":"Sprawdz_pesel(Formularz!#REF!)","v":{"$error":"#VALUE!"}}]
[null,{"$f":"Sprawdz_pesel(Formularz!#REF!)","v":{"$error":"#VALUE!"}}]
[null,{"$f":"Sprawdz_pesel(Formularz!#REF!)","v":{"$error":"#VALUE!"}}]
[null,{"$f":"Sprawdz_pesel(Formularz!#REF!)","v":{"$error":"#VALUE!"}}]
[null,{"$f":"Sprawdz_pesel(Formularz!#REF!)","v":{"$error":"#VALUE!"}}]
[null,{"$f":"Sprawdz_pesel(Formularz!#REF!)","v":{"$error":"#VALUE!"}}]
[null,{"$f":"Sprawdz_pesel(Formularz!#REF!)","v":{"$error":"#VALUE!"}}]
[null,{"$f":"Sprawdz_pesel(Formularz!#REF!)","v":{"$error":"#VALUE!"}}]
[null,{"$f":"Sprawdz_pesel(Formularz!#REF!)","v":{"$error":"#VALUE!"}}]
[null,{"$f":"Sprawdz_pesel(Formularz!#REF!)","v":{"$error":"#VALUE!"}}]
[null,{"$f":"Sprawdz_pesel(Formularz!#REF!)","v":{"$error":"#VALUE!"}}]
[null,{"$f":"Sprawdz_pesel(Formularz!#REF!)","v":{"$error":"#VALUE!"}}]
[null,{"$f":"Sprawdz_pesel(Formularz!#REF!)","v":{"$error":"#VALUE!"}}]
[null,{"$f":"Sprawdz_pesel(Formularz!#REF!)","v":{"$error":"#VALUE!"}}]
[null,{"$f":"Sprawdz_pesel(Formularz!#REF!)","v":{"$error":"#VALUE!"}}]
[null,{"$f":"Sprawdz_pesel(Formularz!#REF!)","v":{"$error":"#VALUE!"}}]
[null,{"$f":"Sprawdz_pesel(Formularz!#REF!)","v":{"$error":"#VALUE!"}}]
[null,{"$f":"Sprawdz_pesel(Formularz!#REF!)","v":{"$error":"#VALUE!"}}]
[null,{"$f":"Sprawdz_pesel(Formularz!#REF!)","v":{"$error":"#VALUE!"}}]
[null,{"$f":"Sprawdz_pesel(Formularz!#REF!)","v":{"$error":"#VALUE!"}}]
[null,{"$f":"Sprawdz_pesel(Formularz!#REF!)","v":{"$error":"#VALUE!"}}]
[null,{"$f":"Sprawdz_pesel(Formularz!#REF!)","v":{"$error":"#VALUE!"}}]
[null,{"$f":"Sprawdz_pesel(Formularz!#REF!)","v":{"$error":"#VALUE!"}}]
[null,{"$f":"Sprawdz_pesel(Formularz!#REF!)","v":{"$error":"#VALUE!"}}]
[null,{"$f":"Sprawdz_pesel(Formularz!#REF!)","v":{"$error":"#VALUE!"}}]
[null,{"$f":"Sprawdz_pesel(Formularz!#REF!)","v":{"$error":"#VALUE!"}}]
[null,{"$f":"Sprawdz_pesel(Formularz!#REF!)","v":{"$error":"#VALUE!"}}]
[null,{"$f":"Sprawdz_pesel(Formularz!#REF!)","v":{"$error":"#VALUE!"}}]
[null,{"$f":"Sprawdz_pesel(Formularz!#REF!)","v":{"$error":"#VALUE!"}}]
[null,{"$f":"Sprawdz_pesel(Formularz!#REF!)","v":{"$error":"#VALUE!"}}]
[null,{"$f":"Sprawdz_pesel(Formularz!#REF!)","v":{"$error":"#VALUE!"}}]
[null,{"$f":"Sprawdz_pesel(Formularz!#REF!)","v":{"$error":"#VALUE!"}}]
[null,{"$f":"Sprawdz_pesel(Formularz!#REF!)","v":{"$error":"#VALUE!"}}]
[null,{"$f":"Sprawdz_pesel(Formularz!#REF!)","v":{"$error":"#VALUE!"}}]
[null,{"$f":"Sprawdz_pesel(Formularz!#REF!)","v":{"$error":"#VALUE!"}}]
[null,{"$f":"Sprawdz_pesel(Formularz!#REF!)","v":{"$error":"#VALUE!"}}]
[null,{"$f":"Sprawdz_pesel(Formularz!#REF!)","v":{"$error":"#VALUE!"}}]
[null,{"$f":"Sprawdz_pesel(Formularz!#REF!)","v":{"$error":"#VALUE!"}}]
[null,{"$f":"Sprawdz_pesel(Formularz!#REF!)","v":{"$error":"#VALUE!"}}]
[null,{"$f":"Sprawdz_pesel(Formularz!#REF!)","v":{"$error":"#VALUE!"}}]
[null,{"$f":"Sprawdz_pesel(Formularz!#REF!)","v":{"$error":"#VALUE!"}}]
[null,{"$f":"Sprawdz_pesel(Formularz!#REF!)","v":{"$error":"#VALUE!"}}]
[null,{"$f":"Sprawdz_pesel(Formularz!#REF!)","v":{"$error":"#VALUE!"}}]
[null,{"$f":"Sprawdz_pesel(Formularz!#REF!)","v":{"$error":"#VALUE!"}}]
[null,{"$f":"Sprawdz_pesel(Formularz!#REF!)","v":{"$error":"#VALUE!"}}]
[null,{"$f":"Sprawdz_pesel(Formularz!#REF!)","v":{"$error":"#VALUE!"}}]
[null,{"$f":"Sprawdz_pesel(Formularz!#REF!)","v":{"$error":"#VALUE!"}}]
[null,{"$f":"Sprawdz_pesel(Formularz!#REF!)","v":{"$error":"#VALUE!"}}]
[null,{"$f":"Sprawdz_pesel(Formularz!#REF!)","v":{"$error":"#VALUE!"}}]
[null,{"$f":"Sprawdz_pesel(Formularz!#REF!)","v":{"$error":"#VALUE!"}}]
[null,{"$f":"Sprawdz_pesel(Formularz!#REF!)","v":{"$error":"#VALUE!"}}]
[null,{"$f":"Sprawdz_pesel(Formularz!#REF!)","v":{"$error":"#VALUE!"}}]
[null,{"$f":"Sprawdz_pesel(Formularz!#REF!)","v":{"$error":"#VALUE!"}}]
[null,{"$f":"Sprawdz_pesel(Formularz!#REF!)","v":{"$error":"#VALUE!"}}]
[null,{"$f":"Sprawdz_pesel(Formularz!#REF!)","v":{"$error":"#VALUE!"}}]
[null,{"$f":"Sprawdz_pesel(Formularz!#REF!)","v":{"$error":"#VALUE!"}}]
[null,{"$f":"Sprawdz_pesel(Formularz!#REF!)","v":{"$error":"#VALUE!"}}]
[null,{"$f":"Sprawdz_pesel(Formularz!#REF!)","v":{"$error":"#VALUE!"}}]
[null,{"$f":"Sprawdz_pesel(Formularz!#REF!)","v":{"$error":"#VALUE!"}}]
[null,{"$f":"Sprawdz_pesel(Formularz!#REF!)","v":{"$error":"#VALUE!"}}]
[null,{"$f":"Sprawdz_pesel(Formularz!#REF!)","v":{"$error":"#VALUE!"}}]
[null,{"$f":"Sprawdz_pesel(Formularz!#REF!)","v":{"$error":"#VALUE!"}}]
[null,{"$f":"Sprawdz_pesel(Formularz!#REF!)","v":{"$error":"#VALUE!"}}]
[null,{"$f":"Sprawdz_pesel(Formularz!#REF!)","v":{"$error":"#VALUE!"}}]
[null,{"$f":"Sprawdz_pesel(Formularz!#REF!)","v":{"$error":"#VALUE!"}}]
[null,{"$f":"Sprawdz_pesel(Formularz!#REF!)","v":{"$error":"#VALUE!"}}]
[null,{"$f":"Sprawdz_pesel(Formularz!#REF!)","v":{"$error":"#VALUE!"}}]
[null,{"$f":"Sprawdz_pesel(Formularz!#REF!)","v":{"$error":"#VALUE!"}}]
[null,{"$f":"Sprawdz_pesel(Formularz!#REF!)","v":{"$error":"#VALUE!"}}]
[null,{"$f":"Sprawdz_pesel(Formularz!#REF!)","v":{"$error":"#VALUE!"}}]
[null,{"$f":"Sprawdz_pesel(Formularz!#REF!)","v":{"$error":"#VALUE!"}}]
[null,{"$f":"Sprawdz_pesel(Formularz!#REF!)","v":{"$error":"#VALUE!"}}]
[null,{"$f":"Sprawdz_pesel(Formularz!#REF!)","v":{"$error":"#VALUE!"}}]
[null,{"$f":"Sprawdz_pesel(Formularz!#REF!)","v":{"$error":"#VALUE!"}}]
[null,{"$f":"Sprawdz_pesel(Formularz!#REF!)","v":{"$error":"#VALUE!"}}]
[null,{"$f":"Sprawdz_pesel(Formularz!#REF!)","v":{"$error":"#VALUE!"}}]
[null,{"$f":"Sprawdz_pesel(Formularz!#REF!)","v":{"$error":"#VALUE!"}}]
[null,{"$f":"Sprawdz_pesel(Formularz!#REF!)","v":{"$error":"#VALUE!"}}]
[null,{"$f":"Sprawdz_pesel(Formularz!#REF!)","v":{"$error":"#VALUE!"}}]
[null,{"$f":"Sprawdz_pesel(Formularz!#REF!)","v":{"$error":"#VALUE!"}}]
[null,{"$f":"Sprawdz_pesel(Formularz!#REF!)","v":{"$error":"#VALUE!"}}]
[null,{"$f":"Sprawdz_pesel(Formularz!#REF!)","v":{"$error":"#VALUE!"}}]
[null,{"$f":"Sprawdz_pesel(Formularz!#REF!)","v":{"$error":"#VALUE!"}}]
[null,{"$f":"Sprawdz_pesel(Formularz!#REF!)","v":{"$error":"#VALUE!"}}]
[null,{"$f":"Sprawdz_pesel(Formularz!#REF!)","v":{"$error":"#VALUE!"}}]
[null,{"$f":"Sprawdz_pesel(Formularz!#REF!)","v":{"$error":"#VALUE!"}}]
[null,{"$f":"Sprawdz_pesel(Formularz!#REF!)","v":{"$error":"#VALUE!"}}]
[null,{"$f":"Sprawdz_pesel(Formularz!#REF!)","v":{"$error":"#VALUE!"}}]
[null,{"$f":"Sprawdz_pesel(Formularz!#REF!)","v":{"$error":"#VALUE!"}}]
[null,{"$f":"Sprawdz_pesel(Formularz!#REF!)","v":{"$error":"#VALUE!"}}]
[null,{"$f":"Sprawdz_pesel(Formularz!#REF!)","v":{"$error":"#VALUE!"}}]
[null,{"$f":"Sprawdz_pesel(Formularz!#REF!)","v":{"$error":"#VALUE!"}}]
[null,{"$f":"Sprawdz_pesel(Formularz!#REF!)","v":{"$error":"#VALUE!"}}]
[null,{"$f":"Sprawdz_pesel(Formularz!#REF!)","v":{"$error":"#VALUE!"}}]
[null,{"$f":"Sprawdz_pesel(Formularz!#REF!)","v":{"$error":"#VALUE!"}}]
[null,{"$f":"Sprawdz_pesel(Formularz!#REF!)","v":{"$error":"#VALUE!"}}]
[null,{"$f":"Sprawdz_pesel(Formularz!#REF!)","v":{"$error":"#VALUE!"}}]
[null,{"$f":"Sprawdz_pesel(Formularz!#REF!)","v":{"$error":"#VALUE!"}}]
[null,{"$f":"Sprawdz_pesel(Formularz!#REF!)","v":{"$error":"#VALUE!"}}]
[null,{"$f":"Sprawdz_pesel(Formularz!#REF!)","v":{"$error":"#VALUE!"}}]
[null,{"$f":"Sprawdz_pesel(Formularz!#REF!)","v":{"$error":"#VALUE!"}}]
[null,{"$f":"Sprawdz_pesel(Formularz!#REF!)","v":{"$error":"#VALUE!"}}]
[null,{"$f":"Sprawdz_pesel(Formularz!#REF!)","v":{"$error":"#VALUE!"}}]
[null,{"$f":"Sprawdz_pesel(Formularz!#REF!)","v":{"$error":"#VALUE!"}}]
[null,{"$f":"Sprawdz_pesel(Formularz!#REF!)","v":{"$error":"#VALUE!"}}]
[null,{"$f":"Sprawdz_pesel(Formularz!#REF!)","v":{"$error":"#VALUE!"}}]
[null,{"$f":"Sprawdz_pesel(Formularz!#REF!)","v":{"$error":"#VALUE!"}}]
[null,{"$f":"Sprawdz_pesel(Formularz!#REF!)","v":{"$error":"#VALUE!"}}]
[null,{"$f":"Sprawdz_pesel(Formularz!#REF!)","v":{"$error":"#VALUE!"}}]
[null,{"$f":"Sprawdz_pesel(Formularz!#REF!)","v":{"$error":"#VALUE!"}}]
[null,{"$f":"Sprawdz_pesel(Formularz!#REF!)","v":{"$error":"#VALUE!"}}]
[null,{"$f":"Sprawdz_pesel(Formularz!#REF!)","v":{"$error":"#VALUE!"}}]
[null,{"$f":"Sprawdz_pesel(Formularz!#REF!)","v":{"$error":"#VALUE!"}}]
[null,{"$f":"Sprawdz_pesel(Formularz!#REF!)","v":{"$error":"#VALUE!"}}]
[null,{"$f":"Sprawdz_pesel(Formularz!#REF!)","v":{"$error":"#VALUE!"}}]
[null,{"$f":"Sprawdz_pesel(Formularz!#REF!)","v":{"$error":"#VALUE!"}}]
[null,{"$f":"Sprawdz_pesel(Formularz!#REF!)","v":{"$error":"#VALUE!"}}]
[null,{"$f":"Sprawdz_pesel(Formularz!#REF!)","v":{"$error":"#VALUE!"}}]
[null,{"$f":"Sprawdz_pesel(Formularz!#REF!)","v":{"$error":"#VALUE!"}}]
[null,{"$f":"Sprawdz_pesel(Formularz!#REF!)","v":{"$error":"#VALUE!"}}]
[null,{"$f":"Sprawdz_pesel(Formularz!#REF!)","v":{"$error":"#VALUE!"}}]
[null,{"$f":"Sprawdz_pesel(Formularz!#REF!)","v":{"$error":"#VALUE!"}}]
[null,{"$f":"Sprawdz_pesel(Formularz!#REF!)","v":{"$error":"#VALUE!"}}]
[null,{"$f":"Sprawdz_pesel(Formularz!#REF!)","v":{"$error":"#VALUE!"}}]
[null,{"$f":"Sprawdz_pesel(Formularz!#REF!)","v":{"$error":"#VALUE!"}}]
[null,{"$f":"Sprawdz_pesel(Formularz!#REF!)","v":{"$error":"#VALUE!"}}]
[null,{"$f":"Sprawdz_pesel(Formularz!#REF!)","v":{"$error":"#VALUE!"}}]
[null,{"$f":"Sprawdz_pesel(Formularz!#REF!)","v":{"$error":"#VALUE!"}}]
[null,{"$f":"Sprawdz_pesel(Formularz!#REF!)","v":{"$error":"#VALUE!"}}]
[null,{"$f":"Sprawdz_pesel(Formularz!#REF!)","v":{"$error":"#VALUE!"}}]
[null,{"$f":"Sprawdz_pesel(Formularz!#REF!)","v":{"$error":"#VALUE!"}}]
[null,{"$f":"Sprawdz_pesel(Formularz!#REF!)","v":{"$error":"#VALUE!"}}]
[null,{"$f":"Sprawdz_pesel(Formularz!#REF!)","v":{"$error":"#VALUE!"}}]
[null,{"$f":"Sprawdz_pesel(Formularz!#REF!)","v":{"$error":"#VALUE!"}}]
[null,{"$f":"Sprawdz_pesel(Formularz!#REF!)","v":{"$error":"#VALUE!"}}]
[null,{"$f":"Sprawdz_pesel(Formularz!#REF!)","v":{"$error":"#VALUE!"}}]
[null,{"$f":"Sprawdz_pesel(Formularz!#REF!)","v":{"$error":"#VALUE!"}}]
[null,{"$f":"Sprawdz_pesel(Formularz!#REF!)","v":{"$error":"#VALUE!"}}]
[null,{"$f":"Sprawdz_pesel(Formularz!#REF!)","v":{"$error":"#VALUE!"}}]
[null,{"$f":"Sprawdz_pesel(Formularz!#REF!)","v":{"$error":"#VALUE!"}}]
[null,{"$f":"Sprawdz_pesel(Formularz!#REF!)","v":{"$error":"#VALUE!"}}]
[null,{"$f":"Sprawdz_pesel(Formularz!#REF!)","v":{"$error":"#VALUE!"}}]
[null,{"$f":"Sprawdz_pesel(Formularz!#REF!)","v":{"$error":"#VALUE!"}}]
[null,{"$f":"Sprawdz_pesel(Formularz!#REF!)","v":{"$error":"#VALUE!"}}]
[null,{"$f":"Sprawdz_pesel(Formularz!#REF!)","v":{"$error":"#VALUE!"}}]
[null,{"$f":"Sprawdz_pesel(Formularz!#REF!)","v":{"$error":"#VALUE!"}}]
[null,{"$f":"Sprawdz_pesel(Formularz!#REF!)","v":{"$error":"#VALUE!"}}]
[null,{"$f":"Sprawdz_pesel(Formularz!#REF!)","v":{"$error":"#VALUE!"}}]
[null,{"$f":"Sprawdz_pesel(Formularz!#REF!)","v":{"$error":"#VALUE!"}}]
[null,{"$f":"Sprawdz_pesel(Formularz!#REF!)","v":{"$error":"#VALUE!"}}]
[null,{"$f":"Sprawdz_pesel(Formularz!#REF!)","v":{"$error":"#VALUE!"}}]
[null,{"$f":"Sprawdz_pesel(Formularz!#REF!)","v":{"$error":"#VALUE!"}}]
[null,{"$f":"Sprawdz_pesel(Formularz!#REF!)","v":{"$error":"#VALUE!"}}]
[null,{"$f":"Sprawdz_pesel(Formularz!#REF!)","v":{"$error":"#VALUE!"}}]
[null,{"$f":"Sprawdz_pesel(Formularz!#REF!)","v":{"$error":"#VALUE!"}}]
[null,{"$f":"Sprawdz_pesel(Formularz!#REF!)","v":{"$error":"#VALUE!"}}]
[null,{"$f":"Sprawdz_pesel(Formularz!#REF!)","v":{"$error":"#VALUE!"}}]
[null,{"$f":"Sprawdz_pesel(Formularz!#REF!)","v":{"$error":"#VALUE!"}}]
[null,{"$f":"Sprawdz_pesel(Formularz!#REF!)","v":{"$error":"#VALUE!"}}]
[null,{"$f":"Sprawdz_pesel(Formularz!#REF!)","v":{"$error":"#VALUE!"}}]
[null,{"$f":"Sprawdz_pesel(Formularz!#REF!)","v":{"$error":"#VALUE!"}}]
[null,{"$f":"Sprawdz_pesel(Formularz!#REF!)","v":{"$error":"#VALUE!"}}]
[null,{"$f":"Sprawdz_pesel(Formularz!#REF!)","v":{"$error":"#VALUE!"}}]
[null,{"$f":"Sprawdz_pesel(Formularz!#REF!)","v":{"$error":"#VALUE!"}}]
[null,{"$f":"Sprawdz_pesel(Formularz!#REF!)","v":{"$error":"#VALUE!"}}]
[null,{"$f":"Sprawdz_pesel(Formularz!#REF!)","v":{"$error":"#VALUE!"}}]
[null,{"$f":"Sprawdz_pesel(Formularz!#REF!)","v":{"$error":"#VALUE!"}}]
[null,{"$f":"Sprawdz_pesel(Formularz!#REF!)","v":{"$error":"#VALUE!"}}]
[null,{"$f":"Sprawdz_pesel(Formularz!#REF!)","v":{"$error":"#VALUE!"}}]
[null,{"$f":"Sprawdz_pesel(Formularz!#REF!)","v":{"$error":"#VALUE!"}}]
[null,{"$f":"Sprawdz_pesel(Formularz!#REF!)","v":{"$error":"#VALUE!"}}]
[null,{"$f":"Sprawdz_pesel(Formularz!#REF!)","v":{"$error":"#VALUE!"}}]
[null,{"$f":"Sprawdz_pesel(Formularz!#REF!)","v":{"$error":"#VALUE!"}}]
[null,{"$f":"Sprawdz_pesel(Formularz!#REF!)","v":{"$error":"#VALUE!"}}]
[null,{"$f":"Sprawdz_pesel(Formularz!#REF!)","v":{"$error":"#VALUE!"}}]
[null,{"$f":"Sprawdz_pesel(Formularz!#REF!)","v":{"$error":"#VALUE!"}}]
[null,{"$f":"Sprawdz_pesel(Formularz!#REF!)","v":{"$error":"#VALUE!"}}]
[null,{"$f":"Sprawdz_pesel(Formularz!#REF!)","v":{"$error":"#VALUE!"}}]
[null,{"$f":"Sprawdz_pesel(Formularz!#REF!)","v":{"$error":"#VALUE!"}}]
[null,{"$f":"Sprawdz_pesel(Formularz!#REF!)","v":{"$error":"#VALUE!"}}]
[null,{"$f":"Sprawdz_pesel(Formularz!#REF!)","v":{"$error":"#VALUE!"}}]
[null,{"$f":"Sprawdz_pesel(Formularz!#REF!)","v":{"$error":"#VALUE!"}}]
[null,{"$f":"Sprawdz_pesel(Formularz!#REF!)","v":{"$error":"#VALUE!"}}]
[null,{"$f":"Sprawdz_pesel(Formularz!#REF!)","v":{"$error":"#VALUE!"}}]
[null,{"$f":"Sprawdz_pesel(Formularz!#REF!)","v":{"$error":"#VALUE!"}}]
[null,{"$f":"Sprawdz_pesel(Formularz!#REF!)","v":{"$error":"#VALUE!"}}]
[null,{"$f":"Sprawdz_pesel(Formularz!#REF!)","v":{"$error":"#VALUE!"}}]
[null,{"$f":"Sprawdz_pesel(Formularz!#REF!)","v":{"$error":"#VALUE!"}}]
[null,{"$f":"Sprawdz_pesel(Formularz!#REF!)","v":{"$error":"#VALUE!"}}]
[null,{"$f":"Sprawdz_pesel(Formularz!#REF!)","v":{"$error":"#VALUE!"}}]
[null,{"$f":"Sprawdz_pesel(Formularz!#REF!)","v":{"$error":"#VALUE!"}}]
[null,{"$f":"Sprawdz_pesel(Formularz!#REF!)","v":{"$error":"#VALUE!"}}]
[null,{"$f":"Sprawdz_pesel(Formularz!#REF!)","v":{"$error":"#VALUE!"}}]
[null,{"$f":"Sprawdz_pesel(Formularz!#REF!)","v":{"$error":"#VALUE!"}}]
[null,{"$f":"Sprawdz_pesel(Formularz!#REF!)","v":{"$error":"#VALUE!"}}]
[null,{"$f":"Sprawdz_pesel(Formularz!#REF!)","v":{"$error":"#VALUE!"}}]
[null,{"$f":"Sprawdz_pesel(Formularz!#REF!)","v":{"$error":"#VALUE!"}}]
[null,{"$f":"Sprawdz_pesel(Formularz!#REF!)","v":{"$error":"#VALUE!"}}]
[null,{"$f":"Sprawdz_pesel(Formularz!#REF!)","v":{"$error":"#VALUE!"}}]
[null,{"$f":"Sprawdz_pesel(Formularz!#REF!)","v":{"$error":"#VALUE!"}}]
[null,{"$f":"Sprawdz_pesel(Formularz!#REF!)","v":{"$error":"#VALUE!"}}]
[null,{"$f":"Sprawdz_pesel(Formularz!#REF!)","v":{"$error":"#VALUE!"}}]
[null,{"$f":"Sprawdz_pesel(Formularz!#REF!)","v":{"$error":"#VALUE!"}}]
[null,{"$f":"Sprawdz_pesel(Formularz!#REF!)","v":{"$error":"#VALUE!"}}]
[null,{"$f":"Sprawdz_pesel(Formularz!#REF!)","v":{"$error":"#VALUE!"}}]
[null,{"$f":"Sprawdz_pesel(Formularz!#REF!)","v":{"$error":"#VALUE!"}}]
[null,{"$f":"Sprawdz_pesel(Formularz!#REF!)","v":{"$error":"#VALUE!"}}]
[null,{"$f":"Sprawdz_pesel(Formularz!#REF!)","v":{"$error":"#VALUE!"}}]
[null,{"$f":"Sprawdz_pesel(Formularz!#REF!)","v":{"$error":"#VALUE!"}}]
[null,{"$f":"Sprawdz_pesel(Formularz!#REF!)","v":{"$error":"#VALUE!"}}]
[null,{"$f":"Sprawdz_pesel(Formularz!#REF!)","v":{"$error":"#VALUE!"}}]
[null,{"$f":"Sprawdz_pesel(Formularz!#REF!)","v":{"$error":"#VALUE!"}}]
[null,{"$f":"Sprawdz_pesel(Formularz!#REF!)","v":{"$error":"#VALUE!"}}]
[null,{"$f":"Sprawdz_pesel(Formularz!#REF!)","v":{"$error":"#VALUE!"}}]
[null,{"$f":"Sprawdz_pesel(Formularz!#REF!)","v":{"$error":"#VALUE!"}}]
[null,{"$f":"Sprawdz_pesel(Formularz!#REF!)","v":{"$error":"#VALUE!"}}]
[null,{"$f":"Sprawdz_pesel(Formularz!#REF!)","v":{"$error":"#VALUE!"}}]
[null,{"$f":"Sprawdz_pesel(Formularz!#REF!)","v":{"$error":"#VALUE!"}}]
[null,{"$f":"Sprawdz_pesel(Formularz!#REF!)","v":{"$error":"#VALUE!"}}]
[null,{"$f":"Sprawdz_pesel(Formularz!#REF!)","v":{"$error":"#VALUE!"}}]
[null,{"$f":"Sprawdz_pesel(Formularz!#REF!)","v":{"$error":"#VALUE!"}}]
[null,{"$f":"Sprawdz_pesel(Formularz!#REF!)","v":{"$error":"#VALUE!"}}]
[null,{"$f":"Sprawdz_pesel(Formularz!#REF!)","v":{"$error":"#VALUE!"}}]
[null,{"$f":"Sprawdz_pesel(Formularz!#REF!)","v":{"$error":"#VALUE!"}}]
[null,{"$f":"Sprawdz_pesel(Formularz!#REF!)","v":{"$error":"#VALUE!"}}]
[null,{"$f":"Sprawdz_pesel(Formularz!#REF!)","v":{"$error":"#VALUE!"}}]
[null,{"$f":"Sprawdz_pesel(Formularz!#REF!)","v":{"$error":"#VALUE!"}}]
[null,{"$f":"Sprawdz_pesel(Formularz!#REF!)","v":{"$error":"#VALUE!"}}]
[null,{"$f":"Sprawdz_pesel(Formularz!#REF!)","v":{"$error":"#VALUE!"}}]
[null,{"$f":"Sprawdz_pesel(Formularz!#REF!)","v":{"$error":"#VALUE!"}}]
[null,{"$f":"Sprawdz_pesel(Formularz!#REF!)","v":{"$error":"#VALUE!"}}]
[null,{"$f":"Sprawdz_pesel(Formularz!#REF!)","v":{"$error":"#VALUE!"}}]
[null,{"$f":"Sprawdz_pesel(Formularz!#REF!)","v":{"$error":"#VALUE!"}}]
[null,{"$f":"Sprawdz_pesel(Formularz!#REF!)","v":{"$error":"#VALUE!"}}]
[null,{"$f":"Sprawdz_pesel(Formularz!#REF!)","v":{"$error":"#VALUE!"}}]
[null,{"$f":"Sprawdz_pesel(Formularz!#REF!)","v":{"$error":"#VALUE!"}}]
[null,{"$f":"Sprawdz_pesel(Formularz!#REF!)","v":{"$error":"#VALUE!"}}]
[null,{"$f":"Sprawdz_pesel(Formularz!#REF!)","v":{"$error":"#VALUE!"}}]
[null,{"$f":"Sprawdz_pesel(Formularz!#REF!)","v":{"$error":"#VALUE!"}}]
[null,{"$f":"Sprawdz_pesel(Formularz!#REF!)","v":{"$error":"#VALUE!"}}]
[null,{"$f":"Sprawdz_pesel(Formularz!#REF!)","v":{"$error":"#VALUE!"}}]
[null,{"$f":"Sprawdz_pesel(Formularz!#REF!)","v":{"$error":"#VALUE!"}}]
[null,{"$f":"Sprawdz_pesel(Formularz!#REF!)","v":{"$error":"#VALUE!"}}]
[null,{"$f":"Sprawdz_pesel(Formularz!#REF!)","v":{"$error":"#VALUE!"}}]
[null,{"$f":"Sprawdz_pesel(Formularz!#REF!)","v":{"$error":"#VALUE!"}}]
[null,{"$f":"Sprawdz_pesel(Formularz!#REF!)","v":{"$error":"#VALUE!"}}]
[null,{"$f":"Sprawdz_pesel(Formularz!#REF!)","v":{"$error":"#VALUE!"}}]
[null,{"$f":"Sprawdz_pesel(Formularz!#REF!)","v":{"$error":"#VALUE!"}}]
[null,{"$f":"Sprawdz_pesel(Formularz!#REF!)","v":{"$error":"#VALUE!"}}]
[null,{"$f":"Sprawdz_pesel(Formularz!#REF!)","v":{"$error":"#VALUE!"}}]
[null,{"$f":"Sprawdz_pesel(Formularz!#REF!)","v":{"$error":"#VALUE!"}}]
[null,{"$f":"Sprawdz_pesel(Formularz!#REF!)","v":{"$error":"#VALUE!"}}]
[null,{"$f":"Sprawdz_pesel(Formularz!#REF!)","v":{"$error":"#VALUE!"}}]
[null,{"$f":"Sprawdz_pesel(Formularz!#REF!)","v":{"$error":"#VALUE!"}}]
[null,{"$f":"Sprawdz_pesel(Formularz!#REF!)","v":{"$error":"#VALUE!"}}]
[null,{"$f":"Sprawdz_pesel(Formularz!#REF!)","v":{"$error":"#VALUE!"}}]
[null,{"$f":"Sprawdz_pesel(Formularz!#REF!)","v":{"$error":"#VALUE!"}}]
[null,{"$f":"Sprawdz_pesel(Formularz!#REF!)","v":{"$error":"#VALUE!"}}]
[null,{"$f":"Sprawdz_pesel(Formularz!#REF!)","v":{"$error":"#VALUE!"}}]
[null,{"$f":"Sprawdz_pesel(Formularz!#REF!)","v":{"$error":"#VALUE!"}}]
[null,{"$f":"Sprawdz_pesel(Formularz!#REF!)","v":{"$error":"#VALUE!"}}]
[null,{"$f":"Sprawdz_pesel(Formularz!#REF!)","v":{"$error":"#VALUE!"}}]
[null,{"$f":"Sprawdz_pesel(Formularz!#REF!)","v":{"$error":"#VALUE!"}}]
[null,{"$f":"Sprawdz_pesel(Formularz!#REF!)","v":{"$error":"#VALUE!"}}]
[null,{"$f":"Sprawdz_pesel(Formularz!#REF!)","v":{"$error":"#VALUE!"}}]
[null,{"$f":"Sprawdz_pesel(Formularz!#REF!)","v":{"$error":"#VALUE!"}}]
[null,{"$f":"Sprawdz_pesel(Formularz!#REF!)","v":{"$error":"#VALUE!"}}]
[null,{"$f":"Sprawdz_pesel(Formularz!#REF!)","v":{"$error":"#VALUE!"}}]
[null,{"$f":"Sprawdz_pesel(Formularz!#REF!)","v":{"$error":"#VALUE!"}}]
[null,{"$f":"Sprawdz_pesel(Formularz!#REF!)","v":{"$error":"#VALUE!"}}]
[null,{"$f":"Sprawdz_pesel(Formularz!#REF!)","v":{"$error":"#VALUE!"}}]
[null,{"$f":"Sprawdz_pesel(Formularz!#REF!)","v":{"$error":"#VALUE!"}}]
[null,{"$f":"Sprawdz_pesel(Formularz!#REF!)","v":{"$error":"#VALUE!"}}]
[null,{"$f":"Sprawdz_pesel(Formularz!#REF!)","v":{"$error":"#VALUE!"}}]
[null,{"$f":"Sprawdz_pesel(Formularz!#REF!)","v":{"$error":"#VALUE!"}}]
[null,{"$f":"Sprawdz_pesel(Formularz!#REF!)","v":{"$error":"#VALUE!"}}]
[null,{"$f":"Sprawdz_pesel(Formularz!#REF!)","v":{"$error":"#VALUE!"}}]
[null,{"$f":"Sprawdz_pesel(Formularz!#REF!)","v":{"$error":"#VALUE!"}}]
[null,{"$f":"Sprawdz_pesel(Formularz!#REF!)","v":{"$error":"#VALUE!"}}]
[null,{"$f":"Sprawdz_pesel(Formularz!#REF!)","v":{"$error":"#VALUE!"}}]
[null,{"$f":"Sprawdz_pesel(Formularz!#REF!)","v":{"$error":"#VALUE!"}}]
[null,{"$f":"Sprawdz_pesel(Formularz!#REF!)","v":{"$error":"#VALUE!"}}]
[null,{"$f":"Sprawdz_pesel(Formularz!#REF!)","v":{"$error":"#VALUE!"}}]
[null,{"$f":"Sprawdz_pesel(Formularz!#REF!)","v":{"$error":"#VALUE!"}}]
[null,{"$f":"Sprawdz_pesel(Formularz!#REF!)","v":{"$error":"#VALUE!"}}]
[null,{"$f":"Sprawdz_pesel(Formularz!#REF!)","v":{"$error":"#VALUE!"}}]
[null,{"$f":"Sprawdz_pesel(Formularz!#REF!)","v":{"$error":"#VALUE!"}}]
[null,{"$f":"Sprawdz_pesel(Formularz!#REF!)","v":{"$error":"#VALUE!"}}]
[null,{"$f":"Sprawdz_pesel(Formularz!#REF!)","v":{"$error":"#VALUE!"}}]
[null,{"$f":"Sprawdz_pesel(Formularz!#REF!)","v":{"$error":"#VALUE!"}}]
[null,{"$f":"Sprawdz_pesel(Formularz!#REF!)","v":{"$error":"#VALUE!"}}]
[null,{"$f":"Sprawdz_pesel(Formularz!#REF!)","v":{"$error":"#VALUE!"}}]
[null,{"$f":"Sprawdz_pesel(Formularz!#REF!)","v":{"$error":"#VALUE!"}}]
[null,{"$f":"Sprawdz_pesel(Formularz!#REF!)","v":{"$error":"#VALUE!"}}]
[null,{"$f":"Sprawdz_pesel(Formularz!#REF!)","v":{"$error":"#VALUE!"}}]
[null,{"$f":"Sprawdz_pesel(Formularz!#REF!)","v":{"$error":"#VALUE!"}}]
[null,{"$f":"Sprawdz_pesel(Formularz!#REF!)","v":{"$error":"#VALUE!"}}]
[null,{"$f":"Sprawdz_pesel(Formularz!#REF!)","v":{"$error":"#VALUE!"}}]
[null,{"$f":"Sprawdz_pesel(Formularz!#REF!)","v":{"$error":"#VALUE!"}}]
[null,{"$f":"Sprawdz_pesel(Formularz!#REF!)","v":{"$error":"#VALUE!"}}]
[null,{"$f":"Sprawdz_pesel(Formularz!#REF!)","v":{"$error":"#VALUE!"}}]
[null,{"$f":"Sprawdz_pesel(Formularz!#REF!)","v":{"$error":"#VALUE!"}}]
[null,{"$f":"Sprawdz_pesel(Formularz!#REF!)","v":{"$error":"#VALUE!"}}]
[null,{"$f":"Sprawdz_pesel(Formularz!#REF!)","v":{"$error":"#VALUE!"}}]
[null,{"$f":"Sprawdz_pesel(Formularz!#REF!)","v":{"$error":"#VALUE!"}}]
[null,{"$f":"Sprawdz_pesel(Formularz!#REF!)","v":{"$error":"#VALUE!"}}]
[null,{"$f":"Sprawdz_pesel(Formularz!#REF!)","v":{"$error":"#VALUE!"}}]
[null,{"$f":"Sprawdz_pesel(Formularz!#REF!)","v":{"$error":"#VALUE!"}}]
[null,{"$f":"Sprawdz_pesel(Formularz!#REF!)","v":{"$error":"#VALUE!"}}]
[null,{"$f":"Sprawdz_pesel(Formularz!#REF!)","v":{"$error":"#VALUE!"}}]
[null,{"$f":"Sprawdz_pesel(Formularz!#REF!)","v":{"$error":"#VALUE!"}}]
[null,{"$f":"Sprawdz_pesel(Formularz!#REF!)","v":{"$error":"#VALUE!"}}]
[null,{"$f":"Sprawdz_pesel(Formularz!#REF!)","v":{"$error":"#VALUE!"}}]
[null,{"$f":"Sprawdz_pesel(Formularz!#REF!)","v":{"$error":"#VALUE!"}}]
[null,{"$f":"Sprawdz_pesel(Formularz!#REF!)","v":{"$error":"#VALUE!"}}]
[null,{"$f":"Sprawdz_pesel(Formularz!#REF!)","v":{"$error":"#VALUE!"}}]
[null,{"$f":"Sprawdz_pesel(Formularz!#REF!)","v":{"$error":"#VALUE!"}}]
[null,{"$f":"Sprawdz_pesel(Formularz!#REF!)","v":{"$error":"#VALUE!"}}]
[null,{"$f":"Sprawdz_pesel(Formularz!#REF!)","v":{"$error":"#VALUE!"}}]
[null,{"$f":"Sprawdz_pesel(Formularz!#REF!)","v":{"$error":"#VALUE!"}}]
[null,{"$f":"Sprawdz_pesel(Formularz!#REF!)","v":{"$error":"#VALUE!"}}]
[null,{"$f":"Sprawdz_pesel(Formularz!#REF!)","v":{"$error":"#VALUE!"}}]
[null,{"$f":"Sprawdz_pesel(Formularz!#REF!)","v":{"$error":"#VALUE!"}}]
[null,{"$f":"Sprawdz_pesel(Formularz!#REF!)","v":{"$error":"#VALUE!"}}]
[null,{"$f":"Sprawdz_pesel(Formularz!#REF!)","v":{"$error":"#VALUE!"}}]
[null,{"$f":"Sprawdz_pesel(Formularz!#REF!)","v":{"$error":"#VALUE!"}}]
[null,{"$f":"Sprawdz_pesel(Formularz!#REF!)","v":{"$error":"#VALUE!"}}]
[null,{"$f":"Sprawdz_pesel(Formularz!#REF!)","v":{"$error":"#VALUE!"}}]
[null,{"$f":"Sprawdz_pesel(Formularz!#REF!)","v":{"$error":"#VALUE!"}}]
[null,{"$f":"Sprawdz_pesel(Formularz!#REF!)","v":{"$error":"#VALUE!"}}]
[null,{"$f":"Sprawdz_pesel(Formularz!#REF!)","v":{"$error":"#VALUE!"}}]
[null,{"$f":"Sprawdz_pesel(Formularz!#REF!)","v":{"$error":"#VALUE!"}}]
[null,{"$f":"Sprawdz_pesel(Formularz!#REF!)","v":{"$error":"#VALUE!"}}]
[null,{"$f":"Sprawdz_pesel(Formularz!#REF!)","v":{"$error":"#VALUE!"}}]
[null,{"$f":"Sprawdz_pesel(Formularz!#REF!)","v":{"$error":"#VALUE!"}}]
[null,{"$f":"Sprawdz_pesel(Formularz!#REF!)","v":{"$error":"#VALUE!"}}]
[null,{"$f":"Sprawdz_pesel(Formularz!#REF!)","v":{"$error":"#VALUE!"}}]
[null,{"$f":"Sprawdz_pesel(Formularz!#REF!)","v":{"$error":"#VALUE!"}}]
[null,{"$f":"Sprawdz_pesel(Formularz!#REF!)","v":{"$error":"#VALUE!"}}]
[null,{"$f":"Sprawdz_pesel(Formularz!#REF!)","v":{"$error":"#VALUE!"}}]
[null,{"$f":"Sprawdz_pesel(Formularz!#REF!)","v":{"$error":"#VALUE!"}}]
[null,{"$f":"Sprawdz_pesel(Formularz!#REF!)","v":{"$error":"#VALUE!"}}]
[null,{"$f":"Sprawdz_pesel(Formularz!#REF!)","v":{"$error":"#VALUE!"}}]
[null,{"$f":"Sprawdz_pesel(Formularz!#REF!)","v":{"$error":"#VALUE!"}}]
[null,{"$f":"Sprawdz_pesel(Formularz!#REF!)","v":{"$error":"#VALUE!"}}]
[null,{"$f":"Sprawdz_pesel(Formularz!#REF!)","v":{"$error":"#VALUE!"}}]
[null,{"$f":"Sprawdz_pesel(Formularz!#REF!)","v":{"$error":"#VALUE!"}}]
[null,{"$f":"Sprawdz_pesel(Formularz!#REF!)","v":{"$error":"#VALUE!"}}]
[null,{"$f":"Sprawdz_pesel(Formularz!#REF!)","v":{"$error":"#VALUE!"}}]
[null,{"$f":"Sprawdz_pesel(Formularz!#REF!)","v":{"$error":"#VALUE!"}}]
[null,{"$f":"Sprawdz_pesel(Formularz!#REF!)","v":{"$error":"#VALUE!"}}]
[null,{"$f":"Sprawdz_pesel(Formularz!#REF!)","v":{"$error":"#VALUE!"}}]
[null,{"$f":"Sprawdz_pesel(Formularz!#REF!)","v":{"$error":"#VALUE!"}}]
[null,{"$f":"Sprawdz_pesel(Formularz!#REF!)","v":{"$error":"#VALUE!"}}]
[null,{"$f":"Sprawdz_pesel(Formularz!#REF!)","v":{"$error":"#VALUE!"}}]
[null,{"$f":"Sprawdz_pesel(Formularz!#REF!)","v":{"$error":"#VALUE!"}}]
[null,{"$f":"Sprawdz_pesel(Formularz!#REF!)","v":{"$error":"#VALUE!"}}]
[null,{"$f":"Sprawdz_pesel(Formularz!#REF!)","v":{"$error":"#VALUE!"}}]
[null,{"$f":"Sprawdz_pesel(Formularz!#REF!)","v":{"$error":"#VALUE!"}}]
[null,{"$f":"Sprawdz_pesel(Formularz!#REF!)","v":{"$error":"#VALUE!"}}]
[null,{"$f":"Sprawdz_pesel(Formularz!#REF!)","v":{"$error":"#VALUE!"}}]
[null,{"$f":"Sprawdz_pesel(Formularz!#REF!)","v":{"$error":"#VALUE!"}}]
[null,{"$f":"Sprawdz_pesel(Formularz!#REF!)","v":{"$error":"#VALUE!"}}]
[null,{"$f":"Sprawdz_pesel(Formularz!#REF!)","v":{"$error":"#VALUE!"}}]
[null,{"$f":"Sprawdz_pesel(Formularz!#REF!)","v":{"$error":"#VALUE!"}}]
[null,{"$f":"Sprawdz_pesel(Formularz!#REF!)","v":{"$error":"#VALUE!"}}]
[null,{"$f":"Sprawdz_pesel(Formularz!#REF!)","v":{"$error":"#VALUE!"}}]
[null,{"$f":"Sprawdz_pesel(Formularz!#REF!)","v":{"$error":"#VALUE!"}}]
[null,{"$f":"Sprawdz_pesel(Formularz!#REF!)","v":{"$error":"#VALUE!"}}]
[null,{"$f":"Sprawdz_pesel(Formularz!#REF!)","v":{"$error":"#VALUE!"}}]
[null,{"$f":"Sprawdz_pesel(Formularz!#REF!)","v":{"$error":"#VALUE!"}}]
[null,{"$f":"Sprawdz_pesel(Formularz!#REF!)","v":{"$error":"#VALUE!"}}]
[null,{"$f":"Sprawdz_pesel(Formularz!#REF!)","v":{"$error":"#VALUE!"}}]
[null,{"$f":"Sprawdz_pesel(Formularz!#REF!)","v":{"$error":"#VALUE!"}}]
[null,{"$f":"Sprawdz_pesel(Formularz!#REF!)","v":{"$error":"#VALUE!"}}]
[null,{"$f":"Sprawdz_pesel(Formularz!#REF!)","v":{"$error":"#VALUE!"}}]
[null,{"$f":"Sprawdz_pesel(Formularz!#REF!)","v":{"$error":"#VALUE!"}}]
[null,{"$f":"Sprawdz_pesel(Formularz!#REF!)","v":{"$error":"#VALUE!"}}]
[null,{"$f":"Sprawdz_pesel(Formularz!#REF!)","v":{"$error":"#VALUE!"}}]
[null,{"$f":"Sprawdz_pesel(Formularz!#REF!)","v":{"$error":"#VALUE!"}}]
[null,{"$f":"Sprawdz_pesel(Formularz!#REF!)","v":{"$error":"#VALUE!"}}]
[null,{"$f":"Sprawdz_pesel(Formularz!#REF!)","v":{"$error":"#VALUE!"}}]
[null,{"$f":"Sprawdz_pesel(Formularz!#REF!)","v":{"$error":"#VALUE!"}}]
[null,{"$f":"Sprawdz_pesel(Formularz!#REF!)","v":{"$error":"#VALUE!"}}]
[null,{"$f":"Sprawdz_pesel(Formularz!#REF!)","v":{"$error":"#VALUE!"}}]
[null,{"$f":"Sprawdz_pesel(Formularz!#REF!)","v":{"$error":"#VALUE!"}}]
[null,{"$f":"Sprawdz_pesel(Formularz!#REF!)","v":{"$error":"#VALUE!"}}]
[null,{"$f":"Sprawdz_pesel(Formularz!#REF!)","v":{"$error":"#VALUE!"}}]
[null,{"$f":"Sprawdz_pesel(Formularz!#REF!)","v":{"$error":"#VALUE!"}}]
[null,{"$f":"Sprawdz_pesel(Formularz!#REF!)","v":{"$error":"#VALUE!"}}]
[null,{"$f":"Sprawdz_pesel(Formularz!#REF!)","v":{"$error":"#VALUE!"}}]
[null,{"$f":"Sprawdz_pesel(Formularz!#REF!)","v":{"$error":"#VALUE!"}}]
[null,{"$f":"Sprawdz_pesel(Formularz!#REF!)","v":{"$error":"#VALUE!"}}]
[null,{"$f":"Sprawdz_pesel(Formularz!#REF!)","v":{"$error":"#VALUE!"}}]
[null,{"$f":"Sprawdz_pesel(Formularz!#REF!)","v":{"$error":"#VALUE!"}}]
[null,{"$f":"Sprawdz_pesel(Formularz!#REF!)","v":{"$error":"#VALUE!"}}]
[null,{"$f":"Sprawdz_pesel(Formularz!#REF!)","v":{"$error":"#VALUE!"}}]
[null,{"$f":"Sprawdz_pesel(Formularz!#REF!)","v":{"$error":"#VALUE!"}}]
[null,{"$f":"Sprawdz_pesel(Formularz!#REF!)","v":{"$error":"#VALUE!"}}]
[null,{"$f":"Sprawdz_pesel(Formularz!#REF!)","v":{"$error":"#VALUE!"}}]
[null,{"$f":"Sprawdz_pesel(Formularz!#REF!)","v":{"$error":"#VALUE!"}}]
[null,{"$f":"Sprawdz_pesel(Formularz!#REF!)","v":{"$error":"#VALUE!"}}]
[null,{"$f":"Sprawdz_pesel(Formularz!#REF!)","v":{"$error":"#VALUE!"}}]
[null,{"$f":"Sprawdz_pesel(Formularz!#REF!)","v":{"$error":"#VALUE!"}}]
[null,{"$f":"Sprawdz_pesel(Formularz!#REF!)","v":{"$error":"#VALUE!"}}]
[null,{"$f":"Sprawdz_pesel(Formularz!#REF!)","v":{"$error":"#VALUE!"}}]
[null,{"$f":"Sprawdz_pesel(Formularz!#REF!)","v":{"$error":"#VALUE!"}}]
[null,{"$f":"Sprawdz_pesel(Formularz!#REF!)","v":{"$error":"#VALUE!"}}]
[null,{"$f":"Sprawdz_pesel(Formularz!#REF!)","v":{"$error":"#VALUE!"}}]
[null,{"$f":"Sprawdz_pesel(Formularz!#REF!)","v":{"$error":"#VALUE!"}}]
[null,{"$f":"Sprawdz_pesel(Formularz!#REF!)","v":{"$error":"#VALUE!"}}]
[null,{"$f":"Sprawdz_pesel(Formularz!#REF!)","v":{"$error":"#VALUE!"}}]
[null,{"$f":"Sprawdz_pesel(Formularz!#REF!)","v":{"$error":"#VALUE!"}}]
[null,{"$f":"Sprawdz_pesel(Formularz!#REF!)","v":{"$error":"#VALUE!"}}]
[null,{"$f":"Sprawdz_pesel(Formularz!#REF!)","v":{"$error":"#VALUE!"}}]
[null,{"$f":"Sprawdz_pesel(Formularz!#REF!)","v":{"$error":"#VALUE!"}}]
[null,{"$f":"Sprawdz_pesel(Formularz!#REF!)","v":{"$error":"#VALUE!"}}]
[null,{"$f":"Sprawdz_pesel(Formularz!#REF!)","v":{"$error":"#VALUE!"}}]
[null,{"$f":"Sprawdz_pesel(Formularz!#REF!)","v":{"$error":"#VALUE!"}}]
[null,{"$f":"Sprawdz_pesel(Formularz!#REF!)","v":{"$error":"#VALUE!"}}]
[null,{"$f":"Sprawdz_pesel(Formularz!#REF!)","v":{"$error":"#VALUE!"}}]
[null,{"$f":"Sprawdz_pesel(Formularz!#REF!)","v":{"$error":"#VALUE!"}}]
[null,{"$f":"Sprawdz_pesel(Formularz!#REF!)","v":{"$error":"#VALUE!"}}]
[null,{"$f":"Sprawdz_pesel(Formularz!#REF!)","v":{"$error":"#VALUE!"}}]
[null,{"$f":"Sprawdz_pesel(Formularz!#REF!)","v":{"$error":"#VALUE!"}}]
[null,{"$f":"Sprawdz_pesel(Formularz!#REF!)","v":{"$error":"#VALUE!"}}]
[null,{"$f":"Sprawdz_pesel(Formularz!#REF!)","v":{"$error":"#VALUE!"}}]
[null,{"$f":"Sprawdz_pesel(Formularz!#REF!)","v":{"$error":"#VALUE!"}}]
[null,{"$f":"Sprawdz_pesel(Formularz!#REF!)","v":{"$error":"#VALUE!"}}]
[null,{"$f":"Sprawdz_pesel(Formularz!#REF!)","v":{"$error":"#VALUE!"}}]
[null,{"$f":"Sprawdz_pesel(Formularz!#REF!)","v":{"$error":"#VALUE!"}}]
[null,{"$f":"Sprawdz_pesel(Formularz!#REF!)","v":{"$error":"#VALUE!"}}]
[null,{"$f":"Sprawdz_pesel(Formularz!#REF!)","v":{"$error":"#VALUE!"}}]
[null,{"$f":"Sprawdz_pesel(Formularz!#REF!)","v":{"$error":"#VALUE!"}}]
[null,{"$f":"Sprawdz_pesel(Formularz!#REF!)","v":{"$error":"#VALUE!"}}]
[null,{"$f":"Sprawdz_pesel(Formularz!#REF!)","v":{"$error":"#VALUE!"}}]
[null,{"$f":"Sprawdz_pesel(Formularz!#REF!)","v":{"$error":"#VALUE!"}}]
[null,{"$f":"Sprawdz_pesel(Formularz!#REF!)","v":{"$error":"#VALUE!"}}]
[null,{"$f":"Sprawdz_pesel(Formularz!#REF!)","v":{"$error":"#VALUE!"}}]
[null,{"$f":"Sprawdz_pesel(Formularz!#REF!)","v":{"$error":"#VALUE!"}}]
[null,{"$f":"Sprawdz_pesel(Formularz!#REF!)","v":{"$error":"#VALUE!"}}]
[null,{"$f":"Sprawdz_pesel(Formularz!#REF!)","v":{"$error":"#VALUE!"}}]
[null,{"$f":"Sprawdz_pesel(Formularz!#REF!)","v":{"$error":"#VALUE!"}}]
[null,{"$f":"Sprawdz_pesel(Formularz!#REF!)","v":{"$error":"#VALUE!"}}]
[null,{"$f":"Sprawdz_pesel(Formularz!#REF!)","v":{"$error":"#VALUE!"}}]
[null,{"$f":"Sprawdz_pesel(Formularz!#REF!)","v":{"$error":"#VALUE!"}}]
[null,{"$f":"Sprawdz_pesel(Formularz!#REF!)","v":{"$error":"#VALUE!"}}]
[null,{"$f":"Sprawdz_pesel(Formularz!#REF!)","v":{"$error":"#VALUE!"}}]
[null,{"$f":"Sprawdz_pesel(Formularz!#REF!)","v":{"$error":"#VALUE!"}}]
[null,{"$f":"Sprawdz_pesel(Formularz!#REF!)","v":{"$error":"#VALUE!"}}]
[null,{"$f":"Sprawdz_pesel(Formularz!#REF!)","v":{"$error":"#VALUE!"}}]
[null,{"$f":"Sprawdz_pesel(Formularz!#REF!)","v":{"$error":"#VALUE!"}}]
[null,{"$f":"Sprawdz_pesel(Formularz!#REF!)","v":{"$error":"#VALUE!"}}]
[null,{"$f":"Sprawdz_pesel(Formularz!#REF!)","v":{"$error":"#VALUE!"}}]
[null,{"$f":"Sprawdz_pesel(Formularz!#REF!)","v":{"$error":"#VALUE!"}}]
[null,{"$f":"Sprawdz_pesel(Formularz!#REF!)","v":{"$error":"#VALUE!"}}]
[null,{"$f":"Sprawdz_pesel(Formularz!#REF!)","v":{"$error":"#VALUE!"}}]
[null,{"$f":"Sprawdz_pesel(Formularz!#REF!)","v":{"$error":"#VALUE!"}}]
[null,{"$f":"Sprawdz_pesel(Formularz!#REF!)","v":{"$error":"#VALUE!"}}]
[null,{"$f":"Sprawdz_pesel(Formularz!#REF!)","v":{"$error":"#VALUE!"}}]
[null,{"$f":"Sprawdz_pesel(Formularz!#REF!)","v":{"$error":"#VALUE!"}}]
[null,{"$f":"Sprawdz_pesel(Formularz!#REF!)","v":{"$error":"#VALUE!"}}]
[null,{"$f":"Sprawdz_pesel(Formularz!#REF!)","v":{"$error":"#VALUE!"}}]
[null,{"$f":"Sprawdz_pesel(Formularz!#REF!)","v":{"$error":"#VALUE!"}}]
[null,{"$f":"Sprawdz_pesel(Formularz!#REF!)","v":{"$error":"#VALUE!"}}]
[null,{"$f":"Sprawdz_pesel(Formularz!#REF!)","v":{"$error":"#VALUE!"}}]
[null,{"$f":"Sprawdz_pesel(Formularz!#REF!)","v":{"$error":"#VALUE!"}}]
[null,{"$f":"Sprawdz_pesel(Formularz!#REF!)","v":{"$error":"#VALUE!"}}]
[null,{"$f":"Sprawdz_pesel(Formularz!#REF!)","v":{"$error":"#VALUE!"}}]
[null,{"$f":"Sprawdz_pesel(Formularz!#REF!)","v":{"$error":"#VALUE!"}}]
[null,{"$f":"Sprawdz_pesel(Formularz!#REF!)","v":{"$error":"#VALUE!"}}]
[null,{"$f":"Sprawdz_pesel(Formularz!#REF!)","v":{"$error":"#VALUE!"}}]
[null,{"$f":"Sprawdz_pesel(Formularz!#REF!)","v":{"$error":"#VALUE!"}}]
[null,{"$f":"Sprawdz_pesel(Formularz!#REF!)","v":{"$error":"#VALUE!"}}]
[null,{"$f":"Sprawdz_pesel(Formularz!#REF!)","v":{"$error":"#VALUE!"}}]
[null,{"$f":"Sprawdz_pesel(Formularz!#REF!)","v":{"$error":"#VALUE!"}}]
[null,{"$f":"Sprawdz_pesel(Formularz!#REF!)","v":{"$error":"#VALUE!"}}]
[null,{"$f":"Sprawdz_pesel(Formularz!#REF!)","v":{"$error":"#VALUE!"}}]
[null,{"$f":"Sprawdz_pesel(Formularz!#REF!)","v":{"$error":"#VALUE!"}}]
[null,{"$f":"Sprawdz_pesel(Formularz!#REF!)","v":{"$error":"#VALUE!"}}]
[null,{"$f":"Sprawdz_pesel(Formularz!#REF!)","v":{"$error":"#VALUE!"}}]
[null,{"$f":"Sprawdz_pesel(Formularz!#REF!)","v":{"$error":"#VALUE!"}}]
[null,{"$f":"Sprawdz_pesel(Formularz!#REF!)","v":{"$error":"#VALUE!"}}]
[null,{"$f":"Sprawdz_pesel(Formularz!#REF!)","v":{"$error":"#VALUE!"}}]
[null,{"$f":"Sprawdz_pesel(Formularz!#REF!)","v":{"$error":"#VALUE!"}}]
[null,{"$f":"Sprawdz_pesel(Formularz!#REF!)","v":{"$error":"#VALUE!"}}]
[null,{"$f":"Sprawdz_pesel(Formularz!#REF!)","v":{"$error":"#VALUE!"}}]
[null,{"$f":"Sprawdz_pesel(Formularz!#REF!)","v":{"$error":"#VALUE!"}}]
[null,{"$f":"Sprawdz_pesel(Formularz!#REF!)","v":{"$error":"#VALUE!"}}]
[null,{"$f":"Sprawdz_pesel(Formularz!#REF!)","v":{"$error":"#VALUE!"}}]
[null,{"$f":"Sprawdz_pesel(Formularz!#REF!)","v":{"$error":"#VALUE!"}}]
[null,{"$f":"Sprawdz_pesel(Formularz!#REF!)","v":{"$error":"#VALUE!"}}]
[null,{"$f":"Sprawdz_pesel(Formularz!#REF!)","v":{"$error":"#VALUE!"}}]
[null,{"$f":"Sprawdz_pesel(Formularz!#REF!)","v":{"$error":"#VALUE!"}}]
[null,{"$f":"Sprawdz_pesel(Formularz!#REF!)","v":{"$error":"#VALUE!"}}]
[null,{"$f":"Sprawdz_pesel(Formularz!#REF!)","v":{"$error":"#VALUE!"}}]
[null,{"$f":"Sprawdz_pesel(Formularz!#REF!)","v":{"$error":"#VALUE!"}}]
[null,{"$f":"Sprawdz_pesel(Formularz!#REF!)","v":{"$error":"#VALUE!"}}]
[null,{"$f":"Sprawdz_pesel(Formularz!#REF!)","v":{"$error":"#VALUE!"}}]
[null,{"$f":"Sprawdz_pesel(Formularz!#REF!)","v":{"$error":"#VALUE!"}}]
[null,{"$f":"Sprawdz_pesel(Formularz!#REF!)","v":{"$error":"#VALUE!"}}]
[null,{"$f":"Sprawdz_pesel(Formularz!#REF!)","v":{"$error":"#VALUE!"}}]
[null,{"$f":"Sprawdz_pesel(Formularz!#REF!)","v":{"$error":"#VALUE!"}}]
[null,{"$f":"Sprawdz_pesel(Formularz!#REF!)","v":{"$error":"#VALUE!"}}]
[null,{"$f":"Sprawdz_pesel(Formularz!#REF!)","v":{"$error":"#VALUE!"}}]
[null,{"$f":"Sprawdz_pesel(Formularz!#REF!)","v":{"$error":"#VALUE!"}}]
[null,{"$f":"Sprawdz_pesel(Formularz!#REF!)","v":{"$error":"#VALUE!"}}]
[null,{"$f":"Sprawdz_pesel(Formularz!#REF!)","v":{"$error":"#VALUE!"}}]
[null,{"$f":"Sprawdz_pesel(Formularz!#REF!)","v":{"$error":"#VALUE!"}}]
[null,{"$f":"Sprawdz_pesel(Formularz!#REF!)","v":{"$error":"#VALUE!"}}]
[null,{"$f":"Sprawdz_pesel(Formularz!#REF!)","v":{"$error":"#VALUE!"}}]
[null,{"$f":"Sprawdz_pesel(Formularz!#REF!)","v":{"$error":"#VALUE!"}}]
[null,{"$f":"Sprawdz_pesel(Formularz!#REF!)","v":{"$error":"#VALUE!"}}]
[null,{"$f":"Sprawdz_pesel(Formularz!#REF!)","v":{"$error":"#VALUE!"}}]
[null,{"$f":"Sprawdz_pesel(Formularz!#REF!)","v":{"$error":"#VALUE!"}}]
[null,{"$f":"Sprawdz_pesel(Formularz!#REF!)","v":{"$error":"#VALUE!"}}]
[null,{"$f":"Sprawdz_pesel(Formularz!#REF!)","v":{"$error":"#VALUE!"}}]
[null,{"$f":"Sprawdz_pesel(Formularz!#REF!)","v":{"$error":"#VALUE!"}}]
[null,{"$f":"Sprawdz_pesel(Formularz!#REF!)","v":{"$error":"#VALUE!"}}]
[null,{"$f":"Sprawdz_pesel(Formularz!#REF!)","v":{"$error":"#VALUE!"}}]
[null,{"$f":"Sprawdz_pesel(Formularz!#REF!)","v":{"$error":"#VALUE!"}}]
[null,{"$f":"Sprawdz_pesel(Formularz!#REF!)","v":{"$error":"#VALUE!"}}]
[null,{"$f":"Sprawdz_pesel(Formularz!#REF!)","v":{"$error":"#VALUE!"}}]
[null,{"$f":"Sprawdz_pesel(Formularz!#REF!)","v":{"$error":"#VALUE!"}}]
[null,{"$f":"Sprawdz_pesel(Formularz!#REF!)","v":{"$error":"#VALUE!"}}]
[null,{"$f":"Sprawdz_pesel(Formularz!#REF!)","v":{"$error":"#VALUE!"}}]
[null,{"$f":"Sprawdz_pesel(Formularz!#REF!)","v":{"$error":"#VALUE!"}}]
[null,{"$f":"Sprawdz_pesel(Formularz!#REF!)","v":{"$error":"#VALUE!"}}]
[null,{"$f":"Sprawdz_pesel(Formularz!#REF!)","v":{"$error":"#VALUE!"}}]
[null,{"$f":"Sprawdz_pesel(Formularz!#REF!)","v":{"$error":"#VALUE!"}}]
[null,{"$f":"Sprawdz_pesel(Formularz!#REF!)","v":{"$error":"#VALUE!"}}]
[null,{"$f":"Sprawdz_pesel(Formularz!#REF!)","v":{"$error":"#VALUE!"}}]
[null,{"$f":"Sprawdz_pesel(Formularz!#REF!)","v":{"$error":"#VALUE!"}}]
[null,{"$f":"Sprawdz_pesel(Formularz!#REF!)","v":{"$error":"#VALUE!"}}]
[null,{"$f":"Sprawdz_pesel(Formularz!#REF!)","v":{"$error":"#VALUE!"}}]
[null,{"$f":"Sprawdz_pesel(Formularz!#REF!)","v":{"$error":"#VALUE!"}}]
[null,{"$f":"Sprawdz_pesel(Formularz!#REF!)","v":{"$error":"#VALUE!"}}]
[null,{"$f":"Sprawdz_pesel(Formularz!#REF!)","v":{"$error":"#VALUE!"}}]
[null,{"$f":"Sprawdz_pesel(Formularz!#REF!)","v":{"$error":"#VALUE!"}}]
[null,{"$f":"Sprawdz_pesel(Formularz!#REF!)","v":{"$error":"#VALUE!"}}]
[null,{"$f":"Sprawdz_pesel(Formularz!#REF!)","v":{"$error":"#VALUE!"}}]
[null,{"$f":"Sprawdz_pesel(Formularz!#REF!)","v":{"$error":"#VALUE!"}}]
[null,{"$f":"Sprawdz_pesel(Formularz!#REF!)","v":{"$error":"#VALUE!"}}]
[null,{"$f":"Sprawdz_pesel(Formularz!#REF!)","v":{"$error":"#VALUE!"}}]
[null,{"$f":"Sprawdz_pesel(Formularz!#REF!)","v":{"$error":"#VALUE!"}}]
[null,{"$f":"Sprawdz_pesel(Formularz!#REF!)","v":{"$error":"#VALUE!"}}]
[null,{"$f":"Sprawdz_pesel(Formularz!#REF!)","v":{"$error":"#VALUE!"}}]
[null,{"$f":"Sprawdz_pesel(Formularz!#REF!)","v":{"$error":"#VALUE!"}}]
[null,{"$f":"Sprawdz_pesel(Formularz!#REF!)","v":{"$error":"#VALUE!"}}]
[null,{"$f":"Sprawdz_pesel(Formularz!#REF!)","v":{"$error":"#VALUE!"}}]
[null,{"$f":"Sprawdz_pesel(Formularz!#REF!)","v":{"$error":"#VALUE!"}}]
[null,{"$f":"Sprawdz_pesel(Formularz!#REF!)","v":{"$error":"#VALUE!"}}]
[null,{"$f":"Sprawdz_pesel(Formularz!#REF!)","v":{"$error":"#VALUE!"}}]
[null,{"$f":"Sprawdz_pesel(Formularz!#REF!)","v":{"$error":"#VALUE!"}}]
[null,{"$f":"Sprawdz_pesel(Formularz!#REF!)","v":{"$error":"#VALUE!"}}]
[null,{"$f":"Sprawdz_pesel(Formularz!#REF!)","v":{"$error":"#VALUE!"}}]
[null,{"$f":"Sprawdz_pesel(Formularz!#REF!)","v":{"$error":"#VALUE!"}}]
[null,{"$f":"Sprawdz_pesel(Formularz!#REF!)","v":{"$error":"#VALUE!"}}]
[null,{"$f":"Sprawdz_pesel(Formularz!#REF!)","v":{"$error":"#VALUE!"}}]
[null,{"$f":"Sprawdz_pesel(Formularz!#REF!)","v":{"$error":"#VALUE!"}}]
[null,{"$f":"Sprawdz_pesel(Formularz!#REF!)","v":{"$error":"#VALUE!"}}]
[null,{"$f":"Sprawdz_pesel(Formularz!#REF!)","v":{"$error":"#VALUE!"}}]
[null,{"$f":"Sprawdz_pesel(Formularz!#REF!)","v":{"$error":"#VALUE!"}}]
[null,{"$f":"Sprawdz_pesel(Formularz!#REF!)","v":{"$error":"#VALUE!"}}]
[null,{"$f":"Sprawdz_pesel(Formularz!#REF!)","v":{"$error":"#VALUE!"}}]
[null,{"$f":"Sprawdz_pesel(Formularz!#REF!)","v":{"$error":"#VALUE!"}}]
[null,{"$f":"Sprawdz_pesel(Formularz!#REF!)","v":{"$error":"#VALUE!"}}]
[null,{"$f":"Sprawdz_pesel(Formularz!#REF!)","v":{"$error":"#VALUE!"}}]
[null,{"$f":"Sprawdz_pesel(Formularz!#REF!)","v":{"$error":"#VALUE!"}}]
[null,{"$f":"Sprawdz_pesel(Formularz!#REF!)","v":{"$error":"#VALUE!"}}]
[null,{"$f":"Sprawdz_pesel(Formularz!#REF!)","v":{"$error":"#VALUE!"}}]
[null,{"$f":"Sprawdz_pesel(Formularz!#REF!)","v":{"$error":"#VALUE!"}}]
[null,{"$f":"Sprawdz_pesel(Formularz!#REF!)","v":{"$error":"#VALUE!"}}]
[null,{"$f":"Sprawdz_pesel(Formularz!#REF!)","v":{"$error":"#VALUE!"}}]
[null,{"$f":"Sprawdz_pesel(Formularz!#REF!)","v":{"$error":"#VALUE!"}}]
[null,{"$f":"Sprawdz_pesel(Formularz!#REF!)","v":{"$error":"#VALUE!"}}]
[null,{"$f":"Sprawdz_pesel(Formularz!#REF!)","v":{"$error":"#VALUE!"}}]
[null,{"$f":"Sprawdz_pesel(Formularz!#REF!)","v":{"$error":"#VALUE!"}}]
[null,{"$f":"Sprawdz_pesel(Formularz!#REF!)","v":{"$error":"#VALUE!"}}]
[null,{"$f":"Sprawdz_pesel(Formularz!#REF!)","v":{"$error":"#VALUE!"}}]
[null,{"$f":"Sprawdz_pesel(Formularz!#REF!)","v":{"$error":"#VALUE!"}}]
[null,{"$f":"Sprawdz_pesel(Formularz!#REF!)","v":{"$error":"#VALUE!"}}]
[null,{"$f":"Sprawdz_pesel(Formularz!#REF!)","v":{"$error":"#VALUE!"}}]
[null,{"$f":"Sprawdz_pesel(Formularz!#REF!)","v":{"$error":"#VALUE!"}}]
[null,{"$f":"Sprawdz_pesel(Formularz!#REF!)","v":{"$error":"#VALUE!"}}]
[null,{"$f":"Sprawdz_pesel(Formularz!#REF!)","v":{"$error":"#VALUE!"}}]
[null,{"$f":"Sprawdz_pesel(Formularz!#REF!)","v":{"$error":"#VALUE!"}}]
[null,{"$f":"Sprawdz_pesel(Formularz!#REF!)","v":{"$error":"#VALUE!"}}]
[null,{"$f":"Sprawdz_pesel(Formularz!#REF!)","v":{"$error":"#VALUE!"}}]
[null,{"$f":"Sprawdz_pesel(Formularz!#REF!)","v":{"$error":"#VALUE!"}}]
[null,{"$f":"Sprawdz_pesel(Formularz!#REF!)","v":{"$error":"#VALUE!"}}]
[null,{"$f":"Sprawdz_pesel(Formularz!#REF!)","v":{"$error":"#VALUE!"}}]
[null,{"$f":"Sprawdz_pesel(Formularz!#REF!)","v":{"$error":"#VALUE!"}}]
[null,{"$f":"Sprawdz_pesel(Formularz!#REF!)","v":{"$error":"#VALUE!"}}]
[null,{"$f":"Sprawdz_pesel(Formularz!#REF!)","v":{"$error":"#VALUE!"}}]
[null,{"$f":"Sprawdz_pesel(Formularz!#REF!)","v":{"$error":"#VALUE!"}}]
[null,{"$f":"Sprawdz_pesel(Formularz!#REF!)","v":{"$error":"#VALUE!"}}]
[null,{"$f":"Sprawdz_pesel(Formularz!#REF!)","v":{"$error":"#VALUE!"}}]
[null,{"$f":"Sprawdz_pesel(Formularz!#REF!)","v":{"$error":"#VALUE!"}}]
[null,{"$f":"Sprawdz_pesel(Formularz!#REF!)","v":{"$error":"#VALUE!"}}]
[null,{"$f":"Sprawdz_pesel(Formularz!#REF!)","v":{"$error":"#VALUE!"}}]
[null,{"$f":"Sprawdz_pesel(Formularz!#REF!)","v":{"$error":"#VALUE!"}}]
[null,{"$f":"Sprawdz_pesel(Formularz!#REF!)","v":{"$error":"#VALUE!"}}]
[null,{"$f":"Sprawdz_pesel(Formularz!#REF!)","v":{"$error":"#VALUE!"}}]
[null,{"$f":"Sprawdz_pesel(Formularz!#REF!)","v":{"$error":"#VALUE!"}}]
[null,{"$f":"Sprawdz_pesel(Formularz!#REF!)","v":{"$error":"#VALUE!"}}]
[null,{"$f":"Sprawdz_pesel(Formularz!#REF!)","v":{"$error":"#VALUE!"}}]
[null,{"$f":"Sprawdz_pesel(Formularz!#REF!)","v":{"$error":"#VALUE!"}}]
[null,{"$f":"Sprawdz_pesel(Formularz!#REF!)","v":{"$error":"#VALUE!"}}]
[null,{"$f":"Sprawdz_pesel(Formularz!#REF!)","v":{"$error":"#VALUE!"}}]
[null,{"$f":"Sprawdz_pesel(Formularz!#REF!)","v":{"$error":"#VALUE!"}}]
[null,{"$f":"Sprawdz_pesel(Formularz!#REF!)","v":{"$error":"#VALUE!"}}]
[null,{"$f":"Sprawdz_pesel(Formularz!#REF!)","v":{"$error":"#VALUE!"}}]
[null,{"$f":"Sprawdz_pesel(Formularz!#REF!)","v":{"$error":"#VALUE!"}}]
[null,{"$f":"Sprawdz_pesel(Formularz!#REF!)","v":{"$error":"#VALUE!"}}]
[null,{"$f":"Sprawdz_pesel(Formularz!#REF!)","v":{"$error":"#VALUE!"}}]
[null,{"$f":"Sprawdz_pesel(Formularz!#REF!)","v":{"$error":"#VALUE!"}}]
[null,{"$f":"Sprawdz_pesel(Formularz!#REF!)","v":{"$error":"#VALUE!"}}]
[null,{"$f":"Sprawdz_pesel(Formularz!#REF!)","v":{"$error":"#VALUE!"}}]
[null,{"$f":"Sprawdz_pesel(Formularz!#REF!)","v":{"$error":"#VALUE!"}}]
[null,{"$f":"Sprawdz_pesel(Formularz!#REF!)","v":{"$error":"#VALUE!"}}]
[null,{"$f":"Sprawdz_pesel(Formularz!#REF!)","v":{"$error":"#VALUE!"}}]
[null,{"$f":"Sprawdz_pesel(Formularz!#REF!)","v":{"$error":"#VALUE!"}}]
[null,{"$f":"Sprawdz_pesel(Formularz!#REF!)","v":{"$error":"#VALUE!"}}]
[null,{"$f":"Sprawdz_pesel(Formularz!#REF!)","v":{"$error":"#VALUE!"}}]
[null,{"$f":"Sprawdz_pesel(Formularz!#REF!)","v":{"$error":"#VALUE!"}}]
[null,{"$f":"Sprawdz_pesel(Formularz!#REF!)","v":{"$error":"#VALUE!"}}]
[null,{"$f":"Sprawdz_pesel(Formularz!#REF!)","v":{"$error":"#VALUE!"}}]
[null,{"$f":"Sprawdz_pesel(Formularz!#REF!)","v":{"$error":"#VALUE!"}}]
[null,{"$f":"Sprawdz_pesel(Formularz!#REF!)","v":{"$error":"#VALUE!"}}]
[null,{"$f":"Sprawdz_pesel(Formularz!#REF!)","v":{"$error":"#VALUE!"}}]
[null,{"$f":"Sprawdz_pesel(Formularz!#REF!)","v":{"$error":"#VALUE!"}}]
[null,{"$f":"Sprawdz_pesel(Formularz!#REF!)","v":{"$error":"#VALUE!"}}]
[null,{"$f":"Sprawdz_pesel(Formularz!#REF!)","v":{"$error":"#VALUE!"}}]
[null,{"$f":"Sprawdz_pesel(Formularz!#REF!)","v":{"$error":"#VALUE!"}}]
[null,{"$f":"Sprawdz_pesel(Formularz!#REF!)","v":{"$error":"#VALUE!"}}]
[null,{"$f":"Sprawdz_pesel(Formularz!#REF!)","v":{"$error":"#VALUE!"}}]
[null,{"$f":"Sprawdz_pesel(Formularz!#REF!)","v":{"$error":"#VALUE!"}}]
[null,{"$f":"Sprawdz_pesel(Formularz!#REF!)","v":{"$error":"#VALUE!"}}]
[null,{"$f":"Sprawdz_pesel(Formularz!#REF!)","v":{"$error":"#VALUE!"}}]
[null,{"$f":"Sprawdz_pesel(Formularz!#REF!)","v":{"$error":"#VALUE!"}}]
[null,{"$f":"Sprawdz_pesel(Formularz!#REF!)","v":{"$error":"#VALUE!"}}]
[null,{"$f":"Sprawdz_pesel(Formularz!#REF!)","v":{"$error":"#VALUE!"}}]
[null,{"$f":"Sprawdz_pesel(Formularz!#REF!)","v":{"$error":"#VALUE!"}}]
[null,{"$f":"Sprawdz_pesel(Formularz!#REF!)","v":{"$error":"#VALUE!"}}]
[null,{"$f":"Sprawdz_pesel(Formularz!#REF!)","v":{"$error":"#VALUE!"}}]
[null,{"$f":"Sprawdz_pesel(Formularz!#REF!)","v":{"$error":"#VALUE!"}}]
[null,{"$f":"Sprawdz_pesel(Formularz!#REF!)","v":{"$error":"#VALUE!"}}]
[null,{"$f":"Sprawdz_pesel(Formularz!#REF!)","v":{"$error":"#VALUE!"}}]
[null,{"$f":"Sprawdz_pesel(Formularz!#REF!)","v":{"$error":"#VALUE!"}}]
[null,{"$f":"Sprawdz_pesel(Formularz!#REF!)","v":{"$error":"#VALUE!"}}]
[null,{"$f":"Sprawdz_pesel(Formularz!#REF!)","v":{"$error":"#VALUE!"}}]
[null,{"$f":"Sprawdz_pesel(Formularz!#REF!)","v":{"$error":"#VALUE!"}}]
[null,{"$f":"Sprawdz_pesel(Formularz!#REF!)","v":{"$error":"#VALUE!"}}]
[null,{"$f":"Sprawdz_pesel(Formularz!#REF!)","v":{"$error":"#VALUE!"}}]
[null,{"$f":"Sprawdz_pesel(Formularz!#REF!)","v":{"$error":"#VALUE!"}}]
[null,{"$f":"Sprawdz_pesel(Formularz!#REF!)","v":{"$error":"#VALUE!"}}]
[null,{"$f":"Sprawdz_pesel(Formularz!#REF!)","v":{"$error":"#VALUE!"}}]
[null,{"$f":"Sprawdz_pesel(Formularz!#REF!)","v":{"$error":"#VALUE!"}}]
[null,{"$f":"Sprawdz_pesel(Formularz!#REF!)","v":{"$error":"#VALUE!"}}]
[null,{"$f":"Sprawdz_pesel(Formularz!#REF!)","v":{"$error":"#VALUE!"}}]
[null,{"$f":"Sprawdz_pesel(Formularz!#REF!)","v":{"$error":"#VALUE!"}}]
[null,{"$f":"Sprawdz_pesel(Formularz!#REF!)","v":{"$error":"#VALUE!"}}]
[null,{"$f":"Sprawdz_pesel(Formularz!#REF!)","v":{"$error":"#VALUE!"}}]
[null,{"$f":"Sprawdz_pesel(Formularz!#REF!)","v":{"$error":"#VALUE!"}}]
[null,{"$f":"Sprawdz_pesel(Formularz!#REF!)","v":{"$error":"#VALUE!"}}]
[null,{"$f":"Sprawdz_pesel(Formularz!#REF!)","v":{"$error":"#VALUE!"}}]
[null,{"$f":"Sprawdz_pesel(Formularz!#REF!)","v":{"$error":"#VALUE!"}}]
[null,{"$f":"Sprawdz_pesel(Formularz!#REF!)","v":{"$error":"#VALUE!"}}]
[null,{"$f":"Sprawdz_pesel(Formularz!#REF!)","v":{"$error":"#VALUE!"}}]
[null,{"$f":"Sprawdz_pesel(Formularz!#REF!)","v":{"$error":"#VALUE!"}}]
[null,{"$f":"Sprawdz_pesel(Formularz!#REF!)","v":{"$error":"#VALUE!"}}]
[null,{"$f":"Sprawdz_pesel(Formularz!#REF!)","v":{"$error":"#VALUE!"}}]
[null,{"$f":"Sprawdz_pesel(Formularz!#REF!)","v":{"$error":"#VALUE!"}}]
[null,{"$f":"Sprawdz_pesel(Formularz!#REF!)","v":{"$error":"#VALUE!"}}]
[null,{"$f":"Sprawdz_pesel(Formularz!#REF!)","v":{"$error":"#VALUE!"}}]
[null,{"$f":"Sprawdz_pesel(Formularz!#REF!)","v":{"$error":"#VALUE!"}}]
[null,{"$f":"Sprawdz_pesel(Formularz!#REF!)","v":{"$error":"#VALUE!"}}]
[null,{"$f":"Sprawdz_pesel(Formularz!#REF!)","v":{"$error":"#VALUE!"}}]
[null,{"$f":"Sprawdz_pesel(Formularz!#REF!)","v":{"$error":"#VALUE!"}}]
[null,{"$f":"Sprawdz_pesel(Formularz!#REF!)","v":{"$error":"#VALUE!"}}]
[null,{"$f":"Sprawdz_pesel(Formularz!#REF!)","v":{"$error":"#VALUE!"}}]
[null,{"$f":"Sprawdz_pesel(Formularz!#REF!)","v":{"$error":"#VALUE!"}}]
[null,{"$f":"Sprawdz_pesel(Formularz!#REF!)","v":{"$error":"#VALUE!"}}]
[null,{"$f":"Sprawdz_pesel(Formularz!#REF!)","v":{"$error":"#VALUE!"}}]
[null,{"$f":"Sprawdz_pesel(Formularz!#REF!)","v":{"$error":"#VALUE!"}}]
[null,{"$f":"Sprawdz_pesel(Formularz!#REF!)","v":{"$error":"#VALUE!"}}]
[null,{"$f":"Sprawdz_pesel(Formularz!#REF!)","v":{"$error":"#VALUE!"}}]
[null,{"$f":"Sprawdz_pesel(Formularz!#REF!)","v":{"$error":"#VALUE!"}}]
[null,{"$f":"Sprawdz_pesel(Formularz!#REF!)","v":{"$error":"#VALUE!"}}]
[null,{"$f":"Sprawdz_pesel(Formularz!#REF!)","v":{"$error":"#VALUE!"}}]
[null,{"$f":"Sprawdz_pesel(Formularz!#REF!)","v":{"$error":"#VALUE!"}}]
[null,{"$f":"Sprawdz_pesel(Formularz!#REF!)","v":{"$error":"#VALUE!"}}]
[null,{"$f":"Sprawdz_pesel(Formularz!#REF!)","v":{"$error":"#VALUE!"}}]
[null,{"$f":"Sprawdz_pesel(Formularz!#REF!)","v":{"$error":"#VALUE!"}}]
[null,{"$f":"Sprawdz_pesel(Formularz!#REF!)","v":{"$error":"#VALUE!"}}]
[null,{"$f":"Sprawdz_pesel(Formularz!#REF!)","v":{"$error":"#VALUE!"}}]
[null,{"$f":"Sprawdz_pesel(Formularz!#REF!)","v":{"$error":"#VALUE!"}}]
[null,{"$f":"Sprawdz_pesel(Formularz!#REF!)","v":{"$error":"#VALUE!"}}]
[null,{"$f":"Sprawdz_pesel(Formularz!#REF!)","v":{"$error":"#VALUE!"}}]
[null,{"$f":"Sprawdz_pesel(Formularz!#REF!)","v":{"$error":"#VALUE!"}}]
[null,{"$f":"Sprawdz_pesel(Formularz!#REF!)","v":{"$error":"#VALUE!"}}]
[null,{"$f":"Sprawdz_pesel(Formularz!#REF!)","v":{"$error":"#VALUE!"}}]
[null,{"$f":"Sprawdz_pesel(Formularz!#REF!)","v":{"$error":"#VALUE!"}}]
[null,{"$f":"Sprawdz_pesel(Formularz!#REF!)","v":{"$error":"#VALUE!"}}]
[null,{"$f":"Sprawdz_pesel(Formularz!#REF!)","v":{"$error":"#VALUE!"}}]
[null,{"$f":"Sprawdz_pesel(Formularz!#REF!)","v":{"$error":"#VALUE!"}}]
[null,{"$f":"Sprawdz_pesel(Formularz!#REF!)","v":{"$error":"#VALUE!"}}]
[null,{"$f":"Sprawdz_pesel(Formularz!#REF!)","v":{"$error":"#VALUE!"}}]
[null,{"$f":"Sprawdz_pesel(Formularz!#REF!)","v":{"$error":"#VALUE!"}}]
[null,{"$f":"Sprawdz_pesel(Formularz!#REF!)","v":{"$error":"#VALUE!"}}]
[null,{"$f":"Sprawdz_pesel(Formularz!#REF!)","v":{"$error":"#VALUE!"}}]
[null,{"$f":"Sprawdz_pesel(Formularz!#REF!)","v":{"$error":"#VALUE!"}}]
[null,{"$f":"Sprawdz_pesel(Formularz!#REF!)","v":{"$error":"#VALUE!"}}]
[null,{"$f":"Sprawdz_pesel(Formularz!#REF!)","v":{"$error":"#VALUE!"}}]
[null,{"$f":"Sprawdz_pesel(Formularz!#REF!)","v":{"$error":"#VALUE!"}}]
[null,{"$f":"Sprawdz_pesel(Formularz!#REF!)","v":{"$error":"#VALUE!"}}]
[null,{"$f":"Sprawdz_pesel(Formularz!#REF!)","v":{"$error":"#VALUE!"}}]
[null,{"$f":"Sprawdz_pesel(Formularz!#REF!)","v":{"$error":"#VALUE!"}}]
[null,{"$f":"Sprawdz_pesel(Formularz!#REF!)","v":{"$error":"#VALUE!"}}]
[null,{"$f":"Sprawdz_pesel(Formularz!#REF!)","v":{"$error":"#VALUE!"}}]
[null,{"$f":"Sprawdz_pesel(Formularz!#REF!)","v":{"$error":"#VALUE!"}}]
[null,{"$f":"Sprawdz_pesel(Formularz!#REF!)","v":{"$error":"#VALUE!"}}]
[null,{"$f":"Sprawdz_pesel(Formularz!#REF!)","v":{"$error":"#VALUE!"}}]
[null,{"$f":"Sprawdz_pesel(Formularz!#REF!)","v":{"$error":"#VALUE!"}}]
[null,{"$f":"Sprawdz_pesel(Formularz!#REF!)","v":{"$error":"#VALUE!"}}]
[null,{"$f":"Sprawdz_pesel(Formularz!#REF!)","v":{"$error":"#VALUE!"}}]
[null,{"$f":"Sprawdz_pesel(Formularz!#REF!)","v":{"$error":"#VALUE!"}}]
[null,{"$f":"Sprawdz_pesel(Formularz!#REF!)","v":{"$error":"#VALUE!"}}]
[null,{"$f":"Sprawdz_pesel(Formularz!#REF!)","v":{"$error":"#VALUE!"}}]
[null,{"$f":"Sprawdz_pesel(Formularz!#REF!)","v":{"$error":"#VALUE!"}}]
[null,{"$f":"Sprawdz_pesel(Formularz!#REF!)","v":{"$error":"#VALUE!"}}]
[null,{"$f":"Sprawdz_pesel(Formularz!#REF!)","v":{"$error":"#VALUE!"}}]
[null,{"$f":"Sprawdz_pesel(Formularz!#REF!)","v":{"$error":"#VALUE!"}}]
[null,{"$f":"Sprawdz_pesel(Formularz!#REF!)","v":{"$error":"#VALUE!"}}]
[null,{"$f":"Sprawdz_pesel(Formularz!#REF!)","v":{"$error":"#VALUE!"}}]
[null,{"$f":"Sprawdz_pesel(Formularz!#REF!)","v":{"$error":"#VALUE!"}}]
[null,{"$f":"Sprawdz_pesel(Formularz!#REF!)","v":{"$error":"#VALUE!"}}]
[null,{"$f":"Sprawdz_pesel(Formularz!#REF!)","v":{"$error":"#VALUE!"}}]
[null,{"$f":"Sprawdz_pesel(Formularz!#REF!)","v":{"$error":"#VALUE!"}}]
[null,{"$f":"Sprawdz_pesel(Formularz!#REF!)","v":{"$error":"#VALUE!"}}]
[null,{"$f":"Sprawdz_pesel(Formularz!#REF!)","v":{"$error":"#VALUE!"}}]
[null,{"$f":"Sprawdz_pesel(Formularz!#REF!)","v":{"$error":"#VALUE!"}}]
[null,{"$f":"Sprawdz_pesel(Formularz!#REF!)","v":{"$error":"#VALUE!"}}]
[null,{"$f":"Sprawdz_pesel(Formularz!#REF!)","v":{"$error":"#VALUE!"}}]
[null,{"$f":"Sprawdz_pesel(Formularz!#REF!)","v":{"$error":"#VALUE!"}}]
[null,{"$f":"Sprawdz_pesel(Formularz!#REF!)","v":{"$error":"#VALUE!"}}]
[null,{"$f":"Sprawdz_pesel(Formularz!#REF!)","v":{"$error":"#VALUE!"}}]
[null,{"$f":"Sprawdz_pesel(Formularz!#REF!)","v":{"$error":"#VALUE!"}}]
[null,{"$f":"Sprawdz_pesel(Formularz!#REF!)","v":{"$error":"#VALUE!"}}]
[null,{"$f":"Sprawdz_pesel(Formularz!#REF!)","v":{"$error":"#VALUE!"}}]
[null,{"$f":"Sprawdz_pesel(Formularz!#REF!)","v":{"$error":"#VALUE!"}}]
[null,{"$f":"Sprawdz_pesel(Formularz!#REF!)","v":{"$error":"#VALUE!"}}]
[null,{"$f":"Sprawdz_pesel(Formularz!#REF!)","v":{"$error":"#VALUE!"}}]
[null,{"$f":"Sprawdz_pesel(Formularz!#REF!)","v":{"$error":"#VALUE!"}}]
[null,{"$f":"Sprawdz_pesel(Formularz!#REF!)","v":{"$error":"#VALUE!"}}]
[null,{"$f":"Sprawdz_pesel(Formularz!#REF!)","v":{"$error":"#VALUE!"}}]
[null,{"$f":"Sprawdz_pesel(Formularz!#REF!)","v":{"$error":"#VALUE!"}}]
[null,{"$f":"Sprawdz_pesel(Formularz!#REF!)","v":{"$error":"#VALUE!"}}]
[null,{"$f":"Sprawdz_pesel(Formularz!#REF!)","v":{"$error":"#VALUE!"}}]
[null,{"$f":"Sprawdz_pesel(Formularz!#REF!)","v":{"$error":"#VALUE!"}}]
[null,{"$f":"Sprawdz_pesel(Formularz!#REF!)","v":{"$error":"#VALUE!"}}]
[null,{"$f":"Sprawdz_pesel(Formularz!#REF!)","v":{"$error":"#VALUE!"}}]
[null,{"$f":"Sprawdz_pesel(Formularz!#REF!)","v":{"$error":"#VALUE!"}}]
[null,{"$f":"Sprawdz_pesel(Formularz!#REF!)","v":{"$error":"#VALUE!"}}]
[null,{"$f":"Sprawdz_pesel(Formularz!#REF!)","v":{"$error":"#VALUE!"}}]
[null,{"$f":"Sprawdz_pesel(Formularz!#REF!)","v":{"$error":"#VALUE!"}}]
[null,{"$f":"Sprawdz_pesel(Formularz!#REF!)","v":{"$error":"#VALUE!"}}]
[null,{"$f":"Sprawdz_pesel(Formularz!#REF!)","v":{"$error":"#VALUE!"}}]
[null,{"$f":"Sprawdz_pesel(Formularz!#REF!)","v":{"$error":"#VALUE!"}}]
[null,{"$f":"Sprawdz_pesel(Formularz!#REF!)","v":{"$error":"#VALUE!"}}]
[null,{"$f":"Sprawdz_pesel(Formularz!#REF!)","v":{"$error":"#VALUE!"}}]
[null,{"$f":"Sprawdz_pesel(Formularz!#REF!)","v":{"$error":"#VALUE!"}}]
[null,{"$f":"Sprawdz_pesel(Formularz!#REF!)","v":{"$error":"#VALUE!"}}]
[null,{"$f":"Sprawdz_pesel(Formularz!#REF!)","v":{"$error":"#VALUE!"}}]
[null,{"$f":"Sprawdz_pesel(Formularz!#REF!)","v":{"$error":"#VALUE!"}}]
[null,{"$f":"Sprawdz_pesel(Formularz!#REF!)","v":{"$error":"#VALUE!"}}]
[null,{"$f":"Sprawdz_pesel(Formularz!#REF!)","v":{"$error":"#VALUE!"}}]
[null,{"$f":"Sprawdz_pesel(Formularz!#REF!)","v":{"$error":"#VALUE!"}}]
[null,{"$f":"Sprawdz_pesel(Formularz!#REF!)","v":{"$error":"#VALUE!"}}]
[null,{"$f":"Sprawdz_pesel(Formularz!#REF!)","v":{"$error":"#VALUE!"}}]
[null,{"$f":"Sprawdz_pesel(Formularz!#REF!)","v":{"$error":"#VALUE!"}}]
[null,{"$f":"Sprawdz_pesel(Formularz!#REF!)","v":{"$error":"#VALUE!"}}]
[null,{"$f":"Sprawdz_pesel(Formularz!#REF!)","v":{"$error":"#VALUE!"}}]
[null,{"$f":"Sprawdz_pesel(Formularz!#REF!)","v":{"$error":"#VALUE!"}}]
[null,{"$f":"Sprawdz_pesel(Formularz!#REF!)","v":{"$error":"#VALUE!"}}]
[null,{"$f":"Sprawdz_pesel(Formularz!#REF!)","v":{"$error":"#VALUE!"}}]
[null,{"$f":"Sprawdz_pesel(Formularz!#REF!)","v":{"$error":"#VALUE!"}}]
[null,{"$f":"Sprawdz_pesel(Formularz!#REF!)","v":{"$error":"#VALUE!"}}]
[null,{"$f":"Sprawdz_pesel(Formularz!#REF!)","v":{"$error":"#VALUE!"}}]
[null,{"$f":"Sprawdz_pesel(Formularz!#REF!)","v":{"$error":"#VALUE!"}}]
[null,{"$f":"Sprawdz_pesel(Formularz!#REF!)","v":{"$error":"#VALUE!"}}]
[null,{"$f":"Sprawdz_pesel(Formularz!#REF!)","v":{"$error":"#VALUE!"}}]
[null,{"$f":"Sprawdz_pesel(Formularz!#REF!)","v":{"$error":"#VALUE!"}}]
[null,{"$f":"Sprawdz_pesel(Formularz!#REF!)","v":{"$error":"#VALUE!"}}]
[null,{"$f":"Sprawdz_pesel(Formularz!#REF!)","v":{"$error":"#VALUE!"}}]
[null,{"$f":"Sprawdz_pesel(Formularz!#REF!)","v":{"$error":"#VALUE!"}}]
[null,{"$f":"Sprawdz_pesel(Formularz!#REF!)","v":{"$error":"#VALUE!"}}]
[null,{"$f":"Sprawdz_pesel(Formularz!#REF!)","v":{"$error":"#VALUE!"}}]
[null,{"$f":"Sprawdz_pesel(Formularz!#REF!)","v":{"$error":"#VALUE!"}}]
[null,{"$f":"Sprawdz_pesel(Formularz!#REF!)","v":{"$error":"#VALUE!"}}]
[null,{"$f":"Sprawdz_pesel(Formularz!#REF!)","v":{"$error":"#VALUE!"}}]
[null,{"$f":"Sprawdz_pesel(Formularz!#REF!)","v":{"$error":"#VALUE!"}}]
[null,{"$f":"Sprawdz_pesel(Formularz!#REF!)","v":{"$error":"#VALUE!"}}]
[null,{"$f":"Sprawdz_pesel(Formularz!#REF!)","v":{"$error":"#VALUE!"}}]
[null,{"$f":"Sprawdz_pesel(Formularz!#REF!)","v":{"$error":"#VALUE!"}}]
[null,{"$f":"Sprawdz_pesel(Formularz!#REF!)","v":{"$error":"#VALUE!"}}]
[null,{"$f":"Sprawdz_pesel(Formularz!#REF!)","v":{"$error":"#VALUE!"}}]
[null,{"$f":"Sprawdz_pesel(Formularz!#REF!)","v":{"$error":"#VALUE!"}}]
[null,{"$f":"Sprawdz_pesel(Formularz!#REF!)","v":{"$error":"#VALUE!"}}]
[null,{"$f":"Sprawdz_pesel(Formularz!#REF!)","v":{"$error":"#VALUE!"}}]
[null,{"$f":"Sprawdz_pesel(Formularz!#REF!)","v":{"$error":"#VALUE!"}}]
[null,{"$f":"Sprawdz_pesel(Formularz!#REF!)","v":{"$error":"#VALUE!"}}]
[null,{"$f":"Sprawdz_pesel(Formularz!#REF!)","v":{"$error":"#VALUE!"}}]
[null,{"$f":"Sprawdz_pesel(Formularz!#REF!)","v":{"$error":"#VALUE!"}}]
[null,{"$f":"Sprawdz_pesel(Formularz!#REF!)","v":{"$error":"#VALUE!"}}]
[null,{"$f":"Sprawdz_pesel(Formularz!#REF!)","v":{"$error":"#VALUE!"}}]
[null,{"$f":"Sprawdz_pesel(Formularz!#REF!)","v":{"$error":"#VALUE!"}}]
[null,{"$f":"Sprawdz_pesel(Formularz!#REF!)","v":{"$error":"#VALUE!"}}]
[null,{"$f":"Sprawdz_pesel(Formularz!#REF!)","v":{"$error":"#VALUE!"}}]
[null,{"$f":"Sprawdz_pesel(Formularz!#REF!)","v":{"$error":"#VALUE!"}}]
[null,{"$f":"Sprawdz_pesel(Formularz!#REF!)","v":{"$error":"#VALUE!"}}]
[null,{"$f":"Sprawdz_pesel(Formularz!#REF!)","v":{"$error":"#VALUE!"}}]
[null,{"$f":"Sprawdz_pesel(Formularz!#REF!)","v":{"$error":"#VALUE!"}}]
[null,{"$f":"Sprawdz_pesel(Formularz!#REF!)","v":{"$error":"#VALUE!"}}]
[null,{"$f":"Sprawdz_pesel(Formularz!#REF!)","v":{"$error":"#VALUE!"}}]
[null,{"$f":"Sprawdz_pesel(Formularz!#REF!)","v":{"$error":"#VALUE!"}}]
[null,{"$f":"Sprawdz_pesel(Formularz!#REF!)","v":{"$error":"#VALUE!"}}]
[null,{"$f":"Sprawdz_pesel(Formularz!#REF!)","v":{"$error":"#VALUE!"}}]
[null,{"$f":"Sprawdz_pesel(Formularz!#REF!)","v":{"$error":"#VALUE!"}}]
[null,{"$f":"Sprawdz_pesel(Formularz!#REF!)","v":{"$error":"#VALUE!"}}]
[null,{"$f":"Sprawdz_pesel(Formularz!#REF!)","v":{"$error":"#VALUE!"}}]
[null,{"$f":"Sprawdz_pesel(Formularz!#REF!)","v":{"$error":"#VALUE!"}}]
[null,{"$f":"Sprawdz_pesel(Formularz!#REF!)","v":{"$error":"#VALUE!"}}]
[null,{"$f":"Sprawdz_pesel(Formularz!#REF!)","v":{"$error":"#VALUE!"}}]
[null,{"$f":"Sprawdz_pesel(Formularz!#REF!)","v":{"$error":"#VALUE!"}}]
[null,{"$f":"Sprawdz_pesel(Formularz!#REF!)","v":{"$error":"#VALUE!"}}]
[null,{"$f":"Sprawdz_pesel(Formularz!#REF!)","v":{"$error":"#VALUE!"}}]
[null,{"$f":"Sprawdz_pesel(Formularz!#REF!)","v":{"$error":"#VALUE!"}}]
[null,{"$f":"Sprawdz_pesel(Formularz!#REF!)","v":{"$error":"#VALUE!"}}]
[null,{"$f":"Sprawdz_pesel(Formularz!#REF!)","v":{"$error":"#VALUE!"}}]
[null,{"$f":"Sprawdz_pesel(Formularz!#REF!)","v":{"$error":"#VALUE!"}}]
[null,{"$f":"Sprawdz_pesel(Formularz!#REF!)","v":{"$error":"#VALUE!"}}]
[null,{"$f":"Sprawdz_pesel(Formularz!#REF!)","v":{"$error":"#VALUE!"}}]
[null,{"$f":"Sprawdz_pesel(Formularz!#REF!)","v":{"$error":"#VALUE!"}}]
[null,{"$f":"Sprawdz_pesel(Formularz!#REF!)","v":{"$error":"#VALUE!"}}]
[null,{"$f":"Sprawdz_pesel(Formularz!#REF!)","v":{"$error":"#VALUE!"}}]
[null,{"$f":"Sprawdz_pesel(Formularz!#REF!)","v":{"$error":"#VALUE!"}}]
[null,{"$f":"Sprawdz_pesel(Formularz!#REF!)","v":{"$error":"#VALUE!"}}]
[null,{"$f":"Sprawdz_pesel(Formularz!#REF!)","v":{"$error":"#VALUE!"}}]
[null,{"$f":"Sprawdz_pesel(Formularz!#REF!)","v":{"$error":"#VALUE!"}}]
[null,{"$f":"Sprawdz_pesel(Formularz!#REF!)","v":{"$error":"#VALUE!"}}]
[null,{"$f":"Sprawdz_pesel(Formularz!#REF!)","v":{"$error":"#VALUE!"}}]
[null,{"$f":"Sprawdz_pesel(Formularz!#REF!)","v":{"$error":"#VALUE!"}}]
[null,{"$f":"Sprawdz_pesel(Formularz!#REF!)","v":{"$error":"#VALUE!"}}]
[null,{"$f":"Sprawdz_pesel(Formularz!#REF!)","v":{"$error":"#VALUE!"}}]
[null,{"$f":"Sprawdz_pesel(Formularz!#REF!)","v":{"$error":"#VALUE!"}}]
[null,{"$f":"Sprawdz_pesel(Formularz!#REF!)","v":{"$error":"#VALUE!"}}]
[null,{"$f":"Sprawdz_pesel(Formularz!#REF!)","v":{"$error":"#VALUE!"}}]
[null,{"$f":"Sprawdz_pesel(Formularz!#REF!)","v":{"$error":"#VALUE!"}}]
[null,{"$f":"Sprawdz_pesel(Formularz!#REF!)","v":{"$error":"#VALUE!"}}]
[null,{"$f":"Sprawdz_pesel(Formularz!#REF!)","v":{"$error":"#VALUE!"}}]
[null,{"$f":"Sprawdz_pesel(Formularz!#REF!)","v":{"$error":"#VALUE!"}}]
[null,{"$f":"Sprawdz_pesel(Formularz!#REF!)","v":{"$error":"#VALUE!"}}]
[null,{"$f":"Sprawdz_pesel(Formularz!#REF!)","v":{"$error":"#VALUE!"}}]
[null,{"$f":"Sprawdz_pesel(Formularz!#REF!)","v":{"$error":"#VALUE!"}}]
[null,{"$f":"Sprawdz_pesel(Formularz!#REF!)","v":{"$error":"#VALUE!"}}]
[null,{"$f":"Sprawdz_pesel(Formularz!#REF!)","v":{"$error":"#VALUE!"}}]
[null,{"$f":"Sprawdz_pesel(Formularz!#REF!)","v":{"$error":"#VALUE!"}}]
[null,{"$f":"Sprawdz_pesel(Formularz!#REF!)","v":{"$error":"#VALUE!"}}]
[null,{"$f":"Sprawdz_pesel(Formularz!#REF!)","v":{"$error":"#VALUE!"}}]
[null,{"$f":"Sprawdz_pesel(Formularz!#REF!)","v":{"$error":"#VALUE!"}}]
[null,{"$f":"Sprawdz_pesel(Formularz!#REF!)","v":{"$error":"#VALUE!"}}]
[null,{"$f":"Sprawdz_pesel(Formularz!#REF!)","v":{"$error":"#VALUE!"}}]
[null,{"$f":"Sprawdz_pesel(Formularz!#REF!)","v":{"$error":"#VALUE!"}}]
[null,{"$f":"Sprawdz_pesel(Formularz!#REF!)","v":{"$error":"#VALUE!"}}]
[null,{"$f":"Sprawdz_pesel(Formularz!#REF!)","v":{"$error":"#VALUE!"}}]
[null,{"$f":"Sprawdz_pesel(Formularz!#REF!)","v":{"$error":"#VALUE!"}}]
[null,{"$f":"Sprawdz_pesel(Formularz!#REF!)","v":{"$error":"#VALUE!"}}]
[null,{"$f":"Sprawdz_pesel(Formularz!#REF!)","v":{"$error":"#VALUE!"}}]
[null,{"$f":"Sprawdz_pesel(Formularz!#REF!)","v":{"$error":"#VALUE!"}}]
[null,{"$f":"Sprawdz_pesel(Formularz!#REF!)","v":{"$error":"#VALUE!"}}]
[null,{"$f":"Sprawdz_pesel(Formularz!#REF!)","v":{"$error":"#VALUE!"}}]
[null,{"$f":"Sprawdz_pesel(Formularz!#REF!)","v":{"$error":"#VALUE!"}}]
[null,{"$f":"Sprawdz_pesel(Formularz!#REF!)","v":{"$error":"#VALUE!"}}]
[null,{"$f":"Sprawdz_pesel(Formularz!#REF!)","v":{"$error":"#VALUE!"}}]
[null,{"$f":"Sprawdz_pesel(Formularz!#REF!)","v":{"$error":"#VALUE!"}}]
[null,{"$f":"Sprawdz_pesel(Formularz!#REF!)","v":{"$error":"#VALUE!"}}]
[null,{"$f":"Sprawdz_pesel(Formularz!#REF!)","v":{"$error":"#VALUE!"}}]
[null,{"$f":"Sprawdz_pesel(Formularz!#REF!)","v":{"$error":"#VALUE!"}}]
[null,{"$f":"Sprawdz_pesel(Formularz!#REF!)","v":{"$error":"#VALUE!"}}]
[null,{"$f":"Sprawdz_pesel(Formularz!#REF!)","v":{"$error":"#VALUE!"}}]
[null,{"$f":"Sprawdz_pesel(Formularz!#REF!)","v":{"$error":"#VALUE!"}}]
[null,{"$f":"Sprawdz_pesel(Formularz!#REF!)","v":{"$error":"#VALUE!"}}]
[null,{"$f":"Sprawdz_pesel(Formularz!#REF!)","v":{"$error":"#VALUE!"}}]
[null,{"$f":"Sprawdz_pesel(Formularz!#REF!)","v":{"$error":"#VALUE!"}}]
[null,{"$f":"Sprawdz_pesel(Formularz!#REF!)","v":{"$error":"#VALUE!"}}]
[null,{"$f":"Sprawdz_pesel(Formularz!#REF!)","v":{"$error":"#VALUE!"}}]
[null,{"$f":"Sprawdz_pesel(Formularz!#REF!)","v":{"$error":"#VALUE!"}}]
[null,{"$f":"Sprawdz_pesel(Formularz!#REF!)","v":{"$error":"#VALUE!"}}]
[null,{"$f":"Sprawdz_pesel(Formularz!#REF!)","v":{"$error":"#VALUE!"}}]
[null,{"$f":"Sprawdz_pesel(Formularz!#REF!)","v":{"$error":"#VALUE!"}}]
[null,{"$f":"Sprawdz_pesel(Formularz!#REF!)","v":{"$error":"#VALUE!"}}]
[null,{"$f":"Sprawdz_pesel(Formularz!#REF!)","v":{"$error":"#VALUE!"}}]
[null,{"$f":"Sprawdz_pesel(Formularz!#REF!)","v":{"$error":"#VALUE!"}}]
[null,{"$f":"Sprawdz_pesel(Formularz!#REF!)","v":{"$error":"#VALUE!"}}]
[null,{"$f":"Sprawdz_pesel(Formularz!#REF!)","v":{"$error":"#VALUE!"}}]
[null,{"$f":"Sprawdz_pesel(Formularz!#REF!)","v":{"$error":"#VALUE!"}}]
[null,{"$f":"Sprawdz_pesel(Formularz!#REF!)","v":{"$error":"#VALUE!"}}]
[null,{"$f":"Sprawdz_pesel(Formularz!#REF!)","v":{"$error":"#VALUE!"}}]
[null,{"$f":"Sprawdz_pesel(Formularz!#REF!)","v":{"$error":"#VALUE!"}}]
[null,{"$f":"Sprawdz_pesel(Formularz!#REF!)","v":{"$error":"#VALUE!"}}]
[null,{"$f":"Sprawdz_pesel(Formularz!#REF!)","v":{"$error":"#VALUE!"}}]
[null,{"$f":"Sprawdz_pesel(Formularz!#REF!)","v":{"$error":"#VALUE!"}}]
[null,{"$f":"Sprawdz_pesel(Formularz!#REF!)","v":{"$error":"#VALUE!"}}]
[null,{"$f":"Sprawdz_pesel(Formularz!#REF!)","v":{"$error":"#VALUE!"}}]
[null,{"$f":"Sprawdz_pesel(Formularz!#REF!)","v":{"$error":"#VALUE!"}}]
[null,{"$f":"Sprawdz_pesel(Formularz!#REF!)","v":{"$error":"#VALUE!"}}]
[null,{"$f":"Sprawdz_pesel(Formularz!#REF!)","v":{"$error":"#VALUE!"}}]
[null,{"$f":"Sprawdz_pesel(Formularz!#REF!)","v":{"$error":"#VALUE!"}}]
[null,{"$f":"Sprawdz_pesel(Formularz!#REF!)","v":{"$error":"#VALUE!"}}]
[null,{"$f":"Sprawdz_pesel(Formularz!#REF!)","v":{"$error":"#VALUE!"}}]
[null,{"$f":"Sprawdz_pesel(Formularz!#REF!)","v":{"$error":"#VALUE!"}}]
[null,{"$f":"Sprawdz_pesel(Formularz!#REF!)","v":{"$error":"#VALUE!"}}]
[null,{"$f":"Sprawdz_pesel(Formularz!#REF!)","v":{"$error":"#VALUE!"}}]
[null,{"$f":"Sprawdz_pesel(Formularz!#REF!)","v":{"$error":"#VALUE!"}}]
[null,{"$f":"Sprawdz_pesel(Formularz!#REF!)","v":{"$error":"#VALUE!"}}]
[null,{"$f":"Sprawdz_pesel(Formularz!#REF!)","v":{"$error":"#VALUE!"}}]
[null,{"$f":"Sprawdz_pesel(Formularz!#REF!)","v":{"$error":"#VALUE!"}}]
[null,{"$f":"Sprawdz_pesel(Formularz!#REF!)","v":{"$error":"#VALUE!"}}]
[null,{"$f":"Sprawdz_pesel(Formularz!#REF!)","v":{"$error":"#VALUE!"}}]
[null,{"$f":"Sprawdz_pesel(Formularz!#REF!)","v":{"$error":"#VALUE!"}}]
[null,{"$f":"Sprawdz_pesel(Formularz!#REF!)","v":{"$error":"#VALUE!"}}]
[null,{"$f":"Sprawdz_pesel(Formularz!#REF!)","v":{"$error":"#VALUE!"}}]
[null,{"$f":"Sprawdz_pesel(Formularz!#REF!)","v":{"$error":"#VALUE!"}}]
[null,{"$f":"Sprawdz_pesel(Formularz!#REF!)","v":{"$error":"#VALUE!"}}]
[null,{"$f":"Sprawdz_pesel(Formularz!#REF!)","v":{"$error":"#VALUE!"}}]
[null,{"$f":"Sprawdz_pesel(Formularz!#REF!)","v":{"$error":"#VALUE!"}}]
[null,{"$f":"Sprawdz_pesel(Formularz!#REF!)","v":{"$error":"#VALUE!"}}]
[null,{"$f":"Sprawdz_pesel(Formularz!#REF!)","v":{"$error":"#VALUE!"}}]
[null,{"$f":"Sprawdz_pesel(Formularz!#REF!)","v":{"$error":"#VALUE!"}}]
[null,{"$f":"Sprawdz_pesel(Formularz!#REF!)","v":{"$error":"#VALUE!"}}]
[null,{"$f":"Sprawdz_pesel(Formularz!#REF!)","v":{"$error":"#VALUE!"}}]
[null,{"$f":"Sprawdz_pesel(Formularz!#REF!)","v":{"$error":"#VALUE!"}}]
[null,{"$f":"Sprawdz_pesel(Formularz!#REF!)","v":{"$error":"#VALUE!"}}]
[null,{"$f":"Sprawdz_pesel(Formularz!#REF!)","v":{"$error":"#VALUE!"}}]
[null,{"$f":"Sprawdz_pesel(Formularz!#REF!)","v":{"$error":"#VALUE!"}}]
[null,{"$f":"Sprawdz_pesel(Formularz!#REF!)","v":{"$error":"#VALUE!"}}]
[null,{"$f":"Sprawdz_pesel(Formularz!#REF!)","v":{"$error":"#VALUE!"}}]
[null,{"$f":"Sprawdz_pesel(Formularz!#REF!)","v":{"$error":"#VALUE!"}}]
[null,{"$f":"Sprawdz_pesel(Formularz!#REF!)","v":{"$error":"#VALUE!"}}]
[null,{"$f":"Sprawdz_pesel(Formularz!#REF!)","v":{"$error":"#VALUE!"}}]
[null,{"$f":"Sprawdz_pesel(Formularz!#REF!)","v":{"$error":"#VALUE!"}}]
[null,{"$f":"Sprawdz_pesel(Formularz!#REF!)","v":{"$error":"#VALUE!"}}]
[null,{"$f":"Sprawdz_pesel(Formularz!#REF!)","v":{"$error":"#VALUE!"}}]
[null,{"$f":"Sprawdz_pesel(Formularz!#REF!)","v":{"$error":"#VALUE!"}}]
[null,{"$f":"Sprawdz_pesel(Formularz!#REF!)","v":{"$error":"#VALUE!"}}]
[null,{"$f":"Sprawdz_pesel(Formularz!#REF!)","v":{"$error":"#VALUE!"}}]
[null,{"$f":"Sprawdz_pesel(Formularz!#REF!)","v":{"$error":"#VALUE!"}}]
[null,{"$f":"Sprawdz_pesel(Formularz!#REF!)","v":{"$error":"#VALUE!"}}]
[null,{"$f":"Sprawdz_pesel(Formularz!#REF!)","v":{"$error":"#VALUE!"}}]
[null,{"$f":"Sprawdz_pesel(Formularz!#REF!)","v":{"$error":"#VALUE!"}}]
[null,{"$f":"Sprawdz_pesel(Formularz!#REF!)","v":{"$error":"#VALUE!"}}]
[null,{"$f":"Sprawdz_pesel(Formularz!#REF!)","v":{"$error":"#VALUE!"}}]
[null,{"$f":"Sprawdz_pesel(Formularz!#REF!)","v":{"$error":"#VALUE!"}}]
[null,{"$f":"Sprawdz_pesel(Formularz!#REF!)","v":{"$error":"#VALUE!"}}]
[null,{"$f":"Sprawdz_pesel(Formularz!#REF!)","v":{"$error":"#VALUE!"}}]
[null,{"$f":"Sprawdz_pesel(Formularz!#REF!)","v":{"$error":"#VALUE!"}}]
[null,{"$f":"Sprawdz_pesel(Formularz!#REF!)","v":{"$error":"#VALUE!"}}]
[null,{"$f":"Sprawdz_pesel(Formularz!#REF!)","v":{"$error":"#VALUE!"}}]
[null,{"$f":"Sprawdz_pesel(Formularz!#REF!)","v":{"$error":"#VALUE!"}}]
[null,{"$f":"Sprawdz_pesel(Formularz!#REF!)","v":{"$error":"#VALUE!"}}]
[null,{"$f":"Sprawdz_pesel(Formularz!#REF!)","v":{"$error":"#VALUE!"}}]
[null,{"$f":"Sprawdz_pesel(Formularz!#REF!)","v":{"$error":"#VALUE!"}}]
[null,{"$f":"Sprawdz_pesel(Formularz!#REF!)","v":{"$error":"#VALUE!"}}]
[null,{"$f":"Sprawdz_pesel(Formularz!#REF!)","v":{"$error":"#VALUE!"}}]
[null,{"$f":"Sprawdz_pesel(Formularz!#REF!)","v":{"$error":"#VALUE!"}}]
[null,{"$f":"Sprawdz_pesel(Formularz!#REF!)","v":{"$error":"#VALUE!"}}]
[null,{"$f":"Sprawdz_pesel(Formularz!#REF!)","v":{"$error":"#VALUE!"}}]
[null,{"$f":"Sprawdz_pesel(Formularz!#REF!)","v":{"$error":"#VALUE!"}}]
[null,{"$f":"Sprawdz_pesel(Formularz!#REF!)","v":{"$error":"#VALUE!"}}]
[null,{"$f":"Sprawdz_pesel(Formularz!#REF!)","v":{"$error":"#VALUE!"}}]
[null,{"$f":"Sprawdz_pesel(Formularz!#REF!)","v":{"$error":"#VALUE!"}}]
[null,{"$f":"Sprawdz_pesel(Formularz!#REF!)","v":{"$error":"#VALUE!"}}]
[null,{"$f":"Sprawdz_pesel(Formularz!#REF!)","v":{"$error":"#VALUE!"}}]
[null,{"$f":"Sprawdz_pesel(Formularz!#REF!)","v":{"$error":"#VALUE!"}}]
[null,{"$f":"Sprawdz_pesel(Formularz!#REF!)","v":{"$error":"#VALUE!"}}]
[null,{"$f":"Sprawdz_pesel(Formularz!#REF!)","v":{"$error":"#VALUE!"}}]
[null,{"$f":"Sprawdz_pesel(Formularz!#REF!)","v":{"$error":"#VALUE!"}}]
[null,{"$f":"Sprawdz_pesel(Formularz!#REF!)","v":{"$error":"#VALUE!"}}]
[null,{"$f":"Sprawdz_pesel(Formularz!#REF!)","v":{"$error":"#VALUE!"}}]
[null,{"$f":"Sprawdz_pesel(Formularz!#REF!)","v":{"$error":"#VALUE!"}}]
[null,{"$f":"Sprawdz_pesel(Formularz!#REF!)","v":{"$error":"#VALUE!"}}]
[null,{"$f":"Sprawdz_pesel(Formularz!#REF!)","v":{"$error":"#VALUE!"}}]
[null,{"$f":"Sprawdz_pesel(Formularz!#REF!)","v":{"$error":"#VALUE!"}}]
[null,{"$f":"Sprawdz_pesel(Formularz!#REF!)","v":{"$error":"#VALUE!"}}]
[null,{"$f":"Sprawdz_pesel(Formularz!#REF!)","v":{"$error":"#VALUE!"}}]
[null,{"$f":"Sprawdz_pesel(Formularz!#REF!)","v":{"$error":"#VALUE!"}}]
[null,{"$f":"Sprawdz_pesel(Formularz!#REF!)","v":{"$error":"#VALUE!"}}]
[null,{"$f":"Sprawdz_pesel(Formularz!#REF!)","v":{"$error":"#VALUE!"}}]
[null,{"$f":"Sprawdz_pesel(Formularz!#REF!)","v":{"$error":"#VALUE!"}}]
[null,{"$f":"Sprawdz_pesel(Formularz!#REF!)","v":{"$error":"#VALUE!"}}]
[null,{"$f":"Sprawdz_pesel(Formularz!#REF!)","v":{"$error":"#VALUE!"}}]
[null,{"$f":"Sprawdz_pesel(Formularz!#REF!)","v":{"$error":"#VALUE!"}}]
[null,{"$f":"Sprawdz_pesel(Formularz!#REF!)","v":{"$error":"#VALUE!"}}]
[null,{"$f":"Sprawdz_pesel(Formularz!#REF!)","v":{"$error":"#VALUE!"}}]
[null,{"$f":"Sprawdz_pesel(Formularz!#REF!)","v":{"$error":"#VALUE!"}}]
[null,{"$f":"Sprawdz_pesel(Formularz!#REF!)","v":{"$error":"#VALUE!"}}]
[null,{"$f":"Sprawdz_pesel(Formularz!#REF!)","v":{"$error":"#VALUE!"}}]
[null,{"$f":"Sprawdz_pesel(Formularz!#REF!)","v":{"$error":"#VALUE!"}}]
[null,{"$f":"Sprawdz_pesel(Formularz!#REF!)","v":{"$error":"#VALUE!"}}]
[null,{"$f":"Sprawdz_pesel(Formularz!#REF!)","v":{"$error":"#VALUE!"}}]
[null,{"$f":"Sprawdz_pesel(Formularz!#REF!)","v":{"$error":"#VALUE!"}}]
[null,{"$f":"Sprawdz_pesel(Formularz!#REF!)","v":{"$error":"#VALUE!"}}]
[null,{"$f":"Sprawdz_pesel(Formularz!#REF!)","v":{"$error":"#VALUE!"}}]
[null,{"$f":"Sprawdz_pesel(Formularz!#REF!)","v":{"$error":"#VALUE!"}}]
[null,{"$f":"Sprawdz_pesel(Formularz!#REF!)","v":{"$error":"#VALUE!"}}]
[null,{"$f":"Sprawdz_pesel(Formularz!#REF!)","v":{"$error":"#VALUE!"}}]
[null,{"$f":"Sprawdz_pesel(Formularz!#REF!)","v":{"$error":"#VALUE!"}}]
[null,{"$f":"Sprawdz_pesel(Formularz!#REF!)","v":{"$error":"#VALUE!"}}]
[null,{"$f":"Sprawdz_pesel(Formularz!#REF!)","v":{"$error":"#VALUE!"}}]
[null,{"$f":"Sprawdz_pesel(Formularz!#REF!)","v":{"$error":"#VALUE!"}}]
[null,{"$f":"Sprawdz_pesel(Formularz!#REF!)","v":{"$error":"#VALUE!"}}]
[null,{"$f":"Sprawdz_pesel(Formularz!#REF!)","v":{"$error":"#VALUE!"}}]
[null,{"$f":"Sprawdz_pesel(Formularz!#REF!)","v":{"$error":"#VALUE!"}}]
[null,{"$f":"Sprawdz_pesel(Formularz!#REF!)","v":{"$error":"#VALUE!"}}]
[null,{"$f":"Sprawdz_pesel(Formularz!#REF!)","v":{"$error":"#VALUE!"}}]
[null,{"$f":"Sprawdz_pesel(Formularz!#REF!)","v":{"$error":"#VALUE!"}}]
[null,{"$f":"Sprawdz_pesel(Formularz!#REF!)","v":{"$error":"#VALUE!"}}]
[null,{"$f":"Sprawdz_pesel(Formularz!#REF!)","v":{"$error":"#VALUE!"}}]
[null,{"$f":"Sprawdz_pesel(Formularz!#REF!)","v":{"$error":"#VALUE!"}}]
[null,{"$f":"Sprawdz_pesel(Formularz!#REF!)","v":{"$error":"#VALUE!"}}]
[null,{"$f":"Sprawdz_pesel(Formularz!#REF!)","v":{"$error":"#VALUE!"}}]
[null,{"$f":"Sprawdz_pesel(Formularz!#REF!)","v":{"$error":"#VALUE!"}}]
[null,{"$f":"Sprawdz_pesel(Formularz!#REF!)","v":{"$error":"#VALUE!"}}]
[null,{"$f":"Sprawdz_pesel(Formularz!#REF!)","v":{"$error":"#VALUE!"}}]
[null,{"$f":"Sprawdz_pesel(Formularz!#REF!)","v":{"$error":"#VALUE!"}}]
[null,{"$f":"Sprawdz_pesel(Formularz!#REF!)","v":{"$error":"#VALUE!"}}]
[null,{"$f":"Sprawdz_pesel(Formularz!#REF!)","v":{"$error":"#VALUE!"}}]
[null,{"$f":"Sprawdz_pesel(Formularz!#REF!)","v":{"$error":"#VALUE!"}}]
[null,{"$f":"Sprawdz_pesel(Formularz!#REF!)","v":{"$error":"#VALUE!"}}]
[null,{"$f":"Sprawdz_pesel(Formularz!#REF!)","v":{"$error":"#VALUE!"}}]
[null,{"$f":"Sprawdz_pesel(Formularz!#REF!)","v":{"$error":"#VALUE!"}}]
[null,{"$f":"Sprawdz_pesel(Formularz!#REF!)","v":{"$error":"#VALUE!"}}]
[null,{"$f":"Sprawdz_pesel(Formularz!#REF!)","v":{"$error":"#VALUE!"}}]
[null,{"$f":"Sprawdz_pesel(Formularz!#REF!)","v":{"$error":"#VALUE!"}}]
[null,{"$f":"Sprawdz_pesel(Formularz!#REF!)","v":{"$error":"#VALUE!"}}]
[null,{"$f":"Sprawdz_pesel(Formularz!#REF!)","v":{"$error":"#VALUE!"}}]
[null,{"$f":"Sprawdz_pesel(Formularz!#REF!)","v":{"$error":"#VALUE!"}}]
[null,{"$f":"Sprawdz_pesel(Formularz!#REF!)","v":{"$error":"#VALUE!"}}]
[null,{"$f":"Sprawdz_pesel(Formularz!#REF!)","v":{"$error":"#VALUE!"}}]
[null,{"$f":"Sprawdz_pesel(Formularz!#REF!)","v":{"$error":"#VALUE!"}}]
[null,{"$f":"Sprawdz_pesel(Formularz!#REF!)","v":{"$error":"#VALUE!"}}]
[null,{"$f":"Sprawdz_pesel(Formularz!#REF!)","v":{"$error":"#VALUE!"}}]
[null,{"$f":"Sprawdz_pesel(Formularz!#REF!)","v":{"$error":"#VALUE!"}}]
[null,{"$f":"Sprawdz_pesel(Formularz!#REF!)","v":{"$error":"#VALUE!"}}]
[null,{"$f":"Sprawdz_pesel(Formularz!#REF!)","v":{"$error":"#VALUE!"}}]
[null,{"$f":"Sprawdz_pesel(Formularz!#REF!)","v":{"$error":"#VALUE!"}}]
[null,{"$f":"Sprawdz_pesel(Formularz!#REF!)","v":{"$error":"#VALUE!"}}]
[null,{"$f":"Sprawdz_pesel(Formularz!#REF!)","v":{"$error":"#VALUE!"}}]
[null,{"$f":"Sprawdz_pesel(Formularz!#REF!)","v":{"$error":"#VALUE!"}}]
[null,{"$f":"Sprawdz_pesel(Formularz!#REF!)","v":{"$error":"#VALUE!"}}]
[null,{"$f":"Sprawdz_pesel(Formularz!#REF!)","v":{"$error":"#VALUE!"}}]
[null,{"$f":"Sprawdz_pesel(Formularz!#REF!)","v":{"$error":"#VALUE!"}}]
[null,{"$f":"Sprawdz_pesel(Formularz!#REF!)","v":{"$error":"#VALUE!"}}]
[null,{"$f":"Sprawdz_pesel(Formularz!#REF!)","v":{"$error":"#VALUE!"}}]
[null,{"$f":"Sprawdz_pesel(Formularz!#REF!)","v":{"$error":"#VALUE!"}}]
[null,{"$f":"Sprawdz_pesel(Formularz!#REF!)","v":{"$error":"#VALUE!"}}]
[null,{"$f":"Sprawdz_pesel(Formularz!#REF!)","v":{"$error":"#VALUE!"}}]
[null,{"$f":"Sprawdz_pesel(Formularz!#REF!)","v":{"$error":"#VALUE!"}}]
[null,{"$f":"Sprawdz_pesel(Formularz!#REF!)","v":{"$error":"#VALUE!"}}]
[null,{"$f":"Sprawdz_pesel(Formularz!#REF!)","v":{"$error":"#VALUE!"}}]
[null,{"$f":"Sprawdz_pesel(Formularz!#REF!)","v":{"$error":"#VALUE!"}}]
[null,{"$f":"Sprawdz_pesel(Formularz!#REF!)","v":{"$error":"#VALUE!"}}]
[null,{"$f":"Sprawdz_pesel(Formularz!#REF!)","v":{"$error":"#VALUE!"}}]
[null,{"$f":"Sprawdz_pesel(Formularz!#REF!)","v":{"$error":"#VALUE!"}}]
[null,{"$f":"Sprawdz_pesel(Formularz!#REF!)","v":{"$error":"#VALUE!"}}]
[null,{"$f":"Sprawdz_pesel(Formularz!#REF!)","v":{"$error":"#VALUE!"}}]
[null,{"$f":"Sprawdz_pesel(Formularz!#REF!)","v":{"$error":"#VALUE!"}}]
[null,{"$f":"Sprawdz_pesel(Formularz!#REF!)","v":{"$error":"#VALUE!"}}]
[null,{"$f":"Sprawdz_pesel(Formularz!#REF!)","v":{"$error":"#VALUE!"}}]
[null,{"$f":"Sprawdz_pesel(Formularz!#REF!)","v":{"$error":"#VALUE!"}}]
[null,{"$f":"Sprawdz_pesel(Formularz!#REF!)","v":{"$error":"#VALUE!"}}]
[null,{"$f":"Sprawdz_pesel(Formularz!#REF!)","v":{"$error":"#VALUE!"}}]
[null,{"$f":"Sprawdz_pesel(Formularz!#REF!)","v":{"$error":"#VALUE!"}}]
[null,{"$f":"Sprawdz_pesel(Formularz!#REF!)","v":{"$error":"#VALUE!"}}]
[null,{"$f":"Sprawdz_pesel(Formularz!#REF!)","v":{"$error":"#VALUE!"}}]
[null,{"$f":"Sprawdz_pesel(Formularz!#REF!)","v":{"$error":"#VALUE!"}}]
[null,{"$f":"Sprawdz_pesel(Formularz!#REF!)","v":{"$error":"#VALUE!"}}]
[null,{"$f":"Sprawdz_pesel(Formularz!#REF!)","v":{"$error":"#VALUE!"}}]
[null,{"$f":"Sprawdz_pesel(Formularz!#REF!)","v":{"$error":"#VALUE!"}}]
[null,{"$f":"Sprawdz_pesel(Formularz!#REF!)","v":{"$error":"#VALUE!"}}]
[null,{"$f":"Sprawdz_pesel(Formularz!#REF!)","v":{"$error":"#VALUE!"}}]
[null,{"$f":"Sprawdz_pesel(Formularz!#REF!)","v":{"$error":"#VALUE!"}}]
[null,{"$f":"Sprawdz_pesel(Formularz!#REF!)","v":{"$error":"#VALUE!"}}]
[null,{"$f":"Sprawdz_pesel(Formularz!#REF!)","v":{"$error":"#VALUE!"}}]
[null,{"$f":"Sprawdz_pesel(Formularz!#REF!)","v":{"$error":"#VALUE!"}}]
[null,{"$f":"Sprawdz_pesel(Formularz!#REF!)","v":{"$error":"#VALUE!"}}]
[null,{"$f":"Sprawdz_pesel(Formularz!#REF!)","v":{"$error":"#VALUE!"}}]
[null,{"$f":"Sprawdz_pesel(Formularz!#REF!)","v":{"$error":"#VALUE!"}}]
[null,{"$f":"Sprawdz_pesel(Formularz!#REF!)","v":{"$error":"#VALUE!"}}]
[null,{"$f":"Sprawdz_pesel(Formularz!#REF!)","v":{"$error":"#VALUE!"}}]
[null,{"$f":"Sprawdz_pesel(Formularz!#REF!)","v":{"$error":"#VALUE!"}}]
[null,{"$f":"Sprawdz_pesel(Formularz!#REF!)","v":{"$error":"#VALUE!"}}]
[null,{"$f":"Sprawdz_pesel(Formularz!#REF!)","v":{"$error":"#VALUE!"}}]
[null,{"$f":"Sprawdz_pesel(Formularz!#REF!)","v":{"$error":"#VALUE!"}}]
[null,{"$f":"Sprawdz_pesel(Formularz!#REF!)","v":{"$error":"#VALUE!"}}]
[null,{"$f":"Sprawdz_pesel(Formularz!#REF!)","v":{"$error":"#VALUE!"}}]
[null,{"$f":"Sprawdz_pesel(Formularz!#REF!)","v":{"$error":"#VALUE!"}}]
[null,{"$f":"Sprawdz_pesel(Formularz!#REF!)","v":{"$error":"#VALUE!"}}]
[null,{"$f":"Sprawdz_pesel(Formularz!#REF!)","v":{"$error":"#VALUE!"}}]
[null,{"$f":"Sprawdz_pesel(Formularz!#REF!)","v":{"$error":"#VALUE!"}}]
[null,{"$f":"Sprawdz_pesel(Formularz!#REF!)","v":{"$error":"#VALUE!"}}]
[null,{"$f":"Sprawdz_pesel(Formularz!#REF!)","v":{"$error":"#VALUE!"}}]
[null,{"$f":"Sprawdz_pesel(Formularz!#REF!)","v":{"$error":"#VALUE!"}}]
[null,{"$f":"Sprawdz_pesel(Formularz!#REF!)","v":{"$error":"#VALUE!"}}]
[null,{"$f":"Sprawdz_pesel(Formularz!#REF!)","v":{"$error":"#VALUE!"}}]
[null,{"$f":"Sprawdz_pesel(Formularz!#REF!)","v":{"$error":"#VALUE!"}}]
[null,{"$f":"Sprawdz_pesel(Formularz!#REF!)","v":{"$error":"#VALUE!"}}]
[null,{"$f":"Sprawdz_pesel(Formularz!#REF!)","v":{"$error":"#VALUE!"}}]
[null,{"$f":"Sprawdz_pesel(Formularz!#REF!)","v":{"$error":"#VALUE!"}}]
[null,{"$f":"Sprawdz_pesel(Formularz!#REF!)","v":{"$error":"#VALUE!"}}]
[null,{"$f":"Sprawdz_pesel(Formularz!#REF!)","v":{"$error":"#VALUE!"}}]
[null,{"$f":"Sprawdz_pesel(Formularz!#REF!)","v":{"$error":"#VALUE!"}}]
[null,{"$f":"Sprawdz_pesel(Formularz!#REF!)","v":{"$error":"#VALUE!"}}]
[null,{"$f":"Sprawdz_pesel(Formularz!#REF!)","v":{"$error":"#VALUE!"}}]
[null,{"$f":"Sprawdz_pesel(Formularz!#REF!)","v":{"$error":"#VALUE!"}}]
[null,{"$f":"Sprawdz_pesel(Formularz!#REF!)","v":{"$error":"#VALUE!"}}]
[null,{"$f":"Sprawdz_pesel(Formularz!#REF!)","v":{"$error":"#VALUE!"}}]
[null,{"$f":"Sprawdz_pesel(Formularz!#REF!)","v":{"$error":"#VALUE!"}}]
[null,{"$f":"Sprawdz_pesel(Formularz!#REF!)","v":{"$error":"#VALUE!"}}]
[null,{"$f":"Sprawdz_pesel(Formularz!#REF!)","v":{"$error":"#VALUE!"}}]
[null,{"$f":"Sprawdz_pesel(Formularz!#REF!)","v":{"$error":"#VALUE!"}}]
[null,{"$f":"Sprawdz_pesel(Formularz!#REF!)","v":{"$error":"#VALUE!"}}]
[null,{"$f":"Sprawdz_pesel(Formularz!#REF!)","v":{"$error":"#VALUE!"}}]
[null,{"$f":"Sprawdz_pesel(Formularz!#REF!)","v":{"$error":"#VALUE!"}}]
[null,{"$f":"Sprawdz_pesel(Formularz!#REF!)","v":{"$error":"#VALUE!"}}]
[null,{"$f":"Sprawdz_pesel(Formularz!#REF!)","v":{"$error":"#VALUE!"}}]
[null,{"$f":"Sprawdz_pesel(Formularz!#REF!)","v":{"$error":"#VALUE!"}}]
[null,{"$f":"Sprawdz_pesel(Formularz!#REF!)","v":{"$error":"#VALUE!"}}]
[null,{"$f":"Sprawdz_pesel(Formularz!#REF!)","v":{"$error":"#VALUE!"}}]
[null,{"$f":"Sprawdz_pesel(Formularz!#REF!)","v":{"$error":"#VALUE!"}}]
[null,{"$f":"Sprawdz_pesel(Formularz!#REF!)","v":{"$error":"#VALUE!"}}]
[null,{"$f":"Sprawdz_pesel(Formularz!#REF!)","v":{"$error":"#VALUE!"}}]
[null,{"$f":"Sprawdz_pesel(Formularz!#REF!)","v":{"$error":"#VALUE!"}}]
[null,{"$f":"Sprawdz_pesel(Formularz!#REF!)","v":{"$error":"#VALUE!"}}]
[null,{"$f":"Sprawdz_pesel(Formularz!#REF!)","v":{"$error":"#VALUE!"}}]
[null,{"$f":"Sprawdz_pesel(Formularz!#REF!)","v":{"$error":"#VALUE!"}}]
[null,{"$f":"Sprawdz_pesel(Formularz!#REF!)","v":{"$error":"#VALUE!"}}]
[null,{"$f":"Sprawdz_pesel(Formularz!#REF!)","v":{"$error":"#VALUE!"}}]
[null,{"$f":"Sprawdz_pesel(Formularz!#REF!)","v":{"$error":"#VALUE!"}}]
[null,{"$f":"Sprawdz_pesel(Formularz!#REF!)","v":{"$error":"#VALUE!"}}]
[null,{"$f":"Sprawdz_pesel(Formularz!#REF!)","v":{"$error":"#VALUE!"}}]
[null,{"$f":"Sprawdz_pesel(Formularz!#REF!)","v":{"$error":"#VALUE!"}}]
[null,{"$f":"Sprawdz_pesel(Formularz!#REF!)","v":{"$error":"#VALUE!"}}]
[null,{"$f":"Sprawdz_pesel(Formularz!#REF!)","v":{"$error":"#VALUE!"}}]
[null,{"$f":"Sprawdz_pesel(Formularz!#REF!)","v":{"$error":"#VALUE!"}}]
[null,{"$f":"Sprawdz_pesel(Formularz!#REF!)","v":{"$error":"#VALUE!"}}]
[null,{"$f":"Sprawdz_pesel(Formularz!#REF!)","v":{"$error":"#VALUE!"}}]
[null,{"$f":"Sprawdz_pesel(Formularz!#REF!)","v":{"$error":"#VALUE!"}}]
[null,{"$f":"Sprawdz_pesel(Formularz!#REF!)","v":{"$error":"#VALUE!"}}]
[null,{"$f":"Sprawdz_pesel(Formularz!#REF!)","v":{"$error":"#VALUE!"}}]
[null,{"$f":"Sprawdz_pesel(Formularz!#REF!)","v":{"$error":"#VALUE!"}}]
[null,{"$f":"Sprawdz_pesel(Formularz!#REF!)","v":{"$error":"#VALUE!"}}]
[null,{"$f":"Sprawdz_pesel(Formularz!#REF!)","v":{"$error":"#VALUE!"}}]
[null,{"$f":"Sprawdz_pesel(Formularz!#REF!)","v":{"$error":"#VALUE!"}}]
[null,{"$f":"Sprawdz_pesel(Formularz!#REF!)","v":{"$error":"#VALUE!"}}]
[null,{"$f":"Sprawdz_pesel(Formularz!#REF!)","v":{"$error":"#VALUE!"}}]
[null,{"$f":"Sprawdz_pesel(Formularz!#REF!)","v":{"$error":"#VALUE!"}}]
[null,{"$f":"Sprawdz_pesel(Formularz!#REF!)","v":{"$error":"#VALUE!"}}]
[null,{"$f":"Sprawdz_pesel(Formularz!#REF!)","v":{"$error":"#VALUE!"}}]
[null,{"$f":"Sprawdz_pesel(Formularz!#REF!)","v":{"$error":"#VALUE!"}}]
[null,{"$f":"Sprawdz_pesel(Formularz!#REF!)","v":{"$error":"#VALUE!"}}]
[null,{"$f":"Sprawdz_pesel(Formularz!#REF!)","v":{"$error":"#VALUE!"}}]
[null,{"$f":"Sprawdz_pesel(Formularz!#REF!)","v":{"$error":"#VALUE!"}}]
[null,{"$f":"Sprawdz_pesel(Formularz!#REF!)","v":{"$error":"#VALUE!"}}]
[null,{"$f":"Sprawdz_pesel(Formularz!#REF!)","v":{"$error":"#VALUE!"}}]
[null,{"$f":"Sprawdz_pesel(Formularz!#REF!)","v":{"$error":"#VALUE!"}}]
[null,{"$f":"Sprawdz_pesel(Formularz!#REF!)","v":{"$error":"#VALUE!"}}]
[null,{"$f":"Sprawdz_pesel(Formularz!#REF!)","v":{"$error":"#VALUE!"}}]
[null,{"$f":"Sprawdz_pesel(Formularz!#REF!)","v":{"$error":"#VALUE!"}}]
[null,{"$f":"Sprawdz_pesel(Formularz!#REF!)","v":{"$error":"#VALUE!"}}]
[null,{"$f":"Sprawdz_pesel(Formularz!#REF!)","v":{"$error":"#VALUE!"}}]
[null,{"$f":"Sprawdz_pesel(Formularz!#REF!)","v":{"$error":"#VALUE!"}}]
[null,{"$f":"Sprawdz_pesel(Formularz!#REF!)","v":{"$error":"#VALUE!"}}]
[null,{"$f":"Sprawdz_pesel(Formularz!#REF!)","v":{"$error":"#VALUE!"}}]
[null,{"$f":"Sprawdz_pesel(Formularz!#REF!)","v":{"$error":"#VALUE!"}}]
[null,{"$f":"Sprawdz_pesel(Formularz!#REF!)","v":{"$error":"#VALUE!"}}]
[null,{"$f":"Sprawdz_pesel(Formularz!#REF!)","v":{"$error":"#VALUE!"}}]
[null,{"$f":"Sprawdz_pesel(Formularz!#REF!)","v":{"$error":"#VALUE!"}}]
[null,{"$f":"Sprawdz_pesel(Formularz!#REF!)","v":{"$error":"#VALUE!"}}]
[null,{"$f":"Sprawdz_pesel(Formularz!#REF!)","v":{"$error":"#VALUE!"}}]
[null,{"$f":"Sprawdz_pesel(Formularz!#REF!)","v":{"$error":"#VALUE!"}}]
[null,{"$f":"Sprawdz_pesel(Formularz!#REF!)","v":{"$error":"#VALUE!"}}]
[null,{"$f":"Sprawdz_pesel(Formularz!#REF!)","v":{"$error":"#VALUE!"}}]
[null,{"$f":"Sprawdz_pesel(Formularz!#REF!)","v":{"$error":"#VALUE!"}}]
[null,{"$f":"Sprawdz_pesel(Formularz!#REF!)","v":{"$error":"#VALUE!"}}]
[null,{"$f":"Sprawdz_pesel(Formularz!#REF!)","v":{"$error":"#VALUE!"}}]
[null,{"$f":"Sprawdz_pesel(Formularz!#REF!)","v":{"$error":"#VALUE!"}}]
[null,{"$f":"Sprawdz_pesel(Formularz!#REF!)","v":{"$error":"#VALUE!"}}]
[null,{"$f":"Sprawdz_pesel(Formularz!#REF!)","v":{"$error":"#VALUE!"}}]
[null,{"$f":"Sprawdz_pesel(Formularz!#REF!)","v":{"$error":"#VALUE!"}}]
[null,{"$f":"Sprawdz_pesel(Formularz!#REF!)","v":{"$error":"#VALUE!"}}]
[null,{"$f":"Sprawdz_pesel(Formularz!#REF!)","v":{"$error":"#VALUE!"}}]
[null,{"$f":"Sprawdz_pesel(Formularz!#REF!)","v":{"$error":"#VALUE!"}}]
[null,{"$f":"Sprawdz_pesel(Formularz!#REF!)","v":{"$error":"#VALUE!"}}]
[null,{"$f":"Sprawdz_pesel(Formularz!#REF!)","v":{"$error":"#VALUE!"}}]
[null,{"$f":"Sprawdz_pesel(Formularz!#REF!)","v":{"$error":"#VALUE!"}}]
[null,{"$f":"Sprawdz_pesel(Formularz!#REF!)","v":{"$error":"#VALUE!"}}]
[null,{"$f":"Sprawdz_pesel(Formularz!#REF!)","v":{"$error":"#VALUE!"}}]
[null,{"$f":"Sprawdz_pesel(Formularz!#REF!)","v":{"$error":"#VALUE!"}}]
[null,{"$f":"Sprawdz_pesel(Formularz!#REF!)","v":{"$error":"#VALUE!"}}]
[null,{"$f":"Sprawdz_pesel(Formularz!#REF!)","v":{"$error":"#VALUE!"}}]
[null,{"$f":"Sprawdz_pesel(Formularz!#REF!)","v":{"$error":"#VALUE!"}}]
[null,{"$f":"Sprawdz_pesel(Formularz!#REF!)","v":{"$error":"#VALUE!"}}]
[null,{"$f":"Sprawdz_pesel(Formularz!#REF!)","v":{"$error":"#VALUE!"}}]
[null,{"$f":"Sprawdz_pesel(Formularz!#REF!)","v":{"$error":"#VALUE!"}}]
[null,{"$f":"Sprawdz_pesel(Formularz!#REF!)","v":{"$error":"#VALUE!"}}]
[null,{"$f":"Sprawdz_pesel(Formularz!#REF!)","v":{"$error":"#VALUE!"}}]
[null,{"$f":"Sprawdz_pesel(Formularz!#REF!)","v":{"$error":"#VALUE!"}}]
[null,{"$f":"Sprawdz_pesel(Formularz!#REF!)","v":{"$error":"#VALUE!"}}]
[null,{"$f":"Sprawdz_pesel(Formularz!#REF!)","v":{"$error":"#VALUE!"}}]
[null,{"$f":"Sprawdz_pesel(Formularz!#REF!)","v":{"$error":"#VALUE!"}}]
[null,{"$f":"Sprawdz_pesel(Formularz!#REF!)","v":{"$error":"#VALUE!"}}]
[null,{"$f":"Sprawdz_pesel(Formularz!#REF!)","v":{"$error":"#VALUE!"}}]
[null,{"$f":"Sprawdz_pesel(Formularz!#REF!)","v":{"$error":"#VALUE!"}}]
[null,{"$f":"Sprawdz_pesel(Formularz!#REF!)","v":{"$error":"#VALUE!"}}]
[null,{"$f":"Sprawdz_pesel(Formularz!#REF!)","v":{"$error":"#VALUE!"}}]
[null,{"$f":"Sprawdz_pesel(Formularz!#REF!)","v":{"$error":"#VALUE!"}}]
[null,{"$f":"Sprawdz_pesel(Formularz!#REF!)","v":{"$error":"#VALUE!"}}]
[null,{"$f":"Sprawdz_pesel(Formularz!#REF!)","v":{"$error":"#VALUE!"}}]
[null,{"$f":"Sprawdz_pesel(Formularz!#REF!)","v":{"$error":"#VALUE!"}}]
[null,{"$f":"Sprawdz_pesel(Formularz!#REF!)","v":{"$error":"#VALUE!"}}]
[null,{"$f":"Sprawdz_pesel(Formularz!#REF!)","v":{"$error":"#VALUE!"}}]
[null,{"$f":"Sprawdz_pesel(Formularz!#REF!)","v":{"$error":"#VALUE!"}}]
[null,{"$f":"Sprawdz_pesel(Formularz!#REF!)","v":{"$error":"#VALUE!"}}]
[null,{"$f":"Sprawdz_pesel(Formularz!#REF!)","v":{"$error":"#VALUE!"}}]
[null,{"$f":"Sprawdz_pesel(Formularz!#REF!)","v":{"$error":"#VALUE!"}}]
[null,{"$f":"Sprawdz_pesel(Formularz!#REF!)","v":{"$error":"#VALUE!"}}]
[null,{"$f":"Sprawdz_pesel(Formularz!#REF!)","v":{"$error":"#VALUE!"}}]
[null,{"$f":"Sprawdz_pesel(Formularz!#REF!)","v":{"$error":"#VALUE!"}}]
[null,{"$f":"Sprawdz_pesel(Formularz!#REF!)","v":{"$error":"#VALUE!"}}]
[null,{"$f":"Sprawdz_pesel(Formularz!#REF!)","v":{"$error":"#VALUE!"}}]
[null,{"$f":"Sprawdz_pesel(Formularz!#REF!)","v":{"$error":"#VALUE!"}}]
[null,{"$f":"Sprawdz_pesel(Formularz!#REF!)","v":{"$error":"#VALUE!"}}]
[null,{"$f":"Sprawdz_pesel(Formularz!#REF!)","v":{"$error":"#VALUE!"}}]
[null,{"$f":"Sprawdz_pesel(Formularz!#REF!)","v":{"$error":"#VALUE!"}}]
[null,{"$f":"Sprawdz_pesel(Formularz!#REF!)","v":{"$error":"#VALUE!"}}]
[null,{"$f":"Sprawdz_pesel(Formularz!#REF!)","v":{"$error":"#VALUE!"}}]
[null,{"$f":"Sprawdz_pesel(Formularz!#REF!)","v":{"$error":"#VALUE!"}}]
[null,{"$f":"Sprawdz_pesel(Formularz!#REF!)","v":{"$error":"#VALUE!"}}]
[null,{"$f":"Sprawdz_pesel(Formularz!#REF!)","v":{"$error":"#VALUE!"}}]
[null,{"$f":"Sprawdz_pesel(Formularz!#REF!)","v":{"$error":"#VALUE!"}}]
[null,{"$f":"Sprawdz_pesel(Formularz!#REF!)","v":{"$error":"#VALUE!"}}]
[null,{"$f":"Sprawdz_pesel(Formularz!#REF!)","v":{"$error":"#VALUE!"}}]
[null,{"$f":"Sprawdz_pesel(Formularz!#REF!)","v":{"$error":"#VALUE!"}}]
[null,{"$f":"Sprawdz_pesel(Formularz!#REF!)","v":{"$error":"#VALUE!"}}]
[null,{"$f":"Sprawdz_pesel(Formularz!#REF!)","v":{"$error":"#VALUE!"}}]
[null,{"$f":"Sprawdz_pesel(Formularz!#REF!)","v":{"$error":"#VALUE!"}}]
[null,{"$f":"Sprawdz_pesel(Formularz!#REF!)","v":{"$error":"#VALUE!"}}]
[null,{"$f":"Sprawdz_pesel(Formularz!#REF!)","v":{"$error":"#VALUE!"}}]
[null,{"$f":"Sprawdz_pesel(Formularz!#REF!)","v":{"$error":"#VALUE!"}}]
[null,{"$f":"Sprawdz_pesel(Formularz!#REF!)","v":{"$error":"#VALUE!"}}]
[null,{"$f":"Sprawdz_pesel(Formularz!#REF!)","v":{"$error":"#VALUE!"}}]
[null,{"$f":"Sprawdz_pesel(Formularz!#REF!)","v":{"$error":"#VALUE!"}}]
[null,{"$f":"Sprawdz_pesel(Formularz!#REF!)","v":{"$error":"#VALUE!"}}]
[null,{"$f":"Sprawdz_pesel(Formularz!#REF!)","v":{"$error":"#VALUE!"}}]
[null,{"$f":"Sprawdz_pesel(Formularz!#REF!)","v":{"$error":"#VALUE!"}}]
[null,{"$f":"Sprawdz_pesel(Formularz!#REF!)","v":{"$error":"#VALUE!"}}]
[null,{"$f":"Sprawdz_pesel(Formularz!#REF!)","v":{"$error":"#VALUE!"}}]
[null,{"$f":"Sprawdz_pesel(Formularz!#REF!)","v":{"$error":"#VALUE!"}}]
[null,{"$f":"Sprawdz_pesel(Formularz!#REF!)","v":{"$error":"#VALUE!"}}]
[null,{"$f":"Sprawdz_pesel(Formularz!#REF!)","v":{"$error":"#VALUE!"}}]
[null,{"$f":"Sprawdz_pesel(Formularz!#REF!)","v":{"$error":"#VALUE!"}}]
[null,{"$f":"Sprawdz_pesel(Formularz!#REF!)","v":{"$error":"#VALUE!"}}]
[null,{"$f":"Sprawdz_pesel(Formularz!#REF!)","v":{"$error":"#VALUE!"}}]
[null,{"$f":"Sprawdz_pesel(Formularz!#REF!)","v":{"$error":"#VALUE!"}}]
[null,{"$f":"Sprawdz_pesel(Formularz!#REF!)","v":{"$error":"#VALUE!"}}]
[null,{"$f":"Sprawdz_pesel(Formularz!#REF!)","v":{"$error":"#VALUE!"}}]
[null,{"$f":"Sprawdz_pesel(Formularz!#REF!)","v":{"$error":"#VALUE!"}}]
[null,{"$f":"Sprawdz_pesel(Formularz!#REF!)","v":{"$error":"#VALUE!"}}]
[null,{"$f":"Sprawdz_pesel(Formularz!#REF!)","v":{"$error":"#VALUE!"}}]
[null,{"$f":"Sprawdz_pesel(Formularz!#REF!)","v":{"$error":"#VALUE!"}}]
[null,{"$f":"Sprawdz_pesel(Formularz!#REF!)","v":{"$error":"#VALUE!"}}]
[null,{"$f":"Sprawdz_pesel(Formularz!#REF!)","v":{"$error":"#VALUE!"}}]
[null,{"$f":"Sprawdz_pesel(Formularz!#REF!)","v":{"$error":"#VALUE!"}}]
[null,{"$f":"Sprawdz_pesel(Formularz!#REF!)","v":{"$error":"#VALUE!"}}]
[null,{"$f":"Sprawdz_pesel(Formularz!#REF!)","v":{"$error":"#VALUE!"}}]
[null,{"$f":"Sprawdz_pesel(Formularz!#REF!)","v":{"$error":"#VALUE!"}}]
[null,{"$f":"Sprawdz_pesel(Formularz!#REF!)","v":{"$error":"#VALUE!"}}]
[null,{"$f":"Sprawdz_pesel(Formularz!#REF!)","v":{"$error":"#VALUE!"}}]
[null,{"$f":"Sprawdz_pesel(Formularz!#REF!)","v":{"$error":"#VALUE!"}}]
[null,{"$f":"Sprawdz_pesel(Formularz!#REF!)","v":{"$error":"#VALUE!"}}]
[null,{"$f":"Sprawdz_pesel(Formularz!#REF!)","v":{"$error":"#VALUE!"}}]
[null,{"$f":"Sprawdz_pesel(Formularz!#REF!)","v":{"$error":"#VALUE!"}}]
[null,{"$f":"Sprawdz_pesel(Formularz!#REF!)","v":{"$error":"#VALUE!"}}]
[null,{"$f":"Sprawdz_pesel(Formularz!#REF!)","v":{"$error":"#VALUE!"}}]
[null,{"$f":"Sprawdz_pesel(Formularz!#REF!)","v":{"$error":"#VALUE!"}}]
[null,{"$f":"Sprawdz_pesel(Formularz!#REF!)","v":{"$error":"#VALUE!"}}]
[null,{"$f":"Sprawdz_pesel(Formularz!#REF!)","v":{"$error":"#VALUE!"}}]
[null,{"$f":"Sprawdz_pesel(Formularz!#REF!)","v":{"$error":"#VALUE!"}}]
[null,{"$f":"Sprawdz_pesel(Formularz!#REF!)","v":{"$error":"#VALUE!"}}]
[null,{"$f":"Sprawdz_pesel(Formularz!#REF!)","v":{"$error":"#VALUE!"}}]
[null,{"$f":"Sprawdz_pesel(Formularz!#REF!)","v":{"$error":"#VALUE!"}}]
[null,{"$f":"Sprawdz_pesel(Formularz!#REF!)","v":{"$error":"#VALUE!"}}]
[null,{"$f":"Sprawdz_pesel(Formularz!#REF!)","v":{"$error":"#VALUE!"}}]
[null,{"$f":"Sprawdz_pesel(Formularz!#REF!)","v":{"$error":"#VALUE!"}}]
[null,{"$f":"Sprawdz_pesel(Formularz!#REF!)","v":{"$error":"#VALUE!"}}]
[null,{"$f":"Sprawdz_pesel(Formularz!#REF!)","v":{"$error":"#VALUE!"}}]
[null,{"$f":"Sprawdz_pesel(Formularz!#REF!)","v":{"$error":"#VALUE!"}}]
[null,{"$f":"Sprawdz_pesel(Formularz!#REF!)","v":{"$error":"#VALUE!"}}]
[null,{"$f":"Sprawdz_pesel(Formularz!#REF!)","v":{"$error":"#VALUE!"}}]
[null,{"$f":"Sprawdz_pesel(Formularz!#REF!)","v":{"$error":"#VALUE!"}}]
[null,{"$f":"Sprawdz_pesel(Formularz!#REF!)","v":{"$error":"#VALUE!"}}]
[null,{"$f":"Sprawdz_pesel(Formularz!#REF!)","v":{"$error":"#VALUE!"}}]
[null,{"$f":"Sprawdz_pesel(Formularz!#REF!)","v":{"$error":"#VALUE!"}}]
[null,{"$f":"Sprawdz_pesel(Formularz!#REF!)","v":{"$error":"#VALUE!"}}]
[null,{"$f":"Sprawdz_pesel(Formularz!#REF!)","v":{"$error":"#VALUE!"}}]
[null,{"$f":"Sprawdz_pesel(Formularz!#REF!)","v":{"$error":"#VALUE!"}}]
[null,{"$f":"Sprawdz_pesel(Formularz!#REF!)","v":{"$error":"#VALUE!"}}]
[null,{"$f":"Sprawdz_pesel(Formularz!#REF!)","v":{"$error":"#VALUE!"}}]
[null,{"$f":"Sprawdz_pesel(Formularz!#REF!)","v":{"$error":"#VALUE!"}}]
[null,{"$f":"Sprawdz_pesel(Formularz!#REF!)","v":{"$error":"#VALUE!"}}]
[null,{"$f":"Sprawdz_pesel(Formularz!#REF!)","v":{"$error":"#VALUE!"}}]
[null,{"$f":"Sprawdz_pesel(Formularz!#REF!)","v":{"$error":"#VALUE!"}}]
[null,{"$f":"Sprawdz_pesel(Formularz!#REF!)","v":{"$error":"#VALUE!"}}]
[null,{"$f":"Sprawdz_pesel(Formularz!#REF!)","v":{"$error":"#VALUE!"}}]
[null,{"$f":"Sprawdz_pesel(Formularz!#REF!)","v":{"$error":"#VALUE!"}}]
[null,{"$f":"Sprawdz_pesel(Formularz!#REF!)","v":{"$error":"#VALUE!"}}]
[null,{"$f":"Sprawdz_pesel(Formularz!#REF!)","v":{"$error":"#VALUE!"}}]
[null,{"$f":"Sprawdz_pesel(Formularz!#REF!)","v":{"$error":"#VALUE!"}}]
[null,{"$f":"Sprawdz_pesel(Formularz!#REF!)","v":{"$error":"#VALUE!"}}]
[null,{"$f":"Sprawdz_pesel(Formularz!#REF!)","v":{"$error":"#VALUE!"}}]
[null,{"$f":"Sprawdz_pesel(Formularz!#REF!)","v":{"$error":"#VALUE!"}}]
[null,{"$f":"Sprawdz_pesel(Formularz!#REF!)","v":{"$error":"#VALUE!"}}]
[null,{"$f":"Sprawdz_pesel(Formularz!#REF!)","v":{"$error":"#VALUE!"}}]
[null,{"$f":"Sprawdz_pesel(Formularz!#REF!)","v":{"$error":"#VALUE!"}}]
[null,{"$f":"Sprawdz_pesel(Formularz!#REF!)","v":{"$error":"#VALUE!"}}]
[null,{"$f":"Sprawdz_pesel(Formularz!#REF!)","v":{"$error":"#VALUE!"}}]
[null,{"$f":"Sprawdz_pesel(Formularz!#REF!)","v":{"$error":"#VALUE!"}}]
[null,{"$f":"Sprawdz_pesel(Formularz!#REF!)","v":{"$error":"#VALUE!"}}]
[null,{"$f":"Sprawdz_pesel(Formularz!#REF!)","v":{"$error":"#VALUE!"}}]
[null,{"$f":"Sprawdz_pesel(Formularz!#REF!)","v":{"$error":"#VALUE!"}}]
[null,{"$f":"Sprawdz_pesel(Formularz!#REF!)","v":{"$error":"#VALUE!"}}]
[null,{"$f":"Sprawdz_pesel(Formularz!#REF!)","v":{"$error":"#VALUE!"}}]
[null,{"$f":"Sprawdz_pesel(Formularz!#REF!)","v":{"$error":"#VALUE!"}}]
[null,{"$f":"Sprawdz_pesel(Formularz!#REF!)","v":{"$error":"#VALUE!"}}]
[null,{"$f":"Sprawdz_pesel(Formularz!#REF!)","v":{"$error":"#VALUE!"}}]
[null,{"$f":"Sprawdz_pesel(Formularz!#REF!)","v":{"$error":"#VALUE!"}}]
[null,{"$f":"Sprawdz_pesel(Formularz!#REF!)","v":{"$error":"#VALUE!"}}]
[null,{"$f":"Sprawdz_pesel(Formularz!#REF!)","v":{"$error":"#VALUE!"}}]
[null,{"$f":"Sprawdz_pesel(Formularz!#REF!)","v":{"$error":"#VALUE!"}}]
[null,{"$f":"Sprawdz_pesel(Formularz!#REF!)","v":{"$error":"#VALUE!"}}]
[null,{"$f":"Sprawdz_pesel(Formularz!#REF!)","v":{"$error":"#VALUE!"}}]
[null,{"$f":"Sprawdz_pesel(Formularz!#REF!)","v":{"$error":"#VALUE!"}}]
[null,{"$f":"Sprawdz_pesel(Formularz!#REF!)","v":{"$error":"#VALUE!"}}]
[null,{"$f":"Sprawdz_pesel(Formularz!#REF!)","v":{"$error":"#VALUE!"}}]
[null,{"$f":"Sprawdz_pesel(Formularz!#REF!)","v":{"$error":"#VALUE!"}}]
[null,{"$f":"Sprawdz_pesel(Formularz!#REF!)","v":{"$error":"#VALUE!"}}]
[null,{"$f":"Sprawdz_pesel(Formularz!#REF!)","v":{"$error":"#VALUE!"}}]
[null,{"$f":"Sprawdz_pesel(Formularz!#REF!)","v":{"$error":"#VALUE!"}}]
[null,{"$f":"Sprawdz_pesel(Formularz!#REF!)","v":{"$error":"#VALUE!"}}]
[null,{"$f":"Sprawdz_pesel(Formularz!#REF!)","v":{"$error":"#VALUE!"}}]
[null,{"$f":"Sprawdz_pesel(Formularz!#REF!)","v":{"$error":"#VALUE!"}}]
[null,{"$f":"Sprawdz_pesel(Formularz!#REF!)","v":{"$error":"#VALUE!"}}]
[null,{"$f":"Sprawdz_pesel(Formularz!#REF!)","v":{"$error":"#VALUE!"}}]
[null,{"$f":"Sprawdz_pesel(Formularz!#REF!)","v":{"$error":"#VALUE!"}}]
[null,{"$f":"Sprawdz_pesel(Formularz!#REF!)","v":{"$error":"#VALUE!"}}]
[null,{"$f":"Sprawdz_pesel(Formularz!#REF!)","v":{"$error":"#VALUE!"}}]
[null,{"$f":"Sprawdz_pesel(Formularz!#REF!)","v":{"$error":"#VALUE!"}}]
[null,{"$f":"Sprawdz_pesel(Formularz!#REF!)","v":{"$error":"#VALUE!"}}]
[null,{"$f":"Sprawdz_pesel(Formularz!#REF!)","v":{"$error":"#VALUE!"}}]
[null,{"$f":"Sprawdz_pesel(Formularz!#REF!)","v":{"$error":"#VALUE!"}}]
[null,{"$f":"Sprawdz_pesel(Formularz!#REF!)","v":{"$error":"#VALUE!"}}]
[null,{"$f":"Sprawdz_pesel(Formularz!#REF!)","v":{"$error":"#VALUE!"}}]
[null,{"$f":"Sprawdz_pesel(Formularz!#REF!)","v":{"$error":"#VALUE!"}}]
[null,{"$f":"Sprawdz_pesel(Formularz!#REF!)","v":{"$error":"#VALUE!"}}]
[null,{"$f":"Sprawdz_pesel(Formularz!#REF!)","v":{"$error":"#VALUE!"}}]
[null,{"$f":"Sprawdz_pesel(Formularz!#REF!)","v":{"$error":"#VALUE!"}}]
[null,{"$f":"Sprawdz_pesel(Formularz!#REF!)","v":{"$error":"#VALUE!"}}]
[null,{"$f":"Sprawdz_pesel(Formularz!#REF!)","v":{"$error":"#VALUE!"}}]
[null,{"$f":"Sprawdz_pesel(Formularz!#REF!)","v":{"$error":"#VALUE!"}}]
[null,{"$f":"Sprawdz_pesel(Formularz!#REF!)","v":{"$error":"#VALUE!"}}]
[null,{"$f":"Sprawdz_pesel(Formularz!#REF!)","v":{"$error":"#VALUE!"}}]
[null,{"$f":"Sprawdz_pesel(Formularz!#REF!)","v":{"$error":"#VALUE!"}}]
[null,{"$f":"Sprawdz_pesel(Formularz!#REF!)","v":{"$error":"#VALUE!"}}]
[null,{"$f":"Sprawdz_pesel(Formularz!#REF!)","v":{"$error":"#VALUE!"}}]
[null,{"$f":"Sprawdz_pesel(Formularz!#REF!)","v":{"$error":"#VALUE!"}}]
[null,{"$f":"Sprawdz_pesel(Formularz!#REF!)","v":{"$error":"#VALUE!"}}]
[null,{"$f":"Sprawdz_pesel(Formularz!#REF!)","v":{"$error":"#VALUE!"}}]
[null,{"$f":"Sprawdz_pesel(Formularz!#REF!)","v":{"$error":"#VALUE!"}}]
[null,{"$f":"Sprawdz_pesel(Formularz!#REF!)","v":{"$error":"#VALUE!"}}]
[null,{"$f":"Sprawdz_pesel(Formularz!#REF!)","v":{"$error":"#VALUE!"}}]
[null,{"$f":"Sprawdz_pesel(Formularz!#REF!)","v":{"$error":"#VALUE!"}}]
[null,{"$f":"Sprawdz_pesel(Formularz!#REF!)","v":{"$error":"#VALUE!"}}]
[null,{"$f":"Sprawdz_pesel(Formularz!#REF!)","v":{"$error":"#VALUE!"}}]
[null,{"$f":"Sprawdz_pesel(Formularz!#REF!)","v":{"$error":"#VALUE!"}}]
[null,{"$f":"Sprawdz_pesel(Formularz!#REF!)","v":{"$error":"#VALUE!"}}]
[null,{"$f":"Sprawdz_pesel(Formularz!#REF!)","v":{"$error":"#VALUE!"}}]
[null,{"$f":"Sprawdz_pesel(Formularz!#REF!)","v":{"$error":"#VALUE!"}}]
[null,{"$f":"Sprawdz_pesel(Formularz!#REF!)","v":{"$error":"#VALUE!"}}]
[null,{"$f":"Sprawdz_pesel(Formularz!#REF!)","v":{"$error":"#VALUE!"}}]
[null,{"$f":"Sprawdz_pesel(Formularz!#REF!)","v":{"$error":"#VALUE!"}}]
[null,{"$f":"Sprawdz_pesel(Formularz!#REF!)","v":{"$error":"#VALUE!"}}]
[null,{"$f":"Sprawdz_pesel(Formularz!#REF!)","v":{"$error":"#VALUE!"}}]
[null,{"$f":"Sprawdz_pesel(Formularz!#REF!)","v":{"$error":"#VALUE!"}}]
[null,{"$f":"Sprawdz_pesel(Formularz!#REF!)","v":{"$error":"#VALUE!"}}]
[null,{"$f":"Sprawdz_pesel(Formularz!#REF!)","v":{"$error":"#VALUE!"}}]
[null,{"$f":"Sprawdz_pesel(Formularz!#REF!)","v":{"$error":"#VALUE!"}}]
[null,{"$f":"Sprawdz_pesel(Formularz!#REF!)","v":{"$error":"#VALUE!"}}]
[null,{"$f":"Sprawdz_pesel(Formularz!#REF!)","v":{"$error":"#VALUE!"}}]
[null,{"$f":"Sprawdz_pesel(Formularz!#REF!)","v":{"$error":"#VALUE!"}}]
[null,{"$f":"Sprawdz_pesel(Formularz!#REF!)","v":{"$error":"#VALUE!"}}]
[null,{"$f":"Sprawdz_pesel(Formularz!#REF!)","v":{"$error":"#VALUE!"}}]
[null,{"$f":"Sprawdz_pesel(Formularz!#REF!)","v":{"$error":"#VALUE!"}}]
[null,{"$f":"Sprawdz_pesel(Formularz!#REF!)","v":{"$error":"#VALUE!"}}]
[null,{"$f":"Sprawdz_pesel(Formularz!#REF!)","v":{"$error":"#VALUE!"}}]
[null,{"$f":"Sprawdz_pesel(Formularz!#REF!)","v":{"$error":"#VALUE!"}}]
[null,{"$f":"Sprawdz_pesel(Formularz!#REF!)","v":{"$error":"#VALUE!"}}]
[null,{"$f":"Sprawdz_pesel(Formularz!#REF!)","v":{"$error":"#VALUE!"}}]
[null,{"$f":"Sprawdz_pesel(Formularz!#REF!)","v":{"$error":"#VALUE!"}}]
[null,{"$f":"Sprawdz_pesel(Formularz!#REF!)","v":{"$error":"#VALUE!"}}]
[null,{"$f":"Sprawdz_pesel(Formularz!#REF!)","v":{"$error":"#VALUE!"}}]
[null,{"$f":"Sprawdz_pesel(Formularz!#REF!)","v":{"$error":"#VALUE!"}}]
[null,{"$f":"Sprawdz_pesel(Formularz!#REF!)","v":{"$error":"#VALUE!"}}]
[null,{"$f":"Sprawdz_pesel(Formularz!#REF!)","v":{"$error":"#VALUE!"}}]
[null,{"$f":"Sprawdz_pesel(Formularz!#REF!)","v":{"$error":"#VALUE!"}}]
[null,{"$f":"Sprawdz_pesel(Formularz!#REF!)","v":{"$error":"#VALUE!"}}]
[null,{"$f":"Sprawdz_pesel(Formularz!#REF!)","v":{"$error":"#VALUE!"}}]
[null,{"$f":"Sprawdz_pesel(Formularz!#REF!)","v":{"$error":"#VALUE!"}}]
[null,{"$f":"Sprawdz_pesel(Formularz!#REF!)","v":{"$error":"#VALUE!"}}]
[null,{"$f":"Sprawdz_pesel(Formularz!#REF!)","v":{"$error":"#VALUE!"}}]
[null,{"$f":"Sprawdz_pesel(Formularz!#REF!)","v":{"$error":"#VALUE!"}}]
[null,{"$f":"Sprawdz_pesel(Formularz!#REF!)","v":{"$error":"#VALUE!"}}]
[null,{"$f":"Sprawdz_pesel(Formularz!#REF!)","v":{"$error":"#VALUE!"}}]
[null,{"$f":"Sprawdz_pesel(Formularz!#REF!)","v":{"$error":"#VALUE!"}}]
[null,{"$f":"Sprawdz_pesel(Formularz!#REF!)","v":{"$error":"#VALUE!"}}]
[null,{"$f":"Sprawdz_pesel(Formularz!#REF!)","v":{"$error":"#VALUE!"}}]
[null,{"$f":"Sprawdz_pesel(Formularz!#REF!)","v":{"$error":"#VALUE!"}}]
[null,{"$f":"Sprawdz_pesel(Formularz!#REF!)","v":{"$error":"#VALUE!"}}]
[null,{"$f":"Sprawdz_pesel(Formularz!#REF!)","v":{"$error":"#VALUE!"}}]
[null,{"$f":"Sprawdz_pesel(Formularz!#REF!)","v":{"$error":"#VALUE!"}}]
[null,{"$f":"Sprawdz_pesel(Formularz!#REF!)","v":{"$error":"#VALUE!"}}]
[null,{"$f":"Sprawdz_pesel(Formularz!#REF!)","v":{"$error":"#VALUE!"}}]
[null,{"$f":"Sprawdz_pesel(Formularz!#REF!)","v":{"$error":"#VALUE!"}}]
[null,{"$f":"Sprawdz_pesel(Formularz!#REF!)","v":{"$error":"#VALUE!"}}]
[null,{"$f":"Sprawdz_pesel(Formularz!#REF!)","v":{"$error":"#VALUE!"}}]
[null,{"$f":"Sprawdz_pesel(Formularz!#REF!)","v":{"$error":"#VALUE!"}}]
[null,{"$f":"Sprawdz_pesel(Formularz!#REF!)","v":{"$error":"#VALUE!"}}]
[null,{"$f":"Sprawdz_pesel(Formularz!#REF!)","v":{"$error":"#VALUE!"}}]
[null,{"$f":"Sprawdz_pesel(Formularz!#REF!)","v":{"$error":"#VALUE!"}}]
[null,{"$f":"Sprawdz_pesel(Formularz!#REF!)","v":{"$error":"#VALUE!"}}]
[null,{"$f":"Sprawdz_pesel(Formularz!#REF!)","v":{"$error":"#VALUE!"}}]
[null,{"$f":"Sprawdz_pesel(Formularz!#REF!)","v":{"$error":"#VALUE!"}}]
[null,{"$f":"Sprawdz_pesel(Formularz!#REF!)","v":{"$error":"#VALUE!"}}]
[null,{"$f":"Sprawdz_pesel(Formularz!#REF!)","v":{"$error":"#VALUE!"}}]
[null,{"$f":"Sprawdz_pesel(Formularz!#REF!)","v":{"$error":"#VALUE!"}}]
[null,{"$f":"Sprawdz_pesel(Formularz!#REF!)","v":{"$error":"#VALUE!"}}]
[null,{"$f":"Sprawdz_pesel(Formularz!#REF!)","v":{"$error":"#VALUE!"}}]
[null,{"$f":"Sprawdz_pesel(Formularz!#REF!)","v":{"$error":"#VALUE!"}}]
[null,{"$f":"Sprawdz_pesel(Formularz!#REF!)","v":{"$error":"#VALUE!"}}]
[null,{"$f":"Sprawdz_pesel(Formularz!#REF!)","v":{"$error":"#VALUE!"}}]
[null,{"$f":"Sprawdz_pesel(Formularz!#REF!)","v":{"$error":"#VALUE!"}}]
[null,{"$f":"Sprawdz_pesel(Formularz!#REF!)","v":{"$error":"#VALUE!"}}]
[null,{"$f":"Sprawdz_pesel(Formularz!#REF!)","v":{"$error":"#VALUE!"}}]
[null,{"$f":"Sprawdz_pesel(Formularz!#REF!)","v":{"$error":"#VALUE!"}}]
[null,{"$f":"Sprawdz_pesel(Formularz!#REF!)","v":{"$error":"#VALUE!"}}]
[null,{"$f":"Sprawdz_pesel(Formularz!#REF!)","v":{"$error":"#VALUE!"}}]
[null,{"$f":"Sprawdz_pesel(Formularz!#REF!)","v":{"$error":"#VALUE!"}}]
[null,{"$f":"Sprawdz_pesel(Formularz!#REF!)","v":{"$error":"#VALUE!"}}]
[null,{"$f":"Sprawdz_pesel(Formularz!#REF!)","v":{"$error":"#VALUE!"}}]
[null,{"$f":"Sprawdz_pesel(Formularz!#REF!)","v":{"$error":"#VALUE!"}}]
[null,{"$f":"Sprawdz_pesel(Formularz!#REF!)","v":{"$error":"#VALUE!"}}]
[null,{"$f":"Sprawdz_pesel(Formularz!#REF!)","v":{"$error":"#VALUE!"}}]
[null,{"$f":"Sprawdz_pesel(Formularz!#REF!)","v":{"$error":"#VALUE!"}}]
[null,{"$f":"Sprawdz_pesel(Formularz!#REF!)","v":{"$error":"#VALUE!"}}]
[null,{"$f":"Sprawdz_pesel(Formularz!#REF!)","v":{"$error":"#VALUE!"}}]
[null,{"$f":"Sprawdz_pesel(Formularz!#REF!)","v":{"$error":"#VALUE!"}}]
[null,{"$f":"Sprawdz_pesel(Formularz!#REF!)","v":{"$error":"#VALUE!"}}]
[null,{"$f":"Sprawdz_pesel(Formularz!#REF!)","v":{"$error":"#VALUE!"}}]
[null,{"$f":"Sprawdz_pesel(Formularz!#REF!)","v":{"$error":"#VALUE!"}}]
[null,{"$f":"Sprawdz_pesel(Formularz!#REF!)","v":{"$error":"#VALUE!"}}]
[null,{"$f":"Sprawdz_pesel(Formularz!#REF!)","v":{"$error":"#VALUE!"}}]
[null,{"$f":"Sprawdz_pesel(Formularz!#REF!)","v":{"$error":"#VALUE!"}}]
[null,{"$f":"Sprawdz_pesel(Formularz!#REF!)","v":{"$error":"#VALUE!"}}]
[null,{"$f":"Sprawdz_pesel(Formularz!#REF!)","v":{"$error":"#VALUE!"}}]
[null,{"$f":"Sprawdz_pesel(Formularz!#REF!)","v":{"$error":"#VALUE!"}}]
[null,{"$f":"Sprawdz_pesel(Formularz!#REF!)","v":{"$error":"#VALUE!"}}]
[null,{"$f":"Sprawdz_pesel(Formularz!#REF!)","v":{"$error":"#VALUE!"}}]
[null,{"$f":"Sprawdz_pesel(Formularz!#REF!)","v":{"$error":"#VALUE!"}}]
[null,{"$f":"Sprawdz_pesel(Formularz!#REF!)","v":{"$error":"#VALUE!"}}]
[null,{"$f":"Sprawdz_pesel(Formularz!#REF!)","v":{"$error":"#VALUE!"}}]
[null,{"$f":"Sprawdz_pesel(Formularz!#REF!)","v":{"$error":"#VALUE!"}}]
[null,{"$f":"Sprawdz_pesel(Formularz!#REF!)","v":{"$error":"#VALUE!"}}]
[null,{"$f":"Sprawdz_pesel(Formularz!#REF!)","v":{"$error":"#VALUE!"}}]
[null,{"$f":"Sprawdz_pesel(Formularz!#REF!)","v":{"$error":"#VALUE!"}}]
[null,{"$f":"Sprawdz_pesel(Formularz!#REF!)","v":{"$error":"#VALUE!"}}]
[null,{"$f":"Sprawdz_pesel(Formularz!#REF!)","v":{"$error":"#VALUE!"}}]
[null,{"$f":"Sprawdz_pesel(Formularz!#REF!)","v":{"$error":"#VALUE!"}}]
[null,{"$f":"Sprawdz_pesel(Formularz!#REF!)","v":{"$error":"#VALUE!"}}]
[null,{"$f":"Sprawdz_pesel(Formularz!#REF!)","v":{"$error":"#VALUE!"}}]
[null,{"$f":"Sprawdz_pesel(Formularz!#REF!)","v":{"$error":"#VALUE!"}}]
[null,{"$f":"Sprawdz_pesel(Formularz!#REF!)","v":{"$error":"#VALUE!"}}]
[null,{"$f":"Sprawdz_pesel(Formularz!#REF!)","v":{"$error":"#VALUE!"}}]
[null,{"$f":"Sprawdz_pesel(Formularz!#REF!)","v":{"$error":"#VALUE!"}}]
[null,{"$f":"Sprawdz_pesel(Formularz!#REF!)","v":{"$error":"#VALUE!"}}]
[null,{"$f":"Sprawdz_pesel(Formularz!#REF!)","v":{"$error":"#VALUE!"}}]
[null,{"$f":"Sprawdz_pesel(Formularz!#REF!)","v":{"$error":"#VALUE!"}}]
[null,{"$f":"Sprawdz_pesel(Formularz!#REF!)","v":{"$error":"#VALUE!"}}]
[null,{"$f":"Sprawdz_pesel(Formularz!#REF!)","v":{"$error":"#VALUE!"}}]
[null,{"$f":"Sprawdz_pesel(Formularz!#REF!)","v":{"$error":"#VALUE!"}}]
[null,{"$f":"Sprawdz_pesel(Formularz!#REF!)","v":{"$error":"#VALUE!"}}]
[null,{"$f":"Sprawdz_pesel(Formularz!#REF!)","v":{"$error":"#VALUE!"}}]
[null,{"$f":"Sprawdz_pesel(Formularz!#REF!)","v":{"$error":"#VALUE!"}}]
[null,{"$f":"Sprawdz_pesel(Formularz!#REF!)","v":{"$error":"#VALUE!"}}]
[null,{"$f":"Sprawdz_pesel(Formularz!#REF!)","v":{"$error":"#VALUE!"}}]
[null,{"$f":"Sprawdz_pesel(Formularz!#REF!)","v":{"$error":"#VALUE!"}}]
[null,{"$f":"Sprawdz_pesel(Formularz!#REF!)","v":{"$error":"#VALUE!"}}]
[null,{"$f":"Sprawdz_pesel(Formularz!#REF!)","v":{"$error":"#VALUE!"}}]
[null,{"$f":"Sprawdz_pesel(Formularz!#REF!)","v":{"$error":"#VALUE!"}}]
[null,{"$f":"Sprawdz_pesel(Formularz!#REF!)","v":{"$error":"#VALUE!"}}]
[null,{"$f":"Sprawdz_pesel(Formularz!#REF!)","v":{"$error":"#VALUE!"}}]
[null,{"$f":"Sprawdz_pesel(Formularz!#REF!)","v":{"$error":"#VALUE!"}}]
[null,{"$f":"Sprawdz_pesel(Formularz!#REF!)","v":{"$error":"#VALUE!"}}]
[null,{"$f":"Sprawdz_pesel(Formularz!#REF!)","v":{"$error":"#VALUE!"}}]
[null,{"$f":"Sprawdz_pesel(Formularz!#REF!)","v":{"$error":"#VALUE!"}}]
[null,{"$f":"Sprawdz_pesel(Formularz!#REF!)","v":{"$error":"#VALUE!"}}]
[null,{"$f":"Sprawdz_pesel(Formularz!#REF!)","v":{"$error":"#VALUE!"}}]
[null,{"$f":"Sprawdz_pesel(Formularz!#REF!)","v":{"$error":"#VALUE!"}}]
[null,{"$f":"Sprawdz_pesel(Formularz!#REF!)","v":{"$error":"#VALUE!"}}]
[null,{"$f":"Sprawdz_pesel(Formularz!#REF!)","v":{"$error":"#VALUE!"}}]
[null,{"$f":"Sprawdz_pesel(Formularz!#REF!)","v":{"$error":"#VALUE!"}}]
[null,{"$f":"Sprawdz_pesel(Formularz!#REF!)","v":{"$error":"#VALUE!"}}]
[null,{"$f":"Sprawdz_pesel(Formularz!#REF!)","v":{"$error":"#VALUE!"}}]
[null,{"$f":"Sprawdz_pesel(Formularz!#REF!)","v":{"$error":"#VALUE!"}}]
[null,{"$f":"Sprawdz_pesel(Formularz!#REF!)","v":{"$error":"#VALUE!"}}]
[null,{"$f":"Sprawdz_pesel(Formularz!#REF!)","v":{"$error":"#VALUE!"}}]
[null,{"$f":"Sprawdz_pesel(Formularz!#REF!)","v":{"$error":"#VALUE!"}}]
[null,{"$f":"Sprawdz_pesel(Formularz!#REF!)","v":{"$error":"#VALUE!"}}]
[null,{"$f":"Sprawdz_pesel(Formularz!#REF!)","v":{"$error":"#VALUE!"}}]
[null,{"$f":"Sprawdz_pesel(Formularz!#REF!)","v":{"$error":"#VALUE!"}}]
[null,{"$f":"Sprawdz_pesel(Formularz!#REF!)","v":{"$error":"#VALUE!"}}]
[null,{"$f":"Sprawdz_pesel(Formularz!#REF!)","v":{"$error":"#VALUE!"}}]
[null,{"$f":"Sprawdz_pesel(Formularz!#REF!)","v":{"$error":"#VALUE!"}}]
[null,{"$f":"Sprawdz_pesel(Formularz!#REF!)","v":{"$error":"#VALUE!"}}]
[null,{"$f":"Sprawdz_pesel(Formularz!#REF!)","v":{"$error":"#VALUE!"}}]
[null,{"$f":"Sprawdz_pesel(Formularz!#REF!)","v":{"$error":"#VALUE!"}}]
[null,{"$f":"Sprawdz_pesel(Formularz!#REF!)","v":{"$error":"#VALUE!"}}]
[null,{"$f":"Sprawdz_pesel(Formularz!#REF!)","v":{"$error":"#VALUE!"}}]
[null,{"$f":"Sprawdz_pesel(Formularz!#REF!)","v":{"$error":"#VALUE!"}}]
[null,{"$f":"Sprawdz_pesel(Formularz!#REF!)","v":{"$error":"#VALUE!"}}]
[null,{"$f":"Sprawdz_pesel(Formularz!#REF!)","v":{"$error":"#VALUE!"}}]
[null,{"$f":"Sprawdz_pesel(Formularz!#REF!)","v":{"$error":"#VALUE!"}}]
[null,{"$f":"Sprawdz_pesel(Formularz!#REF!)","v":{"$error":"#VALUE!"}}]
[null,{"$f":"Sprawdz_pesel(Formularz!#REF!)","v":{"$error":"#VALUE!"}}]
[null,{"$f":"Sprawdz_pesel(Formularz!#REF!)","v":{"$error":"#VALUE!"}}]
[null,{"$f":"Sprawdz_pesel(Formularz!#REF!)","v":{"$error":"#VALUE!"}}]
[null,{"$f":"Sprawdz_pesel(Formularz!#REF!)","v":{"$error":"#VALUE!"}}]
[null,{"$f":"Sprawdz_pesel(Formularz!#REF!)","v":{"$error":"#VALUE!"}}]
[null,{"$f":"Sprawdz_pesel(Formularz!#REF!)","v":{"$error":"#VALUE!"}}]
[null,{"$f":"Sprawdz_pesel(Formularz!#REF!)","v":{"$error":"#VALUE!"}}]
[null,{"$f":"Sprawdz_pesel(Formularz!#REF!)","v":{"$error":"#VALUE!"}}]
[null,{"$f":"Sprawdz_pesel(Formularz!#REF!)","v":{"$error":"#VALUE!"}}]
[null,{"$f":"Sprawdz_pesel(Formularz!#REF!)","v":{"$error":"#VALUE!"}}]
[null,{"$f":"Sprawdz_pesel(Formularz!#REF!)","v":{"$error":"#VALUE!"}}]
[null,{"$f":"Sprawdz_pesel(Formularz!#REF!)","v":{"$error":"#VALUE!"}}]
[null,{"$f":"Sprawdz_pesel(Formularz!#REF!)","v":{"$error":"#VALUE!"}}]
[null,{"$f":"Sprawdz_pesel(Formularz!#REF!)","v":{"$error":"#VALUE!"}}]
[null,{"$f":"Sprawdz_pesel(Formularz!#REF!)","v":{"$error":"#VALUE!"}}]
[null,{"$f":"Sprawdz_pesel(Formularz!#REF!)","v":{"$error":"#VALUE!"}}]
[null,{"$f":"Sprawdz_pesel(Formularz!#REF!)","v":{"$error":"#VALUE!"}}]
[null,{"$f":"Sprawdz_pesel(Formularz!#REF!)","v":{"$error":"#VALUE!"}}]
[null,{"$f":"Sprawdz_pesel(Formularz!#REF!)","v":{"$error":"#VALUE!"}}]
[null,{"$f":"Sprawdz_pesel(Formularz!#REF!)","v":{"$error":"#VALUE!"}}]
[null,{"$f":"Sprawdz_pesel(Formularz!#REF!)","v":{"$error":"#VALUE!"}}]
[null,{"$f":"Sprawdz_pesel(Formularz!#REF!)","v":{"$error":"#VALUE!"}}]
[null,{"$f":"Sprawdz_pesel(Formularz!#REF!)","v":{"$error":"#VALUE!"}}]
[null,{"$f":"Sprawdz_pesel(Formularz!#REF!)","v":{"$error":"#VALUE!"}}]
[null,{"$f":"Sprawdz_pesel(Formularz!#REF!)","v":{"$error":"#VALUE!"}}]
[null,{"$f":"Sprawdz_pesel(Formularz!#REF!)","v":{"$error":"#VALUE!"}}]
[null,{"$f":"Sprawdz_pesel(Formularz!#REF!)","v":{"$error":"#VALUE!"}}]
[null,{"$f":"Sprawdz_pesel(Formularz!#REF!)","v":{"$error":"#VALUE!"}}]
[null,{"$f":"Sprawdz_pesel(Formularz!#REF!)","v":{"$error":"#VALUE!"}}]
[null,{"$f":"Sprawdz_pesel(Formularz!#REF!)","v":{"$error":"#VALUE!"}}]
[null,{"$f":"Sprawdz_pesel(Formularz!#REF!)","v":{"$error":"#VALUE!"}}]
[null,{"$f":"Sprawdz_pesel(Formularz!#REF!)","v":{"$error":"#VALUE!"}}]
[null,{"$f":"Sprawdz_pesel(Formularz!#REF!)","v":{"$error":"#VALUE!"}}]
[null,{"$f":"Sprawdz_pesel(Formularz!#REF!)","v":{"$error":"#VALUE!"}}]
[null,{"$f":"Sprawdz_pesel(Formularz!#REF!)","v":{"$error":"#VALUE!"}}]
[null,{"$f":"Sprawdz_pesel(Formularz!#REF!)","v":{"$error":"#VALUE!"}}]
[null,{"$f":"Sprawdz_pesel(Formularz!#REF!)","v":{"$error":"#VALUE!"}}]
[null,{"$f":"Sprawdz_pesel(Formularz!#REF!)","v":{"$error":"#VALUE!"}}]
[null,{"$f":"Sprawdz_pesel(Formularz!#REF!)","v":{"$error":"#VALUE!"}}]
[null,{"$f":"Sprawdz_pesel(Formularz!#REF!)","v":{"$error":"#VALUE!"}}]
[null,{"$f":"Sprawdz_pesel(Formularz!#REF!)","v":{"$error":"#VALUE!"}}]
[null,{"$f":"Sprawdz_pesel(Formularz!#REF!)","v":{"$error":"#VALUE!"}}]
[null,{"$f":"Sprawdz_pesel(Formularz!#REF!)","v":{"$error":"#VALUE!"}}]
[null,{"$f":"Sprawdz_pesel(Formularz!#REF!)","v":{"$error":"#VALUE!"}}]
[null,{"$f":"Sprawdz_pesel(Formularz!#REF!)","v":{"$error":"#VALUE!"}}]
[null,{"$f":"Sprawdz_pesel(Formularz!#REF!)","v":{"$error":"#VALUE!"}}]
[null,{"$f":"Sprawdz_pesel(Formularz!#REF!)","v":{"$error":"#VALUE!"}}]
[null,{"$f":"Sprawdz_pesel(Formularz!#REF!)","v":{"$error":"#VALUE!"}}]
[null,{"$f":"Sprawdz_pesel(Formularz!#REF!)","v":{"$error":"#VALUE!"}}]
[null,{"$f":"Sprawdz_pesel(Formularz!#REF!)","v":{"$error":"#VALUE!"}}]
[null,{"$f":"Sprawdz_pesel(Formularz!#REF!)","v":{"$error":"#VALUE!"}}]
[null,{"$f":"Sprawdz_pesel(Formularz!#REF!)","v":{"$error":"#VALUE!"}}]
[null,{"$f":"Sprawdz_pesel(Formularz!#REF!)","v":{"$error":"#VALUE!"}}]
[null,{"$f":"Sprawdz_pesel(Formularz!#REF!)","v":{"$error":"#VALUE!"}}]
[null,{"$f":"Sprawdz_pesel(Formularz!#REF!)","v":{"$error":"#VALUE!"}}]
[null,{"$f":"Sprawdz_pesel(Formularz!#REF!)","v":{"$error":"#VALUE!"}}]
[null,{"$f":"Sprawdz_pesel(Formularz!#REF!)","v":{"$error":"#VALUE!"}}]
[null,{"$f":"Sprawdz_pesel(Formularz!#REF!)","v":{"$error":"#VALUE!"}}]
[null,{"$f":"Sprawdz_pesel(Formularz!#REF!)","v":{"$error":"#VALUE!"}}]
[null,{"$f":"Sprawdz_pesel(Formularz!#REF!)","v":{"$error":"#VALUE!"}}]
[null,{"$f":"Sprawdz_pesel(Formularz!#REF!)","v":{"$error":"#VALUE!"}}]
[null,{"$f":"Sprawdz_pesel(Formularz!#REF!)","v":{"$error":"#VALUE!"}}]
[null,{"$f":"Sprawdz_pesel(Formularz!#REF!)","v":{"$error":"#VALUE!"}}]
[null,{"$f":"Sprawdz_pesel(Formularz!#REF!)","v":{"$error":"#VALUE!"}}]
[null,{"$f":"Sprawdz_pesel(Formularz!#REF!)","v":{"$error":"#VALUE!"}}]
[null,{"$f":"Sprawdz_pesel(Formularz!#REF!)","v":{"$error":"#VALUE!"}}]
[null,{"$f":"Sprawdz_pesel(Formularz!#REF!)","v":{"$error":"#VALUE!"}}]
[null,{"$f":"Sprawdz_pesel(Formularz!#REF!)","v":{"$error":"#VALUE!"}}]
[null,{"$f":"Sprawdz_pesel(Formularz!#REF!)","v":{"$error":"#VALUE!"}}]
[null,{"$f":"Sprawdz_pesel(Formularz!#REF!)","v":{"$error":"#VALUE!"}}]
[null,{"$f":"Sprawdz_pesel(Formularz!#REF!)","v":{"$error":"#VALUE!"}}]
[null,{"$f":"Sprawdz_pesel(Formularz!#REF!)","v":{"$error":"#VALUE!"}}]
[null,{"$f":"Sprawdz_pesel(Formularz!#REF!)","v":{"$error":"#VALUE!"}}]
[null,{"$f":"Sprawdz_pesel(Formularz!#REF!)","v":{"$error":"#VALUE!"}}]
[null,{"$f":"Sprawdz_pesel(Formularz!#REF!)","v":{"$error":"#VALUE!"}}]
[null,{"$f":"Sprawdz_pesel(Formularz!#REF!)","v":{"$error":"#VALUE!"}}]
[null,{"$f":"Sprawdz_pesel(Formularz!#REF!)","v":{"$error":"#VALUE!"}}]
[null,{"$f":"Sprawdz_pesel(Formularz!#REF!)","v":{"$error":"#VALUE!"}}]
[null,{"$f":"Sprawdz_pesel(Formularz!#REF!)","v":{"$error":"#VALUE!"}}]
[null,{"$f":"Sprawdz_pesel(Formularz!#REF!)","v":{"$error":"#VALUE!"}}]
[null,{"$f":"Sprawdz_pesel(Formularz!#REF!)","v":{"$error":"#VALUE!"}}]
[null,{"$f":"Sprawdz_pesel(Formularz!#REF!)","v":{"$error":"#VALUE!"}}]
[null,{"$f":"Sprawdz_pesel(Formularz!#REF!)","v":{"$error":"#VALUE!"}}]
[null,{"$f":"Sprawdz_pesel(Formularz!#REF!)","v":{"$error":"#VALUE!"}}]
[null,{"$f":"Sprawdz_pesel(Formularz!#REF!)","v":{"$error":"#VALUE!"}}]
[null,{"$f":"Sprawdz_pesel(Formularz!#REF!)","v":{"$error":"#VALUE!"}}]
[null,{"$f":"Sprawdz_pesel(Formularz!#REF!)","v":{"$error":"#VALUE!"}}]
[null,{"$f":"Sprawdz_pesel(Formularz!#REF!)","v":{"$error":"#VALUE!"}}]
[null,{"$f":"Sprawdz_pesel(Formularz!#REF!)","v":{"$error":"#VALUE!"}}]
[null,{"$f":"Sprawdz_pesel(Formularz!#REF!)","v":{"$error":"#VALUE!"}}]
[null,{"$f":"Sprawdz_pesel(Formularz!#REF!)","v":{"$error":"#VALUE!"}}]
[null,{"$f":"Sprawdz_pesel(Formularz!#REF!)","v":{"$error":"#VALUE!"}}]
[null,{"$f":"Sprawdz_pesel(Formularz!#REF!)","v":{"$error":"#VALUE!"}}]
[null,{"$f":"Sprawdz_pesel(Formularz!#REF!)","v":{"$error":"#VALUE!"}}]
[null,{"$f":"Sprawdz_pesel(Formularz!#REF!)","v":{"$error":"#VALUE!"}}]
[null,{"$f":"Sprawdz_pesel(Formularz!#REF!)","v":{"$error":"#VALUE!"}}]
[null,{"$f":"Sprawdz_pesel(Formularz!#REF!)","v":{"$error":"#VALUE!"}}]
[null,{"$f":"Sprawdz_pesel(Formularz!#REF!)","v":{"$error":"#VALUE!"}}]
[null,{"$f":"Sprawdz_pesel(Formularz!#REF!)","v":{"$error":"#VALUE!"}}]
[null,{"$f":"Sprawdz_pesel(Formularz!#REF!)","v":{"$error":"#VALUE!"}}]
[null,{"$f":"Sprawdz_pesel(Formularz!#REF!)","v":{"$error":"#VALUE!"}}]
[null,{"$f":"Sprawdz_pesel(Formularz!#REF!)","v":{"$error":"#VALUE!"}}]
[null,{"$f":"Sprawdz_pesel(Formularz!#REF!)","v":{"$error":"#VALUE!"}}]
[null,{"$f":"Sprawdz_pesel(Formularz!#REF!)","v":{"$error":"#VALUE!"}}]
[null,{"$f":"Sprawdz_pesel(Formularz!#REF!)","v":{"$error":"#VALUE!"}}]
[null,{"$f":"Sprawdz_pesel(Formularz!#REF!)","v":{"$error":"#VALUE!"}}]
[null,{"$f":"Sprawdz_pesel(Formularz!#REF!)","v":{"$error":"#VALUE!"}}]
[null,{"$f":"Sprawdz_pesel(Formularz!#REF!)","v":{"$error":"#VALUE!"}}]
[null,{"$f":"Sprawdz_pesel(Formularz!#REF!)","v":{"$error":"#VALUE!"}}]
[null,{"$f":"Sprawdz_pesel(Formularz!#REF!)","v":{"$error":"#VALUE!"}}]
[null,{"$f":"Sprawdz_pesel(Formularz!#REF!)","v":{"$error":"#VALUE!"}}]
[null,{"$f":"Sprawdz_pesel(Formularz!#REF!)","v":{"$error":"#VALUE!"}}]
[null,{"$f":"Sprawdz_pesel(Formularz!#REF!)","v":{"$error":"#VALUE!"}}]
[null,{"$f":"Sprawdz_pesel(Formularz!#REF!)","v":{"$error":"#VALUE!"}}]
[null,{"$f":"Sprawdz_pesel(Formularz!#REF!)","v":{"$error":"#VALUE!"}}]
[null,{"$f":"Sprawdz_pesel(Formularz!#REF!)","v":{"$error":"#VALUE!"}}]
[null,{"$f":"Sprawdz_pesel(Formularz!#REF!)","v":{"$error":"#VALUE!"}}]
[null,{"$f":"Sprawdz_pesel(Formularz!#REF!)","v":{"$error":"#VALUE!"}}]
[null,{"$f":"Sprawdz_pesel(Formularz!#REF!)","v":{"$error":"#VALUE!"}}]
[null,{"$f":"Sprawdz_pesel(Formularz!#REF!)","v":{"$error":"#VALUE!"}}]
[null,{"$f":"Sprawdz_pesel(Formularz!#REF!)","v":{"$error":"#VALUE!"}}]
[null,{"$f":"Sprawdz_pesel(Formularz!#REF!)","v":{"$error":"#VALUE!"}}]
[null,{"$f":"Sprawdz_pesel(Formularz!#REF!)","v":{"$error":"#VALUE!"}}]
[null,{"$f":"Sprawdz_pesel(Formularz!#REF!)","v":{"$error":"#VALUE!"}}]
[null,{"$f":"Sprawdz_pesel(Formularz!#REF!)","v":{"$error":"#VALUE!"}}]
[null,{"$f":"Sprawdz_pesel(Formularz!#REF!)","v":{"$error":"#VALUE!"}}]
[null,{"$f":"Sprawdz_pesel(Formularz!#REF!)","v":{"$error":"#VALUE!"}}]
[null,{"$f":"Sprawdz_pesel(Formularz!#REF!)","v":{"$error":"#VALUE!"}}]
[null,{"$f":"Sprawdz_pesel(Formularz!#REF!)","v":{"$error":"#VALUE!"}}]
[null,{"$f":"Sprawdz_pesel(Formularz!#REF!)","v":{"$error":"#VALUE!"}}]
[null,{"$f":"Sprawdz_pesel(Formularz!#REF!)","v":{"$error":"#VALUE!"}}]
[null,{"$f":"Sprawdz_pesel(Formularz!#REF!)","v":{"$error":"#VALUE!"}}]
[null,{"$f":"Sprawdz_pesel(Formularz!#REF!)","v":{"$error":"#VALUE!"}}]
[null,{"$f":"Sprawdz_pesel(Formularz!#REF!)","v":{"$error":"#VALUE!"}}]
[null,{"$f":"Sprawdz_pesel(Formularz!#REF!)","v":{"$error":"#VALUE!"}}]
[null,{"$f":"Sprawdz_pesel(Formularz!#REF!)","v":{"$error":"#VALUE!"}}]
[null,{"$f":"Sprawdz_pesel(Formularz!#REF!)","v":{"$error":"#VALUE!"}}]
[null,{"$f":"Sprawdz_pesel(Formularz!#REF!)","v":{"$error":"#VALUE!"}}]
[null,{"$f":"Sprawdz_pesel(Formularz!#REF!)","v":{"$error":"#VALUE!"}}]
[null,{"$f":"Sprawdz_pesel(Formularz!#REF!)","v":{"$error":"#VALUE!"}}]
[null,{"$f":"Sprawdz_pesel(Formularz!#REF!)","v":{"$error":"#VALUE!"}}]
[null,{"$f":"Sprawdz_pesel(Formularz!#REF!)","v":{"$error":"#VALUE!"}}]
[null,{"$f":"Sprawdz_pesel(Formularz!#REF!)","v":{"$error":"#VALUE!"}}]
[null,{"$f":"Sprawdz_pesel(Formularz!#REF!)","v":{"$error":"#VALUE!"}}]
[null,{"$f":"Sprawdz_pesel(Formularz!#REF!)","v":{"$error":"#VALUE!"}}]
[null,{"$f":"Sprawdz_pesel(Formularz!#REF!)","v":{"$error":"#VALUE!"}}]
[null,{"$f":"Sprawdz_pesel(Formularz!#REF!)","v":{"$error":"#VALUE!"}}]
[null,{"$f":"Sprawdz_pesel(Formularz!#REF!)","v":{"$error":"#VALUE!"}}]
[null,{"$f":"Sprawdz_pesel(Formularz!#REF!)","v":{"$error":"#VALUE!"}}]
[null,{"$f":"Sprawdz_pesel(Formularz!#REF!)","v":{"$error":"#VALUE!"}}]
[null,{"$f":"Sprawdz_pesel(Formularz!#REF!)","v":{"$error":"#VALUE!"}}]
[null,{"$f":"Sprawdz_pesel(Formularz!#REF!)","v":{"$error":"#VALUE!"}}]
[null,{"$f":"Sprawdz_pesel(Formularz!#REF!)","v":{"$error":"#VALUE!"}}]
[null,{"$f":"Sprawdz_pesel(Formularz!#REF!)","v":{"$error":"#VALUE!"}}]
[null,{"$f":"Sprawdz_pesel(Formularz!#REF!)","v":{"$error":"#VALUE!"}}]
[null,{"$f":"Sprawdz_pesel(Formularz!#REF!)","v":{"$error":"#VALUE!"}}]
[null,{"$f":"Sprawdz_pesel(Formularz!#REF!)","v":{"$error":"#VALUE!"}}]
[null,{"$f":"Sprawdz_pesel(Formularz!#REF!)","v":{"$error":"#VALUE!"}}]
[null,{"$f":"Sprawdz_pesel(Formularz!#REF!)","v":{"$error":"#VALUE!"}}]
[null,{"$f":"Sprawdz_pesel(Formularz!#REF!)","v":{"$error":"#VALUE!"}}]
[null,{"$f":"Sprawdz_pesel(Formularz!#REF!)","v":{"$error":"#VALUE!"}}]
[null,{"$f":"Sprawdz_pesel(Formularz!#REF!)","v":{"$error":"#VALUE!"}}]
[null,{"$f":"Sprawdz_pesel(Formularz!#REF!)","v":{"$error":"#VALUE!"}}]
[null,{"$f":"Sprawdz_pesel(Formularz!#REF!)","v":{"$error":"#VALUE!"}}]
[null,{"$f":"Sprawdz_pesel(Formularz!#REF!)","v":{"$error":"#VALUE!"}}]
[null,{"$f":"Sprawdz_pesel(Formularz!#REF!)","v":{"$error":"#VALUE!"}}]
[null,{"$f":"Sprawdz_pesel(Formularz!#REF!)","v":{"$error":"#VALUE!"}}]
[null,{"$f":"Sprawdz_pesel(Formularz!#REF!)","v":{"$error":"#VALUE!"}}]
[null,{"$f":"Sprawdz_pesel(Formularz!#REF!)","v":{"$error":"#VALUE!"}}]
[null,{"$f":"Sprawdz_pesel(Formularz!#REF!)","v":{"$error":"#VALUE!"}}]
[null,{"$f":"Sprawdz_pesel(Formularz!#REF!)","v":{"$error":"#VALUE!"}}]
[null,{"$f":"Sprawdz_pesel(Formularz!#REF!)","v":{"$error":"#VALUE!"}}]
[null,{"$f":"Sprawdz_pesel(Formularz!#REF!)","v":{"$error":"#VALUE!"}}]
[null,{"$f":"Sprawdz_pesel(Formularz!#REF!)","v":{"$error":"#VALUE!"}}]
[null,{"$f":"Sprawdz_pesel(Formularz!#REF!)","v":{"$error":"#VALUE!"}}]
[null,{"$f":"Sprawdz_pesel(Formularz!#REF!)","v":{"$error":"#VALUE!"}}]
[null,{"$f":"Sprawdz_pesel(Formularz!#REF!)","v":{"$error":"#VALUE!"}}]
[null,{"$f":"Sprawdz_pesel(Formularz!#REF!)","v":{"$error":"#VALUE!"}}]
[null,{"$f":"Sprawdz_pesel(Formularz!#REF!)","v":{"$error":"#VALUE!"}}]
[null,{"$f":"Sprawdz_pesel(Formularz!#REF!)","v":{"$error":"#VALUE!"}}]
[null,{"$f":"Sprawdz_pesel(Formularz!#REF!)","v":{"$error":"#VALUE!"}}]
[null,{"$f":"Sprawdz_pesel(Formularz!#REF!)","v":{"$error":"#VALUE!"}}]
[null,{"$f":"Sprawdz_pesel(Formularz!#REF!)","v":{"$error":"#VALUE!"}}]
[null,{"$f":"Sprawdz_pesel(Formularz!#REF!)","v":{"$error":"#VALUE!"}}]
[null,{"$f":"Sprawdz_pesel(Formularz!#REF!)","v":{"$error":"#VALUE!"}}]
[null,{"$f":"Sprawdz_pesel(Formularz!#REF!)","v":{"$error":"#VALUE!"}}]
[null,{"$f":"Sprawdz_pesel(Formularz!#REF!)","v":{"$error":"#VALUE!"}}]
[null,{"$f":"Sprawdz_pesel(Formularz!#REF!)","v":{"$error":"#VALUE!"}}]
[null,{"$f":"Sprawdz_pesel(Formularz!#REF!)","v":{"$error":"#VALUE!"}}]
[null,{"$f":"Sprawdz_pesel(Formularz!#REF!)","v":{"$error":"#VALUE!"}}]
[null,{"$f":"Sprawdz_pesel(Formularz!#REF!)","v":{"$error":"#VALUE!"}}]
[null,{"$f":"Sprawdz_pesel(Formularz!#REF!)","v":{"$error":"#VALUE!"}}]
[null,{"$f":"Sprawdz_pesel(Formularz!#REF!)","v":{"$error":"#VALUE!"}}]
[null,{"$f":"Sprawdz_pesel(Formularz!#REF!)","v":{"$error":"#VALUE!"}}]
[null,{"$f":"Sprawdz_pesel(Formularz!#REF!)","v":{"$error":"#VALUE!"}}]
[null,{"$f":"Sprawdz_pesel(Formularz!#REF!)","v":{"$error":"#VALUE!"}}]
[null,{"$f":"Sprawdz_pesel(Formularz!#REF!)","v":{"$error":"#VALUE!"}}]
[null,{"$f":"Sprawdz_pesel(Formularz!#REF!)","v":{"$error":"#VALUE!"}}]
[null,{"$f":"Sprawdz_pesel(Formularz!#REF!)","v":{"$error":"#VALUE!"}}]
[null,{"$f":"Sprawdz_pesel(Formularz!#REF!)","v":{"$error":"#VALUE!"}}]
[null,{"$f":"Sprawdz_pesel(Formularz!#REF!)","v":{"$error":"#VALUE!"}}]
[null,{"$f":"Sprawdz_pesel(Formularz!#REF!)","v":{"$error":"#VALUE!"}}]
[null,{"$f":"Sprawdz_pesel(Formularz!#REF!)","v":{"$error":"#VALUE!"}}]
[null,{"$f":"Sprawdz_pesel(Formularz!#REF!)","v":{"$error":"#VALUE!"}}]
[null,{"$f":"Sprawdz_pesel(Formularz!#REF!)","v":{"$error":"#VALUE!"}}]
[null,{"$f":"Sprawdz_pesel(Formularz!#REF!)","v":{"$error":"#VALUE!"}}]
[null,{"$f":"Sprawdz_pesel(Formularz!#REF!)","v":{"$error":"#VALUE!"}}]
[null,{"$f":"Sprawdz_pesel(Formularz!#REF!)","v":{"$error":"#VALUE!"}}]
[null,{"$f":"Sprawdz_pesel(Formularz!#REF!)","v":{"$error":"#VALUE!"}}]
[null,{"$f":"Sprawdz_pesel(Formularz!#REF!)","v":{"$error":"#VALUE!"}}]
[null,{"$f":"Sprawdz_pesel(Formularz!#REF!)","v":{"$error":"#VALUE!"}}]
[null,{"$f":"Sprawdz_pesel(Formularz!#REF!)","v":{"$error":"#VALUE!"}}]
[null,{"$f":"Sprawdz_pesel(Formularz!#REF!)","v":{"$error":"#VALUE!"}}]
[null,{"$f":"Sprawdz_pesel(Formularz!#REF!)","v":{"$error":"#VALUE!"}}]
[null,{"$f":"Sprawdz_pesel(Formularz!#REF!)","v":{"$error":"#VALUE!"}}]
[null,{"$f":"Sprawdz_pesel(Formularz!#REF!)","v":{"$error":"#VALUE!"}}]
[null,{"$f":"Sprawdz_pesel(Formularz!#REF!)","v":{"$error":"#VALUE!"}}]
[null,{"$f":"Sprawdz_pesel(Formularz!#REF!)","v":{"$error":"#VALUE!"}}]
[null,{"$f":"Sprawdz_pesel(Formularz!#REF!)","v":{"$error":"#VALUE!"}}]
[null,{"$f":"Sprawdz_pesel(Formularz!#REF!)","v":{"$error":"#VALUE!"}}]
[null,{"$f":"Sprawdz_pesel(Formularz!#REF!)","v":{"$error":"#VALUE!"}}]
[null,{"$f":"Sprawdz_pesel(Formularz!#REF!)","v":{"$error":"#VALUE!"}}]
[null,{"$f":"Sprawdz_pesel(Formularz!#REF!)","v":{"$error":"#VALUE!"}}]
[null,{"$f":"Sprawdz_pesel(Formularz!#REF!)","v":{"$error":"#VALUE!"}}]
[null,{"$f":"Sprawdz_pesel(Formularz!#REF!)","v":{"$error":"#VALUE!"}}]
[null,{"$f":"Sprawdz_pesel(Formularz!#REF!)","v":{"$error":"#VALUE!"}}]
[null,{"$f":"Sprawdz_pesel(Formularz!#REF!)","v":{"$error":"#VALUE!"}}]
[null,{"$f":"Sprawdz_pesel(Formularz!#REF!)","v":{"$error":"#VALUE!"}}]
[null,{"$f":"Sprawdz_pesel(Formularz!#REF!)","v":{"$error":"#VALUE!"}}]
[null,{"$f":"Sprawdz_pesel(Formularz!#REF!)","v":{"$error":"#VALUE!"}}]
[null,{"$f":"Sprawdz_pesel(Formularz!#REF!)","v":{"$error":"#VALUE!"}}]
[null,{"$f":"Sprawdz_pesel(Formularz!#REF!)","v":{"$error":"#VALUE!"}}]
[null,{"$f":"Sprawdz_pesel(Formularz!#REF!)","v":{"$error":"#VALUE!"}}]
[null,{"$f":"Sprawdz_pesel(Formularz!#REF!)","v":{"$error":"#VALUE!"}}]
[null,{"$f":"Sprawdz_pesel(Formularz!#REF!)","v":{"$error":"#VALUE!"}}]
[null,{"$f":"Sprawdz_pesel(Formularz!#REF!)","v":{"$error":"#VALUE!"}}]
[null,{"$f":"Sprawdz_pesel(Formularz!#REF!)","v":{"$error":"#VALUE!"}}]
[null,{"$f":"Sprawdz_pesel(Formularz!#REF!)","v":{"$error":"#VALUE!"}}]
[null,{"$f":"Sprawdz_pesel(Formularz!#REF!)","v":{"$error":"#VALUE!"}}]
[null,{"$f":"Sprawdz_pesel(Formularz!#REF!)","v":{"$error":"#VALUE!"}}]
[null,{"$f":"Sprawdz_pesel(Formularz!#REF!)","v":{"$error":"#VALUE!"}}]
[null,{"$f":"Sprawdz_pesel(Formularz!#REF!)","v":{"$error":"#VALUE!"}}]
[null,{"$f":"Sprawdz_pesel(Formularz!#REF!)","v":{"$error":"#VALUE!"}}]
[null,{"$f":"Sprawdz_pesel(Formularz!#REF!)","v":{"$error":"#VALUE!"}}]
[null,{"$f":"Sprawdz_pesel(Formularz!#REF!)","v":{"$error":"#VALUE!"}}]
[null,{"$f":"Sprawdz_pesel(Formularz!#REF!)","v":{"$error":"#VALUE!"}}]
[null,{"$f":"Sprawdz_pesel(Formularz!#REF!)","v":{"$error":"#VALUE!"}}]
[null,{"$f":"Sprawdz_pesel(Formularz!#REF!)","v":{"$error":"#VALUE!"}}]
[null,{"$f":"Sprawdz_pesel(Formularz!#REF!)","v":{"$error":"#VALUE!"}}]
[null,{"$f":"Sprawdz_pesel(Formularz!#REF!)","v":{"$error":"#VALUE!"}}]
[null,{"$f":"Sprawdz_pesel(Formularz!#REF!)","v":{"$error":"#VALUE!"}}]
[null,{"$f":"Sprawdz_pesel(Formularz!#REF!)","v":{"$error":"#VALUE!"}}]
[null,{"$f":"Sprawdz_pesel(Formularz!#REF!)","v":{"$error":"#VALUE!"}}]
[null,{"$f":"Sprawdz_pesel(Formularz!#REF!)","v":{"$error":"#VALUE!"}}]
[null,{"$f":"Sprawdz_pesel(Formularz!#REF!)","v":{"$error":"#VALUE!"}}]
[null,{"$f":"Sprawdz_pesel(Formularz!#REF!)","v":{"$error":"#VALUE!"}}]
[null,{"$f":"Sprawdz_pesel(Formularz!#REF!)","v":{"$error":"#VALUE!"}}]
[null,{"$f":"Sprawdz_pesel(Formularz!#REF!)","v":{"$error":"#VALUE!"}}]
[null,{"$f":"Sprawdz_pesel(Formularz!#REF!)","v":{"$error":"#VALUE!"}}]
[null,{"$f":"Sprawdz_pesel(Formularz!#REF!)","v":{"$error":"#VALUE!"}}]
[null,{"$f":"Sprawdz_pesel(Formularz!#REF!)","v":{"$error":"#VALUE!"}}]
[null,{"$f":"Sprawdz_pesel(Formularz!#REF!)","v":{"$error":"#VALUE!"}}]
[null,{"$f":"Sprawdz_pesel(Formularz!#REF!)","v":{"$error":"#VALUE!"}}]
[null,{"$f":"Sprawdz_pesel(Formularz!#REF!)","v":{"$error":"#VALUE!"}}]
[null,{"$f":"Sprawdz_pesel(Formularz!#REF!)","v":{"$error":"#VALUE!"}}]
[null,{"$f":"Sprawdz_pesel(Formularz!#REF!)","v":{"$error":"#VALUE!"}}]
[null,{"$f":"Sprawdz_pesel(Formularz!#REF!)","v":{"$error":"#VALUE!"}}]
[null,{"$f":"Sprawdz_pesel(Formularz!#REF!)","v":{"$error":"#VALUE!"}}]
[null,{"$f":"Sprawdz_pesel(Formularz!#REF!)","v":{"$error":"#VALUE!"}}]
[null,{"$f":"Sprawdz_pesel(Formularz!#REF!)","v":{"$error":"#VALUE!"}}]
[null,{"$f":"Sprawdz_pesel(Formularz!#REF!)","v":{"$error":"#VALUE!"}}]
[null,{"$f":"Sprawdz_pesel(Formularz!#REF!)","v":{"$error":"#VALUE!"}}]
[null,{"$f":"Sprawdz_pesel(Formularz!#REF!)","v":{"$error":"#VALUE!"}}]
[null,{"$f":"Sprawdz_pesel(Formularz!#REF!)","v":{"$error":"#VALUE!"}}]
[null,{"$f":"Sprawdz_pesel(Formularz!#REF!)","v":{"$error":"#VALUE!"}}]
[null,{"$f":"Sprawdz_pesel(Formularz!#REF!)","v":{"$error":"#VALUE!"}}]
[null,{"$f":"Sprawdz_pesel(Formularz!#REF!)","v":{"$error":"#VALUE!"}}]
[null,{"$f":"Sprawdz_pesel(Formularz!#REF!)","v":{"$error":"#VALUE!"}}]
[null,{"$f":"Sprawdz_pesel(Formularz!#REF!)","v":{"$error":"#VALUE!"}}]
[null,{"$f":"Sprawdz_pesel(Formularz!#REF!)","v":{"$error":"#VALUE!"}}]
[null,{"$f":"Sprawdz_pesel(Formularz!#REF!)","v":{"$error":"#VALUE!"}}]
[null,{"$f":"Sprawdz_pesel(Formularz!#REF!)","v":{"$error":"#VALUE!"}}]
[null,{"$f":"Sprawdz_pesel(Formularz!#REF!)","v":{"$error":"#VALUE!"}}]
[null,{"$f":"Sprawdz_pesel(Formularz!#REF!)","v":{"$error":"#VALUE!"}}]
[null,{"$f":"Sprawdz_pesel(Formularz!#REF!)","v":{"$error":"#VALUE!"}}]
[null,{"$f":"Sprawdz_pesel(Formularz!#REF!)","v":{"$error":"#VALUE!"}}]
[null,{"$f":"Sprawdz_pesel(Formularz!#REF!)","v":{"$error":"#VALUE!"}}]
[null,{"$f":"Sprawdz_pesel(Formularz!#REF!)","v":{"$error":"#VALUE!"}}]
[null,{"$f":"Sprawdz_pesel(Formularz!#REF!)","v":{"$error":"#VALUE!"}}]
[null,{"$f":"Sprawdz_pesel(Formularz!#REF!)","v":{"$error":"#VALUE!"}}]
[null,{"$f":"Sprawdz_pesel(Formularz!#REF!)","v":{"$error":"#VALUE!"}}]
[null,{"$f":"Sprawdz_pesel(Formularz!#REF!)","v":{"$error":"#VALUE!"}}]
[null,{"$f":"Sprawdz_pesel(Formularz!#REF!)","v":{"$error":"#VALUE!"}}]
[null,{"$f":"Sprawdz_pesel(Formularz!#REF!)","v":{"$error":"#VALUE!"}}]
[null,{"$f":"Sprawdz_pesel(Formularz!#REF!)","v":{"$error":"#VALUE!"}}]
[null,{"$f":"Sprawdz_pesel(Formularz!#REF!)","v":{"$error":"#VALUE!"}}]
[null,{"$f":"Sprawdz_pesel(Formularz!#REF!)","v":{"$error":"#VALUE!"}}]
[null,{"$f":"Sprawdz_pesel(Formularz!#REF!)","v":{"$error":"#VALUE!"}}]
[null,{"$f":"Sprawdz_pesel(Formularz!#REF!)","v":{"$error":"#VALUE!"}}]
[null,{"$f":"Sprawdz_pesel(Formularz!#REF!)","v":{"$error":"#VALUE!"}}]
[null,{"$f":"Sprawdz_pesel(Formularz!#REF!)","v":{"$error":"#VALUE!"}}]
[null,{"$f":"Sprawdz_pesel(Formularz!#REF!)","v":{"$error":"#VALUE!"}}]
[null,{"$f":"Sprawdz_pesel(Formularz!#REF!)","v":{"$error":"#VALUE!"}}]
[null,{"$f":"Sprawdz_pesel(Formularz!#REF!)","v":{"$error":"#VALUE!"}}]
[null,{"$f":"Sprawdz_pesel(Formularz!#REF!)","v":{"$error":"#VALUE!"}}]
[null,{"$f":"Sprawdz_pesel(Formularz!#REF!)","v":{"$error":"#VALUE!"}}]
[null,{"$f":"Sprawdz_pesel(Formularz!#REF!)","v":{"$error":"#VALUE!"}}]
[null,{"$f":"Sprawdz_pesel(Formularz!#REF!)","v":{"$error":"#VALUE!"}}]
[null,{"$f":"Sprawdz_pesel(Formularz!#REF!)","v":{"$error":"#VALUE!"}}]
[null,{"$f":"Sprawdz_pesel(Formularz!#REF!)","v":{"$error":"#VALUE!"}}]
[null,{"$f":"Sprawdz_pesel(Formularz!#REF!)","v":{"$error":"#VALUE!"}}]
[null,{"$f":"Sprawdz_pesel(Formularz!#REF!)","v":{"$error":"#VALUE!"}}]
[null,{"$f":"Sprawdz_pesel(Formularz!#REF!)","v":{"$error":"#VALUE!"}}]
[null,{"$f":"Sprawdz_pesel(Formularz!#REF!)","v":{"$error":"#VALUE!"}}]
[null,{"$f":"Sprawdz_pesel(Formularz!#REF!)","v":{"$error":"#VALUE!"}}]
[null,{"$f":"Sprawdz_pesel(Formularz!#REF!)","v":{"$error":"#VALUE!"}}]
[null,{"$f":"Sprawdz_pesel(Formularz!#REF!)","v":{"$error":"#VALUE!"}}]
[null,{"$f":"Sprawdz_pesel(Formularz!#REF!)","v":{"$error":"#VALUE!"}}]
[null,{"$f":"Sprawdz_pesel(Formularz!#REF!)","v":{"$error":"#VALUE!"}}]
[null,{"$f":"Sprawdz_pesel(Formularz!#REF!)","v":{"$error":"#VALUE!"}}]
[null,{"$f":"Sprawdz_pesel(Formularz!#REF!)","v":{"$error":"#VALUE!"}}]
[null,{"$f":"Sprawdz_pesel(Formularz!#REF!)","v":{"$error":"#VALUE!"}}]
[null,{"$f":"Sprawdz_pesel(Formularz!#REF!)","v":{"$error":"#VALUE!"}}]
[null,{"$f":"Sprawdz_pesel(Formularz!#REF!)","v":{"$error":"#VALUE!"}}]
[null,{"$f":"Sprawdz_pesel(Formularz!#REF!)","v":{"$error":"#VALUE!"}}]
[null,{"$f":"Sprawdz_pesel(Formularz!#REF!)","v":{"$error":"#VALUE!"}}]
[null,{"$f":"Sprawdz_pesel(Formularz!#REF!)","v":{"$error":"#VALUE!"}}]
[null,{"$f":"Sprawdz_pesel(Formularz!#REF!)","v":{"$error":"#VALUE!"}}]
[null,{"$f":"Sprawdz_pesel(Formularz!#REF!)","v":{"$error":"#VALUE!"}}]
[null,{"$f":"Sprawdz_pesel(Formularz!#REF!)","v":{"$error":"#VALUE!"}}]
[null,{"$f":"Sprawdz_pesel(Formularz!#REF!)","v":{"$error":"#VALUE!"}}]
[null,{"$f":"Sprawdz_pesel(Formularz!#REF!)","v":{"$error":"#VALUE!"}}]
[null,{"$f":"Sprawdz_pesel(Formularz!#REF!)","v":{"$error":"#VALUE!"}}]
[null,{"$f":"Sprawdz_pesel(Formularz!#REF!)","v":{"$error":"#VALUE!"}}]
[null,{"$f":"Sprawdz_pesel(Formularz!#REF!)","v":{"$error":"#VALUE!"}}]
[null,{"$f":"Sprawdz_pesel(Formularz!#REF!)","v":{"$error":"#VALUE!"}}]
[null,{"$f":"Sprawdz_pesel(Formularz!#REF!)","v":{"$error":"#VALUE!"}}]
[null,{"$f":"Sprawdz_pesel(Formularz!#REF!)","v":{"$error":"#VALUE!"}}]
[null,{"$f":"Sprawdz_pesel(Formularz!#REF!)","v":{"$error":"#VALUE!"}}]
[null,{"$f":"Sprawdz_pesel(Formularz!#REF!)","v":{"$error":"#VALUE!"}}]
[null,{"$f":"Sprawdz_pesel(Formularz!#REF!)","v":{"$error":"#VALUE!"}}]
[null,{"$f":"Sprawdz_pesel(Formularz!#REF!)","v":{"$error":"#VALUE!"}}]
[null,{"$f":"Sprawdz_pesel(Formularz!#REF!)","v":{"$error":"#VALUE!"}}]
[null,{"$f":"Sprawdz_pesel(Formularz!#REF!)","v":{"$error":"#VALUE!"}}]
[null,{"$f":"Sprawdz_pesel(Formularz!#REF!)","v":{"$error":"#VALUE!"}}]
[null,{"$f":"Sprawdz_pesel(Formularz!#REF!)","v":{"$error":"#VALUE!"}}]
[null,{"$f":"Sprawdz_pesel(Formularz!#REF!)","v":{"$error":"#VALUE!"}}]
[null,{"$f":"Sprawdz_pesel(Formularz!#REF!)","v":{"$error":"#VALUE!"}}]
[null,{"$f":"Sprawdz_pesel(Formularz!#REF!)","v":{"$error":"#VALUE!"}}]
[null,{"$f":"Sprawdz_pesel(Formularz!#REF!)","v":{"$error":"#VALUE!"}}]
[null,{"$f":"Sprawdz_pesel(Formularz!#REF!)","v":{"$error":"#VALUE!"}}]
[null,{"$f":"Sprawdz_pesel(Formularz!#REF!)","v":{"$error":"#VALUE!"}}]
[null,{"$f":"Sprawdz_pesel(Formularz!#REF!)","v":{"$error":"#VALUE!"}}]
[null,{"$f":"Sprawdz_pesel(Formularz!#REF!)","v":{"$error":"#VALUE!"}}]
[null,{"$f":"Sprawdz_pesel(Formularz!#REF!)","v":{"$error":"#VALUE!"}}]
[null,{"$f":"Sprawdz_pesel(Formularz!#REF!)","v":{"$error":"#VALUE!"}}]
[null,{"$f":"Sprawdz_pesel(Formularz!#REF!)","v":{"$error":"#VALUE!"}}]
[null,{"$f":"Sprawdz_pesel(Formularz!#REF!)","v":{"$error":"#VALUE!"}}]
[null,{"$f":"Sprawdz_pesel(Formularz!#REF!)","v":{"$error":"#VALUE!"}}]
[null,{"$f":"Sprawdz_pesel(Formularz!#REF!)","v":{"$error":"#VALUE!"}}]
[null,{"$f":"Sprawdz_pesel(Formularz!#REF!)","v":{"$error":"#VALUE!"}}]
[null,{"$f":"Sprawdz_pesel(Formularz!#REF!)","v":{"$error":"#VALUE!"}}]
[null,{"$f":"Sprawdz_pesel(Formularz!#REF!)","v":{"$error":"#VALUE!"}}]
[null,{"$f":"Sprawdz_pesel(Formularz!#REF!)","v":{"$error":"#VALUE!"}}]
[null,{"$f":"Sprawdz_pesel(Formularz!#REF!)","v":{"$error":"#VALUE!"}}]
[null,{"$f":"Sprawdz_pesel(Formularz!#REF!)","v":{"$error":"#VALUE!"}}]
[null,{"$f":"Sprawdz_pesel(Formularz!#REF!)","v":{"$error":"#VALUE!"}}]
[null,{"$f":"Sprawdz_pesel(Formularz!#REF!)","v":{"$error":"#VALUE!"}}]
[null,{"$f":"Sprawdz_pesel(Formularz!#REF!)","v":{"$error":"#VALUE!"}}]
[null,{"$f":"Sprawdz_pesel(Formularz!#REF!)","v":{"$error":"#VALUE!"}}]
[null,{"$f":"Sprawdz_pesel(Formularz!#REF!)","v":{"$error":"#VALUE!"}}]
[null,{"$f":"Sprawdz_pesel(Formularz!#REF!)","v":{"$error":"#VALUE!"}}]
[null,{"$f":"Sprawdz_pesel(Formularz!#REF!)","v":{"$error":"#VALUE!"}}]
[null,{"$f":"Sprawdz_pesel(Formularz!#REF!)","v":{"$error":"#VALUE!"}}]
[null,{"$f":"Sprawdz_pesel(Formularz!#REF!)","v":{"$error":"#VALUE!"}}]
[null,{"$f":"Sprawdz_pesel(Formularz!#REF!)","v":{"$error":"#VALUE!"}}]
[null,{"$f":"Sprawdz_pesel(Formularz!#REF!)","v":{"$error":"#VALUE!"}}]
[null,{"$f":"Sprawdz_pesel(Formularz!#REF!)","v":{"$error":"#VALUE!"}}]
[null,{"$f":"Sprawdz_pesel(Formularz!#REF!)","v":{"$error":"#VALUE!"}}]
[null,{"$f":"Sprawdz_pesel(Formularz!#REF!)","v":{"$error":"#VALUE!"}}]
[null,{"$f":"Sprawdz_pesel(Formularz!#REF!)","v":{"$error":"#VALUE!"}}]
[null,{"$f":"Sprawdz_pesel(Formularz!#REF!)","v":{"$error":"#VALUE!"}}]
[null,{"$f":"Sprawdz_pesel(Formularz!#REF!)","v":{"$error":"#VALUE!"}}]
[null,{"$f":"Sprawdz_pesel(Formularz!#REF!)","v":{"$error":"#VALUE!"}}]
[null,{"$f":"Sprawdz_pesel(Formularz!#REF!)","v":{"$error":"#VALUE!"}}]
[null,{"$f":"Sprawdz_pesel(Formularz!#REF!)","v":{"$error":"#VALUE!"}}]
[null,{"$f":"Sprawdz_pesel(Formularz!#REF!)","v":{"$error":"#VALUE!"}}]
[null,{"$f":"Sprawdz_pesel(Formularz!#REF!)","v":{"$error":"#VALUE!"}}]
[null,{"$f":"Sprawdz_pesel(Formularz!#REF!)","v":{"$error":"#VALUE!"}}]
[null,{"$f":"Sprawdz_pesel(Formularz!#REF!)","v":{"$error":"#VALUE!"}}]
[null,{"$f":"Sprawdz_pesel(Formularz!#REF!)","v":{"$error":"#VALUE!"}}]
[null,{"$f":"Sprawdz_pesel(Formularz!#REF!)","v":{"$error":"#VALUE!"}}]
[null,{"$f":"Sprawdz_pesel(Formularz!#REF!)","v":{"$error":"#VALUE!"}}]
[null,{"$f":"Sprawdz_pesel(Formularz!#REF!)","v":{"$error":"#VALUE!"}}]
[null,{"$f":"Sprawdz_pesel(Formularz!#REF!)","v":{"$error":"#VALUE!"}}]
[null,{"$f":"Sprawdz_pesel(Formularz!#REF!)","v":{"$error":"#VALUE!"}}]
[null,{"$f":"Sprawdz_pesel(Formularz!#REF!)","v":{"$error":"#VALUE!"}}]
[null,{"$f":"Sprawdz_pesel(Formularz!#REF!)","v":{"$error":"#VALUE!"}}]
[null,{"$f":"Sprawdz_pesel(Formularz!#REF!)","v":{"$error":"#VALUE!"}}]
[null,{"$f":"Sprawdz_pesel(Formularz!#REF!)","v":{"$error":"#VALUE!"}}]
[null,{"$f":"Sprawdz_pesel(Formularz!#REF!)","v":{"$error":"#VALUE!"}}]
[null,{"$f":"Sprawdz_pesel(Formularz!#REF!)","v":{"$error":"#VALUE!"}}]
[null,{"$f":"Sprawdz_pesel(Formularz!#REF!)","v":{"$error":"#VALUE!"}}]
[null,{"$f":"Sprawdz_pesel(Formularz!#REF!)","v":{"$error":"#VALUE!"}}]
[null,{"$f":"Sprawdz_pesel(Formularz!#REF!)","v":{"$error":"#VALUE!"}}]
[null,{"$f":"Sprawdz_pesel(Formularz!#REF!)","v":{"$error":"#VALUE!"}}]
[null,{"$f":"Sprawdz_pesel(Formularz!#REF!)","v":{"$error":"#VALUE!"}}]
[null,{"$f":"Sprawdz_pesel(Formularz!#REF!)","v":{"$error":"#VALUE!"}}]
[null,{"$f":"Sprawdz_pesel(Formularz!#REF!)","v":{"$error":"#VALUE!"}}]
[null,{"$f":"Sprawdz_pesel(Formularz!#REF!)","v":{"$error":"#VALUE!"}}]
[null,{"$f":"Sprawdz_pesel(Formularz!#REF!)","v":{"$error":"#VALUE!"}}]
[null,{"$f":"Sprawdz_pesel(Formularz!#REF!)","v":{"$error":"#VALUE!"}}]
[null,{"$f":"Sprawdz_pesel(Formularz!#REF!)","v":{"$error":"#VALUE!"}}]
[null,{"$f":"Sprawdz_pesel(Formularz!#REF!)","v":{"$error":"#VALUE!"}}]
[null,{"$f":"Sprawdz_pesel(Formularz!#REF!)","v":{"$error":"#VALUE!"}}]
[null,{"$f":"Sprawdz_pesel(Formularz!#REF!)","v":{"$error":"#VALUE!"}}]
[null,{"$f":"Sprawdz_pesel(Formularz!#REF!)","v":{"$error":"#VALUE!"}}]
[null,{"$f":"Sprawdz_pesel(Formularz!#REF!)","v":{"$error":"#VALUE!"}}]
[null,{"$f":"Sprawdz_pesel(Formularz!#REF!)","v":{"$error":"#VALUE!"}}]
[null,{"$f":"Sprawdz_pesel(Formularz!#REF!)","v":{"$error":"#VALUE!"}}]
[null,{"$f":"Sprawdz_pesel(Formularz!#REF!)","v":{"$error":"#VALUE!"}}]
[null,{"$f":"Sprawdz_pesel(Formularz!#REF!)","v":{"$error":"#VALUE!"}}]
[null,{"$f":"Sprawdz_pesel(Formularz!#REF!)","v":{"$error":"#VALUE!"}}]
[null,{"$f":"Sprawdz_pesel(Formularz!#REF!)","v":{"$error":"#VALUE!"}}]
[null,{"$f":"Sprawdz_pesel(Formularz!#REF!)","v":{"$error":"#VALUE!"}}]
[null,{"$f":"Sprawdz_pesel(Formularz!#REF!)","v":{"$error":"#VALUE!"}}]
[null,{"$f":"Sprawdz_pesel(Formularz!#REF!)","v":{"$error":"#VALUE!"}}]
[null,{"$f":"Sprawdz_pesel(Formularz!#REF!)","v":{"$error":"#VALUE!"}}]
[null,{"$f":"Sprawdz_pesel(Formularz!#REF!)","v":{"$error":"#VALUE!"}}]
[null,{"$f":"Sprawdz_pesel(Formularz!#REF!)","v":{"$error":"#VALUE!"}}]
[null,{"$f":"Sprawdz_pesel(Formularz!#REF!)","v":{"$error":"#VALUE!"}}]
[null,{"$f":"Sprawdz_pesel(Formularz!#REF!)","v":{"$error":"#VALUE!"}}]
[null,{"$f":"Sprawdz_pesel(Formularz!#REF!)","v":{"$error":"#VALUE!"}}]
[null,{"$f":"Sprawdz_pesel(Formularz!#REF!)","v":{"$error":"#VALUE!"}}]
[null,{"$f":"Sprawdz_pesel(Formularz!#REF!)","v":{"$error":"#VALUE!"}}]
[null,{"$f":"Sprawdz_pesel(Formularz!#REF!)","v":{"$error":"#VALUE!"}}]
[null,{"$f":"Sprawdz_pesel(Formularz!#REF!)","v":{"$error":"#VALUE!"}}]
[null,{"$f":"Sprawdz_pesel(Formularz!#REF!)","v":{"$error":"#VALUE!"}}]
[null,{"$f":"Sprawdz_pesel(Formularz!#REF!)","v":{"$error":"#VALUE!"}}]
[null,{"$f":"Sprawdz_pesel(Formularz!#REF!)","v":{"$error":"#VALUE!"}}]
[null,{"$f":"Sprawdz_pesel(Formularz!#REF!)","v":{"$error":"#VALUE!"}}]
[null,{"$f":"Sprawdz_pesel(Formularz!#REF!)","v":{"$error":"#VALUE!"}}]
[null,{"$f":"Sprawdz_pesel(Formularz!#REF!)","v":{"$error":"#VALUE!"}}]
[null,{"$f":"Sprawdz_pesel(Formularz!#REF!)","v":{"$error":"#VALUE!"}}]
[null,{"$f":"Sprawdz_pesel(Formularz!#REF!)","v":{"$error":"#VALUE!"}}]
[null,{"$f":"Sprawdz_pesel(Formularz!#REF!)","v":{"$error":"#VALUE!"}}]
[null,{"$f":"Sprawdz_pesel(Formularz!#REF!)","v":{"$error":"#VALUE!"}}]
[null,{"$f":"Sprawdz_pesel(Formularz!#REF!)","v":{"$error":"#VALUE!"}}]
[null,{"$f":"Sprawdz_pesel(Formularz!#REF!)","v":{"$error":"#VALUE!"}}]
[null,{"$f":"Sprawdz_pesel(Formularz!#REF!)","v":{"$error":"#VALUE!"}}]
[null,{"$f":"Sprawdz_pesel(Formularz!#REF!)","v":{"$error":"#VALUE!"}}]
[null,{"$f":"Sprawdz_pesel(Formularz!#REF!)","v":{"$error":"#VALUE!"}}]
[null,{"$f":"Sprawdz_pesel(Formularz!#REF!)","v":{"$error":"#VALUE!"}}]
[null,{"$f":"Sprawdz_pesel(Formularz!#REF!)","v":{"$error":"#VALUE!"}}]
[null,{"$f":"Sprawdz_pesel(Formularz!#REF!)","v":{"$error":"#VALUE!"}}]
[null,{"$f":"Sprawdz_pesel(Formularz!#REF!)","v":{"$error":"#VALUE!"}}]
[null,{"$f":"Sprawdz_pesel(Formularz!#REF!)","v":{"$error":"#VALUE!"}}]
[null,{"$f":"Sprawdz_pesel(Formularz!#REF!)","v":{"$error":"#VALUE!"}}]
[null,{"$f":"Sprawdz_pesel(Formularz!#REF!)","v":{"$error":"#VALUE!"}}]
[null,{"$f":"Sprawdz_pesel(Formularz!#REF!)","v":{"$error":"#VALUE!"}}]
[null,{"$f":"Sprawdz_pesel(Formularz!#REF!)","v":{"$error":"#VALUE!"}}]
[null,{"$f":"Sprawdz_pesel(Formularz!#REF!)","v":{"$error":"#VALUE!"}}]
[null,{"$f":"Sprawdz_pesel(Formularz!#REF!)","v":{"$error":"#VALUE!"}}]
[null,{"$f":"Sprawdz_pesel(Formularz!#REF!)","v":{"$error":"#VALUE!"}}]
[null,{"$f":"Sprawdz_pesel(Formularz!#REF!)","v":{"$error":"#VALUE!"}}]
[null,{"$f":"Sprawdz_pesel(Formularz!#REF!)","v":{"$error":"#VALUE!"}}]
[null,{"$f":"Sprawdz_pesel(Formularz!#REF!)","v":{"$error":"#VALUE!"}}]
[null,{"$f":"Sprawdz_pesel(Formularz!#REF!)","v":{"$error":"#VALUE!"}}]
[null,{"$f":"Sprawdz_pesel(Formularz!#REF!)","v":{"$error":"#VALUE!"}}]
[null,{"$f":"Sprawdz_pesel(Formularz!#REF!)","v":{"$error":"#VALUE!"}}]
[null,{"$f":"Sprawdz_pesel(Formularz!#REF!)","v":{"$error":"#VALUE!"}}]
[null,{"$f":"Sprawdz_pesel(Formularz!#REF!)","v":{"$error":"#VALUE!"}}]
[null,{"$f":"Sprawdz_pesel(Formularz!#REF!)","v":{"$error":"#VALUE!"}}]
[null,{"$f":"Sprawdz_pesel(Formularz!#REF!)","v":{"$error":"#VALUE!"}}]
[null,{"$f":"Sprawdz_pesel(Formularz!#REF!)","v":{"$error":"#VALUE!"}}]
[null,{"$f":"Sprawdz_pesel(Formularz!#REF!)","v":{"$error":"#VALUE!"}}]
[null,{"$f":"Sprawdz_pesel(Formularz!#REF!)","v":{"$error":"#VALUE!"}}]
[null,{"$f":"Sprawdz_pesel(Formularz!#REF!)","v":{"$error":"#VALUE!"}}]
[null,{"$f":"Sprawdz_pesel(Formularz!#REF!)","v":{"$error":"#VALUE!"}}]
[null,{"$f":"Sprawdz_pesel(Formularz!#REF!)","v":{"$error":"#VALUE!"}}]
[null,{"$f":"Sprawdz_pesel(Formularz!#REF!)","v":{"$error":"#VALUE!"}}]
[null,{"$f":"Sprawdz_pesel(Formularz!#REF!)","v":{"$error":"#VALUE!"}}]
[null,{"$f":"Sprawdz_pesel(Formularz!#REF!)","v":{"$error":"#VALUE!"}}]
[null,{"$f":"Sprawdz_pesel(Formularz!#REF!)","v":{"$error":"#VALUE!"}}]
[null,{"$f":"Sprawdz_pesel(Formularz!#REF!)","v":{"$error":"#VALUE!"}}]
[null,{"$f":"Sprawdz_pesel(Formularz!#REF!)","v":{"$error":"#VALUE!"}}]
[null,{"$f":"Sprawdz_pesel(Formularz!#REF!)","v":{"$error":"#VALUE!"}}]
[null,{"$f":"Sprawdz_pesel(Formularz!#REF!)","v":{"$error":"#VALUE!"}}]
[null,{"$f":"Sprawdz_pesel(Formularz!#REF!)","v":{"$error":"#VALUE!"}}]
[null,{"$f":"Sprawdz_pesel(Formularz!#REF!)","v":{"$error":"#VALUE!"}}]
[null,{"$f":"Sprawdz_pesel(Formularz!#REF!)","v":{"$error":"#VALUE!"}}]
[null,{"$f":"Sprawdz_pesel(Formularz!#REF!)","v":{"$error":"#VALUE!"}}]
[null,{"$f":"Sprawdz_pesel(Formularz!#REF!)","v":{"$error":"#VALUE!"}}]
[null,{"$f":"Sprawdz_pesel(Formularz!#REF!)","v":{"$error":"#VALUE!"}}]
[null,{"$f":"Sprawdz_pesel(Formularz!#REF!)","v":{"$error":"#VALUE!"}}]
[null,{"$f":"Sprawdz_pesel(Formularz!#REF!)","v":{"$error":"#VALUE!"}}]
[null,{"$f":"Sprawdz_pesel(Formularz!#REF!)","v":{"$error":"#VALUE!"}}]
[null,{"$f":"Sprawdz_pesel(Formularz!#REF!)","v":{"$error":"#VALUE!"}}]
[null,{"$f":"Sprawdz_pesel(Formularz!#REF!)","v":{"$error":"#VALUE!"}}]
[null,{"$f":"Sprawdz_pesel(Formularz!#REF!)","v":{"$error":"#VALUE!"}}]
[null,{"$f":"Sprawdz_pesel(Formularz!#REF!)","v":{"$error":"#VALUE!"}}]
[null,{"$f":"Sprawdz_pesel(Formularz!#REF!)","v":{"$error":"#VALUE!"}}]
[null,{"$f":"Sprawdz_pesel(Formularz!#REF!)","v":{"$error":"#VALUE!"}}]
[null,{"$f":"Sprawdz_pesel(Formularz!#REF!)","v":{"$error":"#VALUE!"}}]
[null,{"$f":"Sprawdz_pesel(Formularz!#REF!)","v":{"$error":"#VALUE!"}}]
[null,{"$f":"Sprawdz_pesel(Formularz!#REF!)","v":{"$error":"#VALUE!"}}]
[null,{"$f":"Sprawdz_pesel(Formularz!#REF!)","v":{"$error":"#VALUE!"}}]
[null,{"$f":"Sprawdz_pesel(Formularz!#REF!)","v":{"$error":"#VALUE!"}}]
[null,{"$f":"Sprawdz_pesel(Formularz!#REF!)","v":{"$error":"#VALUE!"}}]
[null,{"$f":"Sprawdz_pesel(Formularz!#REF!)","v":{"$error":"#VALUE!"}}]
[null,{"$f":"Sprawdz_pesel(Formularz!#REF!)","v":{"$error":"#VALUE!"}}]
[null,{"$f":"Sprawdz_pesel(Formularz!#REF!)","v":{"$error":"#VALUE!"}}]
[null,{"$f":"Sprawdz_pesel(Formularz!#REF!)","v":{"$error":"#VALUE!"}}]
[null,{"$f":"Sprawdz_pesel(Formularz!#REF!)","v":{"$error":"#VALUE!"}}]
[null,{"$f":"Sprawdz_pesel(Formularz!#REF!)","v":{"$error":"#VALUE!"}}]
[null,{"$f":"Sprawdz_pesel(Formularz!#REF!)","v":{"$error":"#VALUE!"}}]
[null,{"$f":"Sprawdz_pesel(Formularz!#REF!)","v":{"$error":"#VALUE!"}}]
[null,{"$f":"Sprawdz_pesel(Formularz!#REF!)","v":{"$error":"#VALUE!"}}]
[null,{"$f":"Sprawdz_pesel(Formularz!#REF!)","v":{"$error":"#VALUE!"}}]
[null,{"$f":"Sprawdz_pesel(Formularz!#REF!)","v":{"$error":"#VALUE!"}}]
[null,{"$f":"Sprawdz_pesel(Formularz!#REF!)","v":{"$error":"#VALUE!"}}]
[null,{"$f":"Sprawdz_pesel(Formularz!#REF!)","v":{"$error":"#VALUE!"}}]
[null,{"$f":"Sprawdz_pesel(Formularz!#REF!)","v":{"$error":"#VALUE!"}}]
[null,{"$f":"Sprawdz_pesel(Formularz!#REF!)","v":{"$error":"#VALUE!"}}]
[null,{"$f":"Sprawdz_pesel(Formularz!#REF!)","v":{"$error":"#VALUE!"}}]
[null,{"$f":"Sprawdz_pesel(Formularz!#REF!)","v":{"$error":"#VALUE!"}}]
[null,{"$f":"Sprawdz_pesel(Formularz!#REF!)","v":{"$error":"#VALUE!"}}]
[null,{"$f":"Sprawdz_pesel(Formularz!#REF!)","v":{"$error":"#VALUE!"}}]
[null,{"$f":"Sprawdz_pesel(Formularz!#REF!)","v":{"$error":"#VALUE!"}}]
[null,{"$f":"Sprawdz_pesel(Formularz!#REF!)","v":{"$error":"#VALUE!"}}]
[null,{"$f":"Sprawdz_pesel(Formularz!#REF!)","v":{"$error":"#VALUE!"}}]
[null,{"$f":"Sprawdz_pesel(Formularz!#REF!)","v":{"$error":"#VALUE!"}}]
[null,{"$f":"Sprawdz_pesel(Formularz!#REF!)","v":{"$error":"#VALUE!"}}]
[null,{"$f":"Sprawdz_pesel(Formularz!#REF!)","v":{"$error":"#VALUE!"}}]
[null,{"$f":"Sprawdz_pesel(Formularz!#REF!)","v":{"$error":"#VALUE!"}}]
[null,{"$f":"Sprawdz_pesel(Formularz!#REF!)","v":{"$error":"#VALUE!"}}]
[null,{"$f":"Sprawdz_pesel(Formularz!#REF!)","v":{"$error":"#VALUE!"}}]
[null,{"$f":"Sprawdz_pesel(Formularz!#REF!)","v":{"$error":"#VALUE!"}}]
[null,{"$f":"Sprawdz_pesel(Formularz!#REF!)","v":{"$error":"#VALUE!"}}]
[null,{"$f":"Sprawdz_pesel(Formularz!#REF!)","v":{"$error":"#VALUE!"}}]
[null,{"$f":"Sprawdz_pesel(Formularz!#REF!)","v":{"$error":"#VALUE!"}}]
[null,{"$f":"Sprawdz_pesel(Formularz!#REF!)","v":{"$error":"#VALUE!"}}]
[null,{"$f":"Sprawdz_pesel(Formularz!#REF!)","v":{"$error":"#VALUE!"}}]
[null,{"$f":"Sprawdz_pesel(Formularz!#REF!)","v":{"$error":"#VALUE!"}}]
[null,{"$f":"Sprawdz_pesel(Formularz!#REF!)","v":{"$error":"#VALUE!"}}]
[null,{"$f":"Sprawdz_pesel(Formularz!#REF!)","v":{"$error":"#VALUE!"}}]
[null,{"$f":"Sprawdz_pesel(Formularz!#REF!)","v":{"$error":"#VALUE!"}}]
[null,{"$f":"Sprawdz_pesel(Formularz!#REF!)","v":{"$error":"#VALUE!"}}]
[null,{"$f":"Sprawdz_pesel(Formularz!#REF!)","v":{"$error":"#VALUE!"}}]
[null,{"$f":"Sprawdz_pesel(Formularz!#REF!)","v":{"$error":"#VALUE!"}}]
[null,{"$f":"Sprawdz_pesel(Formularz!#REF!)","v":{"$error":"#VALUE!"}}]
[null,{"$f":"Sprawdz_pesel(Formularz!#REF!)","v":{"$error":"#VALUE!"}}]
[null,{"$f":"Sprawdz_pesel(Formularz!#REF!)","v":{"$error":"#VALUE!"}}]
[null,{"$f":"Sprawdz_pesel(Formularz!#REF!)","v":{"$error":"#VALUE!"}}]
[null,{"$f":"Sprawdz_pesel(Formularz!#REF!)","v":{"$error":"#VALUE!"}}]
[null,{"$f":"Sprawdz_pesel(Formularz!#REF!)","v":{"$error":"#VALUE!"}}]
[null,{"$f":"Sprawdz_pesel(Formularz!#REF!)","v":{"$error":"#VALUE!"}}]
[null,{"$f":"Sprawdz_pesel(Formularz!#REF!)","v":{"$error":"#VALUE!"}}]
[null,{"$f":"Sprawdz_pesel(Formularz!#REF!)","v":{"$error":"#VALUE!"}}]
[null,{"$f":"Sprawdz_pesel(Formularz!#REF!)","v":{"$error":"#VALUE!"}}]
[null,{"$f":"Sprawdz_pesel(Formularz!#REF!)","v":{"$error":"#VALUE!"}}]
[null,{"$f":"Sprawdz_pesel(Formularz!#REF!)","v":{"$error":"#VALUE!"}}]
[null,{"$f":"Sprawdz_pesel(Formularz!#REF!)","v":{"$error":"#VALUE!"}}]
[null,{"$f":"Sprawdz_pesel(Formularz!#REF!)","v":{"$error":"#VALUE!"}}]
[null,{"$f":"Sprawdz_pesel(Formularz!#REF!)","v":{"$error":"#VALUE!"}}]
[null,{"$f":"Sprawdz_pesel(Formularz!#REF!)","v":{"$error":"#VALUE!"}}]
[null,{"$f":"Sprawdz_pesel(Formularz!#REF!)","v":{"$error":"#VALUE!"}}]
[null,{"$f":"Sprawdz_pesel(Formularz!#REF!)","v":{"$error":"#VALUE!"}}]
[null,{"$f":"Sprawdz_pesel(Formularz!#REF!)","v":{"$error":"#VALUE!"}}]
[null,{"$f":"Sprawdz_pesel(Formularz!#REF!)","v":{"$error":"#VALUE!"}}]
[null,{"$f":"Sprawdz_pesel(Formularz!#REF!)","v":{"$error":"#VALUE!"}}]
[null,{"$f":"Sprawdz_pesel(Formularz!#REF!)","v":{"$error":"#VALUE!"}}]
[null,{"$f":"Sprawdz_pesel(Formularz!#REF!)","v":{"$error":"#VALUE!"}}]
[null,{"$f":"Sprawdz_pesel(Formularz!#REF!)","v":{"$error":"#VALUE!"}}]
[null,{"$f":"Sprawdz_pesel(Formularz!#REF!)","v":{"$error":"#VALUE!"}}]
[null,{"$f":"Sprawdz_pesel(Formularz!#REF!)","v":{"$error":"#VALUE!"}}]
[null,{"$f":"Sprawdz_pesel(Formularz!#REF!)","v":{"$error":"#VALUE!"}}]
[null,{"$f":"Sprawdz_pesel(Formularz!#REF!)","v":{"$error":"#VALUE!"}}]
[null,{"$f":"Sprawdz_pesel(Formularz!#REF!)","v":{"$error":"#VALUE!"}}]
[null,{"$f":"Sprawdz_pesel(Formularz!#REF!)","v":{"$error":"#VALUE!"}}]
[null,{"$f":"Sprawdz_pesel(Formularz!#REF!)","v":{"$error":"#VALUE!"}}]
[null,{"$f":"Sprawdz_pesel(Formularz!#REF!)","v":{"$error":"#VALUE!"}}]
[null,{"$f":"Sprawdz_pesel(Formularz!#REF!)","v":{"$error":"#VALUE!"}}]
[null,{"$f":"Sprawdz_pesel(Formularz!#REF!)","v":{"$error":"#VALUE!"}}]
[null,{"$f":"Sprawdz_pesel(Formularz!#REF!)","v":{"$error":"#VALUE!"}}]
[null,{"$f":"Sprawdz_pesel(Formularz!#REF!)","v":{"$error":"#VALUE!"}}]
[null,{"$f":"Sprawdz_pesel(Formularz!#REF!)","v":{"$error":"#VALUE!"}}]
[null,{"$f":"Sprawdz_pesel(Formularz!#REF!)","v":{"$error":"#VALUE!"}}]
[null,{"$f":"Sprawdz_pesel(Formularz!#REF!)","v":{"$error":"#VALUE!"}}]
[null,{"$f":"Sprawdz_pesel(Formularz!#REF!)","v":{"$error":"#VALUE!"}}]
[null,{"$f":"Sprawdz_pesel(Formularz!#REF!)","v":{"$error":"#VALUE!"}}]
[null,{"$f":"Sprawdz_pesel(Formularz!#REF!)","v":{"$error":"#VALUE!"}}]
[null,{"$f":"Sprawdz_pesel(Formularz!#REF!)","v":{"$error":"#VALUE!"}}]
[null,{"$f":"Sprawdz_pesel(Formularz!#REF!)","v":{"$error":"#VALUE!"}}]
[null,{"$f":"Sprawdz_pesel(Formularz!#REF!)","v":{"$error":"#VALUE!"}}]
[null,{"$f":"Sprawdz_pesel(Formularz!#REF!)","v":{"$error":"#VALUE!"}}]
[null,{"$f":"Sprawdz_pesel(Formularz!#REF!)","v":{"$error":"#VALUE!"}}]
[null,{"$f":"Sprawdz_pesel(Formularz!#REF!)","v":{"$error":"#VALUE!"}}]
[null,{"$f":"Sprawdz_pesel(Formularz!#REF!)","v":{"$error":"#VALUE!"}}]
[null,{"$f":"Sprawdz_pesel(Formularz!#REF!)","v":{"$error":"#VALUE!"}}]
[null,{"$f":"Sprawdz_pesel(Formularz!#REF!)","v":{"$error":"#VALUE!"}}]
[null,{"$f":"Sprawdz_pesel(Formularz!#REF!)","v":{"$error":"#VALUE!"}}]
[null,{"$f":"Sprawdz_pesel(Formularz!#REF!)","v":{"$error":"#VALUE!"}}]
[null,{"$f":"Sprawdz_pesel(Formularz!#REF!)","v":{"$error":"#VALUE!"}}]
[null,{"$f":"Sprawdz_pesel(Formularz!#REF!)","v":{"$error":"#VALUE!"}}]
[null,{"$f":"Sprawdz_pesel(Formularz!#REF!)","v":{"$error":"#VALUE!"}}]
[null,{"$f":"Sprawdz_pesel(Formularz!#REF!)","v":{"$error":"#VALUE!"}}]
[null,{"$f":"Sprawdz_pesel(Formularz!#REF!)","v":{"$error":"#VALUE!"}}]
[null,{"$f":"Sprawdz_pesel(Formularz!#REF!)","v":{"$error":"#VALUE!"}}]
[null,{"$f":"Sprawdz_pesel(Formularz!#REF!)","v":{"$error":"#VALUE!"}}]
[null,{"$f":"Sprawdz_pesel(Formularz!#REF!)","v":{"$error":"#VALUE!"}}]
[null,{"$f":"Sprawdz_pesel(Formularz!#REF!)","v":{"$error":"#VALUE!"}}]
[null,{"$f":"Sprawdz_pesel(Formularz!#REF!)","v":{"$error":"#VALUE!"}}]
[null,{"$f":"Sprawdz_pesel(Formularz!#REF!)","v":{"$error":"#VALUE!"}}]
[null,{"$f":"Sprawdz_pesel(Formularz!#REF!)","v":{"$error":"#VALUE!"}}]
[null,{"$f":"Sprawdz_pesel(Formularz!#REF!)","v":{"$error":"#VALUE!"}}]
[null,{"$f":"Sprawdz_pesel(Formularz!#REF!)","v":{"$error":"#VALUE!"}}]
[null,{"$f":"Sprawdz_pesel(Formularz!#REF!)","v":{"$error":"#VALUE!"}}]
[null,{"$f":"Sprawdz_pesel(Formularz!#REF!)","v":{"$error":"#VALUE!"}}]
[null,{"$f":"Sprawdz_pesel(Formularz!#REF!)","v":{"$error":"#VALUE!"}}]
[null,{"$f":"Sprawdz_pesel(Formularz!#REF!)","v":{"$error":"#VALUE!"}}]
[null,{"$f":"Sprawdz_pesel(Formularz!#REF!)","v":{"$error":"#VALUE!"}}]
[null,{"$f":"Sprawdz_pesel(Formularz!#REF!)","v":{"$error":"#VALUE!"}}]
[null,{"$f":"Sprawdz_pesel(Formularz!#REF!)","v":{"$error":"#VALUE!"}}]
[null,{"$f":"Sprawdz_pesel(Formularz!#REF!)","v":{"$error":"#VALUE!"}}]
[null,{"$f":"Sprawdz_pesel(Formularz!#REF!)","v":{"$error":"#VALUE!"}}]
[null,{"$f":"Sprawdz_pesel(Formularz!#REF!)","v":{"$error":"#VALUE!"}}]
[null,{"$f":"Sprawdz_pesel(Formularz!#REF!)","v":{"$error":"#VALUE!"}}]
[null,{"$f":"Sprawdz_pesel(Formularz!#REF!)","v":{"$error":"#VALUE!"}}]
[null,{"$f":"Sprawdz_pesel(Formularz!#REF!)","v":{"$error":"#VALUE!"}}]
[null,{"$f":"Sprawdz_pesel(Formularz!#REF!)","v":{"$error":"#VALUE!"}}]
[null,{"$f":"Sprawdz_pesel(Formularz!#REF!)","v":{"$error":"#VALUE!"}}]
[null,{"$f":"Sprawdz_pesel(Formularz!#REF!)","v":{"$error":"#VALUE!"}}]
[null,{"$f":"Sprawdz_pesel(Formularz!#REF!)","v":{"$error":"#VALUE!"}}]
[null,{"$f":"Sprawdz_pesel(Formularz!#REF!)","v":{"$error":"#VALUE!"}}]
[null,{"$f":"Sprawdz_pesel(Formularz!#REF!)","v":{"$error":"#VALUE!"}}]
[null,{"$f":"Sprawdz_pesel(Formularz!#REF!)","v":{"$error":"#VALUE!"}}]
[null,{"$f":"Sprawdz_pesel(Formularz!#REF!)","v":{"$error":"#VALUE!"}}]
[null,{"$f":"Sprawdz_pesel(Formularz!#REF!)","v":{"$error":"#VALUE!"}}]
[null,{"$f":"Sprawdz_pesel(Formularz!#REF!)","v":{"$error":"#VALUE!"}}]
[null,{"$f":"Sprawdz_pesel(Formularz!#REF!)","v":{"$error":"#VALUE!"}}]
[null,{"$f":"Sprawdz_pesel(Formularz!#REF!)","v":{"$error":"#VALUE!"}}]
[null,{"$f":"Sprawdz_pesel(Formularz!#REF!)","v":{"$error":"#VALUE!"}}]
[null,{"$f":"Sprawdz_pesel(Formularz!#REF!)","v":{"$error":"#VALUE!"}}]
[null,{"$f":"Sprawdz_pesel(Formularz!#REF!)","v":{"$error":"#VALUE!"}}]
[null,{"$f":"Sprawdz_pesel(Formularz!#REF!)","v":{"$error":"#VALUE!"}}]
[null,{"$f":"Sprawdz_pesel(Formularz!#REF!)","v":{"$error":"#VALUE!"}}]
[null,{"$f":"Sprawdz_pesel(Formularz!#REF!)","v":{"$error":"#VALUE!"}}]
[null,{"$f":"Sprawdz_pesel(Formularz!#REF!)","v":{"$error":"#VALUE!"}}]
[null,{"$f":"Sprawdz_pesel(Formularz!#REF!)","v":{"$error":"#VALUE!"}}]
[null,{"$f":"Sprawdz_pesel(Formularz!#REF!)","v":{"$error":"#VALUE!"}}]
[null,{"$f":"Sprawdz_pesel(Formularz!#REF!)","v":{"$error":"#VALUE!"}}]
[null,{"$f":"Sprawdz_pesel(Formularz!#REF!)","v":{"$error":"#VALUE!"}}]
[null,{"$f":"Sprawdz_pesel(Formularz!#REF!)","v":{"$error":"#VALUE!"}}]
[null,{"$f":"Sprawdz_pesel(Formularz!#REF!)","v":{"$error":"#VALUE!"}}]
[null,{"$f":"Sprawdz_pesel(Formularz!#REF!)","v":{"$error":"#VALUE!"}}]
[null,{"$f":"Sprawdz_pesel(Formularz!#REF!)","v":{"$error":"#VALUE!"}}]
[null,{"$f":"Sprawdz_pesel(Formularz!#REF!)","v":{"$error":"#VALUE!"}}]
[null,{"$f":"Sprawdz_pesel(Formularz!#REF!)","v":{"$error":"#VALUE!"}}]
[null,{"$f":"Sprawdz_pesel(Formularz!#REF!)","v":{"$error":"#VALUE!"}}]
[null,{"$f":"Sprawdz_pesel(Formularz!#REF!)","v":{"$error":"#VALUE!"}}]
[null,{"$f":"Sprawdz_pesel(Formularz!#REF!)","v":{"$error":"#VALUE!"}}]
[null,{"$f":"Sprawdz_pesel(Formularz!#REF!)","v":{"$error":"#VALUE!"}}]
[null,{"$f":"Sprawdz_pesel(Formularz!#REF!)","v":{"$error":"#VALUE!"}}]
[null,{"$f":"Sprawdz_pesel(Formularz!#REF!)","v":{"$error":"#VALUE!"}}]
[null,{"$f":"Sprawdz_pesel(Formularz!#REF!)","v":{"$error":"#VALUE!"}}]
[null,{"$f":"Sprawdz_pesel(Formularz!#REF!)","v":{"$error":"#VALUE!"}}]
[null,{"$f":"Sprawdz_pesel(Formularz!#REF!)","v":{"$error":"#VALUE!"}}]
[null,{"$f":"Sprawdz_pesel(Formularz!#REF!)","v":{"$error":"#VALUE!"}}]
[null,{"$f":"Sprawdz_pesel(Formularz!#REF!)","v":{"$error":"#VALUE!"}}]
[null,{"$f":"Sprawdz_pesel(Formularz!#REF!)","v":{"$error":"#VALUE!"}}]
[null,{"$f":"Sprawdz_pesel(Formularz!#REF!)","v":{"$error":"#VALUE!"}}]
[null,{"$f":"Sprawdz_pesel(Formularz!#REF!)","v":{"$error":"#VALUE!"}}]
[null,{"$f":"Sprawdz_pesel(Formularz!#REF!)","v":{"$error":"#VALUE!"}}]
[null,{"$f":"Sprawdz_pesel(Formularz!#REF!)","v":{"$error":"#VALUE!"}}]
[null,{"$f":"Sprawdz_pesel(Formularz!#REF!)","v":{"$error":"#VALUE!"}}]
[null,{"$f":"Sprawdz_pesel(Formularz!#REF!)","v":{"$error":"#VALUE!"}}]
[null,{"$f":"Sprawdz_pesel(Formularz!#REF!)","v":{"$error":"#VALUE!"}}]
[null,{"$f":"Sprawdz_pesel(Formularz!#REF!)","v":{"$error":"#VALUE!"}}]
[null,{"$f":"Sprawdz_pesel(Formularz!#REF!)","v":{"$error":"#VALUE!"}}]
[null,{"$f":"Sprawdz_pesel(Formularz!#REF!)","v":{"$error":"#VALUE!"}}]
[null,{"$f":"Sprawdz_pesel(Formularz!#REF!)","v":{"$error":"#VALUE!"}}]
[null,{"$f":"Sprawdz_pesel(Formularz!#REF!)","v":{"$error":"#VALUE!"}}]
[null,{"$f":"Sprawdz_pesel(Formularz!#REF!)","v":{"$error":"#VALUE!"}}]
[null,{"$f":"Sprawdz_pesel(Formularz!#REF!)","v":{"$error":"#VALUE!"}}]
[null,{"$f":"Sprawdz_pesel(Formularz!#REF!)","v":{"$error":"#VALUE!"}}]
[null,{"$f":"Sprawdz_pesel(Formularz!#REF!)","v":{"$error":"#VALUE!"}}]
[null,{"$f":"Sprawdz_pesel(Formularz!#REF!)","v":{"$error":"#VALUE!"}}]
[null,{"$f":"Sprawdz_pesel(Formularz!#REF!)","v":{"$error":"#VALUE!"}}]
[null,{"$f":"Sprawdz_pesel(Formularz!#REF!)","v":{"$error":"#VALUE!"}}]
[null,{"$f":"Sprawdz_pesel(Formularz!#REF!)","v":{"$error":"#VALUE!"}}]
[null,{"$f":"Sprawdz_pesel(Formularz!#REF!)","v":{"$error":"#VALUE!"}}]
[null,{"$f":"Sprawdz_pesel(Formularz!#REF!)","v":{"$error":"#VALUE!"}}]
[null,{"$f":"Sprawdz_pesel(Formularz!#REF!)","v":{"$error":"#VALUE!"}}]
[null,{"$f":"Sprawdz_pesel(Formularz!#REF!)","v":{"$error":"#VALUE!"}}]
[null,{"$f":"Sprawdz_pesel(Formularz!#REF!)","v":{"$error":"#VALUE!"}}]
[null,{"$f":"Sprawdz_pesel(Formularz!#REF!)","v":{"$error":"#VALUE!"}}]
[null,{"$f":"Sprawdz_pesel(Formularz!#REF!)","v":{"$error":"#VALUE!"}}]
[null,{"$f":"Sprawdz_pesel(Formularz!#REF!)","v":{"$error":"#VALUE!"}}]
[null,{"$f":"Sprawdz_pesel(Formularz!#REF!)","v":{"$error":"#VALUE!"}}]
[null,{"$f":"Sprawdz_pesel(Formularz!#REF!)","v":{"$error":"#VALUE!"}}]
[null,{"$f":"Sprawdz_pesel(Formularz!#REF!)","v":{"$error":"#VALUE!"}}]
[null,{"$f":"Sprawdz_pesel(Formularz!#REF!)","v":{"$error":"#VALUE!"}}]
[null,{"$f":"Sprawdz_pesel(Formularz!#REF!)","v":{"$error":"#VALUE!"}}]
[null,{"$f":"Sprawdz_pesel(Formularz!#REF!)","v":{"$error":"#VALUE!"}}]
[null,{"$f":"Sprawdz_pesel(Formularz!#REF!)","v":{"$error":"#VALUE!"}}]
[null,{"$f":"Sprawdz_pesel(Formularz!#REF!)","v":{"$error":"#VALUE!"}}]
[null,{"$f":"Sprawdz_pesel(Formularz!#REF!)","v":{"$error":"#VALUE!"}}]
[null,{"$f":"Sprawdz_pesel(Formularz!#REF!)","v":{"$error":"#VALUE!"}}]
[null,{"$f":"Sprawdz_pesel(Formularz!#REF!)","v":{"$error":"#VALUE!"}}]
[null,{"$f":"Sprawdz_pesel(Formularz!#REF!)","v":{"$error":"#VALUE!"}}]
[null,{"$f":"Sprawdz_pesel(Formularz!#REF!)","v":{"$error":"#VALUE!"}}]
[null,{"$f":"Sprawdz_pesel(Formularz!#REF!)","v":{"$error":"#VALUE!"}}]
[null,{"$f":"Sprawdz_pesel(Formularz!#REF!)","v":{"$error":"#VALUE!"}}]
[null,{"$f":"Sprawdz_pesel(Formularz!#REF!)","v":{"$error":"#VALUE!"}}]
[null,{"$f":"Sprawdz_pesel(Formularz!#REF!)","v":{"$error":"#VALUE!"}}]
[null,{"$f":"Sprawdz_pesel(Formularz!#REF!)","v":{"$error":"#VALUE!"}}]
[null,{"$f":"Sprawdz_pesel(Formularz!#REF!)","v":{"$error":"#VALUE!"}}]
[null,{"$f":"Sprawdz_pesel(Formularz!#REF!)","v":{"$error":"#VALUE!"}}]
[null,{"$f":"Sprawdz_pesel(Formularz!#REF!)","v":{"$error":"#VALUE!"}}]
[null,{"$f":"Sprawdz_pesel(Formularz!#REF!)","v":{"$error":"#VALUE!"}}]
[null,{"$f":"Sprawdz_pesel(Formularz!#REF!)","v":{"$error":"#VALUE!"}}]
[null,{"$f":"Sprawdz_pesel(Formularz!#REF!)","v":{"$error":"#VALUE!"}}]
[null,{"$f":"Sprawdz_pesel(Formularz!#REF!)","v":{"$error":"#VALUE!"}}]
[null,{"$f":"Sprawdz_pesel(Formularz!#REF!)","v":{"$error":"#VALUE!"}}]
[null,{"$f":"Sprawdz_pesel(Formularz!#REF!)","v":{"$error":"#VALUE!"}}]
[null,{"$f":"Sprawdz_pesel(Formularz!#REF!)","v":{"$error":"#VALUE!"}}]
[null,{"$f":"Sprawdz_pesel(Formularz!#REF!)","v":{"$error":"#VALUE!"}}]
[null,{"$f":"Sprawdz_pesel(Formularz!#REF!)","v":{"$error":"#VALUE!"}}]
[null,{"$f":"Sprawdz_pesel(Formularz!#REF!)","v":{"$error":"#VALUE!"}}]
[null,{"$f":"Sprawdz_pesel(Formularz!#REF!)","v":{"$error":"#VALUE!"}}]
[null,{"$f":"Sprawdz_pesel(Formularz!#REF!)","v":{"$error":"#VALUE!"}}]
[null,{"$f":"Sprawdz_pesel(Formularz!#REF!)","v":{"$error":"#VALUE!"}}]
[null,{"$f":"Sprawdz_pesel(Formularz!#REF!)","v":{"$error":"#VALUE!"}}]
[null,{"$f":"Sprawdz_pesel(Formularz!#REF!)","v":{"$error":"#VALUE!"}}]
[null,{"$f":"Sprawdz_pesel(Formularz!#REF!)","v":{"$error":"#VALUE!"}}]
[null,{"$f":"Sprawdz_pesel(Formularz!#REF!)","v":{"$error":"#VALUE!"}}]
[null,{"$f":"Sprawdz_pesel(Formularz!#REF!)","v":{"$error":"#VALUE!"}}]
[null,{"$f":"Sprawdz_pesel(Formularz!#REF!)","v":{"$error":"#VALUE!"}}]
[null,{"$f":"Sprawdz_pesel(Formularz!#REF!)","v":{"$error":"#VALUE!"}}]
[null,{"$f":"Sprawdz_pesel(Formularz!#REF!)","v":{"$error":"#VALUE!"}}]
[null,{"$f":"Sprawdz_pesel(Formularz!#REF!)","v":{"$error":"#VALUE!"}}]
[null,{"$f":"Sprawdz_pesel(Formularz!#REF!)","v":{"$error":"#VALUE!"}}]
[null,{"$f":"Sprawdz_pesel(Formularz!#REF!)","v":{"$error":"#VALUE!"}}]
[null,{"$f":"Sprawdz_pesel(Formularz!#REF!)","v":{"$error":"#VALUE!"}}]
[null,{"$f":"Sprawdz_pesel(Formularz!#REF!)","v":{"$error":"#VALUE!"}}]
[null,{"$f":"Sprawdz_pesel(Formularz!#REF!)","v":{"$error":"#VALUE!"}}]
[null,{"$f":"Sprawdz_pesel(Formularz!#REF!)","v":{"$error":"#VALUE!"}}]
[null,{"$f":"Sprawdz_pesel(Formularz!#REF!)","v":{"$error":"#VALUE!"}}]
[null,{"$f":"Sprawdz_pesel(Formularz!#REF!)","v":{"$error":"#VALUE!"}}]
[null,{"$f":"Sprawdz_pesel(Formularz!#REF!)","v":{"$error":"#VALUE!"}}]
[null,{"$f":"Sprawdz_pesel(Formularz!#REF!)","v":{"$error":"#VALUE!"}}]
[null,{"$f":"Sprawdz_pesel(Formularz!#REF!)","v":{"$error":"#VALUE!"}}]
[null,{"$f":"Sprawdz_pesel(Formularz!#REF!)","v":{"$error":"#VALUE!"}}]
[null,{"$f":"Sprawdz_pesel(Formularz!#REF!)","v":{"$error":"#VALUE!"}}]
[null,{"$f":"Sprawdz_pesel(Formularz!#REF!)","v":{"$error":"#VALUE!"}}]
[null,{"$f":"Sprawdz_pesel(Formularz!#REF!)","v":{"$error":"#VALUE!"}}]
[null,{"$f":"Sprawdz_pesel(Formularz!#REF!)","v":{"$error":"#VALUE!"}}]
[null,{"$f":"Sprawdz_pesel(Formularz!#REF!)","v":{"$error":"#VALUE!"}}]
[null,{"$f":"Sprawdz_pesel(Formularz!#REF!)","v":{"$error":"#VALUE!"}}]
[null,{"$f":"Sprawdz_pesel(Formularz!#REF!)","v":{"$error":"#VALUE!"}}]
[null,{"$f":"Sprawdz_pesel(Formularz!#REF!)","v":{"$error":"#VALUE!"}}]
[null,{"$f":"Sprawdz_pesel(Formularz!#REF!)","v":{"$error":"#VALUE!"}}]
[null,{"$f":"Sprawdz_pesel(Formularz!#REF!)","v":{"$error":"#VALUE!"}}]
[null,{"$f":"Sprawdz_pesel(Formularz!#REF!)","v":{"$error":"#VALUE!"}}]
[null,{"$f":"Sprawdz_pesel(Formularz!#REF!)","v":{"$error":"#VALUE!"}}]
[null,{"$f":"Sprawdz_pesel(Formularz!#REF!)","v":{"$error":"#VALUE!"}}]
[null,{"$f":"Sprawdz_pesel(Formularz!#REF!)","v":{"$error":"#VALUE!"}}]
[null,{"$f":"Sprawdz_pesel(Formularz!#REF!)","v":{"$error":"#VALUE!"}}]
[null,{"$f":"Sprawdz_pesel(Formularz!#REF!)","v":{"$error":"#VALUE!"}}]
[null,{"$f":"Sprawdz_pesel(Formularz!#REF!)","v":{"$error":"#VALUE!"}}]
[null,{"$f":"Sprawdz_pesel(Formularz!#REF!)","v":{"$error":"#VALUE!"}}]
[null,{"$f":"Sprawdz_pesel(Formularz!#REF!)","v":{"$error":"#VALUE!"}}]
[null,{"$f":"Sprawdz_pesel(Formularz!#REF!)","v":{"$error":"#VALUE!"}}]
[null,{"$f":"Sprawdz_pesel(Formularz!#REF!)","v":{"$error":"#VALUE!"}}]
[null,{"$f":"Sprawdz_pesel(Formularz!#REF!)","v":{"$error":"#VALUE!"}}]
[null,{"$f":"Sprawdz_pesel(Formularz!#REF!)","v":{"$error":"#VALUE!"}}]
[null,{"$f":"Sprawdz_pesel(Formularz!#REF!)","v":{"$error":"#VALUE!"}}]
[null,{"$f":"Sprawdz_pesel(Formularz!#REF!)","v":{"$error":"#VALUE!"}}]
[null,{"$f":"Sprawdz_pesel(Formularz!#REF!)","v":{"$error":"#VALUE!"}}]
[null,{"$f":"Sprawdz_pesel(Formularz!#REF!)","v":{"$error":"#VALUE!"}}]
[null,{"$f":"Sprawdz_pesel(Formularz!#REF!)","v":{"$error":"#VALUE!"}}]
[null,{"$f":"Sprawdz_pesel(Formularz!#REF!)","v":{"$error":"#VALUE!"}}]
[null,{"$f":"Sprawdz_pesel(Formularz!#REF!)","v":{"$error":"#VALUE!"}}]
[null,{"$f":"Sprawdz_pesel(Formularz!#REF!)","v":{"$error":"#VALUE!"}}]
[null,{"$f":"Sprawdz_pesel(Formularz!#REF!)","v":{"$error":"#VALUE!"}}]
[null,{"$f":"Sprawdz_pesel(Formularz!#REF!)","v":{"$error":"#VALUE!"}}]
[null,{"$f":"Sprawdz_pesel(Formularz!#REF!)","v":{"$error":"#VALUE!"}}]
[null,{"$f":"Sprawdz_pesel(Formularz!#REF!)","v":{"$error":"#VALUE!"}}]
[null,{"$f":"Sprawdz_pesel(Formularz!#REF!)","v":{"$error":"#VALUE!"}}]
[null,{"$f":"Sprawdz_pesel(Formularz!#REF!)","v":{"$error":"#VALUE!"}}]
[null,{"$f":"Sprawdz_pesel(Formularz!#REF!)","v":{"$error":"#VALUE!"}}]
[null,{"$f":"Sprawdz_pesel(Formularz!#REF!)","v":{"$error":"#VALUE!"}}]
[null,{"$f":"Sprawdz_pesel(Formularz!#REF!)","v":{"$error":"#VALUE!"}}]
[null,{"$f":"Sprawdz_pesel(Formularz!#REF!)","v":{"$error":"#VALUE!"}}]
[null,{"$f":"Sprawdz_pesel(Formularz!#REF!)","v":{"$error":"#VALUE!"}}]
[null,{"$f":"Sprawdz_pesel(Formularz!#REF!)","v":{"$error":"#VALUE!"}}]
[null,{"$f":"Sprawdz_pesel(Formularz!#REF!)","v":{"$error":"#VALUE!"}}]
[null,{"$f":"Sprawdz_pesel(Formularz!#REF!)","v":{"$error":"#VALUE!"}}]
[null,{"$f":"Sprawdz_pesel(Formularz!#REF!)","v":{"$error":"#VALUE!"}}]
[null,{"$f":"Sprawdz_pesel(Formularz!#REF!)","v":{"$error":"#VALUE!"}}]
[null,{"$f":"Sprawdz_pesel(Formularz!#REF!)","v":{"$error":"#VALUE!"}}]
[null,{"$f":"Sprawdz_pesel(Formularz!#REF!)","v":{"$error":"#VALUE!"}}]
[null,{"$f":"Sprawdz_pesel(Formularz!#REF!)","v":{"$error":"#VALUE!"}}]
[null,{"$f":"Sprawdz_pesel(Formularz!#REF!)","v":{"$error":"#VALUE!"}}]
[null,{"$f":"Sprawdz_pesel(Formularz!#REF!)","v":{"$error":"#VALUE!"}}]
[null,{"$f":"Sprawdz_pesel(Formularz!#REF!)","v":{"$error":"#VALUE!"}}]
[null,{"$f":"Sprawdz_pesel(Formularz!#REF!)","v":{"$error":"#VALUE!"}}]
[null,{"$f":"Sprawdz_pesel(Formularz!#REF!)","v":{"$error":"#VALUE!"}}]
[null,{"$f":"Sprawdz_pesel(Formularz!#REF!)","v":{"$error":"#VALUE!"}}]
[null,{"$f":"Sprawdz_pesel(Formularz!#REF!)","v":{"$error":"#VALUE!"}}]
[null,{"$f":"Sprawdz_pesel(Formularz!#REF!)","v":{"$error":"#VALUE!"}}]
[null,{"$f":"Sprawdz_pesel(Formularz!#REF!)","v":{"$error":"#VALUE!"}}]
[null,{"$f":"Sprawdz_pesel(Formularz!#REF!)","v":{"$error":"#VALUE!"}}]
[null,{"$f":"Sprawdz_pesel(Formularz!#REF!)","v":{"$error":"#VALUE!"}}]
[null,{"$f":"Sprawdz_pesel(Formularz!#REF!)","v":{"$error":"#VALUE!"}}]
[null,{"$f":"Sprawdz_pesel(Formularz!#REF!)","v":{"$error":"#VALUE!"}}]
[null,{"$f":"Sprawdz_pesel(Formularz!#REF!)","v":{"$error":"#VALUE!"}}]
[null,{"$f":"Sprawdz_pesel(Formularz!#REF!)","v":{"$error":"#VALUE!"}}]
[null,{"$f":"Sprawdz_pesel(Formularz!#REF!)","v":{"$error":"#VALUE!"}}]
[null,{"$f":"Sprawdz_pesel(Formularz!#REF!)","v":{"$error":"#VALUE!"}}]
[null,{"$f":"Sprawdz_pesel(Formularz!#REF!)","v":{"$error":"#VALUE!"}}]
[null,{"$f":"Sprawdz_pesel(Formularz!#REF!)","v":{"$error":"#VALUE!"}}]
[null,{"$f":"Sprawdz_pesel(Formularz!#REF!)","v":{"$error":"#VALUE!"}}]
[null,{"$f":"Sprawdz_pesel(Formularz!#REF!)","v":{"$error":"#VALUE!"}}]
[null,{"$f":"Sprawdz_pesel(Formularz!#REF!)","v":{"$error":"#VALUE!"}}]
[null,{"$f":"Sprawdz_pesel(Formularz!#REF!)","v":{"$error":"#VALUE!"}}]
[null,{"$f":"Sprawdz_pesel(Formularz!#REF!)","v":{"$error":"#VALUE!"}}]
[null,{"$f":"Sprawdz_pesel(Formularz!#REF!)","v":{"$error":"#VALUE!"}}]
[null,{"$f":"Sprawdz_pesel(Formularz!#REF!)","v":{"$error":"#VALUE!"}}]
[null,{"$f":"Sprawdz_pesel(Formularz!#REF!)","v":{"$error":"#VALUE!"}}]
[null,{"$f":"Sprawdz_pesel(Formularz!#REF!)","v":{"$error":"#VALUE!"}}]
[null,{"$f":"Sprawdz_pesel(Formularz!#REF!)","v":{"$error":"#VALUE!"}}]
[null,{"$f":"Sprawdz_pesel(Formularz!#REF!)","v":{"$error":"#VALUE!"}}]
[null,{"$f":"Sprawdz_pesel(Formularz!#REF!)","v":{"$error":"#VALUE!"}}]
[null,{"$f":"Sprawdz_pesel(Formularz!#REF!)","v":{"$error":"#VALUE!"}}]
[null,{"$f":"Sprawdz_pesel(Formularz!#REF!)","v":{"$error":"#VALUE!"}}]
[null,{"$f":"Sprawdz_pesel(Formularz!#REF!)","v":{"$error":"#VALUE!"}}]
[null,{"$f":"Sprawdz_pesel(Formularz!#REF!)","v":{"$error":"#VALUE!"}}]
[null,{"$f":"Sprawdz_pesel(Formularz!#REF!)","v":{"$error":"#VALUE!"}}]
[null,{"$f":"Sprawdz_pesel(Formularz!#REF!)","v":{"$error":"#VALUE!"}}]
[null,{"$f":"Sprawdz_pesel(Formularz!#REF!)","v":{"$error":"#VALUE!"}}]
[null,{"$f":"Sprawdz_pesel(Formularz!#REF!)","v":{"$error":"#VALUE!"}}]
[null,{"$f":"Sprawdz_pesel(Formularz!#REF!)","v":{"$error":"#VALUE!"}}]
[null,{"$f":"Sprawdz_pesel(Formularz!#REF!)","v":{"$error":"#VALUE!"}}]
[null,{"$f":"Sprawdz_pesel(Formularz!#REF!)","v":{"$error":"#VALUE!"}}]
[null,{"$f":"Sprawdz_pesel(Formularz!#REF!)","v":{"$error":"#VALUE!"}}]
[null,{"$f":"Sprawdz_pesel(Formularz!#REF!)","v":{"$error":"#VALUE!"}}]
[null,{"$f":"Sprawdz_pesel(Formularz!#REF!)","v":{"$error":"#VALUE!"}}]
[null,{"$f":"Sprawdz_pesel(Formularz!#REF!)","v":{"$error":"#VALUE!"}}]
[null,{"$f":"Sprawdz_pesel(Formularz!#REF!)","v":{"$error":"#VALUE!"}}]
[null,{"$f":"Sprawdz_pesel(Formularz!#REF!)","v":{"$error":"#VALUE!"}}]
[null,{"$f":"Sprawdz_pesel(Formularz!#REF!)","v":{"$error":"#VALUE!"}}]
[null,{"$f":"Sprawdz_pesel(Formularz!#REF!)","v":{"$error":"#VALUE!"}}]
[null,{"$f":"Sprawdz_pesel(Formularz!#REF!)","v":{"$error":"#VALUE!"}}]
[null,{"$f":"Sprawdz_pesel(Formularz!#REF!)","v":{"$error":"#VALUE!"}}]
[null,{"$f":"Sprawdz_pesel(Formularz!#REF!)","v":{"$error":"#VALUE!"}}]
[null,{"$f":"Sprawdz_pesel(Formularz!#REF!)","v":{"$error":"#VALUE!"}}]
[null,{"$f":"Sprawdz_pesel(Formularz!#REF!)","v":{"$error":"#VALUE!"}}]
[null,{"$f":"Sprawdz_pesel(Formularz!#REF!)","v":{"$error":"#VALUE!"}}]
[null,{"$f":"Sprawdz_pesel(Formularz!#REF!)","v":{"$error":"#VALUE!"}}]
[null,{"$f":"Sprawdz_pesel(Formularz!#REF!)","v":{"$error":"#VALUE!"}}]
[null,{"$f":"Sprawdz_pesel(Formularz!#REF!)","v":{"$error":"#VALUE!"}}]
[null,{"$f":"Sprawdz_pesel(Formularz!#REF!)","v":{"$error":"#VALUE!"}}]
[null,{"$f":"Sprawdz_pesel(Formularz!#REF!)","v":{"$error":"#VALUE!"}}]
[null,{"$f":"Sprawdz_pesel(Formularz!#REF!)","v":{"$error":"#VALUE!"}}]
[null,{"$f":"Sprawdz_pesel(Formularz!#REF!)","v":{"$error":"#VALUE!"}}]
[null,{"$f":"Sprawdz_pesel(Formularz!#REF!)","v":{"$error":"#VALUE!"}}]
[null,{"$f":"Sprawdz_pesel(Formularz!#REF!)","v":{"$error":"#VALUE!"}}]
[null,{"$f":"Sprawdz_pesel(Formularz!#REF!)","v":{"$error":"#VALUE!"}}]
[null,{"$f":"Sprawdz_pesel(Formularz!#REF!)","v":{"$error":"#VALUE!"}}]
[null,{"$f":"Sprawdz_pesel(Formularz!#REF!)","v":{"$error":"#VALUE!"}}]
[null,{"$f":"Sprawdz_pesel(Formularz!#REF!)","v":{"$error":"#VALUE!"}}]
[null,{"$f":"Sprawdz_pesel(Formularz!#REF!)","v":{"$error":"#VALUE!"}}]
[null,{"$f":"Sprawdz_pesel(Formularz!#REF!)","v":{"$error":"#VALUE!"}}]
[null,{"$f":"Sprawdz_pesel(Formularz!#REF!)","v":{"$error":"#VALUE!"}}]
[null,{"$f":"Sprawdz_pesel(Formularz!#REF!)","v":{"$error":"#VALUE!"}}]
[null,{"$f":"Sprawdz_pesel(Formularz!#REF!)","v":{"$error":"#VALUE!"}}]
[null,{"$f":"Sprawdz_pesel(Formularz!#REF!)","v":{"$error":"#VALUE!"}}]
[null,{"$f":"Sprawdz_pesel(Formularz!#REF!)","v":{"$error":"#VALUE!"}}]
[null,{"$f":"Sprawdz_pesel(Formularz!#REF!)","v":{"$error":"#VALUE!"}}]
[null,{"$f":"Sprawdz_pesel(Formularz!#REF!)","v":{"$error":"#VALUE!"}}]
[null,{"$f":"Sprawdz_pesel(Formularz!#REF!)","v":{"$error":"#VALUE!"}}]
[null,{"$f":"Sprawdz_pesel(Formularz!#REF!)","v":{"$error":"#VALUE!"}}]
[null,{"$f":"Sprawdz_pesel(Formularz!#REF!)","v":{"$error":"#VALUE!"}}]
[null,{"$f":"Sprawdz_pesel(Formularz!#REF!)","v":{"$error":"#VALUE!"}}]
[null,{"$f":"Sprawdz_pesel(Formularz!#REF!)","v":{"$error":"#VALUE!"}}]
[null,{"$f":"Sprawdz_pesel(Formularz!#REF!)","v":{"$error":"#VALUE!"}}]
[null,{"$f":"Sprawdz_pesel(Formularz!#REF!)","v":{"$error":"#VALUE!"}}]
[null,{"$f":"Sprawdz_pesel(Formularz!#REF!)","v":{"$error":"#VALUE!"}}]
[null,{"$f":"Sprawdz_pesel(Formularz!#REF!)","v":{"$error":"#VALUE!"}}]
[null,{"$f":"Sprawdz_pesel(Formularz!#REF!)","v":{"$error":"#VALUE!"}}]
[null,{"$f":"Sprawdz_pesel(Formularz!#REF!)","v":{"$error":"#VALUE!"}}]
[null,{"$f":"Sprawdz_pesel(Formularz!#REF!)","v":{"$error":"#VALUE!"}}]
[null,{"$f":"Sprawdz_pesel(Formularz!#REF!)","v":{"$error":"#VALUE!"}}]
[null,{"$f":"Sprawdz_pesel(Formularz!#REF!)","v":{"$error":"#VALUE!"}}]
[null,{"$f":"Sprawdz_pesel(Formularz!#REF!)","v":{"$error":"#VALUE!"}}]
[null,{"$f":"Sprawdz_pesel(Formularz!#REF!)","v":{"$error":"#VALUE!"}}]
[null,{"$f":"Sprawdz_pesel(Formularz!#REF!)","v":{"$error":"#VALUE!"}}]
[null,{"$f":"Sprawdz_pesel(Formularz!#REF!)","v":{"$error":"#VALUE!"}}]
[null,{"$f":"Sprawdz_pesel(Formularz!#REF!)","v":{"$error":"#VALUE!"}}]
[null,{"$f":"Sprawdz_pesel(Formularz!#REF!)","v":{"$error":"#VALUE!"}}]
[null,{"$f":"Sprawdz_pesel(Formularz!#REF!)","v":{"$error":"#VALUE!"}}]
[null,{"$f":"Sprawdz_pesel(Formularz!#REF!)","v":{"$error":"#VALUE!"}}]
[null,{"$f":"Sprawdz_pesel(Formularz!#REF!)","v":{"$error":"#VALUE!"}}]
[null,{"$f":"Sprawdz_pesel(Formularz!#REF!)","v":{"$error":"#VALUE!"}}]
[null,{"$f":"Sprawdz_pesel(Formularz!#REF!)","v":{"$error":"#VALUE!"}}]
[null,{"$f":"Sprawdz_pesel(Formularz!#REF!)","v":{"$error":"#VALUE!"}}]
[null,{"$f":"Sprawdz_pesel(Formularz!#REF!)","v":{"$error":"#VALUE!"}}]
[null,{"$f":"Sprawdz_pesel(Formularz!#REF!)","v":{"$error":"#VALUE!"}}]
[null,{"$f":"Sprawdz_pesel(Formularz!#REF!)","v":{"$error":"#VALUE!"}}]
[null,{"$f":"Sprawdz_pesel(Formularz!#REF!)","v":{"$error":"#VALUE!"}}]
[null,{"$f":"Sprawdz_pesel(Formularz!#REF!)","v":{"$error":"#VALUE!"}}]
[null,{"$f":"Sprawdz_pesel(Formularz!#REF!)","v":{"$error":"#VALUE!"}}]
[null,{"$f":"Sprawdz_pesel(Formularz!#REF!)","v":{"$error":"#VALUE!"}}]
[null,{"$f":"Sprawdz_pesel(Formularz!#REF!)","v":{"$error":"#VALUE!"}}]
[null,{"$f":"Sprawdz_pesel(Formularz!#REF!)","v":{"$error":"#VALUE!"}}]
[null,{"$f":"Sprawdz_pesel(Formularz!#REF!)","v":{"$error":"#VALUE!"}}]
[null,{"$f":"Sprawdz_pesel(Formularz!#REF!)","v":{"$error":"#VALUE!"}}]
[null,{"$f":"Sprawdz_pesel(Formularz!#REF!)","v":{"$error":"#VALUE!"}}]
[null,{"$f":"Sprawdz_pesel(Formularz!#REF!)","v":{"$error":"#VALUE!"}}]
[null,{"$f":"Sprawdz_pesel(Formularz!#REF!)","v":{"$error":"#VALUE!"}}]
[null,{"$f":"Sprawdz_pesel(Formularz!#REF!)","v":{"$error":"#VALUE!"}}]
[null,{"$f":"Sprawdz_pesel(Formularz!#REF!)","v":{"$error":"#VALUE!"}}]
[null,{"$f":"Sprawdz_pesel(Formularz!#REF!)","v":{"$error":"#VALUE!"}}]
[null,{"$f":"Sprawdz_pesel(Formularz!#REF!)","v":{"$error":"#VALUE!"}}]
[null,{"$f":"Sprawdz_pesel(Formularz!#REF!)","v":{"$error":"#VALUE!"}}]
[null,{"$f":"Sprawdz_pesel(Formularz!#REF!)","v":{"$error":"#VALUE!"}}]
[null,{"$f":"Sprawdz_pesel(Formularz!#REF!)","v":{"$error":"#VALUE!"}}]
[null,{"$f":"Sprawdz_pesel(Formularz!#REF!)","v":{"$error":"#VALUE!"}}]
[null,{"$f":"Sprawdz_pesel(Formularz!#REF!)","v":{"$error":"#VALUE!"}}]
[null,{"$f":"Sprawdz_pesel(Formularz!#REF!)","v":{"$error":"#VALUE!"}}]
[null,{"$f":"Sprawdz_pesel(Formularz!#REF!)","v":{"$error":"#VALUE!"}}]
[null,{"$f":"Sprawdz_pesel(Formularz!#REF!)","v":{"$error":"#VALUE!"}}]
[null,{"$f":"Sprawdz_pesel(Formularz!#REF!)","v":{"$error":"#VALUE!"}}]
[null,{"$f":"Sprawdz_pesel(Formularz!#REF!)","v":{"$error":"#VALUE!"}}]
[null,{"$f":"Sprawdz_pesel(Formularz!#REF!)","v":{"$error":"#VALUE!"}}]
[null,{"$f":"Sprawdz_pesel(Formularz!#REF!)","v":{"$error":"#VALUE!"}}]
[null,{"$f":"Sprawdz_pesel(Formularz!#REF!)","v":{"$error":"#VALUE!"}}]
[null,{"$f":"Sprawdz_pesel(Formularz!#REF!)","v":{"$error":"#VALUE!"}}]
[null,{"$f":"Sprawdz_pesel(Formularz!#REF!)","v":{"$error":"#VALUE!"}}]
[null,{"$f":"Sprawdz_pesel(Formularz!#REF!)","v":{"$error":"#VALUE!"}}]
[null,{"$f":"Sprawdz_pesel(Formularz!#REF!)","v":{"$error":"#VALUE!"}}]
[null,{"$f":"Sprawdz_pesel(Formularz!#REF!)","v":{"$error":"#VALUE!"}}]
[null,{"$f":"Sprawdz_pesel(Formularz!#REF!)","v":{"$error":"#VALUE!"}}]
[null,{"$f":"Sprawdz_pesel(Formularz!#REF!)","v":{"$error":"#VALUE!"}}]
[null,{"$f":"Sprawdz_pesel(Formularz!#REF!)","v":{"$error":"#VALUE!"}}]
[null,{"$f":"Sprawdz_pesel(Formularz!#REF!)","v":{"$error":"#VALUE!"}}]
[null,{"$f":"Sprawdz_pesel(Formularz!#REF!)","v":{"$error":"#VALUE!"}}]
[null,{"$f":"Sprawdz_pesel(Formularz!#REF!)","v":{"$error":"#VALUE!"}}]
[null,{"$f":"Sprawdz_pesel(Formularz!#REF!)","v":{"$error":"#VALUE!"}}]
[null,{"$f":"Sprawdz_pesel(Formularz!#REF!)","v":{"$error":"#VALUE!"}}]
[null,{"$f":"Sprawdz_pesel(Formularz!#REF!)","v":{"$error":"#VALUE!"}}]
[null,{"$f":"Sprawdz_pesel(Formularz!#REF!)","v":{"$error":"#VALUE!"}}]
[null,{"$f":"Sprawdz_pesel(Formularz!#REF!)","v":{"$error":"#VALUE!"}}]
[null,{"$f":"Sprawdz_pesel(Formularz!#REF!)","v":{"$error":"#VALUE!"}}]
[null,{"$f":"Sprawdz_pesel(Formularz!#REF!)","v":{"$error":"#VALUE!"}}]
[null,{"$f":"Sprawdz_pesel(Formularz!#REF!)","v":{"$error":"#VALUE!"}}]
[null,{"$f":"Sprawdz_pesel(Formularz!#REF!)","v":{"$error":"#VALUE!"}}]
[null,{"$f":"Sprawdz_pesel(Formularz!#REF!)","v":{"$error":"#VALUE!"}}]
[null,{"$f":"Sprawdz_pesel(Formularz!#REF!)","v":{"$error":"#VALUE!"}}]
[null,{"$f":"Sprawdz_pesel(Formularz!#REF!)","v":{"$error":"#VALUE!"}}]
[null,{"$f":"Sprawdz_pesel(Formularz!#REF!)","v":{"$error":"#VALUE!"}}]
[null,{"$f":"Sprawdz_pesel(Formularz!#REF!)","v":{"$error":"#VALUE!"}}]
[null,{"$f":"Sprawdz_pesel(Formularz!#REF!)","v":{"$error":"#VALUE!"}}]
[null,{"$f":"Sprawdz_pesel(Formularz!#REF!)","v":{"$error":"#VALUE!"}}]
[null,{"$f":"Sprawdz_pesel(Formularz!#REF!)","v":{"$error":"#VALUE!"}}]
[null,{"$f":"Sprawdz_pesel(Formularz!#REF!)","v":{"$error":"#VALUE!"}}]
[null,{"$f":"Sprawdz_pesel(Formularz!#REF!)","v":{"$error":"#VALUE!"}}]
[null,{"$f":"Sprawdz_pesel(Formularz!#REF!)","v":{"$error":"#VALUE!"}}]
[null,{"$f":"Sprawdz_pesel(Formularz!#REF!)","v":{"$error":"#VALUE!"}}]
[null,{"$f":"Sprawdz_pesel(Formularz!#REF!)","v":{"$error":"#VALUE!"}}]
[null,{"$f":"Sprawdz_pesel(Formularz!#REF!)","v":{"$error":"#VALUE!"}}]
[null,{"$f":"Sprawdz_pesel(Formularz!#REF!)","v":{"$error":"#VALUE!"}}]
[null,{"$f":"Sprawdz_pesel(Formularz!#REF!)","v":{"$error":"#VALUE!"}}]
[null,{"$f":"Sprawdz_pesel(Formularz!#REF!)","v":{"$error":"#VALUE!"}}]
[null,{"$f":"Sprawdz_pesel(Formularz!#REF!)","v":{"$error":"#VALUE!"}}]
[null,{"$f":"Sprawdz_pesel(Formularz!#REF!)","v":{"$error":"#VALUE!"}}]
[null,{"$f":"Sprawdz_pesel(Formularz!#REF!)","v":{"$error":"#VALUE!"}}]
[null,{"$f":"Sprawdz_pesel(Formularz!#REF!)","v":{"$error":"#VALUE!"}}]
[null,{"$f":"Sprawdz_pesel(Formularz!#REF!)","v":{"$error":"#VALUE!"}}]
[null,{"$f":"Sprawdz_pesel(Formularz!#REF!)","v":{"$error":"#VALUE!"}}]
[null,{"$f":"Sprawdz_pesel(Formularz!#REF!)","v":{"$error":"#VALUE!"}}]
[null,{"$f":"Sprawdz_pesel(Formularz!#REF!)","v":{"$error":"#VALUE!"}}]
[null,{"$f":"Sprawdz_pesel(Formularz!#REF!)","v":{"$error":"#VALUE!"}}]
[null,{"$f":"Sprawdz_pesel(Formularz!#REF!)","v":{"$error":"#VALUE!"}}]
[null,{"$f":"Sprawdz_pesel(Formularz!#REF!)","v":{"$error":"#VALUE!"}}]
[null,{"$f":"Sprawdz_pesel(Formularz!#REF!)","v":{"$error":"#VALUE!"}}]
[null,{"$f":"Sprawdz_pesel(Formularz!#REF!)","v":{"$error":"#VALUE!"}}]
[null,{"$f":"Sprawdz_pesel(Formularz!#REF!)","v":{"$error":"#VALUE!"}}]
[null,{"$f":"Sprawdz_pesel(Formularz!#REF!)","v":{"$error":"#VALUE!"}}]
[null,{"$f":"Sprawdz_pesel(Formularz!#REF!)","v":{"$error":"#VALUE!"}}]
[null,{"$f":"Sprawdz_pesel(Formularz!#REF!)","v":{"$error":"#VALUE!"}}]
[null,{"$f":"Sprawdz_pesel(Formularz!#REF!)","v":{"$error":"#VALUE!"}}]
[null,{"$f":"Sprawdz_pesel(Formularz!#REF!)","v":{"$error":"#VALUE!"}}]
[null,{"$f":"Sprawdz_pesel(Formularz!#REF!)","v":{"$error":"#VALUE!"}}]
[null,{"$f":"Sprawdz_pesel(Formularz!#REF!)","v":{"$error":"#VALUE!"}}]
[null,{"$f":"Sprawdz_pesel(Formularz!#REF!)","v":{"$error":"#VALUE!"}}]
[null,{"$f":"Sprawdz_pesel(Formularz!#REF!)","v":{"$error":"#VALUE!"}}]
[null,{"$f":"Sprawdz_pesel(Formularz!#REF!)","v":{"$error":"#VALUE!"}}]
[null,{"$f":"Sprawdz_pesel(Formularz!#REF!)","v":{"$error":"#VALUE!"}}]
[null,{"$f":"Sprawdz_pesel(Formularz!#REF!)","v":{"$error":"#VALUE!"}}]
[null,{"$f":"Sprawdz_pesel(Formularz!#REF!)","v":{"$error":"#VALUE!"}}]
[null,{"$f":"Sprawdz_pesel(Formularz!#REF!)","v":{"$error":"#VALUE!"}}]
[null,{"$f":"Sprawdz_pesel(Formularz!#REF!)","v":{"$error":"#VALUE!"}}]
[null,{"$f":"Sprawdz_pesel(Formularz!#REF!)","v":{"$error":"#VALUE!"}}]
[null,{"$f":"Sprawdz_pesel(Formularz!#REF!)","v":{"$error":"#VALUE!"}}]
[null,{"$f":"Sprawdz_pesel(Formularz!#REF!)","v":{"$error":"#VALUE!"}}]
[null,{"$f":"Sprawdz_pesel(Formularz!#REF!)","v":{"$error":"#VALUE!"}}]
[null,{"$f":"Sprawdz_pesel(Formularz!#REF!)","v":{"$error":"#VALUE!"}}]
[null,{"$f":"Sprawdz_pesel(Formularz!#REF!)","v":{"$error":"#VALUE!"}}]
[null,{"$f":"Sprawdz_pesel(Formularz!#REF!)","v":{"$error":"#VALUE!"}}]
[null,{"$f":"Sprawdz_pesel(Formularz!#REF!)","v":{"$error":"#VALUE!"}}]
[null,{"$f":"Sprawdz_pesel(Formularz!#REF!)","v":{"$error":"#VALUE!"}}]
[null,{"$f":"Sprawdz_pesel(Formularz!#REF!)","v":{"$error":"#VALUE!"}}]
[null,{"$f":"Sprawdz_pesel(Formularz!#REF!)","v":{"$error":"#VALUE!"}}]
[null,{"$f":"Sprawdz_pesel(Formularz!#REF!)","v":{"$error":"#VALUE!"}}]
[null,{"$f":"Sprawdz_pesel(Formularz!#REF!)","v":{"$error":"#VALUE!"}}]
[null,{"$f":"Sprawdz_pesel(Formularz!#REF!)","v":{"$error":"#VALUE!"}}]
[null,{"$f":"Sprawdz_pesel(Formularz!#REF!)","v":{"$error":"#VALUE!"}}]
[null,{"$f":"Sprawdz_pesel(Formularz!#REF!)","v":{"$error":"#VALUE!"}}]
[null,{"$f":"Sprawdz_pesel(Formularz!#REF!)","v":{"$error":"#VALUE!"}}]
[null,{"$f":"Sprawdz_pesel(Formularz!#REF!)","v":{"$error":"#VALUE!"}}]
[null,{"$f":"Sprawdz_pesel(Formularz!#REF!)","v":{"$error":"#VALUE!"}}]
[null,{"$f":"Sprawdz_pesel(Formularz!#REF!)","v":{"$error":"#VALUE!"}}]
[null,{"$f":"Sprawdz_pesel(Formularz!#REF!)","v":{"$error":"#VALUE!"}}]
[null,{"$f":"Sprawdz_pesel(Formularz!#REF!)","v":{"$error":"#VALUE!"}}]
[null,{"$f":"Sprawdz_pesel(Formularz!#REF!)","v":{"$error":"#VALUE!"}}]
[null,{"$f":"Sprawdz_pesel(Formularz!#REF!)","v":{"$error":"#VALUE!"}}]
[null,{"$f":"Sprawdz_pesel(Formularz!#REF!)","v":{"$error":"#VALUE!"}}]
[null,{"$f":"Sprawdz_pesel(Formularz!#REF!)","v":{"$error":"#VALUE!"}}]
[null,{"$f":"Sprawdz_pesel(Formularz!#REF!)","v":{"$error":"#VALUE!"}}]
[null,{"$f":"Sprawdz_pesel(Formularz!#REF!)","v":{"$error":"#VALUE!"}}]
[null,{"$f":"Sprawdz_pesel(Formularz!#REF!)","v":{"$error":"#VALUE!"}}]
[null,{"$f":"Sprawdz_pesel(Formularz!#REF!)","v":{"$error":"#VALUE!"}}]
[null,{"$f":"Sprawdz_pesel(Formularz!#REF!)","v":{"$error":"#VALUE!"}}]
[null,{"$f":"Sprawdz_pesel(Formularz!#REF!)","v":{"$error":"#VALUE!"}}]
[null,{"$f":"Sprawdz_pesel(Formularz!#REF!)","v":{"$error":"#VALUE!"}}]
[null,{"$f":"Sprawdz_pesel(Formularz!#REF!)","v":{"$error":"#VALUE!"}}]
[null,{"$f":"Sprawdz_pesel(Formularz!#REF!)","v":{"$error":"#VALUE!"}}]
[null,{"$f":"Sprawdz_pesel(Formularz!#REF!)","v":{"$error":"#VALUE!"}}]
[null,{"$f":"Sprawdz_pesel(Formularz!#REF!)","v":{"$error":"#VALUE!"}}]
[null,{"$f":"Sprawdz_pesel(Formularz!#REF!)","v":{"$error":"#VALUE!"}}]
[null,{"$f":"Sprawdz_pesel(Formularz!#REF!)","v":{"$error":"#VALUE!"}}]
[null,{"$f":"Sprawdz_pesel(Formularz!#REF!)","v":{"$error":"#VALUE!"}}]
[null,{"$f":"Sprawdz_pesel(Formularz!#REF!)","v":{"$error":"#VALUE!"}}]
[null,{"$f":"Sprawdz_pesel(Formularz!#REF!)","v":{"$error":"#VALUE!"}}]
[null,{"$f":"Sprawdz_pesel(Formularz!#REF!)","v":{"$error":"#VALUE!"}}]
[null,{"$f":"Sprawdz_pesel(Formularz!#REF!)","v":{"$error":"#VALUE!"}}]
[null,{"$f":"Sprawdz_pesel(Formularz!#REF!)","v":{"$error":"#VALUE!"}}]
[null,{"$f":"Sprawdz_pesel(Formularz!#REF!)","v":{"$error":"#VALUE!"}}]
[null,{"$f":"Sprawdz_pesel(Formularz!#REF!)","v":{"$error":"#VALUE!"}}]
[null,{"$f":"Sprawdz_pesel(Formularz!#REF!)","v":{"$error":"#VALUE!"}}]
[null,{"$f":"Sprawdz_pesel(Formularz!#REF!)","v":{"$error":"#VALUE!"}}]
[null,{"$f":"Sprawdz_pesel(Formularz!#REF!)","v":{"$error":"#VALUE!"}}]
[null,{"$f":"Sprawdz_pesel(Formularz!#REF!)","v":{"$error":"#VALUE!"}}]
[null,{"$f":"Sprawdz_pesel(Formularz!#REF!)","v":{"$error":"#VALUE!"}}]
[null,{"$f":"Sprawdz_pesel(Formularz!#REF!)","v":{"$error":"#VALUE!"}}]
[null,{"$f":"Sprawdz_pesel(Formularz!#REF!)","v":{"$error":"#VALUE!"}}]
[null,{"$f":"Sprawdz_pesel(Formularz!#REF!)","v":{"$error":"#VALUE!"}}]
[null,{"$f":"Sprawdz_pesel(Formularz!#REF!)","v":{"$error":"#VALUE!"}}]
[null,{"$f":"Sprawdz_pesel(Formularz!#REF!)","v":{"$error":"#VALUE!"}}]
[null,{"$f":"Sprawdz_pesel(Formularz!#REF!)","v":{"$error":"#VALUE!"}}]
[null,{"$f":"Sprawdz_pesel(Formularz!#REF!)","v":{"$error":"#VALUE!"}}]
[null,{"$f":"Sprawdz_pesel(Formularz!#REF!)","v":{"$error":"#VALUE!"}}]
[null,{"$f":"Sprawdz_pesel(Formularz!#REF!)","v":{"$error":"#VALUE!"}}]
[null,{"$f":"Sprawdz_pesel(Formularz!#REF!)","v":{"$error":"#VALUE!"}}]
[null,{"$f":"Sprawdz_pesel(Formularz!#REF!)","v":{"$error":"#VALUE!"}}]
[null,{"$f":"Sprawdz_pesel(Formularz!#REF!)","v":{"$error":"#VALUE!"}}]
[null,{"$f":"Sprawdz_pesel(Formularz!#REF!)","v":{"$error":"#VALUE!"}}]
[null,{"$f":"Sprawdz_pesel(Formularz!#REF!)","v":{"$error":"#VALUE!"}}]
[null,{"$f":"Sprawdz_pesel(Formularz!#REF!)","v":{"$error":"#VALUE!"}}]
[null,{"$f":"Sprawdz_pesel(Formularz!#REF!)","v":{"$error":"#VALUE!"}}]
[null,{"$f":"Sprawdz_pesel(Formularz!#REF!)","v":{"$error":"#VALUE!"}}]
[null,{"$f":"Sprawdz_pesel(Formularz!#REF!)","v":{"$error":"#VALUE!"}}]
[null,{"$f":"Sprawdz_pesel(Formularz!#REF!)","v":{"$error":"#VALUE!"}}]
[null,{"$f":"Sprawdz_pesel(Formularz!#REF!)","v":{"$error":"#VALUE!"}}]
[null,{"$f":"Sprawdz_pesel(Formularz!#REF!)","v":{"$error":"#VALUE!"}}]
[null,{"$f":"Sprawdz_pesel(Formularz!#REF!)","v":{"$error":"#VALUE!"}}]
[null,{"$f":"Sprawdz_pesel(Formularz!#REF!)","v":{"$error":"#VALUE!"}}]
[null,{"$f":"Sprawdz_pesel(Formularz!#REF!)","v":{"$error":"#VALUE!"}}]
[null,{"$f":"Sprawdz_pesel(Formularz!#REF!)","v":{"$error":"#VALUE!"}}]
[null,{"$f":"Sprawdz_pesel(Formularz!#REF!)","v":{"$error":"#VALUE!"}}]
[null,{"$f":"Sprawdz_pesel(Formularz!#REF!)","v":{"$error":"#VALUE!"}}]
[null,{"$f":"Sprawdz_pesel(Formularz!#REF!)","v":{"$error":"#VALUE!"}}]
[null,{"$f":"Sprawdz_pesel(Formularz!#REF!)","v":{"$error":"#VALUE!"}}]
[null,{"$f":"Sprawdz_pesel(Formularz!#REF!)","v":{"$error":"#VALUE!"}}]
[null,{"$f":"Sprawdz_pesel(Formularz!#REF!)","v":{"$error":"#VALUE!"}}]
[null,{"$f":"Sprawdz_pesel(Formularz!#REF!)","v":{"$error":"#VALUE!"}}]
[null,{"$f":"Sprawdz_pesel(Formularz!#REF!)","v":{"$error":"#VALUE!"}}]
[null,{"$f":"Sprawdz_pesel(Formularz!#REF!)","v":{"$error":"#VALUE!"}}]
[null,{"$f":"Sprawdz_pesel(Formularz!#REF!)","v":{"$error":"#VALUE!"}}]
[null,{"$f":"Sprawdz_pesel(Formularz!#REF!)","v":{"$error":"#VALUE!"}}]
[null,{"$f":"Sprawdz_pesel(Formularz!#REF!)","v":{"$error":"#VALUE!"}}]
[null,{"$f":"Sprawdz_pesel(Formularz!#REF!)","v":{"$error":"#VALUE!"}}]
[null,{"$f":"Sprawdz_pesel(Formularz!#REF!)","v":{"$error":"#VALUE!"}}]
[null,{"$f":"Sprawdz_pesel(Formularz!#REF!)","v":{"$error":"#VALUE!"}}]
[null,{"$f":"Sprawdz_pesel(Formularz!#REF!)","v":{"$error":"#VALUE!"}}]
[null,{"$f":"Sprawdz_pesel(Formularz!#REF!)","v":{"$error":"#VALUE!"}}]
[null,{"$f":"Sprawdz_pesel(Formularz!#REF!)","v":{"$error":"#VALUE!"}}]
[null,{"$f":"Sprawdz_pesel(Formularz!#REF!)","v":{"$error":"#VALUE!"}}]
[null,{"$f":"Sprawdz_pesel(Formularz!#REF!)","v":{"$error":"#VALUE!"}}]
[null,{"$f":"Sprawdz_pesel(Formularz!#REF!)","v":{"$error":"#VALUE!"}}]
[null,{"$f":"Sprawdz_pesel(Formularz!#REF!)","v":{"$error":"#VALUE!"}}]
[null,{"$f":"Sprawdz_pesel(Formularz!#REF!)","v":{"$error":"#VALUE!"}}]
[null,{"$f":"Sprawdz_pesel(Formularz!#REF!)","v":{"$error":"#VALUE!"}}]
[null,{"$f":"Sprawdz_pesel(Formularz!#REF!)","v":{"$error":"#VALUE!"}}]
[null,{"$f":"Sprawdz_pesel(Formularz!#REF!)","v":{"$error":"#VALUE!"}}]
[null,{"$f":"Sprawdz_pesel(Formularz!#REF!)","v":{"$error":"#VALUE!"}}]
[null,{"$f":"Sprawdz_pesel(Formularz!#REF!)","v":{"$error":"#VALUE!"}}]
[null,{"$f":"Sprawdz_pesel(Formularz!#REF!)","v":{"$error":"#VALUE!"}}]
[null,{"$f":"Sprawdz_pesel(Formularz!#REF!)","v":{"$error":"#VALUE!"}}]
[null,{"$f":"Sprawdz_pesel(Formularz!#REF!)","v":{"$error":"#VALUE!"}}]
[null,{"$f":"Sprawdz_pesel(Formularz!#REF!)","v":{"$error":"#VALUE!"}}]
[null,{"$f":"Sprawdz_pesel(Formularz!#REF!)","v":{"$error":"#VALUE!"}}]
[null,{"$f":"Sprawdz_pesel(Formularz!#REF!)","v":{"$error":"#VALUE!"}}]
[null,{"$f":"Sprawdz_pesel(Formularz!#REF!)","v":{"$error":"#VALUE!"}}]
[null,{"$f":"Sprawdz_pesel(Formularz!#REF!)","v":{"$error":"#VALUE!"}}]
[null,{"$f":"Sprawdz_pesel(Formularz!#REF!)","v":{"$error":"#VALUE!"}}]
[null,{"$f":"Sprawdz_pesel(Formularz!#REF!)","v":{"$error":"#VALUE!"}}]
[null,{"$f":"Sprawdz_pesel(Formularz!#REF!)","v":{"$error":"#VALUE!"}}]
[null,{"$f":"Sprawdz_pesel(Formularz!#REF!)","v":{"$error":"#VALUE!"}}]
[null,{"$f":"Sprawdz_pesel(Formularz!#REF!)","v":{"$error":"#VALUE!"}}]
[null,{"$f":"Sprawdz_pesel(Formularz!#REF!)","v":{"$error":"#VALUE!"}}]
[null,{"$f":"Sprawdz_pesel(Formularz!#REF!)","v":{"$error":"#VALUE!"}}]
[null,{"$f":"Sprawdz_pesel(Formularz!#REF!)","v":{"$error":"#VALUE!"}}]
[null,{"$f":"Sprawdz_pesel(Formularz!#REF!)","v":{"$error":"#VALUE!"}}]
[null,{"$f":"Sprawdz_pesel(Formularz!#REF!)","v":{"$error":"#VALUE!"}}]
[null,{"$f":"Sprawdz_pesel(Formularz!#REF!)","v":{"$error":"#VALUE!"}}]
[null,{"$f":"Sprawdz_pesel(Formularz!#REF!)","v":{"$error":"#VALUE!"}}]
[null,{"$f":"Sprawdz_pesel(Formularz!#REF!)","v":{"$error":"#VALUE!"}}]
[null,{"$f":"Sprawdz_pesel(Formularz!#REF!)","v":{"$error":"#VALUE!"}}]
[null,{"$f":"Sprawdz_pesel(Formularz!#REF!)","v":{"$error":"#VALUE!"}}]
[null,{"$f":"Sprawdz_pesel(Formularz!#REF!)","v":{"$error":"#VALUE!"}}]
[null,{"$f":"Sprawdz_pesel(Formularz!#REF!)","v":{"$error":"#VALUE!"}}]
[null,{"$f":"Sprawdz_pesel(Formularz!#REF!)","v":{"$error":"#VALUE!"}}]
[null,{"$f":"Sprawdz_pesel(Formularz!#REF!)","v":{"$error":"#VALUE!"}}]
[null,{"$f":"Sprawdz_pesel(Formularz!#REF!)","v":{"$error":"#VALUE!"}}]
[null,{"$f":"Sprawdz_pesel(Formularz!#REF!)","v":{"$error":"#VALUE!"}}]
[null,{"$f":"Sprawdz_pesel(Formularz!#REF!)","v":{"$error":"#VALUE!"}}]
[null,{"$f":"Sprawdz_pesel(Formularz!#REF!)","v":{"$error":"#VALUE!"}}]
[null,{"$f":"Sprawdz_pesel(Formularz!#REF!)","v":{"$error":"#VALUE!"}}]
[null,{"$f":"Sprawdz_pesel(Formularz!#REF!)","v":{"$error":"#VALUE!"}}]
[null,{"$f":"Sprawdz_pesel(Formularz!#REF!)","v":{"$error":"#VALUE!"}}]
[null,{"$f":"Sprawdz_pesel(Formularz!#REF!)","v":{"$error":"#VALUE!"}}]
[null,{"$f":"Sprawdz_pesel(Formularz!#REF!)","v":{"$error":"#VALUE!"}}]
[null,{"$f":"Sprawdz_pesel(Formularz!#REF!)","v":{"$error":"#VALUE!"}}]
[null,{"$f":"Sprawdz_pesel(Formularz!#REF!)","v":{"$error":"#VALUE!"}}]
[null,{"$f":"Sprawdz_pesel(Formularz!#REF!)","v":{"$error":"#VALUE!"}}]
[null,{"$f":"Sprawdz_pesel(Formularz!#REF!)","v":{"$error":"#VALUE!"}}]
[null,{"$f":"Sprawdz_pesel(Formularz!#REF!)","v":{"$error":"#VALUE!"}}]
[null,{"$f":"Sprawdz_pesel(Formularz!#REF!)","v":{"$error":"#VALUE!"}}]
[null,{"$f":"Sprawdz_pesel(Formularz!#REF!)","v":{"$error":"#VALUE!"}}]
[null,{"$f":"Sprawdz_pesel(Formularz!#REF!)","v":{"$error":"#VALUE!"}}]
[null,{"$f":"Sprawdz_pesel(Formularz!#REF!)","v":{"$error":"#VALUE!"}}]
[null,{"$f":"Sprawdz_pesel(Formularz!#REF!)","v":{"$error":"#VALUE!"}}]
[null,{"$f":"Sprawdz_pesel(Formularz!#REF!)","v":{"$error":"#VALUE!"}}]
[null,{"$f":"Sprawdz_pesel(Formularz!#REF!)","v":{"$error":"#VALUE!"}}]
[null,{"$f":"Sprawdz_pesel(Formularz!#REF!)","v":{"$error":"#VALUE!"}}]
[null,{"$f":"Sprawdz_pesel(Formularz!#REF!)","v":{"$error":"#VALUE!"}}]
[null,{"$f":"Sprawdz_pesel(Formularz!#REF!)","v":{"$error":"#VALUE!"}}]
[null,{"$f":"Sprawdz_pesel(Formularz!#REF!)","v":{"$error":"#VALUE!"}}]
[null,{"$f":"Sprawdz_pesel(Formularz!#REF!)","v":{"$error":"#VALUE!"}}]
[null,{"$f":"Sprawdz_pesel(Formularz!#REF!)","v":{"$error":"#VALUE!"}}]
[null,{"$f":"Sprawdz_pesel(Formularz!#REF!)","v":{"$error":"#VALUE!"}}]
[null,{"$f":"Sprawdz_pesel(Formularz!#REF!)","v":{"$error":"#VALUE!"}}]
[null,{"$f":"Sprawdz_pesel(Formularz!#REF!)","v":{"$error":"#VALUE!"}}]
[null,{"$f":"Sprawdz_pesel(Formularz!#REF!)","v":{"$error":"#VALUE!"}}]
[null,{"$f":"Sprawdz_pesel(Formularz!#REF!)","v":{"$error":"#VALUE!"}}]
[null,{"$f":"Sprawdz_pesel(Formularz!#REF!)","v":{"$error":"#VALUE!"}}]
[null,{"$f":"Sprawdz_pesel(Formularz!#REF!)","v":{"$error":"#VALUE!"}}]
[null,{"$f":"Sprawdz_pesel(Formularz!#REF!)","v":{"$error":"#VALUE!"}}]
[null,{"$f":"Sprawdz_pesel(Formularz!#REF!)","v":{"$error":"#VALUE!"}}]
[null,{"$f":"Sprawdz_pesel(Formularz!#REF!)","v":{"$error":"#VALUE!"}}]
[null,{"$f":"Sprawdz_pesel(Formularz!#REF!)","v":{"$error":"#VALUE!"}}]
[null,{"$f":"Sprawdz_pesel(Formularz!#REF!)","v":{"$error":"#VALUE!"}}]
[null,{"$f":"Sprawdz_pesel(Formularz!#REF!)","v":{"$error":"#VALUE!"}}]
[null,{"$f":"Sprawdz_pesel(Formularz!#REF!)","v":{"$error":"#VALUE!"}}]
[null,{"$f":"Sprawdz_pesel(Formularz!#REF!)","v":{"$error":"#VALUE!"}}]
[null,{"$f":"Sprawdz_pesel(Formularz!#REF!)","v":{"$error":"#VALUE!"}}]
[null,{"$f":"Sprawdz_pesel(Formularz!#REF!)","v":{"$error":"#VALUE!"}}]
[null,{"$f":"Sprawdz_pesel(Formularz!#REF!)","v":{"$error":"#VALUE!"}}]
[null,{"$f":"Sprawdz_pesel(Formularz!#REF!)","v":{"$error":"#VALUE!"}}]
[null,{"$f":"Sprawdz_pesel(Formularz!#REF!)","v":{"$error":"#VALUE!"}}]
[null,{"$f":"Sprawdz_pesel(Formularz!#REF!)","v":{"$error":"#VALUE!"}}]
[null,{"$f":"Sprawdz_pesel(Formularz!#REF!)","v":{"$error":"#VALUE!"}}]
[null,{"$f":"Sprawdz_pesel(Formularz!#REF!)","v":{"$error":"#VALUE!"}}]
[null,{"$f":"Sprawdz_pesel(Formularz!#REF!)","v":{"$error":"#VALUE!"}}]
[null,{"$f":"Sprawdz_pesel(Formularz!#REF!)","v":{"$error":"#VALUE!"}}]
[null,{"$f":"Sprawdz_pesel(Formularz!#REF!)","v":{"$error":"#VALUE!"}}]
[null,{"$f":"Sprawdz_pesel(Formularz!#REF!)","v":{"$error":"#VALUE!"}}]
[null,{"$f":"Sprawdz_pesel(Formularz!#REF!)","v":{"$error":"#VALUE!"}}]
[null,{"$f":"Sprawdz_pesel(Formularz!#REF!)","v":{"$error":"#VALUE!"}}]
[null,{"$f":"Sprawdz_pesel(Formularz!#REF!)","v":{"$error":"#VALUE!"}}]
[null,{"$f":"Sprawdz_pesel(Formularz!#REF!)","v":{"$error":"#VALUE!"}}]
[null,{"$f":"Sprawdz_pesel(Formularz!#REF!)","v":{"$error":"#VALUE!"}}]
[null,{"$f":"Sprawdz_pesel(Formularz!#REF!)","v":{"$error":"#VALUE!"}}]
[null,{"$f":"Sprawdz_pesel(Formularz!#REF!)","v":{"$error":"#VALUE!"}}]
[null,{"$f":"Sprawdz_pesel(Formularz!#REF!)","v":{"$error":"#VALUE!"}}]
[null,{"$f":"Sprawdz_pesel(Formularz!#REF!)","v":{"$error":"#VALUE!"}}]
[null,{"$f":"Sprawdz_pesel(Formularz!#REF!)","v":{"$error":"#VALUE!"}}]
[null,{"$f":"Sprawdz_pesel(Formularz!#REF!)","v":{"$error":"#VALUE!"}}]
[null,{"$f":"Sprawdz_pesel(Formularz!#REF!)","v":{"$error":"#VALUE!"}}]
[null,{"$f":"Sprawdz_pesel(Formularz!#REF!)","v":{"$error":"#VALUE!"}}]
[null,{"$f":"Sprawdz_pesel(Formularz!#REF!)","v":{"$error":"#VALUE!"}}]
[null,{"$f":"Sprawdz_pesel(Formularz!#REF!)","v":{"$error":"#VALUE!"}}]
[null,{"$f":"Sprawdz_pesel(Formularz!#REF!)","v":{"$error":"#VALUE!"}}]
[null,{"$f":"Sprawdz_pesel(Formularz!#REF!)","v":{"$error":"#VALUE!"}}]
[null,{"$f":"Sprawdz_pesel(Formularz!#REF!)","v":{"$error":"#VALUE!"}}]
[null,{"$f":"Sprawdz_pesel(Formularz!#REF!)","v":{"$error":"#VALUE!"}}]
[null,{"$f":"Sprawdz_pesel(Formularz!#REF!)","v":{"$error":"#VALUE!"}}]
[null,{"$f":"Sprawdz_pesel(Formularz!#REF!)","v":{"$error":"#VALUE!"}}]
[null,{"$f":"Sprawdz_pesel(Formularz!#REF!)","v":{"$error":"#VALUE!"}}]
[null,{"$f":"Sprawdz_pesel(Formularz!#REF!)","v":{"$error":"#VALUE!"}}]
[null,{"$f":"Sprawdz_pesel(Formularz!#REF!)","v":{"$error":"#VALUE!"}}]
[null,{"$f":"Sprawdz_pesel(Formularz!#REF!)","v":{"$error":"#VALUE!"}}]
[null,{"$f":"Sprawdz_pesel(Formularz!#REF!)","v":{"$error":"#VALUE!"}}]
[null,{"$f":"Sprawdz_pesel(Formularz!#REF!)","v":{"$error":"#VALUE!"}}]
[null,{"$f":"Sprawdz_pesel(Formularz!#REF!)","v":{"$error":"#VALUE!"}}]
[null,{"$f":"Sprawdz_pesel(Formularz!#REF!)","v":{"$error":"#VALUE!"}}]
[null,{"$f":"Sprawdz_pesel(Formularz!#REF!)","v":{"$error":"#VALUE!"}}]
[null,{"$f":"Sprawdz_pesel(Formularz!#REF!)","v":{"$error":"#VALUE!"}}]
[null,{"$f":"Sprawdz_pesel(Formularz!#REF!)","v":{"$error":"#VALUE!"}}]
[null,{"$f":"Sprawdz_pesel(Formularz!#REF!)","v":{"$error":"#VALUE!"}}]
[null,{"$f":"Sprawdz_pesel(Formularz!#REF!)","v":{"$error":"#VALUE!"}}]
[null,{"$f":"Sprawdz_pesel(Formularz!#REF!)","v":{"$error":"#VALUE!"}}]
[null,{"$f":"Sprawdz_pesel(Formularz!#REF!)","v":{"$error":"#VALUE!"}}]
[null,{"$f":"Sprawdz_pesel(Formularz!#REF!)","v":{"$error":"#VALUE!"}}]
[null,{"$f":"Sprawdz_pesel(Formularz!#REF!)","v":{"$error":"#VALUE!"}}]
[null,{"$f":"Sprawdz_pesel(Formularz!#REF!)","v":{"$error":"#VALUE!"}}]
[null,{"$f":"Sprawdz_pesel(Formularz!#REF!)","v":{"$error":"#VALUE!"}}]
[null,{"$f":"Sprawdz_pesel(Formularz!#REF!)","v":{"$error":"#VALUE!"}}]
[null,{"$f":"Sprawdz_pesel(Formularz!#REF!)","v":{"$error":"#VALUE!"}}]
[null,{"$f":"Sprawdz_pesel(Formularz!#REF!)","v":{"$error":"#VALUE!"}}]
[null,{"$f":"Sprawdz_pesel(Formularz!#REF!)","v":{"$error":"#VALUE!"}}]
[null,{"$f":"Sprawdz_pesel(Formularz!#REF!)","v":{"$error":"#VALUE!"}}]
[null,{"$f":"Sprawdz_pesel(Formularz!#REF!)","v":{"$error":"#VALUE!"}}]
[null,{"$f":"Sprawdz_pesel(Formularz!#REF!)","v":{"$error":"#VALUE!"}}]
[null,{"$f":"Sprawdz_pesel(Formularz!#REF!)","v":{"$error":"#VALUE!"}}]
[null,{"$f":"Sprawdz_pesel(Formularz!#REF!)","v":{"$error":"#VALUE!"}}]
[null,{"$f":"Sprawdz_pesel(Formularz!#REF!)","v":{"$error":"#VALUE!"}}]
[null,{"$f":"Sprawdz_pesel(Formularz!#REF!)","v":{"$error":"#VALUE!"}}]
[null,{"$f":"Sprawdz_pesel(Formularz!#REF!)","v":{"$error":"#VALUE!"}}]
[null,{"$f":"Sprawdz_pesel(Formularz!#REF!)","v":{"$error":"#VALUE!"}}]
[null,{"$f":"Sprawdz_pesel(Formularz!#REF!)","v":{"$error":"#VALUE!"}}]
[null,{"$f":"Sprawdz_pesel(Formularz!#REF!)","v":{"$error":"#VALUE!"}}]
[null,{"$f":"Sprawdz_pesel(Formularz!#REF!)","v":{"$error":"#VALUE!"}}]
[null,{"$f":"Sprawdz_pesel(Formularz!#REF!)","v":{"$error":"#VALUE!"}}]
[null,{"$f":"Sprawdz_pesel(Formularz!#REF!)","v":{"$error":"#VALUE!"}}]
[null,{"$f":"Sprawdz_pesel(Formularz!#REF!)","v":{"$error":"#VALUE!"}}]
[null,{"$f":"Sprawdz_pesel(Formularz!#REF!)","v":{"$error":"#VALUE!"}}]
[null,{"$f":"Sprawdz_pesel(Formularz!#REF!)","v":{"$error":"#VALUE!"}}]
[null,{"$f":"Sprawdz_pesel(Formularz!#REF!)","v":{"$error":"#VALUE!"}}]
[null,{"$f":"Sprawdz_pesel(Formularz!#REF!)","v":{"$error":"#VALUE!"}}]
[null,{"$f":"Sprawdz_pesel(Formularz!#REF!)","v":{"$error":"#VALUE!"}}]
[null,{"$f":"Sprawdz_pesel(Formularz!#REF!)","v":{"$error":"#VALUE!"}}]
[null,{"$f":"Sprawdz_pesel(Formularz!#REF!)","v":{"$error":"#VALUE!"}}]
[null,{"$f":"Sprawdz_pesel(Formularz!#REF!)","v":{"$error":"#VALUE!"}}]
[null,{"$f":"Sprawdz_pesel(Formularz!#REF!)","v":{"$error":"#VALUE!"}}]
[null,{"$f":"Sprawdz_pesel(Formularz!#REF!)","v":{"$error":"#VALUE!"}}]
[null,{"$f":"Sprawdz_pesel(Formularz!#REF!)","v":{"$error":"#VALUE!"}}]
[null,{"$f":"Sprawdz_pesel(Formularz!#REF!)","v":{"$error":"#VALUE!"}}]
[null,{"$f":"Sprawdz_pesel(Formularz!#REF!)","v":{"$error":"#VALUE!"}}]
[null,{"$f":"Sprawdz_pesel(Formularz!#REF!)","v":{"$error":"#VALUE!"}}]
[null,{"$f":"Sprawdz_pesel(Formularz!#REF!)","v":{"$error":"#VALUE!"}}]
[null,{"$f":"Sprawdz_pesel(Formularz!#REF!)","v":{"$error":"#VALUE!"}}]
[null,{"$f":"Sprawdz_pesel(Formularz!#REF!)","v":{"$error":"#VALUE!"}}]
[null,{"$f":"Sprawdz_pesel(Formularz!#REF!)","v":{"$error":"#VALUE!"}}]
[null,{"$f":"Sprawdz_pesel(Formularz!#REF!)","v":{"$error":"#VALUE!"}}]
[null,{"$f":"Sprawdz_pesel(Formularz!#REF!)","v":{"$error":"#VALUE!"}}]
[null,{"$f":"Sprawdz_pesel(Formularz!#REF!)","v":{"$error":"#VALUE!"}}]
[null,{"$f":"Sprawdz_pesel(Formularz!#REF!)","v":{"$error":"#VALUE!"}}]
[null,{"$f":"Sprawdz_pesel(Formularz!#REF!)","v":{"$error":"#VALUE!"}}]
[null,{"$f":"Sprawdz_pesel(Formularz!#REF!)","v":{"$error":"#VALUE!"}}]
[null,{"$f":"Sprawdz_pesel(Formularz!#REF!)","v":{"$error":"#VALUE!"}}]
[null,{"$f":"Sprawdz_pesel(Formularz!#REF!)","v":{"$error":"#VALUE!"}}]
[null,{"$f":"Sprawdz_pesel(Formularz!#REF!)","v":{"$error":"#VALUE!"}}]
[null,{"$f":"Sprawdz_pesel(Formularz!#REF!)","v":{"$error":"#VALUE!"}}]
[null,{"$f":"Sprawdz_pesel(Formularz!#REF!)","v":{"$error":"#VALUE!"}}]
[null,{"$f":"Sprawdz_pesel(Formularz!#REF!)","v":{"$error":"#VALUE!"}}]
[null,{"$f":"Sprawdz_pesel(Formularz!#REF!)","v":{"$error":"#VALUE!"}}]
[null,{"$f":"Sprawdz_pesel(Formularz!#REF!)","v":{"$error":"#VALUE!"}}]
[null,{"$f":"Sprawdz_pesel(Formularz!#REF!)","v":{"$error":"#VALUE!"}}]
[null,{"$f":"Sprawdz_pesel(Formularz!#REF!)","v":{"$error":"#VALUE!"}}]
[null,{"$f":"Sprawdz_pesel(Formularz!#REF!)","v":{"$error":"#VALUE!"}}]
[null,{"$f":"Sprawdz_pesel(Formularz!#REF!)","v":{"$error":"#VALUE!"}}]
[null,{"$f":"Sprawdz_pesel(Formularz!#REF!)","v":{"$error":"#VALUE!"}}]
[null,{"$f":"Sprawdz_pesel(Formularz!#REF!)","v":{"$error":"#VALUE!"}}]
[null,{"$f":"Sprawdz_pesel(Formularz!#REF!)","v":{"$error":"#VALUE!"}}]
[null,{"$f":"Sprawdz_pesel(Formularz!#REF!)","v":{"$error":"#VALUE!"}}]
[null,{"$f":"Sprawdz_pesel(Formularz!#REF!)","v":{"$error":"#VALUE!"}}]
[null,{"$f":"Sprawdz_pesel(Formularz!#REF!)","v":{"$error":"#VALUE!"}}]
[null,{"$f":"Sprawdz_pesel(Formularz!#REF!)","v":{"$error":"#VALUE!"}}]
[null,{"$f":"Sprawdz_pesel(Formularz!#REF!)","v":{"$error":"#VALUE!"}}]
[null,{"$f":"Sprawdz_pesel(Formularz!#REF!)","v":{"$error":"#VALUE!"}}]
[null,{"$f":"Sprawdz_pesel(Formularz!#REF!)","v":{"$error":"#VALUE!"}}]
[null,{"$f":"Sprawdz_pesel(Formularz!#REF!)","v":{"$error":"#VALUE!"}}]
[null,{"$f":"Sprawdz_pesel(Formularz!#REF!)","v":{"$error":"#VALUE!"}}]
[null,{"$f":"Sprawdz_pesel(Formularz!#REF!)","v":{"$error":"#VALUE!"}}]
[null,{"$f":"Sprawdz_pesel(Formularz!#REF!)","v":{"$error":"#VALUE!"}}]
[null,{"$f":"Sprawdz_pesel(Formularz!#REF!)","v":{"$error":"#VALUE!"}}]
[null,{"$f":"Sprawdz_pesel(Formularz!#REF!)","v":{"$error":"#VALUE!"}}]
[null,{"$f":"Sprawdz_pesel(Formularz!#REF!)","v":{"$error":"#VALUE!"}}]
[null,{"$f":"Sprawdz_pesel(Formularz!#REF!)","v":{"$error":"#VALUE!"}}]
[null,{"$f":"Sprawdz_pesel(Formularz!#REF!)","v":{"$error":"#VALUE!"}}]
[null,{"$f":"Sprawdz_pesel(Formularz!#REF!)","v":{"$error":"#VALUE!"}}]
[null,{"$f":"Sprawdz_pesel(Formularz!#REF!)","v":{"$error":"#VALUE!"}}]
[null,{"$f":"Sprawdz_pesel(Formularz!#REF!)","v":{"$error":"#VALUE!"}}]
[null,{"$f":"Sprawdz_pesel(Formularz!#REF!)","v":{"$error":"#VALUE!"}}]
[null,{"$f":"Sprawdz_pesel(Formularz!#REF!)","v":{"$error":"#VALUE!"}}]
[null,{"$f":"Sprawdz_pesel(Formularz!#REF!)","v":{"$error":"#VALUE!"}}]
[null,{"$f":"Sprawdz_pesel(Formularz!#REF!)","v":{"$error":"#VALUE!"}}]
[null,{"$f":"Sprawdz_pesel(Formularz!#REF!)","v":{"$error":"#VALUE!"}}]
[null,{"$f":"Sprawdz_pesel(Formularz!#REF!)","v":{"$error":"#VALUE!"}}]
[null,{"$f":"Sprawdz_pesel(Formularz!#REF!)","v":{"$error":"#VALUE!"}}]
[null,{"$f":"Sprawdz_pesel(Formularz!#REF!)","v":{"$error":"#VALUE!"}}]
[null,{"$f":"Sprawdz_pesel(Formularz!#REF!)","v":{"$error":"#VALUE!"}}]
[null,{"$f":"Sprawdz_pesel(Formularz!#REF!)","v":{"$error":"#VALUE!"}}]
[null,{"$f":"Sprawdz_pesel(Formularz!#REF!)","v":{"$error":"#VALUE!"}}]
[null,{"$f":"Sprawdz_pesel(Formularz!#REF!)","v":{"$error":"#VALUE!"}}]
[null,{"$f":"Sprawdz_pesel(Formularz!#REF!)","v":{"$error":"#VALUE!"}}]
[null,{"$f":"Sprawdz_pesel(Formularz!#REF!)","v":{"$error":"#VALUE!"}}]
[null,{"$f":"Sprawdz_pesel(Formularz!#REF!)","v":{"$error":"#VALUE!"}}]
[null,{"$f":"Sprawdz_pesel(Formularz!#REF!)","v":{"$error":"#VALUE!"}}]
[null,{"$f":"Sprawdz_pesel(Formularz!#REF!)","v":{"$error":"#VALUE!"}}]
[null,{"$f":"Sprawdz_pesel(Formularz!#REF!)","v":{"$error":"#VALUE!"}}]
[null,{"$f":"Sprawdz_pesel(Formularz!#REF!)","v":{"$error":"#VALUE!"}}]
[null,{"$f":"Sprawdz_pesel(Formularz!#REF!)","v":{"$error":"#VALUE!"}}]
[null,{"$f":"Sprawdz_pesel(Formularz!#REF!)","v":{"$error":"#VALUE!"}}]
[null,{"$f":"Sprawdz_pesel(Formularz!#REF!)","v":{"$error":"#VALUE!"}}]
[null,{"$f":"Sprawdz_pesel(Formularz!#REF!)","v":{"$error":"#VALUE!"}}]
[null,{"$f":"Sprawdz_pesel(Formularz!#REF!)","v":{"$error":"#VALUE!"}}]
[null,{"$f":"Sprawdz_pesel(Formularz!#REF!)","v":{"$error":"#VALUE!"}}]
[null,{"$f":"Sprawdz_pesel(Formularz!#REF!)","v":{"$error":"#VALUE!"}}]
[null,{"$f":"Sprawdz_pesel(Formularz!#REF!)","v":{"$error":"#VALUE!"}}]
[null,{"$f":"Sprawdz_pesel(Formularz!#REF!)","v":{"$error":"#VALUE!"}}]
[null,{"$f":"Sprawdz_pesel(Formularz!#REF!)","v":{"$error":"#VALUE!"}}]
[null,{"$f":"Sprawdz_pesel(Formularz!#REF!)","v":{"$error":"#VALUE!"}}]
[null,{"$f":"Sprawdz_pesel(Formularz!#REF!)","v":{"$error":"#VALUE!"}}]
[null,{"$f":"Sprawdz_pesel(Formularz!#REF!)","v":{"$error":"#VALUE!"}}]
[null,{"$f":"Sprawdz_pesel(Formularz!#REF!)","v":{"$error":"#VALUE!"}}]
[null,{"$f":"Sprawdz_pesel(Formularz!#REF!)","v":{"$error":"#VALUE!"}}]
[null,{"$f":"Sprawdz_pesel(Formularz!#REF!)","v":{"$error":"#VALUE!"}}]
[null,{"$f":"Sprawdz_pesel(Formularz!#REF!)","v":{"$error":"#VALUE!"}}]
[null,{"$f":"Sprawdz_pesel(Formularz!#REF!)","v":{"$error":"#VALUE!"}}]
[null,{"$f":"Sprawdz_pesel(Formularz!#REF!)","v":{"$error":"#VALUE!"}}]
[null,{"$f":"Sprawdz_pesel(Formularz!#REF!)","v":{"$error":"#VALUE!"}}]
[null,{"$f":"Sprawdz_pesel(Formularz!#REF!)","v":{"$error":"#VALUE!"}}]
[null,{"$f":"Sprawdz_pesel(Formularz!#REF!)","v":{"$error":"#VALUE!"}}]
[null,{"$f":"Sprawdz_pesel(Formularz!#REF!)","v":{"$error":"#VALUE!"}}]
[null,{"$f":"Sprawdz_pesel(Formularz!#REF!)","v":{"$error":"#VALUE!"}}]
[null,{"$f":"Sprawdz_pesel(Formularz!#REF!)","v":{"$error":"#VALUE!"}}]
[null,{"$f":"Sprawdz_pesel(Formularz!#REF!)","v":{"$error":"#VALUE!"}}]
[null,{"$f":"Sprawdz_pesel(Formularz!#REF!)","v":{"$error":"#VALUE!"}}]
[null,{"$f":"Sprawdz_pesel(Formularz!#REF!)","v":{"$error":"#VALUE!"}}]
[null,{"$f":"Sprawdz_pesel(Formularz!#REF!)","v":{"$error":"#VALUE!"}}]
[null,{"$f":"Sprawdz_pesel(Formularz!#REF!)","v":{"$error":"#VALUE!"}}]
[null,{"$f":"Sprawdz_pesel(Formularz!#REF!)","v":{"$error":"#VALUE!"}}]
[null,{"$f":"Sprawdz_pesel(Formularz!#REF!)","v":{"$error":"#VALUE!"}}]
[null,{"$f":"Sprawdz_pesel(Formularz!#REF!)","v":{"$error":"#VALUE!"}}]
[null,{"$f":"Sprawdz_pesel(Formularz!#REF!)","v":{"$error":"#VALUE!"}}]
[null,{"$f":"Sprawdz_pesel(Formularz!#REF!)","v":{"$error":"#VALUE!"}}]
[null,{"$f":"Sprawdz_pesel(Formularz!#REF!)","v":{"$error":"#VALUE!"}}]
[null,{"$f":"Sprawdz_pesel(Formularz!#REF!)","v":{"$error":"#VALUE!"}}]
[null,{"$f":"Sprawdz_pesel(Formularz!#REF!)","v":{"$error":"#VALUE!"}}]
[null,{"$f":"Sprawdz_pesel(Formularz!#REF!)","v":{"$error":"#VALUE!"}}]
[null,{"$f":"Sprawdz_pesel(Formularz!#REF!)","v":{"$error":"#VALUE!"}}]
[null,{"$f":"Sprawdz_pesel(Formularz!#REF!)","v":{"$error":"#VALUE!"}}]
[null,{"$f":"Sprawdz_pesel(Formularz!#REF!)","v":{"$error":"#VALUE!"}}]
[null,{"$f":"Sprawdz_pesel(Formularz!#REF!)","v":{"$error":"#VALUE!"}}]
[null,{"$f":"Sprawdz_pesel(Formularz!#REF!)","v":{"$error":"#VALUE!"}}]
[null,{"$f":"Sprawdz_pesel(Formularz!#REF!)","v":{"$error":"#VALUE!"}}]
[null,{"$f":"Sprawdz_pesel(Formularz!#REF!)","v":{"$error":"#VALUE!"}}]
[null,{"$f":"Sprawdz_pesel(Formularz!#REF!)","v":{"$error":"#VALUE!"}}]
[null,{"$f":"Sprawdz_pesel(Formularz!#REF!)","v":{"$error":"#VALUE!"}}]
[null,{"$f":"Sprawdz_pesel(Formularz!#REF!)","v":{"$error":"#VALUE!"}}]
[null,{"$f":"Sprawdz_pesel(Formularz!#REF!)","v":{"$error":"#VALUE!"}}]
[null,{"$f":"Sprawdz_pesel(Formularz!#REF!)","v":{"$error":"#VALUE!"}}]
[null,{"$f":"Sprawdz_pesel(Formularz!#REF!)","v":{"$error":"#VALUE!"}}]
[null,{"$f":"Sprawdz_pesel(Formularz!#REF!)","v":{"$error":"#VALUE!"}}]
[null,{"$f":"Sprawdz_pesel(Formularz!#REF!)","v":{"$error":"#VALUE!"}}]
[null,{"$f":"Sprawdz_pesel(Formularz!#REF!)","v":{"$error":"#VALUE!"}}]
[null,{"$f":"Sprawdz_pesel(Formularz!#REF!)","v":{"$error":"#VALUE!"}}]
[null,{"$f":"Sprawdz_pesel(Formularz!#REF!)","v":{"$error":"#VALUE!"}}]
[null,{"$f":"Sprawdz_pesel(Formularz!#REF!)","v":{"$error":"#VALUE!"}}]
[null,{"$f":"Sprawdz_pesel(Formularz!#REF!)","v":{"$error":"#VALUE!"}}]
[null,{"$f":"Sprawdz_pesel(Formularz!#REF!)","v":{"$error":"#VALUE!"}}]
[null,{"$f":"Sprawdz_pesel(Formularz!#REF!)","v":{"$error":"#VALUE!"}}]
[null,{"$f":"Sprawdz_pesel(Formularz!#REF!)","v":{"$error":"#VALUE!"}}]
[null,{"$f":"Sprawdz_pesel(Formularz!#REF!)","v":{"$error":"#VALUE!"}}]
[null,{"$f":"Sprawdz_pesel(Formularz!#REF!)","v":{"$error":"#VALUE!"}}]
[null,{"$f":"Sprawdz_pesel(Formularz!#REF!)","v":{"$error":"#VALUE!"}}]
[null,{"$f":"Sprawdz_pesel(Formularz!#REF!)","v":{"$error":"#VALUE!"}}]
[null,{"$f":"Sprawdz_pesel(Formularz!#REF!)","v":{"$error":"#VALUE!"}}]
[null,{"$f":"Sprawdz_pesel(Formularz!#REF!)","v":{"$error":"#VALUE!"}}]
[null,{"$f":"Sprawdz_pesel(Formularz!#REF!)","v":{"$error":"#VALUE!"}}]
[null,{"$f":"Sprawdz_pesel(Formularz!#REF!)","v":{"$error":"#VALUE!"}}]
[null,{"$f":"Sprawdz_pesel(Formularz!#REF!)","v":{"$error":"#VALUE!"}}]
[null,{"$f":"Sprawdz_pesel(Formularz!#REF!)","v":{"$error":"#VALUE!"}}]
[null,{"$f":"Sprawdz_pesel(Formularz!#REF!)","v":{"$error":"#VALUE!"}}]
[null,{"$f":"Sprawdz_pesel(Formularz!#REF!)","v":{"$error":"#VALUE!"}}]
[null,{"$f":"Sprawdz_pesel(Formularz!#REF!)","v":{"$error":"#VALUE!"}}]
[null,{"$f":"Sprawdz_pesel(Formularz!#REF!)","v":{"$error":"#VALUE!"}}]
[null,{"$f":"Sprawdz_pesel(Formularz!#REF!)","v":{"$error":"#VALUE!"}}]
[null,{"$f":"Sprawdz_pesel(Formularz!#REF!)","v":{"$error":"#VALUE!"}}]
[null,{"$f":"Sprawdz_pesel(Formularz!#REF!)","v":{"$error":"#VALUE!"}}]
[null,{"$f":"Sprawdz_pesel(Formularz!#REF!)","v":{"$error":"#VALUE!"}}]
[null,{"$f":"Sprawdz_pesel(Formularz!#REF!)","v":{"$error":"#VALUE!"}}]
[null,{"$f":"Sprawdz_pesel(Formularz!#REF!)","v":{"$error":"#VALUE!"}}]
[null,{"$f":"Sprawdz_pesel(Formularz!#REF!)","v":{"$error":"#VALUE!"}}]
[null,{"$f":"Sprawdz_pesel(Formularz!#REF!)","v":{"$error":"#VALUE!"}}]
[null,{"$f":"Sprawdz_pesel(Formularz!#REF!)","v":{"$error":"#VALUE!"}}]
[null,{"$f":"Sprawdz_pesel(Formularz!#REF!)","v":{"$error":"#VALUE!"}}]
[null,{"$f":"Sprawdz_pesel(Formularz!#REF!)","v":{"$error":"#VALUE!"}}]
[null,{"$f":"Sprawdz_pesel(Formularz!#REF!)","v":{"$error":"#VALUE!"}}]
[null,{"$f":"Sprawdz_pesel(Formularz!#REF!)","v":{"$error":"#VALUE!"}}]
[null,{"$f":"Sprawdz_pesel(Formularz!#REF!)","v":{"$error":"#VALUE!"}}]
[null,{"$f":"Sprawdz_pesel(Formularz!#REF!)","v":{"$error":"#VALUE!"}}]
[null,{"$f":"Sprawdz_pesel(Formularz!#REF!)","v":{"$error":"#VALUE!"}}]
[null,{"$f":"Sprawdz_pesel(Formularz!#REF!)","v":{"$error":"#VALUE!"}}]
[null,{"$f":"Sprawdz_pesel(Formularz!#REF!)","v":{"$error":"#VALUE!"}}]
[null,{"$f":"Sprawdz_pesel(Formularz!#REF!)","v":{"$error":"#VALUE!"}}]
[null,{"$f":"Sprawdz_pesel(Formularz!#REF!)","v":{"$error":"#VALUE!"}}]
[null,{"$f":"Sprawdz_pesel(Formularz!#REF!)","v":{"$error":"#VALUE!"}}]
[null,{"$f":"Sprawdz_pesel(Formularz!#REF!)","v":{"$error":"#VALUE!"}}]
[null,{"$f":"Sprawdz_pesel(Formularz!#REF!)","v":{"$error":"#VALUE!"}}]
[null,{"$f":"Sprawdz_pesel(Formularz!#REF!)","v":{"$error":"#VALUE!"}}]
[null,{"$f":"Sprawdz_pesel(Formularz!#REF!)","v":{"$error":"#VALUE!"}}]
[null,{"$f":"Sprawdz_pesel(Formularz!#REF!)","v":{"$error":"#VALUE!"}}]
[null,{"$f":"Sprawdz_pesel(Formularz!#REF!)","v":{"$error":"#VALUE!"}}]
[null,{"$f":"Sprawdz_pesel(Formularz!#REF!)","v":{"$error":"#VALUE!"}}]
[null,{"$f":"Sprawdz_pesel(Formularz!#REF!)","v":{"$error":"#VALUE!"}}]
[null,{"$f":"Sprawdz_pesel(Formularz!#REF!)","v":{"$error":"#VALUE!"}}]
[null,{"$f":"Sprawdz_pesel(Formularz!#REF!)","v":{"$error":"#VALUE!"}}]
[null,{"$f":"Sprawdz_pesel(Formularz!#REF!)","v":{"$error":"#VALUE!"}}]
[null,{"$f":"Sprawdz_pesel(Formularz!#REF!)","v":{"$error":"#VALUE!"}}]
[null,{"$f":"Sprawdz_pesel(Formularz!#REF!)","v":{"$error":"#VALUE!"}}]
[null,{"$f":"Sprawdz_pesel(Formularz!#REF!)","v":{"$error":"#VALUE!"}}]
[null,{"$f":"Sprawdz_pesel(Formularz!#REF!)","v":{"$error":"#VALUE!"}}]
[null,{"$f":"Sprawdz_pesel(Formularz!#REF!)","v":{"$error":"#VALUE!"}}]
[null,{"$f":"Sprawdz_pesel(Formularz!#REF!)","v":{"$error":"#VALUE!"}}]
[null,{"$f":"Sprawdz_pesel(Formularz!#REF!)","v":{"$error":"#VALUE!"}}]
[null,{"$f":"Sprawdz_pesel(Formularz!#REF!)","v":{"$error":"#VALUE!"}}]
[null,{"$f":"Sprawdz_pesel(Formularz!#REF!)","v":{"$error":"#VALUE!"}}]
[null,{"$f":"Sprawdz_pesel(Formularz!#REF!)","v":{"$error":"#VALUE!"}}]
[null,{"$f":"Sprawdz_pesel(Formularz!#REF!)","v":{"$error":"#VALUE!"}}]
[null,{"$f":"Sprawdz_pesel(Formularz!#REF!)","v":{"$error":"#VALUE!"}}]
[null,{"$f":"Sprawdz_pesel(Formularz!#REF!)","v":{"$error":"#VALUE!"}}]
[null,{"$f":"Sprawdz_pesel(Formularz!#REF!)","v":{"$error":"#VALUE!"}}]
[null,{"$f":"Sprawdz_pesel(Formularz!#REF!)","v":{"$error":"#VALUE!"}}]
[null,{"$f":"Sprawdz_pesel(Formularz!#REF!)","v":{"$error":"#VALUE!"}}]
[null,{"$f":"Sprawdz_pesel(Formularz!#REF!)","v":{"$error":"#VALUE!"}}]
[null,{"$f":"Sprawdz_pesel(Formularz!#REF!)","v":{"$error":"#VALUE!"}}]
[null,{"$f":"Sprawdz_pesel(Formularz!#REF!)","v":{"$error":"#VALUE!"}}]
[null,{"$f":"Sprawdz_pesel(Formularz!#REF!)","v":{"$error":"#VALUE!"}}]
[null,{"$f":"Sprawdz_pesel(Formularz!#REF!)","v":{"$error":"#VALUE!"}}]
[null,{"$f":"Sprawdz_pesel(Formularz!#REF!)","v":{"$error":"#VALUE!"}}]
[null,{"$f":"Sprawdz_pesel(Formularz!#REF!)","v":{"$error":"#VALUE!"}}]
[null,{"$f":"Sprawdz_pesel(Formularz!#REF!)","v":{"$error":"#VALUE!"}}]
[null,{"$f":"Sprawdz_pesel(Formularz!#REF!)","v":{"$error":"#VALUE!"}}]
[null,{"$f":"Sprawdz_pesel(Formularz!#REF!)","v":{"$error":"#VALUE!"}}]
[null,{"$f":"Sprawdz_pesel(Formularz!#REF!)","v":{"$error":"#VALUE!"}}]
[null,{"$f":"Sprawdz_pesel(Formularz!#REF!)","v":{"$error":"#VALUE!"}}]
[null,{"$f":"Sprawdz_pesel(Formularz!#REF!)","v":{"$error":"#VALUE!"}}]
[null,{"$f":"Sprawdz_pesel(Formularz!#REF!)","v":{"$error":"#VALUE!"}}]
[null,{"$f":"Sprawdz_pesel(Formularz!#REF!)","v":{"$error":"#VALUE!"}}]
[null,{"$f":"Sprawdz_pesel(Formularz!#REF!)","v":{"$error":"#VALUE!"}}]
[null,{"$f":"Sprawdz_pesel(Formularz!#REF!)","v":{"$error":"#VALUE!"}}]
[null,{"$f":"Sprawdz_pesel(Formularz!#REF!)","v":{"$error":"#VALUE!"}}]
[null,{"$f":"Sprawdz_pesel(Formularz!#REF!)","v":{"$error":"#VALUE!"}}]
[null,{"$f":"Sprawdz_pesel(Formularz!#REF!)","v":{"$error":"#VALUE!"}}]
[null,{"$f":"Sprawdz_pesel(Formularz!#REF!)","v":{"$error":"#VALUE!"}}]
[null,{"$f":"Sprawdz_pesel(Formularz!#REF!)","v":{"$error":"#VALUE!"}}]
[null,{"$f":"Sprawdz_pesel(Formularz!#REF!)","v":{"$error":"#VALUE!"}}]
[null,{"$f":"Sprawdz_pesel(Formularz!#REF!)","v":{"$error":"#VALUE!"}}]
[null,{"$f":"Sprawdz_pesel(Formularz!#REF!)","v":{"$error":"#VALUE!"}}]
[null,{"$f":"Sprawdz_pesel(Formularz!#REF!)","v":{"$error":"#VALUE!"}}]
[null,{"$f":"Sprawdz_pesel(Formularz!#REF!)","v":{"$error":"#VALUE!"}}]
[null,{"$f":"Sprawdz_pesel(Formularz!#REF!)","v":{"$error":"#VALUE!"}}]
[null,{"$f":"Sprawdz_pesel(Formularz!#REF!)","v":{"$error":"#VALUE!"}}]
[null,{"$f":"Sprawdz_pesel(Formularz!#REF!)","v":{"$error":"#VALUE!"}}]
[null,{"$f":"Sprawdz_pesel(Formularz!#REF!)","v":{"$error":"#VALUE!"}}]
[null,{"$f":"Sprawdz_pesel(Formularz!#REF!)","v":{"$error":"#VALUE!"}}]
[null,{"$f":"Sprawdz_pesel(Formularz!#REF!)","v":{"$error":"#VALUE!"}}]
[null,{"$f":"Sprawdz_pesel(Formularz!#REF!)","v":{"$error":"#VALUE!"}}]
[null,{"$f":"Sprawdz_pesel(Formularz!#REF!)","v":{"$error":"#VALUE!"}}]
[null,{"$f":"Sprawdz_pesel(Formularz!#REF!)","v":{"$error":"#VALUE!"}}]
[null,{"$f":"Sprawdz_pesel(Formularz!#REF!)","v":{"$error":"#VALUE!"}}]
[null,{"$f":"Sprawdz_pesel(Formularz!#REF!)","v":{"$error":"#VALUE!"}}]
[null,{"$f":"Sprawdz_pesel(Formularz!#REF!)","v":{"$error":"#VALUE!"}}]
[null,{"$f":"Sprawdz_pesel(Formularz!#REF!)","v":{"$error":"#VALUE!"}}]
[null,{"$f":"Sprawdz_pesel(Formularz!#REF!)","v":{"$error":"#VALUE!"}}]
[null,{"$f":"Sprawdz_pesel(Formularz!#REF!)","v":{"$error":"#VALUE!"}}]
[null,{"$f":"Sprawdz_pesel(Formularz!#REF!)","v":{"$error":"#VALUE!"}}]
[null,{"$f":"Sprawdz_pesel(Formularz!#REF!)","v":{"$error":"#VALUE!"}}]
[null,{"$f":"Sprawdz_pesel(Formularz!#REF!)","v":{"$error":"#VALUE!"}}]
[null,{"$f":"Sprawdz_pesel(Formularz!#REF!)","v":{"$error":"#VALUE!"}}]
[null,{"$f":"Sprawdz_pesel(Formularz!#REF!)","v":{"$error":"#VALUE!"}}]
[null,{"$f":"Sprawdz_pesel(Formularz!#REF!)","v":{"$error":"#VALUE!"}}]
[null,{"$f":"Sprawdz_pesel(Formularz!#REF!)","v":{"$error":"#VALUE!"}}]
[null,{"$f":"Sprawdz_pesel(Formularz!#REF!)","v":{"$error":"#VALUE!"}}]
[null,{"$f":"Sprawdz_pesel(Formularz!#REF!)","v":{"$error":"#VALUE!"}}]
[null,{"$f":"Sprawdz_pesel(Formularz!#REF!)","v":{"$error":"#VALUE!"}}]
[null,{"$f":"Sprawdz_pesel(Formularz!#REF!)","v":{"$error":"#VALUE!"}}]
[null,{"$f":"Sprawdz_pesel(Formularz!#REF!)","v":{"$error":"#VALUE!"}}]
[null,{"$f":"Sprawdz_pesel(Formularz!#REF!)","v":{"$error":"#VALUE!"}}]
[null,{"$f":"Sprawdz_pesel(Formularz!#REF!)","v":{"$error":"#VALUE!"}}]
[null,{"$f":"Sprawdz_pesel(Formularz!#REF!)","v":{"$error":"#VALUE!"}}]
[null,{"$f":"Sprawdz_pesel(Formularz!#REF!)","v":{"$error":"#VALUE!"}}]
[null,{"$f":"Sprawdz_pesel(Formularz!#REF!)","v":{"$error":"#VALUE!"}}]
[null,{"$f":"Sprawdz_pesel(Formularz!#REF!)","v":{"$error":"#VALUE!"}}]
[null,{"$f":"Sprawdz_pesel(Formularz!#REF!)","v":{"$error":"#VALUE!"}}]
[null,{"$f":"Sprawdz_pesel(Formularz!#REF!)","v":{"$error":"#VALUE!"}}]
[null,{"$f":"Sprawdz_pesel(Formularz!#REF!)","v":{"$error":"#VALUE!"}}]
[null,{"$f":"Sprawdz_pesel(Formularz!#REF!)","v":{"$error":"#VALUE!"}}]
[null,{"$f":"Sprawdz_pesel(Formularz!#REF!)","v":{"$error":"#VALUE!"}}]
[null,{"$f":"Sprawdz_pesel(Formularz!#REF!)","v":{"$error":"#VALUE!"}}]
[null,{"$f":"Sprawdz_pesel(Formularz!#REF!)","v":{"$error":"#VALUE!"}}]
[null,{"$f":"Sprawdz_pesel(Formularz!#REF!)","v":{"$error":"#VALUE!"}}]
[null,{"$f":"Sprawdz_pesel(Formularz!#REF!)","v":{"$error":"#VALUE!"}}]
[null,{"$f":"Sprawdz_pesel(Formularz!#REF!)","v":{"$error":"#VALUE!"}}]
[null,{"$f":"Sprawdz_pesel(Formularz!#REF!)","v":{"$error":"#VALUE!"}}]
[null,{"$f":"Sprawdz_pesel(Formularz!#REF!)","v":{"$error":"#VALUE!"}}]
[null,{"$f":"Sprawdz_pesel(Formularz!#REF!)","v":{"$error":"#VALUE!"}}]
[null,{"$f":"Sprawdz_pesel(Formularz!#REF!)","v":{"$error":"#VALUE!"}}]
[null,{"$f":"Sprawdz_pesel(Formularz!#REF!)","v":{"$error":"#VALUE!"}}]
[null,{"$f":"Sprawdz_pesel(Formularz!#REF!)","v":{"$error":"#VALUE!"}}]
[null,{"$f":"Sprawdz_pesel(Formularz!#REF!)","v":{"$error":"#VALUE!"}}]
[null,{"$f":"Sprawdz_pesel(Formularz!#REF!)","v":{"$error":"#VALUE!"}}]
[null,{"$f":"Sprawdz_pesel(Formularz!#REF!)","v":{"$error":"#VALUE!"}}]
[null,{"$f":"Sprawdz_pesel(Formularz!#REF!)","v":{"$error":"#VALUE!"}}]
[null,{"$f":"Sprawdz_pesel(Formularz!#REF!)","v":{"$error":"#VALUE!"}}]
[null,{"$f":"Sprawdz_pesel(Formularz!#REF!)","v":{"$error":"#VALUE!"}}]
[null,{"$f":"Sprawdz_pesel(Formularz!#REF!)","v":{"$error":"#VALUE!"}}]
[null,{"$f":"Sprawdz_pesel(Formularz!#REF!)","v":{"$error":"#VALUE!"}}]
[null,{"$f":"Sprawdz_pesel(Formularz!#REF!)","v":{"$error":"#VALUE!"}}]
[null,{"$f":"Sprawdz_pesel(Formularz!#REF!)","v":{"$error":"#VALUE!"}}]
[null,{"$f":"Sprawdz_pesel(Formularz!#REF!)","v":{"$error":"#VALUE!"}}]
[null,{"$f":"Sprawdz_pesel(Formularz!#REF!)","v":{"$error":"#VALUE!"}}]
[null,{"$f":"Sprawdz_pesel(Formularz!#REF!)","v":{"$error":"#VALUE!"}}]
[null,{"$f":"Sprawdz_pesel(Formularz!#REF!)","v":{"$error":"#VALUE!"}}]
[null,{"$f":"Sprawdz_pesel(Formularz!#REF!)","v":{"$error":"#VALUE!"}}]
[null,{"$f":"Sprawdz_pesel(Formularz!#REF!)","v":{"$error":"#VALUE!"}}]
[null,{"$f":"Sprawdz_pesel(Formularz!#REF!)","v":{"$error":"#VALUE!"}}]
[null,{"$f":"Sprawdz_pesel(Formularz!#REF!)","v":{"$error":"#VALUE!"}}]
[null,{"$f":"Sprawdz_pesel(Formularz!#REF!)","v":{"$error":"#VALUE!"}}]
[null,{"$f":"Sprawdz_pesel(Formularz!#REF!)","v":{"$error":"#VALUE!"}}]
[null,{"$f":"Sprawdz_pesel(Formularz!#REF!)","v":{"$error":"#VALUE!"}}]
[null,{"$f":"Sprawdz_pesel(Formularz!#REF!)","v":{"$error":"#VALUE!"}}]
[null,{"$f":"Sprawdz_pesel(Formularz!#REF!)","v":{"$error":"#VALUE!"}}]
[null,{"$f":"Sprawdz_pesel(Formularz!#REF!)","v":{"$error":"#VALUE!"}}]
[null,{"$f":"Sprawdz_pesel(Formularz!#REF!)","v":{"$error":"#VALUE!"}}]
[null,{"$f":"Sprawdz_pesel(Formularz!#REF!)","v":{"$error":"#VALUE!"}}]
[null,{"$f":"Sprawdz_pesel(Formularz!#REF!)","v":{"$error":"#VALUE!"}}]
[null,{"$f":"Sprawdz_pesel(Formularz!#REF!)","v":{"$error":"#VALUE!"}}]
[null,{"$f":"Sprawdz_pesel(Formularz!#REF!)","v":{"$error":"#VALUE!"}}]
[null,{"$f":"Sprawdz_pesel(Formularz!#REF!)","v":{"$error":"#VALUE!"}}]
[null,{"$f":"Sprawdz_pesel(Formularz!#REF!)","v":{"$error":"#VALUE!"}}]
[null,{"$f":"Sprawdz_pesel(Formularz!#REF!)","v":{"$error":"#VALUE!"}}]
[null,{"$f":"Sprawdz_pesel(Formularz!#REF!)","v":{"$error":"#VALUE!"}}]
[null,{"$f":"Sprawdz_pesel(Formularz!#REF!)","v":{"$error":"#VALUE!"}}]
[null,{"$f":"Sprawdz_pesel(Formularz!#REF!)","v":{"$error":"#VALUE!"}}]
[null,{"$f":"Sprawdz_pesel(Formularz!#REF!)","v":{"$error":"#VALUE!"}}]
[null,{"$f":"Sprawdz_pesel(Formularz!#REF!)","v":{"$error":"#VALUE!"}}]
[null,{"$f":"Sprawdz_pesel(Formularz!#REF!)","v":{"$error":"#VALUE!"}}]
[null,{"$f":"Sprawdz_pesel(Formularz!#REF!)","v":{"$error":"#VALUE!"}}]
[null,{"$f":"Sprawdz_pesel(Formularz!#REF!)","v":{"$error":"#VALUE!"}}]
[null,{"$f":"Sprawdz_pesel(Formularz!#REF!)","v":{"$error":"#VALUE!"}}]
[null,{"$f":"Sprawdz_pesel(Formularz!#REF!)","v":{"$error":"#VALUE!"}}]
[null,{"$f":"Sprawdz_pesel(Formularz!#REF!)","v":{"$error":"#VALUE!"}}]
[null,{"$f":"Sprawdz_pesel(Formularz!#REF!)","v":{"$error":"#VALUE!"}}]
[null,{"$f":"Sprawdz_pesel(Formularz!#REF!)","v":{"$error":"#VALUE!"}}]
[null,{"$f":"Sprawdz_pesel(Formularz!#REF!)","v":{"$error":"#VALUE!"}}]
[null,{"$f":"Sprawdz_pesel(Formularz!#REF!)","v":{"$error":"#VALUE!"}}]
[null,{"$f":"Sprawdz_pesel(Formularz!#REF!)","v":{"$error":"#VALUE!"}}]
[null,{"$f":"Sprawdz_pesel(Formularz!#REF!)","v":{"$error":"#VALUE!"}}]
[null,{"$f":"Sprawdz_pesel(Formularz!#REF!)","v":{"$error":"#VALUE!"}}]
[null,{"$f":"Sprawdz_pesel(Formularz!#REF!)","v":{"$error":"#VALUE!"}}]
[null,{"$f":"Sprawdz_pesel(Formularz!#REF!)","v":{"$error":"#VALUE!"}}]
[null,{"$f":"Sprawdz_pesel(Formularz!#REF!)","v":{"$error":"#VALUE!"}}]
[null,{"$f":"Sprawdz_pesel(Formularz!#REF!)","v":{"$error":"#VALUE!"}}]
[null,{"$f":"Sprawdz_pesel(Formularz!#REF!)","v":{"$error":"#VALUE!"}}]
[null,{"$f":"Sprawdz_pesel(Formularz!#REF!)","v":{"$error":"#VALUE!"}}]
[null,{"$f":"Sprawdz_pesel(Formularz!#REF!)","v":{"$error":"#VALUE!"}}]
[null,{"$f":"Sprawdz_pesel(Formularz!#REF!)","v":{"$error":"#VALUE!"}}]
[null,{"$f":"Sprawdz_pesel(Formularz!#REF!)","v":{"$error":"#VALUE!"}}]
[null,{"$f":"Sprawdz_pesel(Formularz!#REF!)","v":{"$error":"#VALUE!"}}]
[null,{"$f":"Sprawdz_pesel(Formularz!#REF!)","v":{"$error":"#VALUE!"}}]
[null,{"$f":"Sprawdz_pesel(Formularz!#REF!)","v":{"$error":"#VALUE!"}}]
[null,{"$f":"Sprawdz_pesel(Formularz!#REF!)","v":{"$error":"#VALUE!"}}]
[null,{"$f":"Sprawdz_pesel(Formularz!#REF!)","v":{"$error":"#VALUE!"}}]
[null,{"$f":"Sprawdz_pesel(Formularz!#REF!)","v":{"$error":"#VALUE!"}}]
[null,{"$f":"Sprawdz_pesel(Formularz!#REF!)","v":{"$error":"#VALUE!"}}]
[null,{"$f":"Sprawdz_pesel(Formularz!#REF!)","v":{"$error":"#VALUE!"}}]
[null,{"$f":"Sprawdz_pesel(Formularz!#REF!)","v":{"$error":"#VALUE!"}}]
[null,{"$f":"Sprawdz_pesel(Formularz!#REF!)","v":{"$error":"#VALUE!"}}]
[null,{"$f":"Sprawdz_pesel(Formularz!#REF!)","v":{"$error":"#VALUE!"}}]
[null,{"$f":"Sprawdz_pesel(Formularz!#REF!)","v":{"$error":"#VALUE!"}}]
[null,{"$f":"Sprawdz_pesel(Formularz!#REF!)","v":{"$error":"#VALUE!"}}]
[null,{"$f":"Sprawdz_pesel(Formularz!#REF!)","v":{"$error":"#VALUE!"}}]
[null,{"$f":"Sprawdz_pesel(Formularz!#REF!)","v":{"$error":"#VALUE!"}}]
[null,{"$f":"Sprawdz_pesel(Formularz!#REF!)","v":{"$error":"#VALUE!"}}]
[null,{"$f":"Sprawdz_pesel(Formularz!#REF!)","v":{"$error":"#VALUE!"}}]
[null,{"$f":"Sprawdz_pesel(Formularz!#REF!)","v":{"$error":"#VALUE!"}}]
[null,{"$f":"Sprawdz_pesel(Formularz!#REF!)","v":{"$error":"#VALUE!"}}]
[null,{"$f":"Sprawdz_pesel(Formularz!#REF!)","v":{"$error":"#VALUE!"}}]
[null,{"$f":"Sprawdz_pesel(Formularz!#REF!)","v":{"$error":"#VALUE!"}}]
[null,{"$f":"Sprawdz_pesel(Formularz!#REF!)","v":{"$error":"#VALUE!"}}]
[null,{"$f":"Sprawdz_pesel(Formularz!#REF!)","v":{"$error":"#VALUE!"}}]
[null,{"$f":"Sprawdz_pesel(Formularz!#REF!)","v":{"$error":"#VALUE!"}}]
[null,{"$f":"Sprawdz_pesel(Formularz!#REF!)","v":{"$error":"#VALUE!"}}]
[null,{"$f":"Sprawdz_pesel(Formularz!#REF!)","v":{"$error":"#VALUE!"}}]
[null,{"$f":"Sprawdz_pesel(Formularz!#REF!)","v":{"$error":"#VALUE!"}}]
[null,{"$f":"Sprawdz_pesel(Formularz!#REF!)","v":{"$error":"#VALUE!"}}]
[null,{"$f":"Sprawdz_pesel(Formularz!#REF!)","v":{"$error":"#VALUE!"}}]
[null,{"$f":"Sprawdz_pesel(Formularz!#REF!)","v":{"$error":"#VALUE!"}}]
[null,{"$f":"Sprawdz_pesel(Formularz!#REF!)","v":{"$error":"#VALUE!"}}]
[null,{"$f":"Sprawdz_pesel(Formularz!#REF!)","v":{"$error":"#VALUE!"}}]
[null,{"$f":"Sprawdz_pesel(Formularz!#REF!)","v":{"$error":"#VALUE!"}}]
[null,{"$f":"Sprawdz_pesel(Formularz!#REF!)","v":{"$error":"#VALUE!"}}]
[null,{"$f":"Sprawdz_pesel(Formularz!#REF!)","v":{"$error":"#VALUE!"}}]
[null,{"$f":"Sprawdz_pesel(Formularz!#REF!)","v":{"$error":"#VALUE!"}}]
[null,{"$f":"Sprawdz_pesel(Formularz!#REF!)","v":{"$error":"#VALUE!"}}]
[null,{"$f":"Sprawdz_pesel(Formularz!#REF!)","v":{"$error":"#VALUE!"}}]
[null,{"$f":"Sprawdz_pesel(Formularz!#REF!)","v":{"$error":"#VALUE!"}}]
[null,{"$f":"Sprawdz_pesel(Formularz!#REF!)","v":{"$error":"#VALUE!"}}]
[null,{"$f":"Sprawdz_pesel(Formularz!#REF!)","v":{"$error":"#VALUE!"}}]
[null,{"$f":"Sprawdz_pesel(Formularz!#REF!)","v":{"$error":"#VALUE!"}}]
[null,{"$f":"Sprawdz_pesel(Formularz!#REF!)","v":{"$error":"#VALUE!"}}]
[null,{"$f":"Sprawdz_pesel(Formularz!#REF!)","v":{"$error":"#VALUE!"}}]
[null,{"$f":"Sprawdz_pesel(Formularz!#REF!)","v":{"$error":"#VALUE!"}}]
[null,{"$f":"Sprawdz_pesel(Formularz!#REF!)","v":{"$error":"#VALUE!"}}]
[null,{"$f":"Sprawdz_pesel(Formularz!#REF!)","v":{"$error":"#VALUE!"}}]
[null,{"$f":"Sprawdz_pesel(Formularz!#REF!)","v":{"$error":"#VALUE!"}}]
[null,{"$f":"Sprawdz_pesel(Formularz!#REF!)","v":{"$error":"#VALUE!"}}]
[null,{"$f":"Sprawdz_pesel(Formularz!#REF!)","v":{"$error":"#VALUE!"}}]
[null,{"$f":"Sprawdz_pesel(Formularz!#REF!)","v":{"$error":"#VALUE!"}}]
[null,{"$f":"Sprawdz_pesel(Formularz!#REF!)","v":{"$error":"#VALUE!"}}]
[null,{"$f":"Sprawdz_pesel(Formularz!#REF!)","v":{"$error":"#VALUE!"}}]
[null,{"$f":"Sprawdz_pesel(Formularz!#REF!)","v":{"$error":"#VALUE!"}}]
[null,{"$f":"Sprawdz_pesel(Formularz!#REF!)","v":{"$error":"#VALUE!"}}]
[null,{"$f":"Sprawdz_pesel(Formularz!#REF!)","v":{"$error":"#VALUE!"}}]
[null,{"$f":"Sprawdz_pesel(Formularz!#REF!)","v":{"$error":"#VALUE!"}}]
[null,{"$f":"Sprawdz_pesel(Formularz!#REF!)","v":{"$error":"#VALUE!"}}]
[null,{"$f":"Sprawdz_pesel(Formularz!#REF!)","v":{"$error":"#VALUE!"}}]
[null,{"$f":"Sprawdz_pesel(Formularz!#REF!)","v":{"$error":"#VALUE!"}}]
[null,{"$f":"Sprawdz_pesel(Formularz!#REF!)","v":{"$error":"#VALUE!"}}]
[null,{"$f":"Sprawdz_pesel(Formularz!#REF!)","v":{"$error":"#VALUE!"}}]
[null,{"$f":"Sprawdz_pesel(Formularz!#REF!)","v":{"$error":"#VALUE!"}}]
[null,{"$f":"Sprawdz_pesel(Formularz!#REF!)","v":{"$error":"#VALUE!"}}]
[null,{"$f":"Sprawdz_pesel(Formularz!#REF!)","v":{"$error":"#VALUE!"}}]
[null,{"$f":"Sprawdz_pesel(Formularz!#REF!)","v":{"$error":"#VALUE!"}}]
[null,{"$f":"Sprawdz_pesel(Formularz!#REF!)","v":{"$error":"#VALUE!"}}]
[null,{"$f":"Sprawdz_pesel(Formularz!#REF!)","v":{"$error":"#VALUE!"}}]
[null,{"$f":"Sprawdz_pesel(Formularz!#REF!)","v":{"$error":"#VALUE!"}}]
[null,{"$f":"Sprawdz_pesel(Formularz!#REF!)","v":{"$error":"#VALUE!"}}]
[null,{"$f":"Sprawdz_pesel(Formularz!#REF!)","v":{"$error":"#VALUE!"}}]
[null,{"$f":"Sprawdz_pesel(Formularz!#REF!)","v":{"$error":"#VALUE!"}}]
[null,{"$f":"Sprawdz_pesel(Formularz!#REF!)","v":{"$error":"#VALUE!"}}]
[null,{"$f":"Sprawdz_pesel(Formularz!#REF!)","v":{"$error":"#VALUE!"}}]
[null,{"$f":"Sprawdz_pesel(Formularz!#REF!)","v":{"$error":"#VALUE!"}}]
[null,{"$f":"Sprawdz_pesel(Formularz!#REF!)","v":{"$error":"#VALUE!"}}]
[null,{"$f":"Sprawdz_pesel(Formularz!#REF!)","v":{"$error":"#VALUE!"}}]
[null,{"$f":"Sprawdz_pesel(Formularz!#REF!)","v":{"$error":"#VALUE!"}}]
[null,{"$f":"Sprawdz_pesel(Formularz!#REF!)","v":{"$error":"#VALUE!"}}]
[null,{"$f":"Sprawdz_pesel(Formularz!#REF!)","v":{"$error":"#VALUE!"}}]
[null,{"$f":"Sprawdz_pesel(Formularz!#REF!)","v":{"$error":"#VALUE!"}}]
[null,{"$f":"Sprawdz_pesel(Formularz!#REF!)","v":{"$error":"#VALUE!"}}]
[null,{"$f":"Sprawdz_pesel(Formularz!#REF!)","v":{"$error":"#VALUE!"}}]
[null,{"$f":"Sprawdz_pesel(Formularz!#REF!)","v":{"$error":"#VALUE!"}}]
[null,{"$f":"Sprawdz_pesel(Formularz!#REF!)","v":{"$error":"#VALUE!"}}]
[null,{"$f":"Sprawdz_pesel(Formularz!#REF!)","v":{"$error":"#VALUE!"}}]
[null,{"$f":"Sprawdz_pesel(Formularz!#REF!)","v":{"$error":"#VALUE!"}}]
[null,{"$f":"Sprawdz_pesel(Formularz!#REF!)","v":{"$error":"#VALUE!"}}]
[null,{"$f":"Sprawdz_pesel(Formularz!#REF!)","v":{"$error":"#VALUE!"}}]
[null,{"$f":"Sprawdz_pesel(Formularz!#REF!)","v":{"$error":"#VALUE!"}}]
[null,{"$f":"Sprawdz_pesel(Formularz!#REF!)","v":{"$error":"#VALUE!"}}]
[null,{"$f":"Sprawdz_pesel(Formularz!#REF!)","v":{"$error":"#VALUE!"}}]
[null,{"$f":"Sprawdz_pesel(Formularz!#REF!)","v":{"$error":"#VALUE!"}}]
[null,{"$f":"Sprawdz_pesel(Formularz!#REF!)","v":{"$error":"#VALUE!"}}]
[null,{"$f":"Sprawdz_pesel(Formularz!#REF!)","v":{"$error":"#VALUE!"}}]
[null,{"$f":"Sprawdz_pesel(Formularz!#REF!)","v":{"$error":"#VALUE!"}}]
[null,{"$f":"Sprawdz_pesel(Formularz!#REF!)","v":{"$error":"#VALUE!"}}]
[null,{"$f":"Sprawdz_pesel(Formularz!#REF!)","v":{"$error":"#VALUE!"}}]
[null,{"$f":"Sprawdz_pesel(Formularz!#REF!)","v":{"$error":"#VALUE!"}}]
[null,{"$f":"Sprawdz_pesel(Formularz!#REF!)","v":{"$error":"#VALUE!"}}]
[null,{"$f":"Sprawdz_pesel(Formularz!#REF!)","v":{"$error":"#VALUE!"}}]
[null,{"$f":"Sprawdz_pesel(Formularz!#REF!)","v":{"$error":"#VALUE!"}}]
[null,{"$f":"Sprawdz_pesel(Formularz!#REF!)","v":{"$error":"#VALUE!"}}]
[null,{"$f":"Sprawdz_pesel(Formularz!#REF!)","v":{"$error":"#VALUE!"}}]
[null,{"$f":"Sprawdz_pesel(Formularz!#REF!)","v":{"$error":"#VALUE!"}}]
[null,{"$f":"Sprawdz_pesel(Formularz!#REF!)","v":{"$error":"#VALUE!"}}]
[null,{"$f":"Sprawdz_pesel(Formularz!#REF!)","v":{"$error":"#VALUE!"}}]
[null,{"$f":"Sprawdz_pesel(Formularz!#REF!)","v":{"$error":"#VALUE!"}}]
[null,{"$f":"Sprawdz_pesel(Formularz!#REF!)","v":{"$error":"#VALUE!"}}]
[null,{"$f":"Sprawdz_pesel(Formularz!#REF!)","v":{"$error":"#VALUE!"}}]
[null,{"$f":"Sprawdz_pesel(Formularz!#REF!)","v":{"$error":"#VALUE!"}}]
[null,{"$f":"Sprawdz_pesel(Formularz!#REF!)","v":{"$error":"#VALUE!"}}]
[null,{"$f":"Sprawdz_pesel(Formularz!#REF!)","v":{"$error":"#VALUE!"}}]
[null,{"$f":"Sprawdz_pesel(Formularz!#REF!)","v":{"$error":"#VALUE!"}}]
[null,{"$f":"Sprawdz_pesel(Formularz!#REF!)","v":{"$error":"#VALUE!"}}]
[null,{"$f":"Sprawdz_pesel(Formularz!#REF!)","v":{"$error":"#VALUE!"}}]
[null,{"$f":"Sprawdz_pesel(Formularz!#REF!)","v":{"$error":"#VALUE!"}}]
[null,{"$f":"Sprawdz_pesel(Formularz!#REF!)","v":{"$error":"#VALUE!"}}]
[null,{"$f":"Sprawdz_pesel(Formularz!#REF!)","v":{"$error":"#VALUE!"}}]
[null,{"$f":"Sprawdz_pesel(Formularz!#REF!)","v":{"$error":"#VALUE!"}}]
[null,{"$f":"Sprawdz_pesel(Formularz!#REF!)","v":{"$error":"#VALUE!"}}]
[null,{"$f":"Sprawdz_pesel(Formularz!#REF!)","v":{"$error":"#VALUE!"}}]
[null,{"$f":"Sprawdz_pesel(Formularz!#REF!)","v":{"$error":"#VALUE!"}}]
[null,{"$f":"Sprawdz_pesel(Formularz!#REF!)","v":{"$error":"#VALUE!"}}]
[null,{"$f":"Sprawdz_pesel(Formularz!#REF!)","v":{"$error":"#VALUE!"}}]
[null,{"$f":"Sprawdz_pesel(Formularz!#REF!)","v":{"$error":"#VALUE!"}}]
[null,{"$f":"Sprawdz_pesel(Formularz!#REF!)","v":{"$error":"#VALUE!"}}]
[null,{"$f":"Sprawdz_pesel(Formularz!#REF!)","v":{"$error":"#VALUE!"}}]
[null,{"$f":"Sprawdz_pesel(Formularz!#REF!)","v":{"$error":"#VALUE!"}}]
[null,{"$f":"Sprawdz_pesel(Formularz!#REF!)","v":{"$error":"#VALUE!"}}]
[null,{"$f":"Sprawdz_pesel(Formularz!#REF!)","v":{"$error":"#VALUE!"}}]
[null,{"$f":"Sprawdz_pesel(Formularz!#REF!)","v":{"$error":"#VALUE!"}}]
[null,{"$f":"Sprawdz_pesel(Formularz!#REF!)","v":{"$error":"#VALUE!"}}]
[null,{"$f":"Sprawdz_pesel(Formularz!#REF!)","v":{"$error":"#VALUE!"}}]
[null,{"$f":"Sprawdz_pesel(Formularz!#REF!)","v":{"$error":"#VALUE!"}}]
[null,{"$f":"Sprawdz_pesel(Formularz!#REF!)","v":{"$error":"#VALUE!"}}]
[null,{"$f":"Sprawdz_pesel(Formularz!#REF!)","v":{"$error":"#VALUE!"}}]
[null,{"$f":"Sprawdz_pesel(Formularz!#REF!)","v":{"$error":"#VALUE!"}}]
[null,{"$f":"Sprawdz_pesel(Formularz!#REF!)","v":{"$error":"#VALUE!"}}]
[null,{"$f":"Sprawdz_pesel(Formularz!#REF!)","v":{"$error":"#VALUE!"}}]
[null,{"$f":"Sprawdz_pesel(Formularz!#REF!)","v":{"$error":"#VALUE!"}}]
[null,{"$f":"Sprawdz_pesel(Formularz!#REF!)","v":{"$error":"#VALUE!"}}]
[null,{"$f":"Sprawdz_pesel(Formularz!#REF!)","v":{"$error":"#VALUE!"}}]
[null,{"$f":"Sprawdz_pesel(Formularz!#REF!)","v":{"$error":"#VALUE!"}}]
[null,{"$f":"Sprawdz_pesel(Formularz!#REF!)","v":{"$error":"#VALUE!"}}]
[null,{"$f":"Sprawdz_pesel(Formularz!#REF!)","v":{"$error":"#VALUE!"}}]
[null,{"$f":"Sprawdz_pesel(Formularz!#REF!)","v":{"$error":"#VALUE!"}}]
[null,{"$f":"Sprawdz_pesel(Formularz!#REF!)","v":{"$error":"#VALUE!"}}]
[null,{"$f":"Sprawdz_pesel(Formularz!#REF!)","v":{"$error":"#VALUE!"}}]
[null,{"$f":"Sprawdz_pesel(Formularz!#REF!)","v":{"$error":"#VALUE!"}}]
[null,{"$f":"Sprawdz_pesel(Formularz!#REF!)","v":{"$error":"#VALUE!"}}]
[null,{"$f":"Sprawdz_pesel(Formularz!#REF!)","v":{"$error":"#VALUE!"}}]
[null,{"$f":"Sprawdz_pesel(Formularz!#REF!)","v":{"$error":"#VALUE!"}}]
[null,{"$f":"Sprawdz_pesel(Formularz!#REF!)","v":{"$error":"#VALUE!"}}]
[null,{"$f":"Sprawdz_pesel(Formularz!#REF!)","v":{"$error":"#VALUE!"}}]
[null,{"$f":"Sprawdz_pesel(Formularz!#REF!)","v":{"$error":"#VALUE!"}}]
[null,{"$f":"Sprawdz_pesel(Formularz!#REF!)","v":{"$error":"#VALUE!"}}]
[null,{"$f":"Sprawdz_pesel(Formularz!#REF!)","v":{"$error":"#VALUE!"}}]
[null,{"$f":"Sprawdz_pesel(Formularz!#REF!)","v":{"$error":"#VALUE!"}}]
[null,{"$f":"Sprawdz_pesel(Formularz!#REF!)","v":{"$error":"#VALUE!"}}]
[null,{"$f":"Sprawdz_pesel(Formularz!#REF!)","v":{"$error":"#VALUE!"}}]
[null,{"$f":"Sprawdz_pesel(Formularz!#REF!)","v":{"$error":"#VALUE!"}}]
[null,{"$f":"Sprawdz_pesel(Formularz!#REF!)","v":{"$error":"#VALUE!"}}]
[null,{"$f":"Sprawdz_pesel(Formularz!#REF!)","v":{"$error":"#VALUE!"}}]
[null,{"$f":"Sprawdz_pesel(Formularz!#REF!)","v":{"$error":"#VALUE!"}}]
[null,{"$f":"Sprawdz_pesel(Formularz!#REF!)","v":{"$error":"#VALUE!"}}]
[null,{"$f":"Sprawdz_pesel(Formularz!#REF!)","v":{"$error":"#VALUE!"}}]
[null,{"$f":"Sprawdz_pesel(Formularz!#REF!)","v":{"$error":"#VALUE!"}}]
[null,{"$f":"Sprawdz_pesel(Formularz!#REF!)","v":{"$error":"#VALUE!"}}]
[null,{"$f":"Sprawdz_pesel(Formularz!#REF!)","v":{"$error":"#VALUE!"}}]
[null,{"$f":"Sprawdz_pesel(Formularz!#REF!)","v":{"$error":"#VALUE!"}}]
[null,{"$f":"Sprawdz_pesel(Formularz!#REF!)","v":{"$error":"#VALUE!"}}]
[null,{"$f":"Sprawdz_pesel(Formularz!#REF!)","v":{"$error":"#VALUE!"}}]
[null,{"$f":"Sprawdz_pesel(Formularz!#REF!)","v":{"$error":"#VALUE!"}}]
[null,{"$f":"Sprawdz_pesel(Formularz!#REF!)","v":{"$error":"#VALUE!"}}]
[null,{"$f":"Sprawdz_pesel(Formularz!#REF!)","v":{"$error":"#VALUE!"}}]
[null,{"$f":"Sprawdz_pesel(Formularz!#REF!)","v":{"$error":"#VALUE!"}}]
[null,{"$f":"Sprawdz_pesel(Formularz!#REF!)","v":{"$error":"#VALUE!"}}]
[null,{"$f":"Sprawdz_pesel(Formularz!#REF!)","v":{"$error":"#VALUE!"}}]
[null,{"$f":"Sprawdz_pesel(Formularz!#REF!)","v":{"$error":"#VALUE!"}}]
[null,{"$f":"Sprawdz_pesel(Formularz!#REF!)","v":{"$error":"#VALUE!"}}]
[null,{"$f":"Sprawdz_pesel(Formularz!#REF!)","v":{"$error":"#VALUE!"}}]
[null,{"$f":"Sprawdz_pesel(Formularz!#REF!)","v":{"$error":"#VALUE!"}}]
[null,{"$f":"Sprawdz_pesel(Formularz!#REF!)","v":{"$error":"#VALUE!"}}]
[null,{"$f":"Sprawdz_pesel(Formularz!#REF!)","v":{"$error":"#VALUE!"}}]
[null,{"$f":"Sprawdz_pesel(Formularz!#REF!)","v":{"$error":"#VALUE!"}}]
[null,{"$f":"Sprawdz_pesel(Formularz!#REF!)","v":{"$error":"#VALUE!"}}]
[null,{"$f":"Sprawdz_pesel(Formularz!#REF!)","v":{"$error":"#VALUE!"}}]
[null,{"$f":"Sprawdz_pesel(Formularz!#REF!)","v":{"$error":"#VALUE!"}}]
[null,{"$f":"Sprawdz_pesel(Formularz!#REF!)","v":{"$error":"#VALUE!"}}]
[null,{"$f":"Sprawdz_pesel(Formularz!#REF!)","v":{"$error":"#VALUE!"}}]
[null,{"$f":"Sprawdz_pesel(Formularz!#REF!)","v":{"$error":"#VALUE!"}}]
[null,{"$f":"Sprawdz_pesel(Formularz!#REF!)","v":{"$error":"#VALUE!"}}]
[null,{"$f":"Sprawdz_pesel(Formularz!#REF!)","v":{"$error":"#VALUE!"}}]
[null,{"$f":"Sprawdz_pesel(Formularz!#REF!)","v":{"$error":"#VALUE!"}}]
[null,{"$f":"Sprawdz_pesel(Formularz!#REF!)","v":{"$error":"#VALUE!"}}]
[null,{"$f":"Sprawdz_pesel(Formularz!#REF!)","v":{"$error":"#VALUE!"}}]
[null,{"$f":"Sprawdz_pesel(Formularz!#REF!)","v":{"$error":"#VALUE!"}}]
[null,{"$f":"Sprawdz_pesel(Formularz!#REF!)","v":{"$error":"#VALUE!"}}]
[null,{"$f":"Sprawdz_pesel(Formularz!#REF!)","v":{"$error":"#VALUE!"}}]
[null,{"$f":"Sprawdz_pesel(Formularz!#REF!)","v":{"$error":"#VALUE!"}}]
[null,{"$f":"Sprawdz_pesel(Formularz!#REF!)","v":{"$error":"#VALUE!"}}]
[null,{"$f":"Sprawdz_pesel(Formularz!#REF!)","v":{"$error":"#VALUE!"}}]
[null,{"$f":"Sprawdz_pesel(Formularz!#REF!)","v":{"$error":"#VALUE!"}}]
[null,{"$f":"Sprawdz_pesel(Formularz!#REF!)","v":{"$error":"#VALUE!"}}]
[null,{"$f":"Sprawdz_pesel(Formularz!#REF!)","v":{"$error":"#VALUE!"}}]
[null,{"$f":"Sprawdz_pesel(Formularz!#REF!)","v":{"$error":"#VALUE!"}}]
[null,{"$f":"Sprawdz_pesel(Formularz!#REF!)","v":{"$error":"#VALUE!"}}]
[null,{"$f":"Sprawdz_pesel(Formularz!#REF!)","v":{"$error":"#VALUE!"}}]
[null,{"$f":"Sprawdz_pesel(Formularz!#REF!)","v":{"$error":"#VALUE!"}}]
[null,{"$f":"Sprawdz_pesel(Formularz!#REF!)","v":{"$error":"#VALUE!"}}]
[null,{"$f":"Sprawdz_pesel(Formularz!#REF!)","v":{"$error":"#VALUE!"}}]
[null,{"$f":"Sprawdz_pesel(Formularz!#REF!)","v":{"$error":"#VALUE!"}}]
[null,{"$f":"Sprawdz_pesel(Formularz!#REF!)","v":{"$error":"#VALUE!"}}]
[null,{"$f":"Sprawdz_pesel(Formularz!#REF!)","v":{"$error":"#VALUE!"}}]
[null,{"$f":"Sprawdz_pesel(Formularz!#REF!)","v":{"$error":"#VALUE!"}}]
[null,{"$f":"Sprawdz_pesel(Formularz!#REF!)","v":{"$error":"#VALUE!"}}]
[null,{"$f":"Sprawdz_pesel(Formularz!#REF!)","v":{"$error":"#VALUE!"}}]
[null,{"$f":"Sprawdz_pesel(Formularz!#REF!)","v":{"$error":"#VALUE!"}}]
[null,{"$f":"Sprawdz_pesel(Formularz!#REF!)","v":{"$error":"#VALUE!"}}]
[null,{"$f":"Sprawdz_pesel(Formularz!#REF!)","v":{"$error":"#VALUE!"}}]
[null,{"$f":"Sprawdz_pesel(Formularz!#REF!)","v":{"$error":"#VALUE!"}}]
[null,{"$f":"Sprawdz_pesel(Formularz!#REF!)","v":{"$error":"#VALUE!"}}]
[null,{"$f":"Sprawdz_pesel(Formularz!#REF!)","v":{"$error":"#VALUE!"}}]
[null,{"$f":"Sprawdz_pesel(Formularz!#REF!)","v":{"$error":"#VALUE!"}}]
[null,{"$f":"Sprawdz_pesel(Formularz!#REF!)","v":{"$error":"#VALUE!"}}]
[null,{"$f":"Sprawdz_pesel(Formularz!#REF!)","v":{"$error":"#VALUE!"}}]
[null,{"$f":"Sprawdz_pesel(Formularz!#REF!)","v":{"$error":"#VALUE!"}}]
[null,{"$f":"Sprawdz_pesel(Formularz!#REF!)","v":{"$error":"#VALUE!"}}]
[null,{"$f":"Sprawdz_pesel(Formularz!#REF!)","v":{"$error":"#VALUE!"}}]
[null,{"$f":"Sprawdz_pesel(Formularz!#REF!)","v":{"$error":"#VALUE!"}}]
[null,{"$f":"Sprawdz_pesel(Formularz!#REF!)","v":{"$error":"#VALUE!"}}]
[null,{"$f":"Sprawdz_pesel(Formularz!#REF!)","v":{"$error":"#VALUE!"}}]
[null,{"$f":"Sprawdz_pesel(Formularz!#REF!)","v":{"$error":"#VALUE!"}}]
[null,{"$f":"Sprawdz_pesel(Formularz!#REF!)","v":{"$error":"#VALUE!"}}]
[null,{"$f":"Sprawdz_pesel(Formularz!#REF!)","v":{"$error":"#VALUE!"}}]
[null,{"$f":"Sprawdz_pesel(Formularz!#REF!)","v":{"$error":"#VALUE!"}}]
[null,{"$f":"Sprawdz_pesel(Formularz!#REF!)","v":{"$error":"#VALUE!"}}]
[null,{"$f":"Sprawdz_pesel(Formularz!#REF!)","v":{"$error":"#VALUE!"}}]
[null,{"$f":"Sprawdz_pesel(Formularz!#REF!)","v":{"$error":"#VALUE!"}}]
[null,{"$f":"Sprawdz_pesel(Formularz!#REF!)","v":{"$error":"#VALUE!"}}]
[null,{"$f":"Sprawdz_pesel(Formularz!#REF!)","v":{"$error":"#VALUE!"}}]
[null,{"$f":"Sprawdz_pesel(Formularz!#REF!)","v":{"$error":"#VALUE!"}}]
[null,{"$f":"Sprawdz_pesel(Formularz!#REF!)","v":{"$error":"#VALUE!"}}]
[null,{"$f":"Sprawdz_pesel(Formularz!#REF!)","v":{"$error":"#VALUE!"}}]
[null,{"$f":"Sprawdz_pesel(Formularz!#REF!)","v":{"$error":"#VALUE!"}}]
[null,{"$f":"Sprawdz_pesel(Formularz!#REF!)","v":{"$error":"#VALUE!"}}]
[null,{"$f":"Sprawdz_pesel(Formularz!#REF!)","v":{"$error":"#VALUE!"}}]
[null,{"$f":"Sprawdz_pesel(Formularz!#REF!)","v":{"$error":"#VALUE!"}}]
[null,{"$f":"Sprawdz_pesel(Formularz!#REF!)","v":{"$error":"#VALUE!"}}]
[null,{"$f":"Sprawdz_pesel(Formularz!#REF!)","v":{"$error":"#VALUE!"}}]
[null,{"$f":"Sprawdz_pesel(Formularz!#REF!)","v":{"$error":"#VALUE!"}}]
[null,{"$f":"Sprawdz_pesel(Formularz!#REF!)","v":{"$error":"#VALUE!"}}]
[null,{"$f":"Sprawdz_pesel(Formularz!#REF!)","v":{"$error":"#VALUE!"}}]
[null,{"$f":"Sprawdz_pesel(Formularz!#REF!)","v":{"$error":"#VALUE!"}}]
[null,{"$f":"Sprawdz_pesel(Formularz!#REF!)","v":{"$error":"#VALUE!"}}]
[null,{"$f":"Sprawdz_pesel(Formularz!#REF!)","v":{"$error":"#VALUE!"}}]
[null,{"$f":"Sprawdz_pesel(Formularz!#REF!)","v":{"$error":"#VALUE!"}}]
[null,{"$f":"Sprawdz_pesel(Formularz!#REF!)","v":{"$error":"#VALUE!"}}]
[null,{"$f":"Sprawdz_pesel(Formularz!#REF!)","v":{"$error":"#VALUE!"}}]
[null,{"$f":"Sprawdz_pesel(Formularz!#REF!)","v":{"$error":"#VALUE!"}}]
[null,{"$f":"Sprawdz_pesel(Formularz!#REF!)","v":{"$error":"#VALUE!"}}]
[null,{"$f":"Sprawdz_pesel(Formularz!#REF!)","v":{"$error":"#VALUE!"}}]
[null,{"$f":"Sprawdz_pesel(Formularz!#REF!)","v":{"$error":"#VALUE!"}}]
[null,{"$f":"Sprawdz_pesel(Formularz!#REF!)","v":{"$error":"#VALUE!"}}]
[null,{"$f":"Sprawdz_pesel(Formularz!#REF!)","v":{"$error":"#VALUE!"}}]
[null,{"$f":"Sprawdz_pesel(Formularz!#REF!)","v":{"$error":"#VALUE!"}}]
[null,{"$f":"Sprawdz_pesel(Formularz!#REF!)","v":{"$error":"#VALUE!"}}]
[null,{"$f":"Sprawdz_pesel(Formularz!#REF!)","v":{"$error":"#VALUE!"}}]
[null,{"$f":"Sprawdz_pesel(Formularz!#REF!)","v":{"$error":"#VALUE!"}}]
[null,{"$f":"Sprawdz_pesel(Formularz!#REF!)","v":{"$error":"#VALUE!"}}]
[null,{"$f":"Sprawdz_pesel(Formularz!#REF!)","v":{"$error":"#VALUE!"}}]
[null,{"$f":"Sprawdz_pesel(Formularz!#REF!)","v":{"$error":"#VALUE!"}}]
[null,{"$f":"Sprawdz_pesel(Formularz!#REF!)","v":{"$error":"#VALUE!"}}]
[null,{"$f":"Sprawdz_pesel(Formularz!#REF!)","v":{"$error":"#VALUE!"}}]
[null,{"$f":"Sprawdz_pesel(Formularz!#REF!)","v":{"$error":"#VALUE!"}}]
[null,{"$f":"Sprawdz_pesel(Formularz!#REF!)","v":{"$error":"#VALUE!"}}]
[null,{"$f":"Sprawdz_pesel(Formularz!#REF!)","v":{"$error":"#VALUE!"}}]
[null,{"$f":"Sprawdz_pesel(Formularz!#REF!)","v":{"$error":"#VALUE!"}}]
[null,{"$f":"Sprawdz_pesel(Formularz!#REF!)","v":{"$error":"#VALUE!"}}]
[null,{"$f":"Sprawdz_pesel(Formularz!#REF!)","v":{"$error":"#VALUE!"}}]
[null,{"$f":"Sprawdz_pesel(Formularz!#REF!)","v":{"$error":"#VALUE!"}}]
[null,{"$f":"Sprawdz_pesel(Formularz!#REF!)","v":{"$error":"#VALUE!"}}]
[null,{"$f":"Sprawdz_pesel(Formularz!#REF!)","v":{"$error":"#VALUE!"}}]
[null,{"$f":"Sprawdz_pesel(Formularz!#REF!)","v":{"$error":"#VALUE!"}}]
[null,{"$f":"Sprawdz_pesel(Formularz!#REF!)","v":{"$error":"#VALUE!"}}]
[null,{"$f":"Sprawdz_pesel(Formularz!#REF!)","v":{"$error":"#VALUE!"}}]
[null,{"$f":"Sprawdz_pesel(Formularz!#REF!)","v":{"$error":"#VALUE!"}}]
[null,{"$f":"Sprawdz_pesel(Formularz!#REF!)","v":{"$error":"#VALUE!"}}]
[null,{"$f":"Sprawdz_pesel(Formularz!#REF!)","v":{"$error":"#VALUE!"}}]
[null,{"$f":"Sprawdz_pesel(Formularz!#REF!)","v":{"$error":"#VALUE!"}}]
[null,{"$f":"Sprawdz_pesel(Formularz!#REF!)","v":{"$error":"#VALUE!"}}]
[null,{"$f":"Sprawdz_pesel(Formularz!#REF!)","v":{"$error":"#VALUE!"}}]
[null,{"$f":"Sprawdz_pesel(Formularz!#REF!)","v":{"$error":"#VALUE!"}}]
[null,{"$f":"Sprawdz_pesel(Formularz!#REF!)","v":{"$error":"#VALUE!"}}]
[null,{"$f":"Sprawdz_pesel(Formularz!#REF!)","v":{"$error":"#VALUE!"}}]
[null,{"$f":"Sprawdz_pesel(Formularz!#REF!)","v":{"$error":"#VALUE!"}}]
[null,{"$f":"Sprawdz_pesel(Formularz!#REF!)","v":{"$error":"#VALUE!"}}]
[null,{"$f":"Sprawdz_pesel(Formularz!#REF!)","v":{"$error":"#VALUE!"}}]
[null,{"$f":"Sprawdz_pesel(Formularz!#REF!)","v":{"$error":"#VALUE!"}}]
[null,{"$f":"Sprawdz_pesel(Formularz!#REF!)","v":{"$error":"#VALUE!"}}]
[null,{"$f":"Sprawdz_pesel(Formularz!#REF!)","v":{"$error":"#VALUE!"}}]
[null,{"$f":"Sprawdz_pesel(Formularz!#REF!)","v":{"$error":"#VALUE!"}}]
[null,{"$f":"Sprawdz_pesel(Formularz!#REF!)","v":{"$error":"#VALUE!"}}]
[null,{"$f":"Sprawdz_pesel(Formularz!#REF!)","v":{"$error":"#VALUE!"}}]
[null,{"$f":"Sprawdz_pesel(Formularz!#REF!)","v":{"$error":"#VALUE!"}}]
[null,{"$f":"Sprawdz_pesel(Formularz!#REF!)","v":{"$error":"#VALUE!"}}]
[null,{"$f":"Sprawdz_pesel(Formularz!#REF!)","v":{"$error":"#VALUE!"}}]
[null,{"$f":"Sprawdz_pesel(Formularz!#REF!)","v":{"$error":"#VALUE!"}}]
[null,{"$f":"Sprawdz_pesel(Formularz!#REF!)","v":{"$error":"#VALUE!"}}]
[null,{"$f":"Sprawdz_pesel(Formularz!#REF!)","v":{"$error":"#VALUE!"}}]
[null,{"$f":"Sprawdz_pesel(Formularz!#REF!)","v":{"$error":"#VALUE!"}}]
[null,{"$f":"Sprawdz_pesel(Formularz!#REF!)","v":{"$error":"#VALUE!"}}]
[null,{"$f":"Sprawdz_pesel(Formularz!#REF!)","v":{"$error":"#VALUE!"}}]
[null,{"$f":"Sprawdz_pesel(Formularz!#REF!)","v":{"$error":"#VALUE!"}}]
[null,{"$f":"Sprawdz_pesel(Formularz!#REF!)","v":{"$error":"#VALUE!"}}]
[null,{"$f":"Sprawdz_pesel(Formularz!#REF!)","v":{"$error":"#VALUE!"}}]
[null,{"$f":"Sprawdz_pesel(Formularz!#REF!)","v":{"$error":"#VALUE!"}}]
[null,{"$f":"Sprawdz_pesel(Formularz!#REF!)","v":{"$error":"#VALUE!"}}]
[null,{"$f":"Sprawdz_pesel(Formularz!#REF!)","v":{"$error":"#VALUE!"}}]
[null,{"$f":"Sprawdz_pesel(Formularz!#REF!)","v":{"$error":"#VALUE!"}}]
[null,{"$f":"Sprawdz_pesel(Formularz!#REF!)","v":{"$error":"#VALUE!"}}]
[null,{"$f":"Sprawdz_pesel(Formularz!#REF!)","v":{"$error":"#VALUE!"}}]
[null,{"$f":"Sprawdz_pesel(Formularz!#REF!)","v":{"$error":"#VALUE!"}}]
[null,{"$f":"Sprawdz_pesel(Formularz!#REF!)","v":{"$error":"#VALUE!"}}]
[null,{"$f":"Sprawdz_pesel(Formularz!#REF!)","v":{"$error":"#VALUE!"}}]
[null,{"$f":"Sprawdz_pesel(Formularz!#REF!)","v":{"$error":"#VALUE!"}}]
[null,{"$f":"Sprawdz_pesel(Formularz!#REF!)","v":{"$error":"#VALUE!"}}]
[null,{"$f":"Sprawdz_pesel(Formularz!#REF!)","v":{"$error":"#VALUE!"}}]
[null,{"$f":"Sprawdz_pesel(Formularz!#REF!)","v":{"$error":"#VALUE!"}}]
[null,{"$f":"Sprawdz_pesel(Formularz!#REF!)","v":{"$error":"#VALUE!"}}]
[null,{"$f":"Sprawdz_pesel(Formularz!#REF!)","v":{"$error":"#VALUE!"}}]
[null,{"$f":"Sprawdz_pesel(Formularz!#REF!)","v":{"$error":"#VALUE!"}}]
[null,{"$f":"Sprawdz_pesel(Formularz!#REF!)","v":{"$error":"#VALUE!"}}]
[null,{"$f":"Sprawdz_pesel(Formularz!#REF!)","v":{"$error":"#VALUE!"}}]
[null,{"$f":"Sprawdz_pesel(Formularz!#REF!)","v":{"$error":"#VALUE!"}}]
[null,{"$f":"Sprawdz_pesel(Formularz!#REF!)","v":{"$error":"#VALUE!"}}]
[null,{"$f":"Sprawdz_pesel(Formularz!#REF!)","v":{"$error":"#VALUE!"}}]
[null,{"$f":"Sprawdz_pesel(Formularz!#REF!)","v":{"$error":"#VALUE!"}}]
[null,{"$f":"Sprawdz_pesel(Formularz!#REF!)","v":{"$error":"#VALUE!"}}]
[null,{"$f":"Sprawdz_pesel(Formularz!#REF!)","v":{"$error":"#VALUE!"}}]
[null,{"$f":"Sprawdz_pesel(Formularz!#REF!)","v":{"$error":"#VALUE!"}}]
[null,{"$f":"Sprawdz_pesel(Formularz!#REF!)","v":{"$error":"#VALUE!"}}]
[null,{"$f":"Sprawdz_pesel(Formularz!#REF!)","v":{"$error":"#VALUE!"}}]
[null,{"$f":"Sprawdz_pesel(Formularz!#REF!)","v":{"$error":"#VALUE!"}}]
[null,{"$f":"Sprawdz_pesel(Formularz!#REF!)","v":{"$error":"#VALUE!"}}]
[null,{"$f":"Sprawdz_pesel(Formularz!#REF!)","v":{"$error":"#VALUE!"}}]
[null,{"$f":"Sprawdz_pesel(Formularz!#REF!)","v":{"$error":"#VALUE!"}}]
[null,{"$f":"Sprawdz_pesel(Formularz!#REF!)","v":{"$error":"#VALUE!"}}]
[null,{"$f":"Sprawdz_pesel(Formularz!#REF!)","v":{"$error":"#VALUE!"}}]
[null,{"$f":"Sprawdz_pesel(Formularz!#REF!)","v":{"$error":"#VALUE!"}}]
[null,{"$f":"Sprawdz_pesel(Formularz!#REF!)","v":{"$error":"#VALUE!"}}]
[null,{"$f":"Sprawdz_pesel(Formularz!#REF!)","v":{"$error":"#VALUE!"}}]
[null,{"$f":"Sprawdz_pesel(Formularz!#REF!)","v":{"$error":"#VALUE!"}}]
[null,{"$f":"Sprawdz_pesel(Formularz!#REF!)","v":{"$error":"#VALUE!"}}]
[null,{"$f":"Sprawdz_pesel(Formularz!#REF!)","v":{"$error":"#VALUE!"}}]
[null,{"$f":"Sprawdz_pesel(Formularz!#REF!)","v":{"$error":"#VALUE!"}}]
[null,{"$f":"Sprawdz_pesel(Formularz!#REF!)","v":{"$error":"#VALUE!"}}]
[null,{"$f":"Sprawdz_pesel(Formularz!#REF!)","v":{"$error":"#VALUE!"}}]
[null,{"$f":"Sprawdz_pesel(Formularz!#REF!)","v":{"$error":"#VALUE!"}}]
[null,{"$f":"Sprawdz_pesel(Formularz!#REF!)","v":{"$error":"#VALUE!"}}]
[null,{"$f":"Sprawdz_pesel(Formularz!#REF!)","v":{"$error":"#VALUE!"}}]
[null,{"$f":"Sprawdz_pesel(Formularz!#REF!)","v":{"$error":"#VALUE!"}}]
[null,{"$f":"Sprawdz_pesel(Formularz!#REF!)","v":{"$error":"#VALUE!"}}]
[null,{"$f":"Sprawdz_pesel(Formularz!#REF!)","v":{"$error":"#VALUE!"}}]
[null,{"$f":"Sprawdz_pesel(Formularz!#REF!)","v":{"$error":"#VALUE!"}}]
[null,{"$f":"Sprawdz_pesel(Formularz!#REF!)","v":{"$error":"#VALUE!"}}]
[null,{"$f":"Sprawdz_pesel(Formularz!#REF!)","v":{"$error":"#VALUE!"}}]
[null,{"$f":"Sprawdz_pesel(Formularz!#REF!)","v":{"$error":"#VALUE!"}}]
[null,{"$f":"Sprawdz_pesel(Formularz!#REF!)","v":{"$error":"#VALUE!"}}]
[null,{"$f":"Sprawdz_pesel(Formularz!#REF!)","v":{"$error":"#VALUE!"}}]
[null,{"$f":"Sprawdz_pesel(Formularz!#REF!)","v":{"$error":"#VALUE!"}}]
[null,{"$f":"Sprawdz_pesel(Formularz!#REF!)","v":{"$error":"#VALUE!"}}]
[null,{"$f":"Sprawdz_pesel(Formularz!#REF!)","v":{"$error":"#VALUE!"}}]
[null,{"$f":"Sprawdz_pesel(Formularz!#REF!)","v":{"$error":"#VALUE!"}}]
[null,{"$f":"Sprawdz_pesel(Formularz!#REF!)","v":{"$error":"#VALUE!"}}]
[null,{"$f":"Sprawdz_pesel(Formularz!#REF!)","v":{"$error":"#VALUE!"}}]
[null,{"$f":"Sprawdz_pesel(Formularz!#REF!)","v":{"$error":"#VALUE!"}}]
[null,{"$f":"Sprawdz_pesel(Formularz!#REF!)","v":{"$error":"#VALUE!"}}]
[null,{"$f":"Sprawdz_pesel(Formularz!#REF!)","v":{"$error":"#VALUE!"}}]
[null,{"$f":"Sprawdz_pesel(Formularz!#REF!)","v":{"$error":"#VALUE!"}}]
[null,{"$f":"Sprawdz_pesel(Formularz!#REF!)","v":{"$error":"#VALUE!"}}]
[null,{"$f":"Sprawdz_pesel(Formularz!#REF!)","v":{"$error":"#VALUE!"}}]
[null,{"$f":"Sprawdz_pesel(Formularz!#REF!)","v":{"$error":"#VALUE!"}}]
[null,{"$f":"Sprawdz_pesel(Formularz!#REF!)","v":{"$error":"#VALUE!"}}]
[null,{"$f":"Sprawdz_pesel(Formularz!#REF!)","v":{"$error":"#VALUE!"}}]
[null,{"$f":"Sprawdz_pesel(Formularz!#REF!)","v":{"$error":"#VALUE!"}}]
[null,{"$f":"Sprawdz_pesel(Formularz!#REF!)","v":{"$error":"#VALUE!"}}]
[null,{"$f":"Sprawdz_pesel(Formularz!#REF!)","v":{"$error":"#VALUE!"}}]
[null,{"$f":"Sprawdz_pesel(Formularz!#REF!)","v":{"$error":"#VALUE!"}}]
[null,{"$f":"Sprawdz_pesel(Formularz!#REF!)","v":{"$error":"#VALUE!"}}]
[null,{"$f":"Sprawdz_pesel(Formularz!#REF!)","v":{"$error":"#VALUE!"}}]
[null,{"$f":"Sprawdz_pesel(Formularz!#REF!)","v":{"$error":"#VALUE!"}}]
[null,{"$f":"Sprawdz_pesel(Formularz!#REF!)","v":{"$error":"#VALUE!"}}]
[null,{"$f":"Sprawdz_pesel(Formularz!#REF!)","v":{"$error":"#VALUE!"}}]
[null,{"$f":"Sprawdz_pesel(Formularz!#REF!)","v":{"$error":"#VALUE!"}}]
[null,{"$f":"Sprawdz_pesel(Formularz!#REF!)","v":{"$error":"#VALUE!"}}]
[null,{"$f":"Sprawdz_pesel(Formularz!#REF!)","v":{"$error":"#VALUE!"}}]
[null,{"$f":"Sprawdz_pesel(Formularz!#REF!)","v":{"$error":"#VALUE!"}}]
[null,{"$f":"Sprawdz_pesel(Formularz!#REF!)","v":{"$error":"#VALUE!"}}]
[null,{"$f":"Sprawdz_pesel(Formularz!#REF!)","v":{"$error":"#VALUE!"}}]
[null,{"$f":"Sprawdz_pesel(Formularz!#REF!)","v":{"$error":"#VALUE!"}}]
[null,{"$f":"Sprawdz_pesel(Formularz!#REF!)","v":{"$error":"#VALUE!"}}]
[null,{"$f":"Sprawdz_pesel(Formularz!#REF!)","v":{"$error":"#VALUE!"}}]
[null,{"$f":"Sprawdz_pesel(Formularz!#REF!)","v":{"$error":"#VALUE!"}}]
[null,{"$f":"Sprawdz_pesel(Formularz!#REF!)","v":{"$error":"#VALUE!"}}]
[null,{"$f":"Sprawdz_pesel(Formularz!#REF!)","v":{"$error":"#VALUE!"}}]
[null,{"$f":"Sprawdz_pesel(Formularz!#REF!)","v":{"$error":"#VALUE!"}}]
[null,{"$f":"Sprawdz_pesel(Formularz!#REF!)","v":{"$error":"#VALUE!"}}]
[null,{"$f":"Sprawdz_pesel(Formularz!#REF!)","v":{"$error":"#VALUE!"}}]
[null,{"$f":"Sprawdz_pesel(Formularz!#REF!)","v":{"$error":"#VALUE!"}}]
[null,{"$f":"Sprawdz_pesel(Formularz!#REF!)","v":{"$error":"#VALUE!"}}]
[null,{"$f":"Sprawdz_pesel(Formularz!#REF!)","v":{"$error":"#VALUE!"}}]
[null,{"$f":"Sprawdz_pesel(Formularz!#REF!)","v":{"$error":"#VALUE!"}}]
[null,{"$f":"Sprawdz_pesel(Formularz!#REF!)","v":{"$error":"#VALUE!"}}]
[null,{"$f":"Sprawdz_pesel(Formularz!#REF!)","v":{"$error":"#VALUE!"}}]
[null,{"$f":"Sprawdz_pesel(Formularz!#REF!)","v":{"$error":"#VALUE!"}}]
[null,{"$f":"Sprawdz_pesel(Formularz!#REF!)","v":{"$error":"#VALUE!"}}]
[null,{"$f":"Sprawdz_pesel(Formularz!#REF!)","v":{"$error":"#VALUE!"}}]
[null,{"$f":"Sprawdz_pesel(Formularz!#REF!)","v":{"$error":"#VALUE!"}}]
[null,{"$f":"Sprawdz_pesel(Formularz!#REF!)","v":{"$error":"#VALUE!"}}]
[null,{"$f":"Sprawdz_pesel(Formularz!#REF!)","v":{"$error":"#VALUE!"}}]
[null,{"$f":"Sprawdz_pesel(Formularz!#REF!)","v":{"$error":"#VALUE!"}}]
[null,{"$f":"Sprawdz_pesel(Formularz!#REF!)","v":{"$error":"#VALUE!"}}]
[null,{"$f":"Sprawdz_pesel(Formularz!#REF!)","v":{"$error":"#VALUE!"}}]
[null,{"$f":"Sprawdz_pesel(Formularz!#REF!)","v":{"$error":"#VALUE!"}}]
[null,{"$f":"Sprawdz_pesel(Formularz!#REF!)","v":{"$error":"#VALUE!"}}]
[null,{"$f":"Sprawdz_pesel(Formularz!#REF!)","v":{"$error":"#VALUE!"}}]
[null,{"$f":"Sprawdz_pesel(Formularz!#REF!)","v":{"$error":"#VALUE!"}}]
[null,{"$f":"Sprawdz_pesel(Formularz!#REF!)","v":{"$error":"#VALUE!"}}]
[null,{"$f":"Sprawdz_pesel(Formularz!#REF!)","v":{"$error":"#VALUE!"}}]
[null,{"$f":"Sprawdz_pesel(Formularz!#REF!)","v":{"$error":"#VALUE!"}}]
[null,{"$f":"Sprawdz_pesel(Formularz!#REF!)","v":{"$error":"#VALUE!"}}]
[null,{"$f":"Sprawdz_pesel(Formularz!#REF!)","v":{"$error":"#VALUE!"}}]
[null,{"$f":"Sprawdz_pesel(Formularz!#REF!)","v":{"$error":"#VALUE!"}}]
[null,{"$f":"Sprawdz_pesel(Formularz!#REF!)","v":{"$error":"#VALUE!"}}]
[null,{"$f":"Sprawdz_pesel(Formularz!#REF!)","v":{"$error":"#VALUE!"}}]
[null,{"$f":"Sprawdz_pesel(Formularz!#REF!)","v":{"$error":"#VALUE!"}}]
[null,{"$f":"Sprawdz_pesel(Formularz!#REF!)","v":{"$error":"#VALUE!"}}]
[null,{"$f":"Sprawdz_pesel(Formularz!#REF!)","v":{"$error":"#VALUE!"}}]
[null,{"$f":"Sprawdz_pesel(Formularz!#REF!)","v":{"$error":"#VALUE!"}}]
[null,{"$f":"Sprawdz_pesel(Formularz!#REF!)","v":{"$error":"#VALUE!"}}]
[null,{"$f":"Sprawdz_pesel(Formularz!#REF!)","v":{"$error":"#VALUE!"}}]
[null,{"$f":"Sprawdz_pesel(Formularz!#REF!)","v":{"$error":"#VALUE!"}}]
[null,{"$f":"Sprawdz_pesel(Formularz!#REF!)","v":{"$error":"#VALUE!"}}]
[null,{"$f":"Sprawdz_pesel(Formularz!#REF!)","v":{"$error":"#VALUE!"}}]
[null,{"$f":"Sprawdz_pesel(Formularz!#REF!)","v":{"$error":"#VALUE!"}}]
[null,{"$f":"Sprawdz_pesel(Formularz!#REF!)","v":{"$error":"#VALUE!"}}]
[null,{"$f":"Sprawdz_pesel(Formularz!#REF!)","v":{"$error":"#VALUE!"}}]
[null,{"$f":"Sprawdz_pesel(Formularz!#REF!)","v":{"$error":"#VALUE!"}}]
[null,{"$f":"Sprawdz_pesel(Formularz!#REF!)","v":{"$error":"#VALUE!"}}]
[null,{"$f":"Sprawdz_pesel(Formularz!#REF!)","v":{"$error":"#VALUE!"}}]
[null,{"$f":"Sprawdz_pesel(Formularz!#REF!)","v":{"$error":"#VALUE!"}}]
[null,{"$f":"Sprawdz_pesel(Formularz!#REF!)","v":{"$error":"#VALUE!"}}]
[null,{"$f":"Sprawdz_pesel(Formularz!#REF!)","v":{"$error":"#VALUE!"}}]
[null,{"$f":"Sprawdz_pesel(Formularz!#REF!)","v":{"$error":"#VALUE!"}}]
[null,{"$f":"Sprawdz_pesel(Formularz!#REF!)","v":{"$error":"#VALUE!"}}]
[null,{"$f":"Sprawdz_pesel(Formularz!#REF!)","v":{"$error":"#VALUE!"}}]
[null,{"$f":"Sprawdz_pesel(Formularz!#REF!)","v":{"$error":"#VALUE!"}}]
[null,{"$f":"Sprawdz_pesel(Formularz!#REF!)","v":{"$error":"#VALUE!"}}]
[null,{"$f":"Sprawdz_pesel(Formularz!#REF!)","v":{"$error":"#VALUE!"}}]
[null,{"$f":"Sprawdz_pesel(Formularz!#REF!)","v":{"$error":"#VALUE!"}}]
[null,{"$f":"Sprawdz_pesel(Formularz!#REF!)","v":{"$error":"#VALUE!"}}]
[null,{"$f":"Sprawdz_pesel(Formularz!#REF!)","v":{"$error":"#VALUE!"}}]
[null,{"$f":"Sprawdz_pesel(Formularz!#REF!)","v":{"$error":"#VALUE!"}}]
[null,{"$f":"Sprawdz_pesel(Formularz!#REF!)","v":{"$error":"#VALUE!"}}]
[null,{"$f":"Sprawdz_pesel(Formularz!#REF!)","v":{"$error":"#VALUE!"}}]
[null,{"$f":"Sprawdz_pesel(Formularz!#REF!)","v":{"$error":"#VALUE!"}}]
[null,{"$f":"Sprawdz_pesel(Formularz!#REF!)","v":{"$error":"#VALUE!"}}]
[null,{"$f":"Sprawdz_pesel(Formularz!#REF!)","v":{"$error":"#VALUE!"}}]
[null,{"$f":"Sprawdz_pesel(Formularz!#REF!)","v":{"$error":"#VALUE!"}}]
[null,{"$f":"Sprawdz_pesel(Formularz!#REF!)","v":{"$error":"#VALUE!"}}]
[null,{"$f":"Sprawdz_pesel(Formularz!#REF!)","v":{"$error":"#VALUE!"}}]
[null,{"$f":"Sprawdz_pesel(Formularz!#REF!)","v":{"$error":"#VALUE!"}}]
[null,{"$f":"Sprawdz_pesel(Formularz!#REF!)","v":{"$error":"#VALUE!"}}]
[null,{"$f":"Sprawdz_pesel(Formularz!#REF!)","v":{"$error":"#VALUE!"}}]
[null,{"$f":"Sprawdz_pesel(Formularz!#REF!)","v":{"$error":"#VALUE!"}}]
[null,{"$f":"Sprawdz_pesel(Formularz!#REF!)","v":{"$error":"#VALUE!"}}]
[null,{"$f":"Sprawdz_pesel(Formularz!#REF!)","v":{"$error":"#VALUE!"}}]
[null,{"$f":"Sprawdz_pesel(Formularz!#REF!)","v":{"$error":"#VALUE!"}}]
[null,{"$f":"Sprawdz_pesel(Formularz!#REF!)","v":{"$error":"#VALUE!"}}]
[null,{"$f":"Sprawdz_pesel(Formularz!#REF!)","v":{"$error":"#VALUE!"}}]
[null,{"$f":"Sprawdz_pesel(Formularz!#REF!)","v":{"$error":"#VALUE!"}}]
[null,{"$f":"Sprawdz_pesel(Formularz!#REF!)","v":{"$error":"#VALUE!"}}]
[null,{"$f":"Sprawdz_pesel(Formularz!#REF!)","v":{"$error":"#VALUE!"}}]
[null,{"$f":"Sprawdz_pesel(Formularz!#REF!)","v":{"$error":"#VALUE!"}}]
[null,{"$f":"Sprawdz_pesel(Formularz!#REF!)","v":{"$error":"#VALUE!"}}]
[null,{"$f":"Sprawdz_pesel(Formularz!#REF!)","v":{"$error":"#VALUE!"}}]
[null,{"$f":"Sprawdz_pesel(Formularz!#REF!)","v":{"$error":"#VALUE!"}}]
[null,{"$f":"Sprawdz_pesel(Formularz!#REF!)","v":{"$error":"#VALUE!"}}]
[null,{"$f":"Sprawdz_pesel(Formularz!#REF!)","v":{"$error":"#VALUE!"}}]
[null,{"$f":"Sprawdz_pesel(Formularz!#REF!)","v":{"$error":"#VALUE!"}}]
[null,{"$f":"Sprawdz_pesel(Formularz!#REF!)","v":{"$error":"#VALUE!"}}]
[null,{"$f":"Sprawdz_pesel(Formularz!#REF!)","v":{"$error":"#VALUE!"}}]
[null,{"$f":"Sprawdz_pesel(Formularz!#REF!)","v":{"$error":"#VALUE!"}}]
[null,{"$f":"Sprawdz_pesel(Formularz!#REF!)","v":{"$error":"#VALUE!"}}]
[null,{"$f":"Sprawdz_pesel(Formularz!#REF!)","v":{"$error":"#VALUE!"}}]
[null,{"$f":"Sprawdz_pesel(Formularz!#REF!)","v":{"$error":"#VALUE!"}}]
[null,{"$f":"Sprawdz_pesel(Formularz!#REF!)","v":{"$error":"#VALUE!"}}]
[null,{"$f":"Sprawdz_pesel(Formularz!#REF!)","v":{"$error":"#VALUE!"}}]
[null,{"$f":"Sprawdz_pesel(Formularz!#REF!)","v":{"$error":"#VALUE!"}}]
[null,{"$f":"Sprawdz_pesel(Formularz!#REF!)","v":{"$error":"#VALUE!"}}]
[null,{"$f":"Sprawdz_pesel(Formularz!#REF!)","v":{"$error":"#VALUE!"}}]
[null,{"$f":"Sprawdz_pesel(Formularz!#REF!)","v":{"$error":"#VALUE!"}}]
[null,{"$f":"Sprawdz_pesel(Formularz!#REF!)","v":{"$error":"#VALUE!"}}]
[null,{"$f":"Sprawdz_pesel(Formularz!#REF!)","v":{"$error":"#VALUE!"}}]
[null,{"$f":"Sprawdz_pesel(Formularz!#REF!)","v":{"$error":"#VALUE!"}}]
[null,{"$f":"Sprawdz_pesel(Formularz!#REF!)","v":{"$error":"#VALUE!"}}]
[null,{"$f":"Sprawdz_pesel(Formularz!#REF!)","v":{"$error":"#VALUE!"}}]
[null,{"$f":"Sprawdz_pesel(Formularz!#REF!)","v":{"$error":"#VALUE!"}}]
[null,{"$f":"Sprawdz_pesel(Formularz!#REF!)","v":{"$error":"#VALUE!"}}]
[null,{"$f":"Sprawdz_pesel(Formularz!#REF!)","v":{"$error":"#VALUE!"}}]
[null,{"$f":"Sprawdz_pesel(Formularz!#REF!)","v":{"$error":"#VALUE!"}}]
[null,{"$f":"Sprawdz_pesel(Formularz!#REF!)","v":{"$error":"#VALUE!"}}]
[null,{"$f":"Sprawdz_pesel(Formularz!#REF!)","v":{"$error":"#VALUE!"}}]
[null,{"$f":"Sprawdz_pesel(Formularz!#REF!)","v":{"$error":"#VALUE!"}}]
[null,{"$f":"Sprawdz_pesel(Formularz!#REF!)","v":{"$error":"#VALUE!"}}]
[null,{"$f":"Sprawdz_pesel(Formularz!#REF!)","v":{"$error":"#VALUE!"}}]
[null,{"$f":"Sprawdz_pesel(Formularz!#REF!)","v":{"$error":"#VALUE!"}}]
[null,{"$f":"Sprawdz_pesel(Formularz!#REF!)","v":{"$error":"#VALUE!"}}]
[null,{"$f":"Sprawdz_pesel(Formularz!#REF!)","v":{"$error":"#VALUE!"}}]
[null,{"$f":"Sprawdz_pesel(Formularz!#REF!)","v":{"$error":"#VALUE!"}}]
[null,{"$f":"Sprawdz_pesel(Formularz!#REF!)","v":{"$error":"#VALUE!"}}]
[null,{"$f":"Sprawdz_pesel(Formularz!#REF!)","v":{"$error":"#VALUE!"}}]
[null,{"$f":"Sprawdz_pesel(Formularz!#REF!)","v":{"$error":"#VALUE!"}}]
[null,{"$f":"Sprawdz_pesel(Formularz!#REF!)","v":{"$error":"#VALUE!"}}]
[null,{"$f":"Sprawdz_pesel(Formularz!#REF!)","v":{"$error":"#VALUE!"}}]
[null,{"$f":"Sprawdz_pesel(Formularz!#REF!)","v":{"$error":"#VALUE!"}}]
[null,{"$f":"Sprawdz_pesel(Formularz!#REF!)","v":{"$error":"#VALUE!"}}]
[null,{"$f":"Sprawdz_pesel(Formularz!#REF!)","v":{"$error":"#VALUE!"}}]
[null,{"$f":"Sprawdz_pesel(Formularz!#REF!)","v":{"$error":"#VALUE!"}}]
[null,{"$f":"Sprawdz_pesel(Formularz!#REF!)","v":{"$error":"#VALUE!"}}]
[null,{"$f":"Sprawdz_pesel(Formularz!#REF!)","v":{"$error":"#VALUE!"}}]
[null,{"$f":"Sprawdz_pesel(Formularz!#REF!)","v":{"$error":"#VALUE!"}}]
[null,{"$f":"Sprawdz_pesel(Formularz!#REF!)","v":{"$error":"#VALUE!"}}]
[null,{"$f":"Sprawdz_pesel(Formularz!#REF!)","v":{"$error":"#VALUE!"}}]
[null,{"$f":"Sprawdz_pesel(Formularz!#REF!)","v":{"$error":"#VALUE!"}}]
[null,{"$f":"Sprawdz_pesel(Formularz!#REF!)","v":{"$error":"#VALUE!"}}]
[null,{"$f":"Sprawdz_pesel(Formularz!#REF!)","v":{"$error":"#VALUE!"}}]
[null,{"$f":"Sprawdz_pesel(Formularz!#REF!)","v":{"$error":"#VALUE!"}}]
[null,{"$f":"Sprawdz_pesel(Formularz!#REF!)","v":{"$error":"#VALUE!"}}]
[null,{"$f":"Sprawdz_pesel(Formularz!#REF!)","v":{"$error":"#VALUE!"}}]
[null,{"$f":"Sprawdz_pesel(Formularz!#REF!)","v":{"$error":"#VALUE!"}}]
[null,{"$f":"Sprawdz_pesel(Formularz!#REF!)","v":{"$error":"#VALUE!"}}]
[null,{"$f":"Sprawdz_pesel(Formularz!#REF!)","v":{"$error":"#VALUE!"}}]
[null,{"$f":"Sprawdz_pesel(Formularz!#REF!)","v":{"$error":"#VALUE!"}}]
[null,{"$f":"Sprawdz_pesel(Formularz!#REF!)","v":{"$error":"#VALUE!"}}]
[null,{"$f":"Sprawdz_pesel(Formularz!#REF!)","v":{"$error":"#VALUE!"}}]
[null,{"$f":"Sprawdz_pesel(Formularz!#REF!)","v":{"$error":"#VALUE!"}}]
[null,{"$f":"Sprawdz_pesel(Formularz!#REF!)","v":{"$error":"#VALUE!"}}]
[null,{"$f":"Sprawdz_pesel(Formularz!#REF!)","v":{"$error":"#VALUE!"}}]
[null,{"$f":"Sprawdz_pesel(Formularz!#REF!)","v":{"$error":"#VALUE!"}}]
[null,{"$f":"Sprawdz_pesel(Formularz!#REF!)","v":{"$error":"#VALUE!"}}]
[null,{"$f":"Sprawdz_pesel(Formularz!#REF!)","v":{"$error":"#VALUE!"}}]
[null,{"$f":"Sprawdz_pesel(Formularz!#REF!)","v":{"$error":"#VALUE!"}}]
[null,{"$f":"Sprawdz_pesel(Formularz!#REF!)","v":{"$error":"#VALUE!"}}]
[null,{"$f":"Sprawdz_pesel(Formularz!#REF!)","v":{"$error":"#VALUE!"}}]
[null,{"$f":"Sprawdz_pesel(Formularz!#REF!)","v":{"$error":"#VALUE!"}}]
[null,{"$f":"Sprawdz_pesel(Formularz!#REF!)","v":{"$error":"#VALUE!"}}]
[null,{"$f":"Sprawdz_pesel(Formularz!#REF!)","v":{"$error":"#VALUE!"}}]
[null,{"$f":"Sprawdz_pesel(Formularz!#REF!)","v":{"$error":"#VALUE!"}}]
[null,{"$f":"Sprawdz_pesel(Formularz!#REF!)","v":{"$error":"#VALUE!"}}]
[null,{"$f":"Sprawdz_pesel(Formularz!#REF!)","v":{"$error":"#VALUE!"}}]
[null,{"$f":"Sprawdz_pesel(Formularz!#REF!)","v":{"$error":"#VALUE!"}}]
[null,{"$f":"Sprawdz_pesel(Formularz!#REF!)","v":{"$error":"#VALUE!"}}]
[null,{"$f":"Sprawdz_pesel(Formularz!#REF!)","v":{"$error":"#VALUE!"}}]
[null,{"$f":"Sprawdz_pesel(Formularz!#REF!)","v":{"$error":"#VALUE!"}}]
[null,{"$f":"Sprawdz_pesel(Formularz!#REF!)","v":{"$error":"#VALUE!"}}]
[null,{"$f":"Sprawdz_pesel(Formularz!#REF!)","v":{"$error":"#VALUE!"}}]
[null,{"$f":"Sprawdz_pesel(Formularz!#REF!)","v":{"$error":"#VALUE!"}}]
[null,{"$f":"Sprawdz_pesel(Formularz!#REF!)","v":{"$error":"#VALUE!"}}]
[null,{"$f":"Sprawdz_pesel(Formularz!#REF!)","v":{"$error":"#VALUE!"}}]
[null,{"$f":"Sprawdz_pesel(Formularz!#REF!)","v":{"$error":"#VALUE!"}}]
[null,{"$f":"Sprawdz_pesel(Formularz!#REF!)","v":{"$error":"#VALUE!"}}]
[null,{"$f":"Sprawdz_pesel(Formularz!#REF!)","v":{"$error":"#VALUE!"}}]
[null,{"$f":"Sprawdz_pesel(Formularz!#REF!)","v":{"$error":"#VALUE!"}}]
[null,{"$f":"Sprawdz_pesel(Formularz!#REF!)","v":{"$error":"#VALUE!"}}]
[null,{"$f":"Sprawdz_pesel(Formularz!#REF!)","v":{"$error":"#VALUE!"}}]
[null,{"$f":"Sprawdz_pesel(Formularz!#REF!)","v":{"$error":"#VALUE!"}}]
[null,{"$f":"Sprawdz_pesel(Formularz!#REF!)","v":{"$error":"#VALUE!"}}]
[null,{"$f":"Sprawdz_pesel(Formularz!#REF!)","v":{"$error":"#VALUE!"}}]
[null,{"$f":"Sprawdz_pesel(Formularz!#REF!)","v":{"$error":"#VALUE!"}}]
[null,{"$f":"Sprawdz_pesel(Formularz!#REF!)","v":{"$error":"#VALUE!"}}]
[null,{"$f":"Sprawdz_pesel(Formularz!#REF!)","v":{"$error":"#VALUE!"}}]
[null,{"$f":"Sprawdz_pesel(Formularz!#REF!)","v":{"$error":"#VALUE!"}}]
[null,{"$f":"Sprawdz_pesel(Formularz!#REF!)","v":{"$error":"#VALUE!"}}]
[null,{"$f":"Sprawdz_pesel(Formularz!#REF!)","v":{"$error":"#VALUE!"}}]
[null,{"$f":"Sprawdz_pesel(Formularz!#REF!)","v":{"$error":"#VALUE!"}}]
[null,{"$f":"Sprawdz_pesel(Formularz!#REF!)","v":{"$error":"#VALUE!"}}]
[null,{"$f":"Sprawdz_pesel(Formularz!#REF!)","v":{"$error":"#VALUE!"}}]
[null,{"$f":"Sprawdz_pesel(Formularz!#REF!)","v":{"$error":"#VALUE!"}}]
[null,{"$f":"Sprawdz_pesel(Formularz!#REF!)","v":{"$error":"#VALUE!"}}]
[null,{"$f":"Sprawdz_pesel(Formularz!#REF!)","v":{"$error":"#VALUE!"}}]
[null,{"$f":"Sprawdz_pesel(Formularz!#REF!)","v":{"$error":"#VALUE!"}}]
[null,{"$f":"Sprawdz_pesel(Formularz!#REF!)","v":{"$error":"#VALUE!"}}]
[null,{"$f":"Sprawdz_pesel(Formularz!#REF!)","v":{"$error":"#VALUE!"}}]
[null,{"$f":"Sprawdz_pesel(Formularz!#REF!)","v":{"$error":"#VALUE!"}}]
[null,{"$f":"Sprawdz_pesel(Formularz!#REF!)","v":{"$error":"#VALUE!"}}]
[null,{"$f":"Sprawdz_pesel(Formularz!#REF!)","v":{"$error":"#VALUE!"}}]
[null,{"$f":"Sprawdz_pesel(Formularz!#REF!)","v":{"$error":"#VALUE!"}}]
[null,{"$f":"Sprawdz_pesel(Formularz!#REF!)","v":{"$error":"#VALUE!"}}]
[null,{"$f":"Sprawdz_pesel(Formularz!#REF!)","v":{"$error":"#VALUE!"}}]
[null,{"$f":"Sprawdz_pesel(Formularz!#REF!)","v":{"$error":"#VALUE!"}}]
[null,{"$f":"Sprawdz_pesel(Formularz!#REF!)","v":{"$error":"#VALUE!"}}]
[null,{"$f":"Sprawdz_pesel(Formularz!#REF!)","v":{"$error":"#VALUE!"}}]
[null,{"$f":"Sprawdz_pesel(Formularz!#REF!)","v":{"$error":"#VALUE!"}}]
[null,{"$f":"Sprawdz_pesel(Formularz!#REF!)","v":{"$error":"#VALUE!"}}]
[null,{"$f":"Sprawdz_pesel(Formularz!#REF!)","v":{"$error":"#VALUE!"}}]
[null,{"$f":"Sprawdz_pesel(Formularz!#REF!)","v":{"$error":"#VALUE!"}}]
[null,{"$f":"Sprawdz_pesel(Formularz!#REF!)","v":{"$error":"#VALUE!"}}]
[null,{"$f":"Sprawdz_pesel(Formularz!#REF!)","v":{"$error":"#VALUE!"}}]
[null,{"$f":"Sprawdz_pesel(Formularz!#REF!)","v":{"$error":"#VALUE!"}}]
[null,{"$f":"Sprawdz_pesel(Formularz!#REF!)","v":{"$error":"#VALUE!"}}]
[null,{"$f":"Sprawdz_pesel(Formularz!#REF!)","v":{"$error":"#VALUE!"}}]
[null,{"$f":"Sprawdz_pesel(Formularz!#REF!)","v":{"$error":"#VALUE!"}}]
[null,{"$f":"Sprawdz_pesel(Formularz!#REF!)","v":{"$error":"#VALUE!"}}]
[null,{"$f":"Sprawdz_pesel(Formularz!#REF!)","v":{"$error":"#VALUE!"}}]
[null,{"$f":"Sprawdz_pesel(Formularz!#REF!)","v":{"$error":"#VALUE!"}}]
[null,{"$f":"Sprawdz_pesel(Formularz!#REF!)","v":{"$error":"#VALUE!"}}]
[null,{"$f":"Sprawdz_pesel(Formularz!#REF!)","v":{"$error":"#VALUE!"}}]
[null,{"$f":"Sprawdz_pesel(Formularz!#REF!)","v":{"$error":"#VALUE!"}}]
[null,{"$f":"Sprawdz_pesel(Formularz!#REF!)","v":{"$error":"#VALUE!"}}]
[null,{"$f":"Sprawdz_pesel(Formularz!#REF!)","v":{"$error":"#VALUE!"}}]
[null,{"$f":"Sprawdz_pesel(Formularz!#REF!)","v":{"$error":"#VALUE!"}}]
[null,{"$f":"Sprawdz_pesel(Formularz!#REF!)","v":{"$error":"#VALUE!"}}]
[null,{"$f":"Sprawdz_pesel(Formularz!#REF!)","v":{"$error":"#VALUE!"}}]
[null,{"$f":"Sprawdz_pesel(Formularz!#REF!)","v":{"$error":"#VALUE!"}}]
[null,{"$f":"Sprawdz_pesel(Formularz!#REF!)","v":{"$error":"#VALUE!"}}]
[null,{"$f":"Sprawdz_pesel(Formularz!#REF!)","v":{"$error":"#VALUE!"}}]
[null,{"$f":"Sprawdz_pesel(Formularz!#REF!)","v":{"$error":"#VALUE!"}}]
[null,{"$f":"Sprawdz_pesel(Formularz!#REF!)","v":{"$error":"#VALUE!"}}]
[null,{"$f":"Sprawdz_pesel(Formularz!#REF!)","v":{"$error":"#VALUE!"}}]
[null,{"$f":"Sprawdz_pesel(Formularz!#REF!)","v":{"$error":"#VALUE!"}}]
[null,{"$f":"Sprawdz_pesel(Formularz!#REF!)","v":{"$error":"#VALUE!"}}]
[null,{"$f":"Sprawdz_pesel(Formularz!#REF!)","v":{"$error":"#VALUE!"}}]
[null,{"$f":"Sprawdz_pesel(Formularz!#REF!)","v":{"$error":"#VALUE!"}}]
[null,{"$f":"Sprawdz_pesel(Formularz!#REF!)","v":{"$error":"#VALUE!"}}]
[null,{"$f":"Sprawdz_pesel(Formularz!#REF!)","v":{"$error":"#VALUE!"}}]
[null,{"$f":"Sprawdz_pesel(Formularz!#REF!)","v":{"$error":"#VALUE!"}}]
[null,{"$f":"Sprawdz_pesel(Formularz!#REF!)","v":{"$error":"#VALUE!"}}]
[null,{"$f":"Sprawdz_pesel(Formularz!#REF!)","v":{"$error":"#VALUE!"}}]
[null,{"$f":"Sprawdz_pesel(Formularz!#REF!)","v":{"$error":"#VALUE!"}}]
[null,{"$f":"Sprawdz_pesel(Formularz!#REF!)","v":{"$error":"#VALUE!"}}]
[null,{"$f":"Sprawdz_pesel(Formularz!#REF!)","v":{"$error":"#VALUE!"}}]
[null,{"$f":"Sprawdz_pesel(Formularz!#REF!)","v":{"$error":"#VALUE!"}}]
[null,{"$f":"Sprawdz_pesel(Formularz!#REF!)","v":{"$error":"#VALUE!"}}]
[null,{"$f":"Sprawdz_pesel(Formularz!#REF!)","v":{"$error":"#VALUE!"}}]
[null,{"$f":"Sprawdz_pesel(Formularz!#REF!)","v":{"$error":"#VALUE!"}}]
[null,{"$f":"Sprawdz_pesel(Formularz!#REF!)","v":{"$error":"#VALUE!"}}]
[null,{"$f":"Sprawdz_pesel(Formularz!#REF!)","v":{"$error":"#VALUE!"}}]
[null,{"$f":"Sprawdz_pesel(Formularz!#REF!)","v":{"$error":"#VALUE!"}}]
[null,{"$f":"Sprawdz_pesel(Formularz!#REF!)","v":{"$error":"#VALUE!"}}]
[null,{"$f":"Sprawdz_pesel(Formularz!#REF!)","v":{"$error":"#VALUE!"}}]
[null,{"$f":"Sprawdz_pesel(Formularz!#REF!)","v":{"$error":"#VALUE!"}}]
[null,{"$f":"Sprawdz_pesel(Formularz!#REF!)","v":{"$error":"#VALUE!"}}]
[null,{"$f":"Sprawdz_pesel(Formularz!#REF!)","v":{"$error":"#VALUE!"}}]
[null,{"$f":"Sprawdz_pesel(Formularz!#REF!)","v":{"$error":"#VALUE!"}}]
[null,{"$f":"Sprawdz_pesel(Formularz!#REF!)","v":{"$error":"#VALUE!"}}]
[null,{"$f":"Sprawdz_pesel(Formularz!#REF!)","v":{"$error":"#VALUE!"}}]
[null,{"$f":"Sprawdz_pesel(Formularz!#REF!)","v":{"$error":"#VALUE!"}}]
[null,{"$f":"Sprawdz_pesel(Formularz!#REF!)","v":{"$error":"#VALUE!"}}]
[null,{"$f":"Sprawdz_pesel(Formularz!#REF!)","v":{"$error":"#VALUE!"}}]
[null,{"$f":"Sprawdz_pesel(Formularz!#REF!)","v":{"$error":"#VALUE!"}}]
[null,{"$f":"Sprawdz_pesel(Formularz!#REF!)","v":{"$error":"#VALUE!"}}]
[null,{"$f":"Sprawdz_pesel(Formularz!#REF!)","v":{"$error":"#VALUE!"}}]
[null,{"$f":"Sprawdz_pesel(Formularz!#REF!)","v":{"$error":"#VALUE!"}}]
[null,{"$f":"Sprawdz_pesel(Formularz!#REF!)","v":{"$error":"#VALUE!"}}]
[null,{"$f":"Sprawdz_pesel(Formularz!#REF!)","v":{"$error":"#VALUE!"}}]
[null,{"$f":"Sprawdz_pesel(Formularz!#REF!)","v":{"$error":"#VALUE!"}}]
[null,{"$f":"Sprawdz_pesel(Formularz!#REF!)","v":{"$error":"#VALUE!"}}]
[null,{"$f":"Sprawdz_pesel(Formularz!#REF!)","v":{"$error":"#VALUE!"}}]
[null,{"$f":"Sprawdz_pesel(Formularz!#REF!)","v":{"$error":"#VALUE!"}}]
[null,{"$f":"Sprawdz_pesel(Formularz!#REF!)","v":{"$error":"#VALUE!"}}]
[null,{"$f":"Sprawdz_pesel(Formularz!#REF!)","v":{"$error":"#VALUE!"}}]
[null,{"$f":"Sprawdz_pesel(Formularz!#REF!)","v":{"$error":"#VALUE!"}}]
[null,{"$f":"Sprawdz_pesel(Formularz!#REF!)","v":{"$error":"#VALUE!"}}]
[null,{"$f":"Sprawdz_pesel(Formularz!#REF!)","v":{"$error":"#VALUE!"}}]
[null,{"$f":"Sprawdz_pesel(Formularz!#REF!)","v":{"$error":"#VALUE!"}}]
[null,{"$f":"Sprawdz_pesel(Formularz!#REF!)","v":{"$error":"#VALUE!"}}]
[null,{"$f":"Sprawdz_pesel(Formularz!#REF!)","v":{"$error":"#VALUE!"}}]
[null,{"$f":"Sprawdz_pesel(Formularz!#REF!)","v":{"$error":"#VALUE!"}}]
[null,{"$f":"Sprawdz_pesel(Formularz!#REF!)","v":{"$error":"#VALUE!"}}]
[null,{"$f":"Sprawdz_pesel(Formularz!#REF!)","v":{"$error":"#VALUE!"}}]
[null,{"$f":"Sprawdz_pesel(Formularz!#REF!)","v":{"$error":"#VALUE!"}}]
[null,{"$f":"Sprawdz_pesel(Formularz!#REF!)","v":{"$error":"#VALUE!"}}]
[null,{"$f":"Sprawdz_pesel(Formularz!#REF!)","v":{"$error":"#VALUE!"}}]
[null,{"$f":"Sprawdz_pesel(Formularz!#REF!)","v":{"$error":"#VALUE!"}}]
[null,{"$f":"Sprawdz_pesel(Formularz!#REF!)","v":{"$error":"#VALUE!"}}]
[null,{"$f":"Sprawdz_pesel(Formularz!#REF!)","v":{"$error":"#VALUE!"}}]
[null,{"$f":"Sprawdz_pesel(Formularz!#REF!)","v":{"$error":"#VALUE!"}}]
[null,{"$f":"Sprawdz_pesel(Formularz!#REF!)","v":{"$error":"#VALUE!"}}]
[null,{"$f":"Sprawdz_pesel(Formularz!#REF!)","v":{"$error":"#VALUE!"}}]
[null,{"$f":"Sprawdz_pesel(Formularz!#REF!)","v":{"$error":"#VALUE!"}}]
[null,{"$f":"Sprawdz_pesel(Formularz!#REF!)","v":{"$error":"#VALUE!"}}]
[null,{"$f":"Sprawdz_pesel(Formularz!#REF!)","v":{"$error":"#VALUE!"}}]
[null,{"$f":"Sprawdz_pesel(Formularz!#REF!)","v":{"$error":"#VALUE!"}}]
[null,{"$f":"Sprawdz_pesel(Formularz!#REF!)","v":{"$error":"#VALUE!"}}]
[null,{"$f":"Sprawdz_pesel(Formularz!#REF!)","v":{"$error":"#VALUE!"}}]
[null,{"$f":"Sprawdz_pesel(Formularz!#REF!)","v":{"$error":"#VALUE!"}}]
[null,{"$f":"Sprawdz_pesel(Formularz!#REF!)","v":{"$error":"#VALUE!"}}]
[null,{"$f":"Sprawdz_pesel(Formularz!#REF!)","v":{"$error":"#VALUE!"}}]
[null,{"$f":"Sprawdz_pesel(Formularz!#REF!)","v":{"$error":"#VALUE!"}}]
[null,{"$f":"Sprawdz_pesel(Formularz!#REF!)","v":{"$error":"#VALUE!"}}]
[null,{"$f":"Sprawdz_pesel(Formularz!#REF!)","v":{"$error":"#VALUE!"}}]
[null,{"$f":"Sprawdz_pesel(Formularz!#REF!)","v":{"$error":"#VALUE!"}}]
[null,{"$f":"Sprawdz_pesel(Formularz!#REF!)","v":{"$error":"#VALUE!"}}]
[null,{"$f":"Sprawdz_pesel(Formularz!#REF!)","v":{"$error":"#VALUE!"}}]
[null,{"$f":"Sprawdz_pesel(Formularz!#REF!)","v":{"$error":"#VALUE!"}}]
[null,{"$f":"Sprawdz_pesel(Formularz!#REF!)","v":{"$error":"#VALUE!"}}]
[null,{"$f":"Sprawdz_pesel(Formularz!#REF!)","v":{"$error":"#VALUE!"}}]
[null,{"$f":"Sprawdz_pesel(Formularz!#REF!)","v":{"$error":"#VALUE!"}}]
[null,{"$f":"Sprawdz_pesel(Formularz!#REF!)","v":{"$error":"#VALUE!"}}]
[null,{"$f":"Sprawdz_pesel(Formularz!#REF!)","v":{"$error":"#VALUE!"}}]
[null,{"$f":"Sprawdz_pesel(Formularz!#REF!)","v":{"$error":"#VALUE!"}}]
[null,{"$f":"Sprawdz_pesel(Formularz!#REF!)","v":{"$error":"#VALUE!"}}]
[null,{"$f":"Sprawdz_pesel(Formularz!#REF!)","v":{"$error":"#VALUE!"}}]
[null,{"$f":"Sprawdz_pesel(Formularz!#REF!)","v":{"$error":"#VALUE!"}}]
[null,{"$f":"Sprawdz_pesel(Formularz!#REF!)","v":{"$error":"#VALUE!"}}]
[null,{"$f":"Sprawdz_pesel(Formularz!#REF!)","v":{"$error":"#VALUE!"}}]
[null,{"$f":"Sprawdz_pesel(Formularz!#REF!)","v":{"$error":"#VALUE!"}}]
[null,{"$f":"Sprawdz_pesel(Formularz!#REF!)","v":{"$error":"#VALUE!"}}]
[null,{"$f":"Sprawdz_pesel(Formularz!#REF!)","v":{"$error":"#VALUE!"}}]
[null,{"$f":"Sprawdz_pesel(Formularz!#REF!)","v":{"$error":"#VALUE!"}}]
[null,{"$f":"Sprawdz_pesel(Formularz!#REF!)","v":{"$error":"#VALUE!"}}]
[null,{"$f":"Sprawdz_pesel(Formularz!#REF!)","v":{"$error":"#VALUE!"}}]
[null,{"$f":"Sprawdz_pesel(Formularz!#REF!)","v":{"$error":"#VALUE!"}}]
[null,{"$f":"Sprawdz_pesel(Formularz!#REF!)","v":{"$error":"#VALUE!"}}]
[null,{"$f":"Sprawdz_pesel(Formularz!#REF!)","v":{"$error":"#VALUE!"}}]
[null,{"$f":"Sprawdz_pesel(Formularz!#REF!)","v":{"$error":"#VALUE!"}}]
[null,{"$f":"Sprawdz_pesel(Formularz!#REF!)","v":{"$error":"#VALUE!"}}]
[null,{"$f":"Sprawdz_pesel(Formularz!#REF!)","v":{"$error":"#VALUE!"}}]
[null,{"$f":"Sprawdz_pesel(Formularz!#REF!)","v":{"$error":"#VALUE!"}}]
[null,{"$f":"Sprawdz_pesel(Formularz!#REF!)","v":{"$error":"#VALUE!"}}]
[null,{"$f":"Sprawdz_pesel(Formularz!#REF!)","v":{"$error":"#VALUE!"}}]
[null,{"$f":"Sprawdz_pesel(Formularz!#REF!)","v":{"$error":"#VALUE!"}}]
[null,{"$f":"Sprawdz_pesel(Formularz!#REF!)","v":{"$error":"#VALUE!"}}]
[null,{"$f":"Sprawdz_pesel(Formularz!#REF!)","v":{"$error":"#VALUE!"}}]
[null,{"$f":"Sprawdz_pesel(Formularz!#REF!)","v":{"$error":"#VALUE!"}}]
[null,{"$f":"Sprawdz_pesel(Formularz!#REF!)","v":{"$error":"#VALUE!"}}]
[null,{"$f":"Sprawdz_pesel(Formularz!#REF!)","v":{"$error":"#VALUE!"}}]
[null,{"$f":"Sprawdz_pesel(Formularz!#REF!)","v":{"$error":"#VALUE!"}}]
[null,{"$f":"Sprawdz_pesel(Formularz!#REF!)","v":{"$error":"#VALUE!"}}]
[null,{"$f":"Sprawdz_pesel(Formularz!#REF!)","v":{"$error":"#VALUE!"}}]
[null,{"$f":"Sprawdz_pesel(Formularz!#REF!)","v":{"$error":"#VALUE!"}}]
[null,{"$f":"Sprawdz_pesel(Formularz!#REF!)","v":{"$error":"#VALUE!"}}]
[null,{"$f":"Sprawdz_pesel(Formularz!#REF!)","v":{"$error":"#VALUE!"}}]
[null,{"$f":"Sprawdz_pesel(Formularz!#REF!)","v":{"$error":"#VALUE!"}}]
[null,{"$f":"Sprawdz_pesel(Formularz!#REF!)","v":{"$error":"#VALUE!"}}]
[null,{"$f":"Sprawdz_pesel(Formularz!#REF!)","v":{"$error":"#VALUE!"}}]
[null,{"$f":"Sprawdz_pesel(Formularz!#REF!)","v":{"$error":"#VALUE!"}}]
[null,{"$f":"Sprawdz_pesel(Formularz!#REF!)","v":{"$error":"#VALUE!"}}]
[null,{"$f":"Sprawdz_pesel(Formularz!#REF!)","v":{"$error":"#VALUE!"}}]
[null,{"$f":"Sprawdz_pesel(Formularz!#REF!)","v":{"$error":"#VALUE!"}}]
[null,{"$f":"Sprawdz_pesel(Formularz!#REF!)","v":{"$error":"#VALUE!"}}]
[null,{"$f":"Sprawdz_pesel(Formularz!#REF!)","v":{"$error":"#VALUE!"}}]
[null,{"$f":"Sprawdz_pesel(Formularz!#REF!)","v":{"$error":"#VALUE!"}}]
[null,{"$f":"Sprawdz_pesel(Formularz!#REF!)","v":{"$error":"#VALUE!"}}]
[null,{"$f":"Sprawdz_pesel(Formularz!#REF!)","v":{"$error":"#VALUE!"}}]
[null,{"$f":"Sprawdz_pesel(Formularz!#REF!)","v":{"$error":"#VALUE!"}}]
[null,{"$f":"Sprawdz_pesel(Formularz!#REF!)","v":{"$error":"#VALUE!"}}]
[null,{"$f":"Sprawdz_pesel(Formularz!#REF!)","v":{"$error":"#VALUE!"}}]
[null,{"$f":"Sprawdz_pesel(Formularz!#REF!)","v":{"$error":"#VALUE!"}}]
[null,{"$f":"Sprawdz_pesel(Formularz!#REF!)","v":{"$error":"#VALUE!"}}]
[null,{"$f":"Sprawdz_pesel(Formularz!#REF!)","v":{"$error":"#VALUE!"}}]
[null,{"$f":"Sprawdz_pesel(Formularz!#REF!)","v":{"$error":"#VALUE!"}}]
[null,{"$f":"Sprawdz_pesel(Formularz!#REF!)","v":{"$error":"#VALUE!"}}]
[null,{"$f":"Sprawdz_pesel(Formularz!#REF!)","v":{"$error":"#VALUE!"}}]
[null,{"$f":"Sprawdz_pesel(Formularz!#REF!)","v":{"$error":"#VALUE!"}}]
[null,{"$f":"Sprawdz_pesel(Formularz!#REF!)","v":{"$error":"#VALUE!"}}]
[null,{"$f":"Sprawdz_pesel(Formularz!#REF!)","v":{"$error":"#VALUE!"}}]
[null,{"$f":"Sprawdz_pesel(Formularz!#REF!)","v":{"$error":"#VALUE!"}}]
[null,{"$f":"Sprawdz_pesel(Formularz!#REF!)","v":{"$error":"#VALUE!"}}]
[null,{"$f":"Sprawdz_pesel(Formularz!#REF!)","v":{"$error":"#VALUE!"}}]
[null,{"$f":"Sprawdz_pesel(Formularz!#REF!)","v":{"$error":"#VALUE!"}}]
[null,{"$f":"Sprawdz_pesel(Formularz!#REF!)","v":{"$error":"#VALUE!"}}]
[null,{"$f":"Sprawdz_pesel(Formularz!#REF!)","v":{"$error":"#VALUE!"}}]
[null,{"$f":"Sprawdz_pesel(Formularz!#REF!)","v":{"$error":"#VALUE!"}}]
[null,{"$f":"Sprawdz_pesel(Formularz!#REF!)","v":{"$error":"#VALUE!"}}]
[null,{"$f":"Sprawdz_pesel(Formularz!#REF!)","v":{"$error":"#VALUE!"}}]
[null,{"$f":"Sprawdz_pesel(Formularz!#REF!)","v":{"$error":"#VALUE!"}}]
[null,{"$f":"Sprawdz_pesel(Formularz!#REF!)","v":{"$error":"#VALUE!"}}]
[null,{"$f":"Sprawdz_pesel(Formularz!#REF!)","v":{"$error":"#VALUE!"}}]
[null,{"$f":"Sprawdz_pesel(Formularz!#REF!)","v":{"$error":"#VALUE!"}}]
[null,{"$f":"Sprawdz_pesel(Formularz!#REF!)","v":{"$error":"#VALUE!"}}]
[null,{"$f":"Sprawdz_pesel(Formularz!#REF!)","v":{"$error":"#VALUE!"}}]
[null,{"$f":"Sprawdz_pesel(Formularz!#REF!)","v":{"$error":"#VALUE!"}}]
[null,{"$f":"Sprawdz_pesel(Formularz!#REF!)","v":{"$error":"#VALUE!"}}]
[null,{"$f":"Sprawdz_pesel(Formularz!#REF!)","v":{"$error":"#VALUE!"}}]
[null,{"$f":"Sprawdz_pesel(Formularz!#REF!)","v":{"$error":"#VALUE!"}}]
[null,{"$f":"Sprawdz_pesel(Formularz!#REF!)","v":{"$error":"#VALUE!"}}]
[null,{"$f":"Sprawdz_pesel(Formularz!#REF!)","v":{"$error":"#VALUE!"}}]
[null,{"$f":"Sprawdz_pesel(Formularz!#REF!)","v":{"$error":"#VALUE!"}}]
[null,{"$f":"Sprawdz_pesel(Formularz!#REF!)","v":{"$error":"#VALUE!"}}]
[null,{"$f":"Sprawdz_pesel(Formularz!#REF!)","v":{"$error":"#VALUE!"}}]
[null,{"$f":"Sprawdz_pesel(Formularz!#REF!)","v":{"$error":"#VALUE!"}}]
[null,{"$f":"Sprawdz_pesel(Formularz!#REF!)","v":{"$error":"#VALUE!"}}]
[null,{"$f":"Sprawdz_pesel(Formularz!#REF!)","v":{"$error":"#VALUE!"}}]
[null,{"$f":"Sprawdz_pesel(Formularz!#REF!)","v":{"$error":"#VALUE!"}}]
[null,{"$f":"Sprawdz_pesel(Formularz!#REF!)","v":{"$error":"#VALUE!"}}]
[null,{"$f":"Sprawdz_pesel(Formularz!#REF!)","v":{"$error":"#VALUE!"}}]
[null,{"$f":"Sprawdz_pesel(Formularz!#REF!)","v":{"$error":"#VALUE!"}}]
[null,{"$f":"Sprawdz_pesel(Formularz!#REF!)","v":{"$error":"#VALUE!"}}]
[null,{"$f":"Sprawdz_pesel(Formularz!#REF!)","v":{"$error":"#VALUE!"}}]
[null,{"$f":"Sprawdz_pesel(Formularz!#REF!)","v":{"$error":"#VALUE!"}}]
[null,{"$f":"Sprawdz_pesel(Formularz!#REF!)","v":{"$error":"#VALUE!"}}]
[null,{"$f":"Sprawdz_pesel(Formularz!#REF!)","v":{"$error":"#VALUE!"}}]
[null,{"$f":"Sprawdz_pesel(Formularz!#REF!)","v":{"$error":"#VALUE!"}}]
[null,{"$f":"Sprawdz_pesel(Formularz!#REF!)","v":{"$error":"#VALUE!"}}]
[null,{"$f":"Sprawdz_pesel(Formularz!#REF!)","v":{"$error":"#VALUE!"}}]
[null,{"$f":"Sprawdz_pesel(Formularz!#REF!)","v":{"$error":"#VALUE!"}}]
[null,{"$f":"Sprawdz_pesel(Formularz!#REF!)","v":{"$error":"#VALUE!"}}]
[null,{"$f":"Sprawdz_pesel(Formularz!#REF!)","v":{"$error":"#VALUE!"}}]
[null,{"$f":"Sprawdz_pesel(Formularz!#REF!)","v":{"$error":"#VALUE!"}}]
[null,{"$f":"Sprawdz_pesel(Formularz!#REF!)","v":{"$error":"#VALUE!"}}]
[null,{"$f":"Sprawdz_pesel(Formularz!#REF!)","v":{"$error":"#VALUE!"}}]
[null,{"$f":"Sprawdz_pesel(Formularz!#REF!)","v":{"$error":"#VALUE!"}}]
[null,{"$f":"Sprawdz_pesel(Formularz!#REF!)","v":{"$error":"#VALUE!"}}]
[null,{"$f":"Sprawdz_pesel(Formularz!#REF!)","v":{"$error":"#VALUE!"}}]
[null,{"$f":"Sprawdz_pesel(Formularz!#REF!)","v":{"$error":"#VALUE!"}}]
[null,{"$f":"Sprawdz_pesel(Formularz!#REF!)","v":{"$error":"#VALUE!"}}]
[null,{"$f":"Sprawdz_pesel(Formularz!#REF!)","v":{"$error":"#VALUE!"}}]
[null,{"$f":"Sprawdz_pesel(Formularz!#REF!)","v":{"$error":"#VALUE!"}}]
[null,{"$f":"Sprawdz_pesel(Formularz!#REF!)","v":{"$error":"#VALUE!"}}]
[null,{"$f":"Sprawdz_pesel(Formularz!#REF!)","v":{"$error":"#VALUE!"}}]
[null,{"$f":"Sprawdz_pesel(Formularz!#REF!)","v":{"$error":"#VALUE!"}}]
[null,{"$f":"Sprawdz_pesel(Formularz!#REF!)","v":{"$error":"#VALUE!"}}]
[null,{"$f":"Sprawdz_pesel(Formularz!#REF!)","v":{"$error":"#VALUE!"}}]
[null,{"$f":"Sprawdz_pesel(Formularz!#REF!)","v":{"$error":"#VALUE!"}}]
[null,{"$f":"Sprawdz_pesel(Formularz!#REF!)","v":{"$error":"#VALUE!"}}]
[null,{"$f":"Sprawdz_pesel(Formularz!#REF!)","v":{"$error":"#VALUE!"}}]
[null,{"$f":"Sprawdz_pesel(Formularz!#REF!)","v":{"$error":"#VALUE!"}}]
[null,{"$f":"Sprawdz_pesel(Formularz!#REF!)","v":{"$error":"#VALUE!"}}]
[null,{"$f":"Sprawdz_pesel(Formularz!#REF!)","v":{"$error":"#VALUE!"}}]
[null,{"$f":"Sprawdz_pesel(Formularz!#REF!)","v":{"$error":"#VALUE!"}}]
[null,{"$f":"Sprawdz_pesel(Formularz!#REF!)","v":{"$error":"#VALUE!"}}]
[null,{"$f":"Sprawdz_pesel(Formularz!#REF!)","v":{"$error":"#VALUE!"}}]
[null,{"$f":"Sprawdz_pesel(Formularz!#REF!)","v":{"$error":"#VALUE!"}}]
[null,{"$f":"Sprawdz_pesel(Formularz!#REF!)","v":{"$error":"#VALUE!"}}]
[null,{"$f":"Sprawdz_pesel(Formularz!#REF!)","v":{"$error":"#VALUE!"}}]
[null,{"$f":"Sprawdz_pesel(Formularz!#REF!)","v":{"$error":"#VALUE!"}}]
[null,{"$f":"Sprawdz_pesel(Formularz!#REF!)","v":{"$error":"#VALUE!"}}]
[null,{"$f":"Sprawdz_pesel(Formularz!#REF!)","v":{"$error":"#VALUE!"}}]
[null,{"$f":"Sprawdz_pesel(Formularz!#REF!)","v":{"$error":"#VALUE!"}}]
[null,{"$f":"Sprawdz_pesel(Formularz!#REF!)","v":{"$error":"#VALUE!"}}]
[null,{"$f":"Sprawdz_pesel(Formularz!#REF!)","v":{"$error":"#VALUE!"}}]
[null,{"$f":"Sprawdz_pesel(Formularz!#REF!)","v":{"$error":"#VALUE!"}}]
[null,{"$f":"Sprawdz_pesel(Formularz!#REF!)","v":{"$error":"#VALUE!"}}]
[null,{"$f":"Sprawdz_pesel(Formularz!#REF!)","v":{"$error":"#VALUE!"}}]
[null,{"$f":"Sprawdz_pesel(Formularz!#REF!)","v":{"$error":"#VALUE!"}}]
[null,{"$f":"Sprawdz_pesel(Formularz!#REF!)","v":{"$error":"#VALUE!"}}]
[null,{"$f":"Sprawdz_pesel(Formularz!#REF!)","v":{"$error":"#VALUE!"}}]
[null,{"$f":"Sprawdz_pesel(Formularz!#REF!)","v":{"$error":"#VALUE!"}}]
[null,{"$f":"Sprawdz_pesel(Formularz!#REF!)","v":{"$error":"#VALUE!"}}]
[null,{"$f":"Sprawdz_pesel(Formularz!#REF!)","v":{"$error":"#VALUE!"}}]
[null,{"$f":"Sprawdz_pesel(Formularz!#REF!)","v":{"$error":"#VALUE!"}}]
[null,{"$f":"Sprawdz_pesel(Formularz!#REF!)","v":{"$error":"#VALUE!"}}]
[null,{"$f":"Sprawdz_pesel(Formularz!#REF!)","v":{"$error":"#VALUE!"}}]
[null,{"$f":"Sprawdz_pesel(Formularz!#REF!)","v":{"$error":"#VALUE!"}}]
[null,{"$f":"Sprawdz_pesel(Formularz!#REF!)","v":{"$error":"#VALUE!"}}]
[null,{"$f":"Sprawdz_pesel(Formularz!#REF!)","v":{"$error":"#VALUE!"}}]
[null,{"$f":"Sprawdz_pesel(Formularz!#REF!)","v":{"$error":"#VALUE!"}}]
[null,{"$f":"Sprawdz_pesel(Formularz!#REF!)","v":{"$error":"#VALUE!"}}]
[null,{"$f":"Sprawdz_pesel(Formularz!#REF!)","v":{"$error":"#VALUE!"}}]
[null,{"$f":"Sprawdz_pesel(Formularz!#REF!)","v":{"$error":"#VALUE!"}}]
[null,{"$f":"Sprawdz_pesel(Formularz!#REF!)","v":{"$error":"#VALUE!"}}]
[null,{"$f":"Sprawdz_pesel(Formularz!#REF!)","v":{"$error":"#VALUE!"}}]
[null,{"$f":"Sprawdz_pesel(Formularz!#REF!)","v":{"$error":"#VALUE!"}}]
[null,{"$f":"Sprawdz_pesel(Formularz!#REF!)","v":{"$error":"#VALUE!"}}]
[null,{"$f":"Sprawdz_pesel(Formularz!#REF!)","v":{"$error":"#VALUE!"}}]
[null,{"$f":"Sprawdz_pesel(Formularz!#REF!)","v":{"$error":"#VALUE!"}}]
[null,{"$f":"Sprawdz_pesel(Formularz!#REF!)","v":{"$error":"#VALUE!"}}]
[null,{"$f":"Sprawdz_pesel(Formularz!#REF!)","v":{"$error":"#VALUE!"}}]
[null,{"$f":"Sprawdz_pesel(Formularz!#REF!)","v":{"$error":"#VALUE!"}}]
[null,{"$f":"Sprawdz_pesel(Formularz!#REF!)","v":{"$error":"#VALUE!"}}]
[null,{"$f":"Sprawdz_pesel(Formularz!#REF!)","v":{"$error":"#VALUE!"}}]
[null,{"$f":"Sprawdz_pesel(Formularz!#REF!)","v":{"$error":"#VALUE!"}}]
[null,{"$f":"Sprawdz_pesel(Formularz!#REF!)","v":{"$error":"#VALUE!"}}]
[null,{"$f":"Sprawdz_pesel(Formularz!#REF!)","v":{"$error":"#VALUE!"}}]
[null,{"$f":"Sprawdz_pesel(Formularz!#REF!)","v":{"$error":"#VALUE!"}}]
[null,{"$f":"Sprawdz_pesel(Formularz!#REF!)","v":{"$error":"#VALUE!"}}]
[null,{"$f":"Sprawdz_pesel(Formularz!#REF!)","v":{"$error":"#VALUE!"}}]
[null,{"$f":"Sprawdz_pesel(Formularz!#REF!)","v":{"$error":"#VALUE!"}}]
[null,{"$f":"Sprawdz_pesel(Formularz!#REF!)","v":{"$error":"#VALUE!"}}]
[null,{"$f":"Sprawdz_pesel(Formularz!#REF!)","v":{"$error":"#VALUE!"}}]
[null,{"$f":"Sprawdz_pesel(Formularz!#REF!)","v":{"$error":"#VALUE!"}}]
[null,{"$f":"Sprawdz_pesel(Formularz!#REF!)","v":{"$error":"#VALUE!"}}]
[null,{"$f":"Sprawdz_pesel(Formularz!#REF!)","v":{"$error":"#VALUE!"}}]
[null,{"$f":"Sprawdz_pesel(Formularz!#REF!)","v":{"$error":"#VALUE!"}}]
[null,{"$f":"Sprawdz_pesel(Formularz!#REF!)","v":{"$error":"#VALUE!"}}]
[null,{"$f":"Sprawdz_pesel(Formularz!#REF!)","v":{"$error":"#VALUE!"}}]
[null,{"$f":"Sprawdz_pesel(Formularz!#REF!)","v":{"$error":"#VALUE!"}}]
[null,{"$f":"Sprawdz_pesel(Formularz!#REF!)","v":{"$error":"#VALUE!"}}]
[null,{"$f":"Sprawdz_pesel(Formularz!#REF!)","v":{"$error":"#VALUE!"}}]
[null,{"$f":"Sprawdz_pesel(Formularz!#REF!)","v":{"$error":"#VALUE!"}}]
[null,{"$f":"Sprawdz_pesel(Formularz!#REF!)","v":{"$error":"#VALUE!"}}]
[null,{"$f":"Sprawdz_pesel(Formularz!#REF!)","v":{"$error":"#VALUE!"}}]
[null,{"$f":"Sprawdz_pesel(Formularz!#REF!)","v":{"$error":"#VALUE!"}}]
[null,{"$f":"Sprawdz_pesel(Formularz!#REF!)","v":{"$error":"#VALUE!"}}]
[null,{"$f":"Sprawdz_pesel(Formularz!#REF!)","v":{"$error":"#VALUE!"}}]
[null,{"$f":"Sprawdz_pesel(Formularz!#REF!)","v":{"$error":"#VALUE!"}}]
[null,{"$f":"Sprawdz_pesel(Formularz!#REF!)","v":{"$error":"#VALUE!"}}]
[null,{"$f":"Sprawdz_pesel(Formularz!#REF!)","v":{"$error":"#VALUE!"}}]
[null,{"$f":"Sprawdz_pesel(Formularz!#REF!)","v":{"$error":"#VALUE!"}}]
[null,{"$f":"Sprawdz_pesel(Formularz!#REF!)","v":{"$error":"#VALUE!"}}]
[null,{"$f":"Sprawdz_pesel(Formularz!#REF!)","v":{"$error":"#VALUE!"}}]
[null,{"$f":"Sprawdz_pesel(Formularz!#REF!)","v":{"$error":"#VALUE!"}}]
[null,{"$f":"Sprawdz_pesel(Formularz!#REF!)","v":{"$error":"#VALUE!"}}]
[null,{"$f":"Sprawdz_pesel(Formularz!#REF!)","v":{"$error":"#VALUE!"}}]
[null,{"$f":"Sprawdz_pesel(Formularz!#REF!)","v":{"$error":"#VALUE!"}}]
[null,{"$f":"Sprawdz_pesel(Formularz!#REF!)","v":{"$error":"#VALUE!"}}]
[null,{"$f":"Sprawdz_pesel(Formularz!#REF!)","v":{"$error":"#VALUE!"}}]
[null,{"$f":"Sprawdz_pesel(Formularz!#REF!)","v":{"$error":"#VALUE!"}}]
[null,{"$f":"Sprawdz_pesel(Formularz!#REF!)","v":{"$error":"#VALUE!"}}]
[null,{"$f":"Sprawdz_pesel(Formularz!#REF!)","v":{"$error":"#VALUE!"}}]
[null,{"$f":"Sprawdz_pesel(Formularz!#REF!)","v":{"$error":"#VALUE!"}}]
[null,{"$f":"Sprawdz_pesel(Formularz!#REF!)","v":{"$error":"#VALUE!"}}]
[null,{"$f":"Sprawdz_pesel(Formularz!#REF!)","v":{"$error":"#VALUE!"}}]
[null,{"$f":"Sprawdz_pesel(Formularz!#REF!)","v":{"$error":"#VALUE!"}}]
[null,{"$f":"Sprawdz_pesel(Formularz!#REF!)","v":{"$error":"#VALUE!"}}]
[null,{"$f":"Sprawdz_pesel(Formularz!#REF!)","v":{"$error":"#VALUE!"}}]
[null,{"$f":"Sprawdz_pesel(Formularz!#REF!)","v":{"$error":"#VALUE!"}}]
[null,{"$f":"Sprawdz_pesel(Formularz!#REF!)","v":{"$error":"#VALUE!"}}]
[null,{"$f":"Sprawdz_pesel(Formularz!#REF!)","v":{"$error":"#VALUE!"}}]
[null,{"$f":"Sprawdz_pesel(Formularz!#REF!)","v":{"$error":"#VALUE!"}}]
[null,{"$f":"Sprawdz_pesel(Formularz!#REF!)","v":{"$error":"#VALUE!"}}]
[null,{"$f":"Sprawdz_pesel(Formularz!#REF!)","v":{"$error":"#VALUE!"}}]
[null,{"$f":"Sprawdz_pesel(Formularz!#REF!)","v":{"$error":"#VALUE!"}}]
[null,{"$f":"Sprawdz_pesel(Formularz!#REF!)","v":{"$error":"#VALUE!"}}]
[null,{"$f":"Sprawdz_pesel(Formularz!#REF!)","v":{"$error":"#VALUE!"}}]
[null,{"$f":"Sprawdz_pesel(Formularz!#REF!)","v":{"$error":"#VALUE!"}}]
[null,{"$f":"Sprawdz_pesel(Formularz!#REF!)","v":{"$error":"#VALUE!"}}]
[null,{"$f":"Sprawdz_pesel(Formularz!#REF!)","v":{"$error":"#VALUE!"}}]
[null,{"$f":"Sprawdz_pesel(Formularz!#REF!)","v":{"$error":"#VALUE!"}}]
[null,{"$f":"Sprawdz_pesel(Formularz!#REF!)","v":{"$error":"#VALUE!"}}]
[null,{"$f":"Sprawdz_pesel(Formularz!#REF!)","v":{"$error":"#VALUE!"}}]
[null,{"$f":"Sprawdz_pesel(Formularz!#REF!)","v":{"$error":"#VALUE!"}}]
[null,{"$f":"Sprawdz_pesel(Formularz!#REF!)","v":{"$error":"#VALUE!"}}]
[null,{"$f":"Sprawdz_pesel(Formularz!#REF!)","v":{"$error":"#VALUE!"}}]
[null,{"$f":"Sprawdz_pesel(Formularz!#REF!)","v":{"$error":"#VALUE!"}}]
[null,{"$f":"Sprawdz_pesel(Formularz!#REF!)","v":{"$error":"#VALUE!"}}]
[null,{"$f":"Sprawdz_pesel(Formularz!#REF!)","v":{"$error":"#VALUE!"}}]
[null,{"$f":"Sprawdz_pesel(Formularz!#REF!)","v":{"$error":"#VALUE!"}}]
[null,{"$f":"Sprawdz_pesel(Formularz!#REF!)","v":{"$error":"#VALUE!"}}]
[null,{"$f":"Sprawdz_pesel(Formularz!#REF!)","v":{"$error":"#VALUE!"}}]
[null,{"$f":"Sprawdz_pesel(Formularz!#REF!)","v":{"$error":"#VALUE!"}}]
[null,{"$f":"Sprawdz_pesel(Formularz!#REF!)","v":{"$error":"#VALUE!"}}]
[null,{"$f":"Sprawdz_pesel(Formularz!#REF!)","v":{"$error":"#VALUE!"}}]
[null,{"$f":"Sprawdz_pesel(Formularz!#REF!)","v":{"$error":"#VALUE!"}}]
[null,{"$f":"Sprawdz_pesel(Formularz!#REF!)","v":{"$error":"#VALUE!"}}]
[null,{"$f":"Sprawdz_pesel(Formularz!#REF!)","v":{"$error":"#VALUE!"}}]
[null,{"$f":"Sprawdz_pesel(Formularz!#REF!)","v":{"$error":"#VALUE!"}}]
[null,{"$f":"Sprawdz_pesel(Formularz!#REF!)","v":{"$error":"#VALUE!"}}]
[null,{"$f":"Sprawdz_pesel(Formularz!#REF!)","v":{"$error":"#VALUE!"}}]
[null,{"$f":"Sprawdz_pesel(Formularz!#REF!)","v":{"$error":"#VALUE!"}}]
[null,{"$f":"Sprawdz_pesel(Formularz!#REF!)","v":{"$error":"#VALUE!"}}]
[null,{"$f":"Sprawdz_pesel(Formularz!#REF!)","v":{"$error":"#VALUE!"}}]
[null,{"$f":"Sprawdz_pesel(Formularz!#REF!)","v":{"$error":"#VALUE!"}}]
[null,{"$f":"Sprawdz_pesel(Formularz!#REF!)","v":{"$error":"#VALUE!"}}]
[null,{"$f":"Sprawdz_pesel(Formularz!#REF!)","v":{"$error":"#VALUE!"}}]
[null,{"$f":"Sprawdz_pesel(Formularz!#REF!)","v":{"$error":"#VALUE!"}}]
[null,{"$f":"Sprawdz_pesel(Formularz!#REF!)","v":{"$error":"#VALUE!"}}]
[null,{"$f":"Sprawdz_pesel(Formularz!#REF!)","v":{"$error":"#VALUE!"}}]
[null,{"$f":"Sprawdz_pesel(Formularz!#REF!)","v":{"$error":"#VALUE!"}}]
[null,{"$f":"Sprawdz_pesel(Formularz!#REF!)","v":{"$error":"#VALUE!"}}]
[null,{"$f":"Sprawdz_pesel(Formularz!#REF!)","v":{"$error":"#VALUE!"}}]
[null,{"$f":"Sprawdz_pesel(Formularz!#REF!)","v":{"$error":"#VALUE!"}}]
[null,{"$f":"Sprawdz_pesel(Formularz!#REF!)","v":{"$error":"#VALUE!"}}]
[null,{"$f":"Sprawdz_pesel(Formularz!#REF!)","v":{"$error":"#VALUE!"}}]
[null,{"$f":"Sprawdz_pesel(Formularz!#REF!)","v":{"$error":"#VALUE!"}}]
[null,{"$f":"Sprawdz_pesel(Formularz!#REF!)","v":{"$error":"#VALUE!"}}]
[null,{"$f":"Sprawdz_pesel(Formularz!#REF!)","v":{"$error":"#VALUE!"}}]
[null,{"$f":"Sprawdz_pesel(Formularz!#REF!)","v":{"$error":"#VALUE!"}}]
[null,{"$f":"Sprawdz_pesel(Formularz!#REF!)","v":{"$error":"#VALUE!"}}]
[null,{"$f":"Sprawdz_pesel(Formularz!#REF!)","v":{"$error":"#VALUE!"}}]
[null,{"$f":"Sprawdz_pesel(Formularz!#REF!)","v":{"$error":"#VALUE!"}}]
[null,{"$f":"Sprawdz_pesel(Formularz!#REF!)","v":{"$error":"#VALUE!"}}]
[null,{"$f":"Sprawdz_pesel(Formularz!#REF!)","v":{"$error":"#VALUE!"}}]
[null,{"$f":"Sprawdz_pesel(Formularz!#REF!)","v":{"$error":"#VALUE!"}}]
[null,{"$f":"Sprawdz_pesel(Formularz!#REF!)","v":{"$error":"#VALUE!"}}]
[null,{"$f":"Sprawdz_pesel(Formularz!#REF!)","v":{"$error":"#VALUE!"}}]
[null,{"$f":"Sprawdz_pesel(Formularz!#REF!)","v":{"$error":"#VALUE!"}}]
[null,{"$f":"Sprawdz_pesel(Formularz!#REF!)","v":{"$error":"#VALUE!"}}]
[null,{"$f":"Sprawdz_pesel(Formularz!#REF!)","v":{"$error":"#VALUE!"}}]
[null,{"$f":"Sprawdz_pesel(Formularz!#REF!)","v":{"$error":"#VALUE!"}}]
[null,{"$f":"Sprawdz_pesel(Formularz!#REF!)","v":{"$error":"#VALUE!"}}]
[null,{"$f":"Sprawdz_pesel(Formularz!#REF!)","v":{"$error":"#VALUE!"}}]
[null,{"$f":"Sprawdz_pesel(Formularz!#REF!)","v":{"$error":"#VALUE!"}}]
[null,{"$f":"Sprawdz_pesel(Formularz!#REF!)","v":{"$error":"#VALUE!"}}]
[null,{"$f":"Sprawdz_pesel(Formularz!#REF!)","v":{"$error":"#VALUE!"}}]
[null,{"$f":"Sprawdz_pesel(Formularz!#REF!)","v":{"$error":"#VALUE!"}}]
[null,{"$f":"Sprawdz_pesel(Formularz!#REF!)","v":{"$error":"#VALUE!"}}]
[null,{"$f":"Sprawdz_pesel(Formularz!#REF!)","v":{"$error":"#VALUE!"}}]
[null,{"$f":"Sprawdz_pesel(Formularz!#REF!)","v":{"$error":"#VALUE!"}}]
[null,{"$f":"Sprawdz_pesel(Formularz!#REF!)","v":{"$error":"#VALUE!"}}]
[null,{"$f":"Sprawdz_pesel(Formularz!#REF!)","v":{"$error":"#VALUE!"}}]
[null,{"$f":"Sprawdz_pesel(Formularz!#REF!)","v":{"$error":"#VALUE!"}}]
[null,{"$f":"Sprawdz_pesel(Formularz!#REF!)","v":{"$error":"#VALUE!"}}]
[null,{"$f":"Sprawdz_pesel(Formularz!#REF!)","v":{"$error":"#VALUE!"}}]
[null,{"$f":"Sprawdz_pesel(Formularz!#REF!)","v":{"$error":"#VALUE!"}}]
[null,{"$f":"Sprawdz_pesel(Formularz!#REF!)","v":{"$error":"#VALUE!"}}]
[null,{"$f":"Sprawdz_pesel(Formularz!#REF!)","v":{"$error":"#VALUE!"}}]
[null,{"$f":"Sprawdz_pesel(Formularz!#REF!)","v":{"$error":"#VALUE!"}}]
[null,{"$f":"Sprawdz_pesel(Formularz!#REF!)","v":{"$error":"#VALUE!"}}]
[null,{"$f":"Sprawdz_pesel(Formularz!#REF!)","v":{"$error":"#VALUE!"}}]
[null,{"$f":"Sprawdz_pesel(Formularz!#REF!)","v":{"$error":"#VALUE!"}}]
[null,{"$f":"Sprawdz_pesel(Formularz!#REF!)","v":{"$error":"#VALUE!"}}]
[null,{"$f":"Sprawdz_pesel(Formularz!#REF!)","v":{"$error":"#VALUE!"}}]
[null,{"$f":"Sprawdz_pesel(Formularz!#REF!)","v":{"$error":"#VALUE!"}}]
[null,{"$f":"Sprawdz_pesel(Formularz!#REF!)","v":{"$error":"#VALUE!"}}]
[null,{"$f":"Sprawdz_pesel(Formularz!#REF!)","v":{"$error":"#VALUE!"}}]
[null,{"$f":"Sprawdz_pesel(Formularz!#REF!)","v":{"$error":"#VALUE!"}}]
[null,{"$f":"Sprawdz_pesel(Formularz!#REF!)","v":{"$error":"#VALUE!"}}]
[null,{"$f":"Sprawdz_pesel(Formularz!#REF!)","v":{"$error":"#VALUE!"}}]
[null,{"$f":"Sprawdz_pesel(Formularz!#REF!)","v":{"$error":"#VALUE!"}}]
[null,{"$f":"Sprawdz_pesel(Formularz!#REF!)","v":{"$error":"#VALUE!"}}]
[null,{"$f":"Sprawdz_pesel(Formularz!#REF!)","v":{"$error":"#VALUE!"}}]
[null,{"$f":"Sprawdz_pesel(Formularz!#REF!)","v":{"$error":"#VALUE!"}}]
[null,{"$f":"Sprawdz_pesel(Formularz!#REF!)","v":{"$error":"#VALUE!"}}]
[null,{"$f":"Sprawdz_pesel(Formularz!#REF!)","v":{"$error":"#VALUE!"}}]
[null,{"$f":"Sprawdz_pesel(Formularz!#REF!)","v":{"$error":"#VALUE!"}}]
[null,{"$f":"Sprawdz_pesel(Formularz!#REF!)","v":{"$error":"#VALUE!"}}]
[null,{"$f":"Sprawdz_pesel(Formularz!#REF!)","v":{"$error":"#VALUE!"}}]
[null,{"$f":"Sprawdz_pesel(Formularz!#REF!)","v":{"$error":"#VALUE!"}}]
[null,{"$f":"Sprawdz_pesel(Formularz!#REF!)","v":{"$error":"#VALUE!"}}]
[null,{"$f":"Sprawdz_pesel(Formularz!#REF!)","v":{"$error":"#VALUE!"}}]
[null,{"$f":"Sprawdz_pesel(Formularz!#REF!)","v":{"$error":"#VALUE!"}}]
[null,{"$f":"Sprawdz_pesel(Formularz!#REF!)","v":{"$error":"#VALUE!"}}]
[null,{"$f":"Sprawdz_pesel(Formularz!#REF!)","v":{"$error":"#VALUE!"}}]
[null,{"$f":"Sprawdz_pesel(Formularz!#REF!)","v":{"$error":"#VALUE!"}}]
[null,{"$f":"Sprawdz_pesel(Formularz!#REF!)","v":{"$error":"#VALUE!"}}]
[null,{"$f":"Sprawdz_pesel(Formularz!#REF!)","v":{"$error":"#VALUE!"}}]
[null,{"$f":"Sprawdz_pesel(Formularz!#REF!)","v":{"$error":"#VALUE!"}}]
[null,{"$f":"Sprawdz_pesel(Formularz!#REF!)","v":{"$error":"#VALUE!"}}]
[null,{"$f":"Sprawdz_pesel(Formularz!#REF!)","v":{"$error":"#VALUE!"}}]
[null,{"$f":"Sprawdz_pesel(Formularz!#REF!)","v":{"$error":"#VALUE!"}}]
[null,{"$f":"Sprawdz_pesel(Formularz!#REF!)","v":{"$error":"#VALUE!"}}]
[null,{"$f":"Sprawdz_pesel(Formularz!#REF!)","v":{"$error":"#VALUE!"}}]
[null,{"$f":"Sprawdz_pesel(Formularz!#REF!)","v":{"$error":"#VALUE!"}}]
[null,{"$f":"Sprawdz_pesel(Formularz!#REF!)","v":{"$error":"#VALUE!"}}]
[null,{"$f":"Sprawdz_pesel(Formularz!#REF!)","v":{"$error":"#VALUE!"}}]
[null,{"$f":"Sprawdz_pesel(Formularz!#REF!)","v":{"$error":"#VALUE!"}}]
[null,{"$f":"Sprawdz_pesel(Formularz!#REF!)","v":{"$error":"#VALUE!"}}]
[null,{"$f":"Sprawdz_pesel(Formularz!#REF!)","v":{"$error":"#VALUE!"}}]
[null,{"$f":"Sprawdz_pesel(Formularz!#REF!)","v":{"$error":"#VALUE!"}}]
[null,{"$f":"Sprawdz_pesel(Formularz!#REF!)","v":{"$error":"#VALUE!"}}]
[null,{"$f":"Sprawdz_pesel(Formularz!#REF!)","v":{"$error":"#VALUE!"}}]
[null,{"$f":"Sprawdz_pesel(Formularz!#REF!)","v":{"$error":"#VALUE!"}}]
[null,{"$f":"Sprawdz_pesel(Formularz!#REF!)","v":{"$error":"#VALUE!"}}]
[null,{"$f":"Sprawdz_pesel(Formularz!#REF!)","v":{"$error":"#VALUE!"}}]
[null,{"$f":"Sprawdz_pesel(Formularz!#REF!)","v":{"$error":"#VALUE!"}}]
[null,{"$f":"Sprawdz_pesel(Formularz!#REF!)","v":{"$error":"#VALUE!"}}]
[null,{"$f":"Sprawdz_pesel(Formularz!#REF!)","v":{"$error":"#VALUE!"}}]
[null,{"$f":"Sprawdz_pesel(Formularz!#REF!)","v":{"$error":"#VALUE!"}}]
[null,{"$f":"Sprawdz_pesel(Formularz!#REF!)","v":{"$error":"#VALUE!"}}]
[null,{"$f":"Sprawdz_pesel(Formularz!#REF!)","v":{"$error":"#VALUE!"}}]
[null,{"$f":"Sprawdz_pesel(Formularz!#REF!)","v":{"$error":"#VALUE!"}}]
[null,{"$f":"Sprawdz_pesel(Formularz!#REF!)","v":{"$error":"#VALUE!"}}]
[null,{"$f":"Sprawdz_pesel(Formularz!#REF!)","v":{"$error":"#VALUE!"}}]
[null,{"$f":"Sprawdz_pesel(Formularz!#REF!)","v":{"$error":"#VALUE!"}}]
[null,{"$f":"Sprawdz_pesel(Formularz!#REF!)","v":{"$error":"#VALUE!"}}]
[null,{"$f":"Sprawdz_pesel(Formularz!#REF!)","v":{"$error":"#VALUE!"}}]
[null,{"$f":"Sprawdz_pesel(Formularz!#REF!)","v":{"$error":"#VALUE!"}}]
[null,{"$f":"Sprawdz_pesel(Formularz!#REF!)","v":{"$error":"#VALUE!"}}]
[null,{"$f":"Sprawdz_pesel(Formularz!#REF!)","v":{"$error":"#VALUE!"}}]
[null,{"$f":"Sprawdz_pesel(Formularz!#REF!)","v":{"$error":"#VALUE!"}}]
[null,{"$f":"Sprawdz_pesel(Formularz!#REF!)","v":{"$error":"#VALUE!"}}]
[null,{"$f":"Sprawdz_pesel(Formularz!#REF!)","v":{"$error":"#VALUE!"}}]
[null,{"$f":"Sprawdz_pesel(Formularz!#REF!)","v":{"$error":"#VALUE!"}}]
[null,{"$f":"Sprawdz_pesel(Formularz!#REF!)","v":{"$error":"#VALUE!"}}]
[null,{"$f":"Sprawdz_pesel(Formularz!#REF!)","v":{"$error":"#VALUE!"}}]
[null,{"$f":"Sprawdz_pesel(Formularz!#REF!)","v":{"$error":"#VALUE!"}}]
[null,{"$f":"Sprawdz_pesel(Formularz!#REF!)","v":{"$error":"#VALUE!"}}]
[null,{"$f":"Sprawdz_pesel(Formularz!#REF!)","v":{"$error":"#VALUE!"}}]
[null,{"$f":"Sprawdz_pesel(Formularz!#REF!)","v":{"$error":"#VALUE!"}}]
[null,{"$f":"Sprawdz_pesel(Formularz!#REF!)","v":{"$error":"#VALUE!"}}]
[null,{"$f":"Sprawdz_pesel(Formularz!#REF!)","v":{"$error":"#VALUE!"}}]
[null,{"$f":"Sprawdz_pesel(Formularz!#REF!)","v":{"$error":"#VALUE!"}}]
[null,{"$f":"Sprawdz_pesel(Formularz!#REF!)","v":{"$error":"#VALUE!"}}]
[null,{"$f":"Sprawdz_pesel(Formularz!#REF!)","v":{"$error":"#VALUE!"}}]
[null,{"$f":"Sprawdz_pesel(Formularz!#REF!)","v":{"$error":"#VALUE!"}}]
[null,{"$f":"Sprawdz_pesel(Formularz!#REF!)","v":{"$error":"#VALUE!"}}]
[null,{"$f":"Sprawdz_pesel(Formularz!#REF!)","v":{"$error":"#VALUE!"}}]
[null,{"$f":"Sprawdz_pesel(Formularz!#REF!)","v":{"$error":"#VALUE!"}}]
[null,{"$f":"Sprawdz_pesel(Formularz!#REF!)","v":{"$error":"#VALUE!"}}]
[null,{"$f":"Sprawdz_pesel(Formularz!#REF!)","v":{"$error":"#VALUE!"}}]
[null,{"$f":"Sprawdz_pesel(Formularz!#REF!)","v":{"$error":"#VALUE!"}}]
[null,{"$f":"Sprawdz_pesel(Formularz!#REF!)","v":{"$error":"#VALUE!"}}]
[null,{"$f":"Sprawdz_pesel(Formularz!#REF!)","v":{"$error":"#VALUE!"}}]
[null,{"$f":"Sprawdz_pesel(Formularz!#REF!)","v":{"$error":"#VALUE!"}}]
[null,{"$f":"Sprawdz_pesel(Formularz!#REF!)","v":{"$error":"#VALUE!"}}]
[null,{"$f":"Sprawdz_pesel(Formularz!#REF!)","v":{"$error":"#VALUE!"}}]
[null,{"$f":"Sprawdz_pesel(Formularz!#REF!)","v":{"$error":"#VALUE!"}}]
[null,{"$f":"Sprawdz_pesel(Formularz!#REF!)","v":{"$error":"#VALUE!"}}]
[null,{"$f":"Sprawdz_pesel(Formularz!#REF!)","v":{"$error":"#VALUE!"}}]
[null,{"$f":"Sprawdz_pesel(Formularz!#REF!)","v":{"$error":"#VALUE!"}}]
[null,{"$f":"Sprawdz_pesel(Formularz!#REF!)","v":{"$error":"#VALUE!"}}]
[null,{"$f":"Sprawdz_pesel(Formularz!#REF!)","v":{"$error":"#VALUE!"}}]
[null,{"$f":"Sprawdz_pesel(Formularz!#REF!)","v":{"$error":"#VALUE!"}}]
[null,{"$f":"Sprawdz_pesel(Formularz!#REF!)","v":{"$error":"#VALUE!"}}]
[null,{"$f":"Sprawdz_pesel(Formularz!#REF!)","v":{"$error":"#VALUE!"}}]
[null,{"$f":"Sprawdz_pesel(Formularz!#REF!)","v":{"$error":"#VALUE!"}}]
[null,{"$f":"Sprawdz_pesel(Formularz!#REF!)","v":{"$error":"#VALUE!"}}]
[null,{"$f":"Sprawdz_pesel(Formularz!#REF!)","v":{"$error":"#VALUE!"}}]
[null,{"$f":"Sprawdz_pesel(Formularz!#REF!)","v":{"$error":"#VALUE!"}}]
[null,{"$f":"Sprawdz_pesel(Formularz!#REF!)","v":{"$error":"#VALUE!"}}]
[null,{"$f":"Sprawdz_pesel(Formularz!#REF!)","v":{"$error":"#VALUE!"}}]
[null,{"$f":"Sprawdz_pesel(Formularz!#REF!)","v":{"$error":"#VALUE!"}}]
[null,{"$f":"Sprawdz_pesel(Formularz!#REF!)","v":{"$error":"#VALUE!"}}]
[null,{"$f":"Sprawdz_pesel(Formularz!#REF!)","v":{"$error":"#VALUE!"}}]
[null,{"$f":"Sprawdz_pesel(Formularz!#REF!)","v":{"$error":"#VALUE!"}}]
[null,{"$f":"Sprawdz_pesel(Formularz!#REF!)","v":{"$error":"#VALUE!"}}]
[null,{"$f":"Sprawdz_pesel(Formularz!#REF!)","v":{"$error":"#VALUE!"}}]
[null,{"$f":"Sprawdz_pesel(Formularz!#REF!)","v":{"$error":"#VALUE!"}}]
[null,{"$f":"Sprawdz_pesel(Formularz!#REF!)","v":{"$error":"#VALUE!"}}]
[null,{"$f":"Sprawdz_pesel(Formularz!#REF!)","v":{"$error":"#VALUE!"}}]
[null,{"$f":"Sprawdz_pesel(Formularz!#REF!)","v":{"$error":"#VALUE!"}}]
[null,{"$f":"Sprawdz_pesel(Formularz!#REF!)","v":{"$error":"#VALUE!"}}]
[null,{"$f":"Sprawdz_pesel(Formularz!#REF!)","v":{"$error":"#VALUE!"}}]
[null,{"$f":"Sprawdz_pesel(Formularz!#REF!)","v":{"$error":"#VALUE!"}}]
[null,{"$f":"Sprawdz_pesel(Formularz!#REF!)","v":{"$error":"#VALUE!"}}]
[null,{"$f":"Sprawdz_pesel(Formularz!#REF!)","v":{"$error":"#VALUE!"}}]
[null,{"$f":"Sprawdz_pesel(Formularz!#REF!)","v":{"$error":"#VALUE!"}}]
[null,{"$f":"Sprawdz_pesel(Formularz!#REF!)","v":{"$error":"#VALUE!"}}]
[null,{"$f":"Sprawdz_pesel(Formularz!#REF!)","v":{"$error":"#VALUE!"}}]
[null,{"$f":"Sprawdz_pesel(Formularz!#REF!)","v":{"$error":"#VALUE!"}}]
[null,{"$f":"Sprawdz_pesel(Formularz!#REF!)","v":{"$error":"#VALUE!"}}]
[null,{"$f":"Sprawdz_pesel(Formularz!#REF!)","v":{"$error":"#VALUE!"}}]
[null,{"$f":"Sprawdz_pesel(Formularz!#REF!)","v":{"$error":"#VALUE!"}}]
[null,{"$f":"Sprawdz_pesel(Formularz!#REF!)","v":{"$error":"#VALUE!"}}]
[null,{"$f":"Sprawdz_pesel(Formularz!#REF!)","v":{"$error":"#VALUE!"}}]
[null,{"$f":"Sprawdz_pesel(Formularz!#REF!)","v":{"$error":"#VALUE!"}}]
[null,{"$f":"Sprawdz_pesel(Formularz!#REF!)","v":{"$error":"#VALUE!"}}]
[null,{"$f":"Sprawdz_pesel(Formularz!#REF!)","v":{"$error":"#VALUE!"}}]
[null,{"$f":"Sprawdz_pesel(Formularz!#REF!)","v":{"$error":"#VALUE!"}}]
[null,{"$f":"Sprawdz_pesel(Formularz!#REF!)","v":{"$error":"#VALUE!"}}]
[null,{"$f":"Sprawdz_pesel(Formularz!#REF!)","v":{"$error":"#VALUE!"}}]
[null,{"$f":"Sprawdz_pesel(Formularz!#REF!)","v":{"$error":"#VALUE!"}}]
[null,{"$f":"Sprawdz_pesel(Formularz!#REF!)","v":{"$error":"#VALUE!"}}]
[null,{"$f":"Sprawdz_pesel(Formularz!#REF!)","v":{"$error":"#VALUE!"}}]
[null,{"$f":"Sprawdz_pesel(Formularz!#REF!)","v":{"$error":"#VALUE!"}}]
[null,{"$f":"Sprawdz_pesel(Formularz!#REF!)","v":{"$error":"#VALUE!"}}]
[null,{"$f":"Sprawdz_pesel(Formularz!#REF!)","v":{"$error":"#VALUE!"}}]
[null,{"$f":"Sprawdz_pesel(Formularz!#REF!)","v":{"$error":"#VALUE!"}}]
[null,{"$f":"Sprawdz_pesel(Formularz!#REF!)","v":{"$error":"#VALUE!"}}]
[null,{"$f":"Sprawdz_pesel(Formularz!#REF!)","v":{"$error":"#VALUE!"}}]
[null,{"$f":"Sprawdz_pesel(Formularz!#REF!)","v":{"$error":"#VALUE!"}}]
[null,{"$f":"Sprawdz_pesel(Formularz!#REF!)","v":{"$error":"#VALUE!"}}]
[null,{"$f":"Sprawdz_pesel(Formularz!#REF!)","v":{"$error":"#VALUE!"}}]
[null,{"$f":"Sprawdz_pesel(Formularz!#REF!)","v":{"$error":"#VALUE!"}}]
[null,{"$f":"Sprawdz_pesel(Formularz!#REF!)","v":{"$error":"#VALUE!"}}]
[null,{"$f":"Sprawdz_pesel(Formularz!#REF!)","v":{"$error":"#VALUE!"}}]
[null,{"$f":"Sprawdz_pesel(Formularz!#REF!)","v":{"$error":"#VALUE!"}}]
[null,{"$f":"Sprawdz_pesel(Formularz!#REF!)","v":{"$error":"#VALUE!"}}]
[null,{"$f":"Sprawdz_pesel(Formularz!#REF!)","v":{"$error":"#VALUE!"}}]
[null,{"$f":"Sprawdz_pesel(Formularz!#REF!)","v":{"$error":"#VALUE!"}}]
[null,{"$f":"Sprawdz_pesel(Formularz!#REF!)","v":{"$error":"#VALUE!"}}]
[null,{"$f":"Sprawdz_pesel(Formularz!#REF!)","v":{"$error":"#VALUE!"}}]
[null,{"$f":"Sprawdz_pesel(Formularz!#REF!)","v":{"$error":"#VALUE!"}}]
[null,{"$f":"Sprawdz_pesel(Formularz!#REF!)","v":{"$error":"#VALUE!"}}]
[null,{"$f":"Sprawdz_pesel(Formularz!#REF!)","v":{"$error":"#VALUE!"}}]
[null,{"$f":"Sprawdz_pesel(Formularz!#REF!)","v":{"$error":"#VALUE!"}}]
[null,{"$f":"Sprawdz_pesel(Formularz!#REF!)","v":{"$error":"#VALUE!"}}]
[null,{"$f":"Sprawdz_pesel(Formularz!#REF!)","v":{"$error":"#VALUE!"}}]
[null,{"$f":"Sprawdz_pesel(Formularz!#REF!)","v":{"$error":"#VALUE!"}}]
[null,{"$f":"Sprawdz_pesel(Formularz!#REF!)","v":{"$error":"#VALUE!"}}]
[null,{"$f":"Sprawdz_pesel(Formularz!#REF!)","v":{"$error":"#VALUE!"}}]
[null,{"$f":"Sprawdz_pesel(Formularz!#REF!)","v":{"$error":"#VALUE!"}}]
[null,{"$f":"Sprawdz_pesel(Formularz!#REF!)","v":{"$error":"#VALUE!"}}]
[null,{"$f":"Sprawdz_pesel(Formularz!#REF!)","v":{"$error":"#VALUE!"}}]
[null,{"$f":"Sprawdz_pesel(Formularz!#REF!)","v":{"$error":"#VALUE!"}}]
[null,{"$f":"Sprawdz_pesel(Formularz!#REF!)","v":{"$error":"#VALUE!"}}]
[null,{"$f":"Sprawdz_pesel(Formularz!#REF!)","v":{"$error":"#VALUE!"}}]
[null,{"$f":"Sprawdz_pesel(Formularz!#REF!)","v":{"$error":"#VALUE!"}}]
[null,{"$f":"Sprawdz_pesel(Formularz!#REF!)","v":{"$error":"#VALUE!"}}]
[null,{"$f":"Sprawdz_pesel(Formularz!#REF!)","v":{"$error":"#VALUE!"}}]
[null,{"$f":"Sprawdz_pesel(Formularz!#REF!)","v":{"$error":"#VALUE!"}}]
[null,{"$f":"Sprawdz_pesel(Formularz!#REF!)","v":{"$error":"#VALUE!"}}]
[null,{"$f":"Sprawdz_pesel(Formularz!#REF!)","v":{"$error":"#VALUE!"}}]
[null,{"$f":"Sprawdz_pesel(Formularz!#REF!)","v":{"$error":"#VALUE!"}}]
[null,{"$f":"Sprawdz_pesel(Formularz!#REF!)","v":{"$error":"#VALUE!"}}]
[null,{"$f":"Sprawdz_pesel(Formularz!#REF!)","v":{"$error":"#VALUE!"}}]
[null,{"$f":"Sprawdz_pesel(Formularz!#REF!)","v":{"$error":"#VALUE!"}}]
[null,{"$f":"Sprawdz_pesel(Formularz!#REF!)","v":{"$error":"#VALUE!"}}]
[null,{"$f":"Sprawdz_pesel(Formularz!#REF!)","v":{"$error":"#VALUE!"}}]
[null,{"$f":"Sprawdz_pesel(Formularz!#REF!)","v":{"$error":"#VALUE!"}}]
[null,{"$f":"Sprawdz_pesel(Formularz!#REF!)","v":{"$error":"#VALUE!"}}]
[null,{"$f":"Sprawdz_pesel(Formularz!#REF!)","v":{"$error":"#VALUE!"}}]
[null,{"$f":"Sprawdz_pesel(Formularz!#REF!)","v":{"$error":"#VALUE!"}}]
[null,{"$f":"Sprawdz_pesel(Formularz!#REF!)","v":{"$error":"#VALUE!"}}]
[null,{"$f":"Sprawdz_pesel(Formularz!#REF!)","v":{"$error":"#VALUE!"}}]
[null,{"$f":"Sprawdz_pesel(Formularz!#REF!)","v":{"$error":"#VALUE!"}}]
[null,{"$f":"Sprawdz_pesel(Formularz!#REF!)","v":{"$error":"#VALUE!"}}]
[null,{"$f":"Sprawdz_pesel(Formularz!#REF!)","v":{"$error":"#VALUE!"}}]
[null,{"$f":"Sprawdz_pesel(Formularz!#REF!)","v":{"$error":"#VALUE!"}}]
[null,{"$f":"Sprawdz_pesel(Formularz!#REF!)","v":{"$error":"#VALUE!"}}]
[null,{"$f":"Sprawdz_pesel(Formularz!#REF!)","v":{"$error":"#VALUE!"}}]
[null,{"$f":"Sprawdz_pesel(Formularz!#REF!)","v":{"$error":"#VALUE!"}}]
[null,{"$f":"Sprawdz_pesel(Formularz!#REF!)","v":{"$error":"#VALUE!"}}]
[null,{"$f":"Sprawdz_pesel(Formularz!#REF!)","v":{"$error":"#VALUE!"}}]
[null,{"$f":"Sprawdz_pesel(Formularz!#REF!)","v":{"$error":"#VALUE!"}}]
[null,{"$f":"Sprawdz_pesel(Formularz!#REF!)","v":{"$error":"#VALUE!"}}]
[null,{"$f":"Sprawdz_pesel(Formularz!#REF!)","v":{"$error":"#VALUE!"}}]
[null,{"$f":"Sprawdz_pesel(Formularz!#REF!)","v":{"$error":"#VALUE!"}}]
[null,{"$f":"Sprawdz_pesel(Formularz!#REF!)","v":{"$error":"#VALUE!"}}]
[null,{"$f":"Sprawdz_pesel(Formularz!#REF!)","v":{"$error":"#VALUE!"}}]
[null,{"$f":"Sprawdz_pesel(Formularz!#REF!)","v":{"$error":"#VALUE!"}}]
[null,{"$f":"Sprawdz_pesel(Formularz!#REF!)","v":{"$error":"#VALUE!"}}]
[null,{"$f":"Sprawdz_pesel(Formularz!#REF!)","v":{"$error":"#VALUE!"}}]
[null,{"$f":"Sprawdz_pesel(Formularz!#REF!)","v":{"$error":"#VALUE!"}}]
[null,{"$f":"Sprawdz_pesel(Formularz!#REF!)","v":{"$error":"#VALUE!"}}]
[null,{"$f":"Sprawdz_pesel(Formularz!#REF!)","v":{"$error":"#VALUE!"}}]
[null,{"$f":"Sprawdz_pesel(Formularz!#REF!)","v":{"$error":"#VALUE!"}}]
[null,{"$f":"Sprawdz_pesel(Formularz!#REF!)","v":{"$error":"#VALUE!"}}]
[null,{"$f":"Sprawdz_pesel(Formularz!#REF!)","v":{"$error":"#VALUE!"}}]
[null,{"$f":"Sprawdz_pesel(Formularz!#REF!)","v":{"$error":"#VALUE!"}}]
[null,{"$f":"Sprawdz_pesel(Formularz!#REF!)","v":{"$error":"#VALUE!"}}]
[null,{"$f":"Sprawdz_pesel(Formularz!#REF!)","v":{"$error":"#VALUE!"}}]
[null,{"$f":"Sprawdz_pesel(Formularz!#REF!)","v":{"$error":"#VALUE!"}}]
[null,{"$f":"Sprawdz_pesel(Formularz!#REF!)","v":{"$error":"#VALUE!"}}]
[null,{"$f":"Sprawdz_pesel(Formularz!#REF!)","v":{"$error":"#VALUE!"}}]
[null,{"$f":"Sprawdz_pesel(Formularz!#REF!)","v":{"$error":"#VALUE!"}}]
[null,{"$f":"Sprawdz_pesel(Formularz!#REF!)","v":{"$error":"#VALUE!"}}]
[null,{"$f":"Sprawdz_pesel(Formularz!#REF!)","v":{"$error":"#VALUE!"}}]
[null,{"$f":"Sprawdz_pesel(Formularz!#REF!)","v":{"$error":"#VALUE!"}}]
[null,{"$f":"Sprawdz_pesel(Formularz!#REF!)","v":{"$error":"#VALUE!"}}]
[null,{"$f":"Sprawdz_pesel(Formularz!#REF!)","v":{"$error":"#VALUE!"}}]
[null,{"$f":"Sprawdz_pesel(Formularz!#REF!)","v":{"$error":"#VALUE!"}}]
[null,{"$f":"Sprawdz_pesel(Formularz!#REF!)","v":{"$error":"#VALUE!"}}]
[null,{"$f":"Sprawdz_pesel(Formularz!#REF!)","v":{"$error":"#VALUE!"}}]
[null,{"$f":"Sprawdz_pesel(Formularz!#REF!)","v":{"$error":"#VALUE!"}}]
[null,{"$f":"Sprawdz_pesel(Formularz!#REF!)","v":{"$error":"#VALUE!"}}]
[null,{"$f":"Sprawdz_pesel(Formularz!#REF!)","v":{"$error":"#VALUE!"}}]
[null,{"$f":"Sprawdz_pesel(Formularz!#REF!)","v":{"$error":"#VALUE!"}}]
[null,{"$f":"Sprawdz_pesel(Formularz!#REF!)","v":{"$error":"#VALUE!"}}]
[null,{"$f":"Sprawdz_pesel(Formularz!#REF!)","v":{"$error":"#VALUE!"}}]
[null,{"$f":"Sprawdz_pesel(Formularz!#REF!)","v":{"$error":"#VALUE!"}}]
[null,{"$f":"Sprawdz_pesel(Formularz!#REF!)","v":{"$error":"#VALUE!"}}]
[null,{"$f":"Sprawdz_pesel(Formularz!#REF!)","v":{"$error":"#VALUE!"}}]
[null,{"$f":"Sprawdz_pesel(Formularz!#REF!)","v":{"$error":"#VALUE!"}}]
[null,{"$f":"Sprawdz_pesel(Formularz!#REF!)","v":{"$error":"#VALUE!"}}]
[null,{"$f":"Sprawdz_pesel(Formularz!#REF!)","v":{"$error":"#VALUE!"}}]
[null,{"$f":"Sprawdz_pesel(Formularz!#REF!)","v":{"$error":"#VALUE!"}}]
[null,{"$f":"Sprawdz_pesel(Formularz!#REF!)","v":{"$error":"#VALUE!"}}]
[null,{"$f":"Sprawdz_pesel(Formularz!#REF!)","v":{"$error":"#VALUE!"}}]
[null,{"$f":"Sprawdz_pesel(Formularz!#REF!)","v":{"$error":"#VALUE!"}}]
[null,{"$f":"Sprawdz_pesel(Formularz!#REF!)","v":{"$error":"#VALUE!"}}]
[null,{"$f":"Sprawdz_pesel(Formularz!#REF!)","v":{"$error":"#VALUE!"}}]
[null,{"$f":"Sprawdz_pesel(Formularz!#REF!)","v":{"$error":"#VALUE!"}}]
[null,{"$f":"Sprawdz_pesel(Formularz!#REF!)","v":{"$error":"#VALUE!"}}]
[null,{"$f":"Sprawdz_pesel(Formularz!#REF!)","v":{"$error":"#VALUE!"}}]
[null,{"$f":"Sprawdz_pesel(Formularz!#REF!)","v":{"$error":"#VALUE!"}}]
[null,{"$f":"Sprawdz_pesel(Formularz!#REF!)","v":{"$error":"#VALUE!"}}]
[null,{"$f":"Sprawdz_pesel(Formularz!#REF!)","v":{"$error":"#VALUE!"}}]
[null,{"$f":"Sprawdz_pesel(Formularz!#REF!)","v":{"$error":"#VALUE!"}}]
[null,{"$f":"Sprawdz_pesel(Formularz!#REF!)","v":{"$error":"#VALUE!"}}]
[null,{"$f":"Sprawdz_pesel(Formularz!#REF!)","v":{"$error":"#VALUE!"}}]
[null,{"$f":"Sprawdz_pesel(Formularz!#REF!)","v":{"$error":"#VALUE!"}}]
[null,{"$f":"Sprawdz_pesel(Formularz!#REF!)","v":{"$error":"#VALUE!"}}]
[null,{"$f":"Sprawdz_pesel(Formularz!#REF!)","v":{"$error":"#VALUE!"}}]
[null,{"$f":"Sprawdz_pesel(Formularz!#REF!)","v":{"$error":"#VALUE!"}}]
[null,{"$f":"Sprawdz_pesel(Formularz!#REF!)","v":{"$error":"#VALUE!"}}]
[null,{"$f":"Sprawdz_pesel(Formularz!#REF!)","v":{"$error":"#VALUE!"}}]
[null,{"$f":"Sprawdz_pesel(Formularz!#REF!)","v":{"$error":"#VALUE!"}}]
[null,{"$f":"Sprawdz_pesel(Formularz!#REF!)","v":{"$error":"#VALUE!"}}]
[null,{"$f":"Sprawdz_pesel(Formularz!#REF!)","v":{"$error":"#VALUE!"}}]
[null,{"$f":"Sprawdz_pesel(Formularz!#REF!)","v":{"$error":"#VALUE!"}}]
[null,{"$f":"Sprawdz_pesel(Formularz!#REF!)","v":{"$error":"#VALUE!"}}]
[null,{"$f":"Sprawdz_pesel(Formularz!#REF!)","v":{"$error":"#VALUE!"}}]
[null,{"$f":"Sprawdz_pesel(Formularz!#REF!)","v":{"$error":"#VALUE!"}}]
[null,{"$f":"Sprawdz_pesel(Formularz!#REF!)","v":{"$error":"#VALUE!"}}]
[null,{"$f":"Sprawdz_pesel(Formularz!#REF!)","v":{"$error":"#VALUE!"}}]
[null,{"$f":"Sprawdz_pesel(Formularz!#REF!)","v":{"$error":"#VALUE!"}}]
[null,{"$f":"Sprawdz_pesel(Formularz!#REF!)","v":{"$error":"#VALUE!"}}]
[null,{"$f":"Sprawdz_pesel(Formularz!#REF!)","v":{"$error":"#VALUE!"}}]
[null,{"$f":"Sprawdz_pesel(Formularz!#REF!)","v":{"$error":"#VALUE!"}}]
[null,{"$f":"Sprawdz_pesel(Formularz!#REF!)","v":{"$error":"#VALUE!"}}]
[null,{"$f":"Sprawdz_pesel(Formularz!#REF!)","v":{"$error":"#VALUE!"}}]
[null,{"$f":"Sprawdz_pesel(Formularz!#REF!)","v":{"$error":"#VALUE!"}}]
[null,{"$f":"Sprawdz_pesel(Formularz!#REF!)","v":{"$error":"#VALUE!"}}]
[null,{"$f":"Sprawdz_pesel(Formularz!#REF!)","v":{"$error":"#VALUE!"}}]
[null,{"$f":"Sprawdz_pesel(Formularz!#REF!)","v":{"$error":"#VALUE!"}}]
[null,{"$f":"Sprawdz_pesel(Formularz!#REF!)","v":{"$error":"#VALUE!"}}]
[null,{"$f":"Sprawdz_pesel(Formularz!#REF!)","v":{"$error":"#VALUE!"}}]
[null,{"$f":"Sprawdz_pesel(Formularz!#REF!)","v":{"$error":"#VALUE!"}}]
[null,{"$f":"Sprawdz_pesel(Formularz!#REF!)","v":{"$error":"#VALUE!"}}]
[null,{"$f":"Sprawdz_pesel(Formularz!#REF!)","v":{"$error":"#VALUE!"}}]
[null,{"$f":"Sprawdz_pesel(Formularz!#REF!)","v":{"$error":"#VALUE!"}}]
[null,{"$f":"Sprawdz_pesel(Formularz!#REF!)","v":{"$error":"#VALUE!"}}]
[null,{"$f":"Sprawdz_pesel(Formularz!#REF!)","v":{"$error":"#VALUE!"}}]
[null,{"$f":"Sprawdz_pesel(Formularz!#REF!)","v":{"$error":"#VALUE!"}}]
[null,{"$f":"Sprawdz_pesel(Formularz!#REF!)","v":{"$error":"#VALUE!"}}]
[null,{"$f":"Sprawdz_pesel(Formularz!#REF!)","v":{"$error":"#VALUE!"}}]
[null,{"$f":"Sprawdz_pesel(Formularz!#REF!)","v":{"$error":"#VALUE!"}}]
[null,{"$f":"Sprawdz_pesel(Formularz!#REF!)","v":{"$error":"#VALUE!"}}]
[null,{"$f":"Sprawdz_pesel(Formularz!#REF!)","v":{"$error":"#VALUE!"}}]
[null,{"$f":"Sprawdz_pesel(Formularz!#REF!)","v":{"$error":"#VALUE!"}}]
[null,{"$f":"Sprawdz_pesel(Formularz!#REF!)","v":{"$error":"#VALUE!"}}]
[null,{"$f":"Sprawdz_pesel(Formularz!#REF!)","v":{"$error":"#VALUE!"}}]
[null,{"$f":"Sprawdz_pesel(Formularz!#REF!)","v":{"$error":"#VALUE!"}}]
[null,{"$f":"Sprawdz_pesel(Formularz!#REF!)","v":{"$error":"#VALUE!"}}]
[null,{"$f":"Sprawdz_pesel(Formularz!#REF!)","v":{"$error":"#VALUE!"}}]
[null,{"$f":"Sprawdz_pesel(Formularz!#REF!)","v":{"$error":"#VALUE!"}}]
[null,{"$f":"Sprawdz_pesel(Formularz!#REF!)","v":{"$error":"#VALUE!"}}]
[null,{"$f":"Sprawdz_pesel(Formularz!#REF!)","v":{"$error":"#VALUE!"}}]
[null,{"$f":"Sprawdz_pesel(Formularz!#REF!)","v":{"$error":"#VALUE!"}}]
[null,{"$f":"Sprawdz_pesel(Formularz!#REF!)","v":{"$error":"#VALUE!"}}]
[null,{"$f":"Sprawdz_pesel(Formularz!#REF!)","v":{"$error":"#VALUE!"}}]
[null,{"$f":"Sprawdz_pesel(Formularz!#REF!)","v":{"$error":"#VALUE!"}}]
[null,{"$f":"Sprawdz_pesel(Formularz!#REF!)","v":{"$error":"#VALUE!"}}]
[null,{"$f":"Sprawdz_pesel(Formularz!#REF!)","v":{"$error":"#VALUE!"}}]
[null,{"$f":"Sprawdz_pesel(Formularz!#REF!)","v":{"$error":"#VALUE!"}}]
[null,{"$f":"Sprawdz_pesel(Formularz!#REF!)","v":{"$error":"#VALUE!"}}]
[null,{"$f":"Sprawdz_pesel(Formularz!#REF!)","v":{"$error":"#VALUE!"}}]
[null,{"$f":"Sprawdz_pesel(Formularz!#REF!)","v":{"$error":"#VALUE!"}}]
[null,{"$f":"Sprawdz_pesel(Formularz!#REF!)","v":{"$error":"#VALUE!"}}]
[null,{"$f":"Sprawdz_pesel(Formularz!#REF!)","v":{"$error":"#VALUE!"}}]
[null,{"$f":"Sprawdz_pesel(Formularz!#REF!)","v":{"$error":"#VALUE!"}}]
[null,{"$f":"Sprawdz_pesel(Formularz!#REF!)","v":{"$error":"#VALUE!"}}]
[null,{"$f":"Sprawdz_pesel(Formularz!#REF!)","v":{"$error":"#VALUE!"}}]
[null,{"$f":"Sprawdz_pesel(Formularz!#REF!)","v":{"$error":"#VALUE!"}}]
[null,{"$f":"Sprawdz_pesel(Formularz!#REF!)","v":{"$error":"#VALUE!"}}]
[null,{"$f":"Sprawdz_pesel(Formularz!#REF!)","v":{"$error":"#VALUE!"}}]
[null,{"$f":"Sprawdz_pesel(Formularz!#REF!)","v":{"$error":"#VALUE!"}}]
[null,{"$f":"Sprawdz_pesel(Formularz!#REF!)","v":{"$error":"#VALUE!"}}]
[null,{"$f":"Sprawdz_pesel(Formularz!#REF!)","v":{"$error":"#VALUE!"}}]
[null,{"$f":"Sprawdz_pesel(Formularz!#REF!)","v":{"$error":"#VALUE!"}}]
[null,{"$f":"Sprawdz_pesel(Formularz!#REF!)","v":{"$error":"#VALUE!"}}]
[null,{"$f":"Sprawdz_pesel(Formularz!#REF!)","v":{"$error":"#VALUE!"}}]
[null,{"$f":"Sprawdz_pesel(Formularz!#REF!)","v":{"$error":"#VALUE!"}}]
[null,{"$f":"Sprawdz_pesel(Formularz!#REF!)","v":{"$error":"#VALUE!"}}]
[null,{"$f":"Sprawdz_pesel(Formularz!#REF!)","v":{"$error":"#VALUE!"}}]
[null,{"$f":"Sprawdz_pesel(Formularz!#REF!)","v":{"$error":"#VALUE!"}}]
[null,{"$f":"Sprawdz_pesel(Formularz!#REF!)","v":{"$error":"#VALUE!"}}]
[null,{"$f":"Sprawdz_pesel(Formularz!#REF!)","v":{"$error":"#VALUE!"}}]
[null,{"$f":"Sprawdz_pesel(Formularz!#REF!)","v":{"$error":"#VALUE!"}}]
[null,{"$f":"Sprawdz_pesel(Formularz!#REF!)","v":{"$error":"#VALUE!"}}]
[null,{"$f":"Sprawdz_pesel(Formularz!#REF!)","v":{"$error":"#VALUE!"}}]
[null,{"$f":"Sprawdz_pesel(Formularz!#REF!)","v":{"$error":"#VALUE!"}}]
[null,{"$f":"Sprawdz_pesel(Formularz!#REF!)","v":{"$error":"#VALUE!"}}]
[null,{"$f":"Sprawdz_pesel(Formularz!#REF!)","v":{"$error":"#VALUE!"}}]
[null,{"$f":"Sprawdz_pesel(Formularz!#REF!)","v":{"$error":"#VALUE!"}}]
[null,{"$f":"Sprawdz_pesel(Formularz!#REF!)","v":{"$error":"#VALUE!"}}]
[null,{"$f":"Sprawdz_pesel(Formularz!#REF!)","v":{"$error":"#VALUE!"}}]
[null,{"$f":"Sprawdz_pesel(Formularz!#REF!)","v":{"$error":"#VALUE!"}}]
[null,{"$f":"Sprawdz_pesel(Formularz!#REF!)","v":{"$error":"#VALUE!"}}]
[null,{"$f":"Sprawdz_pesel(Formularz!#REF!)","v":{"$error":"#VALUE!"}}]
[null,{"$f":"Sprawdz_pesel(Formularz!#REF!)","v":{"$error":"#VALUE!"}}]
[null,{"$f":"Sprawdz_pesel(Formularz!#REF!)","v":{"$error":"#VALUE!"}}]
[null,{"$f":"Sprawdz_pesel(Formularz!#REF!)","v":{"$error":"#VALUE!"}}]
[null,{"$f":"Sprawdz_pesel(Formularz!#REF!)","v":{"$error":"#VALUE!"}}]
[null,{"$f":"Sprawdz_pesel(Formularz!#REF!)","v":{"$error":"#VALUE!"}}]
[null,{"$f":"Sprawdz_pesel(Formularz!#REF!)","v":{"$error":"#VALUE!"}}]
[null,{"$f":"Sprawdz_pesel(Formularz!#REF!)","v":{"$error":"#VALUE!"}}]
[null,{"$f":"Sprawdz_pesel(Formularz!#REF!)","v":{"$error":"#VALUE!"}}]
[null,{"$f":"Sprawdz_pesel(Formularz!#REF!)","v":{"$error":"#VALUE!"}}]
[null,{"$f":"Sprawdz_pesel(Formularz!#REF!)","v":{"$error":"#VALUE!"}}]
[null,{"$f":"Sprawdz_pesel(Formularz!#REF!)","v":{"$error":"#VALUE!"}}]
[null,{"$f":"Sprawdz_pesel(Formularz!#REF!)","v":{"$error":"#VALUE!"}}]
[null,{"$f":"Sprawdz_pesel(Formularz!#REF!)","v":{"$error":"#VALUE!"}}]
[null,{"$f":"Sprawdz_pesel(Formularz!#REF!)","v":{"$error":"#VALUE!"}}]
[null,{"$f":"Sprawdz_pesel(Formularz!#REF!)","v":{"$error":"#VALUE!"}}]
[null,{"$f":"Sprawdz_pesel(Formularz!#REF!)","v":{"$error":"#VALUE!"}}]
[null,{"$f":"Sprawdz_pesel(Formularz!#REF!)","v":{"$error":"#VALUE!"}}]
[null,{"$f":"Sprawdz_pesel(Formularz!#REF!)","v":{"$error":"#VALUE!"}}]
[null,{"$f":"Sprawdz_pesel(Formularz!#REF!)","v":{"$error":"#VALUE!"}}]
[null,{"$f":"Sprawdz_pesel(Formularz!#REF!)","v":{"$error":"#VALUE!"}}]
[null,{"$f":"Sprawdz_pesel(Formularz!#REF!)","v":{"$error":"#VALUE!"}}]
[null,{"$f":"Sprawdz_pesel(Formularz!#REF!)","v":{"$error":"#VALUE!"}}]
[null,{"$f":"Sprawdz_pesel(Formularz!#REF!)","v":{"$error":"#VALUE!"}}]
[null,{"$f":"Sprawdz_pesel(Formularz!#REF!)","v":{"$error":"#VALUE!"}}]
[null,{"$f":"Sprawdz_pesel(Formularz!#REF!)","v":{"$error":"#VALUE!"}}]
[null,{"$f":"Sprawdz_pesel(Formularz!#REF!)","v":{"$error":"#VALUE!"}}]
[null,{"$f":"Sprawdz_pesel(Formularz!#REF!)","v":{"$error":"#VALUE!"}}]
[null,{"$f":"Sprawdz_pesel(Formularz!#REF!)","v":{"$error":"#VALUE!"}}]
[null,{"$f":"Sprawdz_pesel(Formularz!#REF!)","v":{"$error":"#VALUE!"}}]
[null,{"$f":"Sprawdz_pesel(Formularz!#REF!)","v":{"$error":"#VALUE!"}}]
[null,{"$f":"Sprawdz_pesel(Formularz!#REF!)","v":{"$error":"#VALUE!"}}]
[null,{"$f":"Sprawdz_pesel(Formularz!#REF!)","v":{"$error":"#VALUE!"}}]
[null,{"$f":"Sprawdz_pesel(Formularz!#REF!)","v":{"$error":"#VALUE!"}}]
[null,{"$f":"Sprawdz_pesel(Formularz!#REF!)","v":{"$error":"#VALUE!"}}]
[null,{"$f":"Sprawdz_pesel(Formularz!#REF!)","v":{"$error":"#VALUE!"}}]
[null,{"$f":"Sprawdz_pesel(Formularz!#REF!)","v":{"$error":"#VALUE!"}}]
[null,{"$f":"Sprawdz_pesel(Formularz!#REF!)","v":{"$error":"#VALUE!"}}]
[null,{"$f":"Sprawdz_pesel(Formularz!#REF!)","v":{"$error":"#VALUE!"}}]
[null,{"$f":"Sprawdz_pesel(Formularz!#REF!)","v":{"$error":"#VALUE!"}}]
[null,{"$f":"Sprawdz_pesel(Formularz!#REF!)","v":{"$error":"#VALUE!"}}]
[null,{"$f":"Sprawdz_pesel(Formularz!#REF!)","v":{"$error":"#VALUE!"}}]
[null,{"$f":"Sprawdz_pesel(Formularz!#REF!)","v":{"$error":"#VALUE!"}}]
[null,{"$f":"Sprawdz_pesel(Formularz!#REF!)","v":{"$error":"#VALUE!"}}]
[null,{"$f":"Sprawdz_pesel(Formularz!#REF!)","v":{"$error":"#VALUE!"}}]
[null,{"$f":"Sprawdz_pesel(Formularz!#REF!)","v":{"$error":"#VALUE!"}}]
[null,{"$f":"Sprawdz_pesel(Formularz!#REF!)","v":{"$error":"#VALUE!"}}]
[null,{"$f":"Sprawdz_pesel(Formularz!#REF!)","v":{"$error":"#VALUE!"}}]
[null,{"$f":"Sprawdz_pesel(Formularz!#REF!)","v":{"$error":"#VALUE!"}}]
[null,{"$f":"Sprawdz_pesel(Formularz!#REF!)","v":{"$error":"#VALUE!"}}]
[null,{"$f":"Sprawdz_pesel(Formularz!#REF!)","v":{"$error":"#VALUE!"}}]
[null,{"$f":"Sprawdz_pesel(Formularz!#REF!)","v":{"$error":"#VALUE!"}}]
[null,{"$f":"Sprawdz_pesel(Formularz!#REF!)","v":{"$error":"#VALUE!"}}]
[null,{"$f":"Sprawdz_pesel(Formularz!#REF!)","v":{"$error":"#VALUE!"}}]
[null,{"$f":"Sprawdz_pesel(Formularz!#REF!)","v":{"$error":"#VALUE!"}}]
[null,{"$f":"Sprawdz_pesel(Formularz!#REF!)","v":{"$error":"#VALUE!"}}]
[null,{"$f":"Sprawdz_pesel(Formularz!#REF!)","v":{"$error":"#VALUE!"}}]
[null,{"$f":"Sprawdz_pesel(Formularz!#REF!)","v":{"$error":"#VALUE!"}}]
[null,{"$f":"Sprawdz_pesel(Formularz!#REF!)","v":{"$error":"#VALUE!"}}]
[null,{"$f":"Sprawdz_pesel(Formularz!#REF!)","v":{"$error":"#VALUE!"}}]
[null,{"$f":"Sprawdz_pesel(Formularz!#REF!)","v":{"$error":"#VALUE!"}}]
[null,{"$f":"Sprawdz_pesel(Formularz!#REF!)","v":{"$error":"#VALUE!"}}]
[null,{"$f":"Sprawdz_pesel(Formularz!#REF!)","v":{"$error":"#VALUE!"}}]
[null,{"$f":"Sprawdz_pesel(Formularz!#REF!)","v":{"$error":"#VALUE!"}}]
[null,{"$f":"Sprawdz_pesel(Formularz!#REF!)","v":{"$error":"#VALUE!"}}]
[null,{"$f":"Sprawdz_pesel(Formularz!#REF!)","v":{"$error":"#VALUE!"}}]
[null,{"$f":"Sprawdz_pesel(Formularz!#REF!)","v":{"$error":"#VALUE!"}}]
[null,{"$f":"Sprawdz_pesel(Formularz!#REF!)","v":{"$error":"#VALUE!"}}]
[null,{"$f":"Sprawdz_pesel(Formularz!#REF!)","v":{"$error":"#VALUE!"}}]
[null,{"$f":"Sprawdz_pesel(Formularz!#REF!)","v":{"$error":"#VALUE!"}}]
[null,{"$f":"Sprawdz_pesel(Formularz!#REF!)","v":{"$error":"#VALUE!"}}]
[null,{"$f":"Sprawdz_pesel(Formularz!#REF!)","v":{"$error":"#VALUE!"}}]
[null,{"$f":"Sprawdz_pesel(Formularz!#REF!)","v":{"$error":"#VALUE!"}}]
[null,{"$f":"Sprawdz_pesel(Formularz!#REF!)","v":{"$error":"#VALUE!"}}]
[null,{"$f":"Sprawdz_pesel(Formularz!#REF!)","v":{"$error":"#VALUE!"}}]
[null,{"$f":"Sprawdz_pesel(Formularz!#REF!)","v":{"$error":"#VALUE!"}}]
[null,{"$f":"Sprawdz_pesel(Formularz!#REF!)","v":{"$error":"#VALUE!"}}]
[null,{"$f":"Sprawdz_pesel(Formularz!#REF!)","v":{"$error":"#VALUE!"}}]
[null,{"$f":"Sprawdz_pesel(Formularz!#REF!)","v":{"$error":"#VALUE!"}}]
[null,{"$f":"Sprawdz_pesel(Formularz!#REF!)","v":{"$error":"#VALUE!"}}]
[null,{"$f":"Sprawdz_pesel(Formularz!#REF!)","v":{"$error":"#VALUE!"}}]
[null,{"$f":"Sprawdz_pesel(Formularz!#REF!)","v":{"$error":"#VALUE!"}}]
[null,{"$f":"Sprawdz_pesel(Formularz!#REF!)","v":{"$error":"#VALUE!"}}]
[null,{"$f":"Sprawdz_pesel(Formularz!#REF!)","v":{"$error":"#VALUE!"}}]
[null,{"$f":"Sprawdz_pesel(Formularz!#REF!)","v":{"$error":"#VALUE!"}}]
[null,{"$f":"Sprawdz_pesel(Formularz!#REF!)","v":{"$error":"#VALUE!"}}]
[null,{"$f":"Sprawdz_pesel(Formularz!#REF!)","v":{"$error":"#VALUE!"}}]
[null,{"$f":"Sprawdz_pesel(Formularz!#REF!)","v":{"$error":"#VALUE!"}}]
[null,{"$f":"Sprawdz_pesel(Formularz!#REF!)","v":{"$error":"#VALUE!"}}]
[null,{"$f":"Sprawdz_pesel(Formularz!#REF!)","v":{"$error":"#VALUE!"}}]
[null,{"$f":"Sprawdz_pesel(Formularz!#REF!)","v":{"$error":"#VALUE!"}}]
[null,{"$f":"Sprawdz_pesel(Formularz!#REF!)","v":{"$error":"#VALUE!"}}]
[null,{"$f":"Sprawdz_pesel(Formularz!#REF!)","v":{"$error":"#VALUE!"}}]
[null,{"$f":"Sprawdz_pesel(Formularz!#REF!)","v":{"$error":"#VALUE!"}}]
[null,{"$f":"Sprawdz_pesel(Formularz!#REF!)","v":{"$error":"#VALUE!"}}]
[null,{"$f":"Sprawdz_pesel(Formularz!#REF!)","v":{"$error":"#VALUE!"}}]
[null,{"$f":"Sprawdz_pesel(Formularz!#REF!)","v":{"$error":"#VALUE!"}}]
[null,{"$f":"Sprawdz_pesel(Formularz!#REF!)","v":{"$error":"#VALUE!"}}]
[null,{"$f":"Sprawdz_pesel(Formularz!#REF!)","v":{"$error":"#VALUE!"}}]
[null,{"$f":"Sprawdz_pesel(Formularz!#REF!)","v":{"$error":"#VALUE!"}}]
[null,{"$f":"Sprawdz_pesel(Formularz!#REF!)","v":{"$error":"#VALUE!"}}]
[null,{"$f":"Sprawdz_pesel(Formularz!#REF!)","v":{"$error":"#VALUE!"}}]
[null,{"$f":"Sprawdz_pesel(Formularz!#REF!)","v":{"$error":"#VALUE!"}}]
[null,{"$f":"Sprawdz_pesel(Formularz!#REF!)","v":{"$error":"#VALUE!"}}]
[null,{"$f":"Sprawdz_pesel(Formularz!#REF!)","v":{"$error":"#VALUE!"}}]
[null,{"$f":"Sprawdz_pesel(Formularz!#REF!)","v":{"$error":"#VALUE!"}}]
[null,{"$f":"Sprawdz_pesel(Formularz!#REF!)","v":{"$error":"#VALUE!"}}]
[null,{"$f":"Sprawdz_pesel(Formularz!#REF!)","v":{"$error":"#VALUE!"}}]
[null,{"$f":"Sprawdz_pesel(Formularz!#REF!)","v":{"$error":"#VALUE!"}}]
[null,{"$f":"Sprawdz_pesel(Formularz!#REF!)","v":{"$error":"#VALUE!"}}]
[null,{"$f":"Sprawdz_pesel(Formularz!#REF!)","v":{"$error":"#VALUE!"}}]
[null,{"$f":"Sprawdz_pesel(Formularz!#REF!)","v":{"$error":"#VALUE!"}}]
[null,{"$f":"Sprawdz_pesel(Formularz!#REF!)","v":{"$error":"#VALUE!"}}]
[null,{"$f":"Sprawdz_pesel(Formularz!#REF!)","v":{"$error":"#VALUE!"}}]
[null,{"$f":"Sprawdz_pesel(Formularz!#REF!)","v":{"$error":"#VALUE!"}}]
[null,{"$f":"Sprawdz_pesel(Formularz!#REF!)","v":{"$error":"#VALUE!"}}]
[null,{"$f":"Sprawdz_pesel(Formularz!#REF!)","v":{"$error":"#VALUE!"}}]
[null,{"$f":"Sprawdz_pesel(Formularz!#REF!)","v":{"$error":"#VALUE!"}}]
[null,{"$f":"Sprawdz_pesel(Formularz!#REF!)","v":{"$error":"#VALUE!"}}]
[null,{"$f":"Sprawdz_pesel(Formularz!#REF!)","v":{"$error":"#VALUE!"}}]
[null,{"$f":"Sprawdz_pesel(Formularz!#REF!)","v":{"$error":"#VALUE!"}}]
[null,{"$f":"Sprawdz_pesel(Formularz!#REF!)","v":{"$error":"#VALUE!"}}]
[null,{"$f":"Sprawdz_pesel(Formularz!#REF!)","v":{"$error":"#VALUE!"}}]
[null,{"$f":"Sprawdz_pesel(Formularz!#REF!)","v":{"$error":"#VALUE!"}}]
[null,{"$f":"Sprawdz_pesel(Formularz!#REF!)","v":{"$error":"#VALUE!"}}]
[null,{"$f":"Sprawdz_pesel(Formularz!#REF!)","v":{"$error":"#VALUE!"}}]
[null,{"$f":"Sprawdz_pesel(Formularz!#REF!)","v":{"$error":"#VALUE!"}}]
[null,{"$f":"Sprawdz_pesel(Formularz!#REF!)","v":{"$error":"#VALUE!"}}]
[null,{"$f":"Sprawdz_pesel(Formularz!#REF!)","v":{"$error":"#VALUE!"}}]
[null,{"$f":"Sprawdz_pesel(Formularz!#REF!)","v":{"$error":"#VALUE!"}}]
[null,{"$f":"Sprawdz_pesel(Formularz!#REF!)","v":{"$error":"#VALUE!"}}]
[null,{"$f":"Sprawdz_pesel(Formularz!#REF!)","v":{"$error":"#VALUE!"}}]
[null,{"$f":"Sprawdz_pesel(Formularz!#REF!)","v":{"$error":"#VALUE!"}}]
[null,{"$f":"Sprawdz_pesel(Formularz!#REF!)","v":{"$error":"#VALUE!"}}]
[null,{"$f":"Sprawdz_pesel(Formularz!#REF!)","v":{"$error":"#VALUE!"}}]
[null,{"$f":"Sprawdz_pesel(Formularz!#REF!)","v":{"$error":"#VALUE!"}}]
[null,{"$f":"Sprawdz_pesel(Formularz!#REF!)","v":{"$error":"#VALUE!"}}]
[null,{"$f":"Sprawdz_pesel(Formularz!#REF!)","v":{"$error":"#VALUE!"}}]
[null,{"$f":"Sprawdz_pesel(Formularz!#REF!)","v":{"$error":"#VALUE!"}}]
[null,{"$f":"Sprawdz_pesel(Formularz!#REF!)","v":{"$error":"#VALUE!"}}]
[null,{"$f":"Sprawdz_pesel(Formularz!#REF!)","v":{"$error":"#VALUE!"}}]
[null,{"$f":"Sprawdz_pesel(Formularz!#REF!)","v":{"$error":"#VALUE!"}}]
[null,{"$f":"Sprawdz_pesel(Formularz!#REF!)","v":{"$error":"#VALUE!"}}]
[null,{"$f":"Sprawdz_pesel(Formularz!#REF!)","v":{"$error":"#VALUE!"}}]
[null,{"$f":"Sprawdz_pesel(Formularz!#REF!)","v":{"$error":"#VALUE!"}}]
[null,{"$f":"Sprawdz_pesel(Formularz!#REF!)","v":{"$error":"#VALUE!"}}]
[null,{"$f":"Sprawdz_pesel(Formularz!#REF!)","v":{"$error":"#VALUE!"}}]
[null,{"$f":"Sprawdz_pesel(Formularz!#REF!)","v":{"$error":"#VALUE!"}}]
[null,{"$f":"Sprawdz_pesel(Formularz!#REF!)","v":{"$error":"#VALUE!"}}]
[null,{"$f":"Sprawdz_pesel(Formularz!#REF!)","v":{"$error":"#VALUE!"}}]
[null,{"$f":"Sprawdz_pesel(Formularz!#REF!)","v":{"$error":"#VALUE!"}}]
[null,{"$f":"Sprawdz_pesel(Formularz!#REF!)","v":{"$error":"#VALUE!"}}]
[null,{"$f":"Sprawdz_pesel(Formularz!#REF!)","v":{"$error":"#VALUE!"}}]
[null,{"$f":"Sprawdz_pesel(Formularz!#REF!)","v":{"$error":"#VALUE!"}}]
[null,{"$f":"Sprawdz_pesel(Formularz!#REF!)","v":{"$error":"#VALUE!"}}]
[null,{"$f":"Sprawdz_pesel(Formularz!#REF!)","v":{"$error":"#VALUE!"}}]
[null,{"$f":"Sprawdz_pesel(Formularz!#REF!)","v":{"$error":"#VALUE!"}}]
[null,{"$f":"Sprawdz_pesel(Formularz!#REF!)","v":{"$error":"#VALUE!"}}]
[null,{"$f":"Sprawdz_pesel(Formularz!#REF!)","v":{"$error":"#VALUE!"}}]
[null,{"$f":"Sprawdz_pesel(Formularz!#REF!)","v":{"$error":"#VALUE!"}}]
[null,{"$f":"Sprawdz_pesel(Formularz!#REF!)","v":{"$error":"#VALUE!"}}]
[null,{"$f":"Sprawdz_pesel(Formularz!#REF!)","v":{"$error":"#VALUE!"}}]
[null,{"$f":"Sprawdz_pesel(Formularz!#REF!)","v":{"$error":"#VALUE!"}}]
[null,{"$f":"Sprawdz_pesel(Formularz!#REF!)","v":{"$error":"#VALUE!"}}]
[null,{"$f":"Sprawdz_pesel(Formularz!#REF!)","v":{"$error":"#VALUE!"}}]
[null,{"$f":"Sprawdz_pesel(Formularz!#REF!)","v":{"$error":"#VALUE!"}}]
[null,{"$f":"Sprawdz_pesel(Formularz!#REF!)","v":{"$error":"#VALUE!"}}]
[null,{"$f":"Sprawdz_pesel(Formularz!#REF!)","v":{"$error":"#VALUE!"}}]
[null,{"$f":"Sprawdz_pesel(Formularz!#REF!)","v":{"$error":"#VALUE!"}}]
[null,{"$f":"Sprawdz_pesel(Formularz!#REF!)","v":{"$error":"#VALUE!"}}]
[null,{"$f":"Sprawdz_pesel(Formularz!#REF!)","v":{"$error":"#VALUE!"}}]
[null,{"$f":"Sprawdz_pesel(Formularz!#REF!)","v":{"$error":"#VALUE!"}}]
[null,{"$f":"Sprawdz_pesel(Formularz!#REF!)","v":{"$error":"#VALUE!"}}]
[null,{"$f":"Sprawdz_pesel(Formularz!#REF!)","v":{"$error":"#VALUE!"}}]
[null,{"$f":"Sprawdz_pesel(Formularz!#REF!)","v":{"$error":"#VALUE!"}}]
[null,{"$f":"Sprawdz_pesel(Formularz!#REF!)","v":{"$error":"#VALUE!"}}]
[null,{"$f":"Sprawdz_pesel(Formularz!#REF!)","v":{"$error":"#VALUE!"}}]
[null,{"$f":"Sprawdz_pesel(Formularz!#REF!)","v":{"$error":"#VALUE!"}}]
[null,{"$f":"Sprawdz_pesel(Formularz!#REF!)","v":{"$error":"#VALUE!"}}]
[null,{"$f":"Sprawdz_pesel(Formularz!#REF!)","v":{"$error":"#VALUE!"}}]
[null,{"$f":"Sprawdz_pesel(Formularz!#REF!)","v":{"$error":"#VALUE!"}}]
[null,{"$f":"Sprawdz_pesel(Formularz!#REF!)","v":{"$error":"#VALUE!"}}]
[null,{"$f":"Sprawdz_pesel(Formularz!#REF!)","v":{"$error":"#VALUE!"}}]
[null,{"$f":"Sprawdz_pesel(Formularz!#REF!)","v":{"$error":"#VALUE!"}}]
[null,{"$f":"Sprawdz_pesel(Formularz!#REF!)","v":{"$error":"#VALUE!"}}]
[null,{"$f":"Sprawdz_pesel(Formularz!#REF!)","v":{"$error":"#VALUE!"}}]
[null,{"$f":"Sprawdz_pesel(Formularz!#REF!)","v":{"$error":"#VALUE!"}}]
[null,{"$f":"Sprawdz_pesel(Formularz!#REF!)","v":{"$error":"#VALUE!"}}]
[null,{"$f":"Sprawdz_pesel(Formularz!#REF!)","v":{"$error":"#VALUE!"}}]
[null,{"$f":"Sprawdz_pesel(Formularz!#REF!)","v":{"$error":"#VALUE!"}}]
[null,{"$f":"Sprawdz_pesel(Formularz!#REF!)","v":{"$error":"#VALUE!"}}]
[null,{"$f":"Sprawdz_pesel(Formularz!#REF!)","v":{"$error":"#VALUE!"}}]
[null,{"$f":"Sprawdz_pesel(Formularz!#REF!)","v":{"$error":"#VALUE!"}}]
[null,{"$f":"Sprawdz_pesel(Formularz!#REF!)","v":{"$error":"#VALUE!"}}]
[null,{"$f":"Sprawdz_pesel(Formularz!#REF!)","v":{"$error":"#VALUE!"}}]
[null,{"$f":"Sprawdz_pesel(Formularz!#REF!)","v":{"$error":"#VALUE!"}}]
[null,{"$f":"Sprawdz_pesel(Formularz!#REF!)","v":{"$error":"#VALUE!"}}]
[null,{"$f":"Sprawdz_pesel(Formularz!#REF!)","v":{"$error":"#VALUE!"}}]
[null,{"$f":"Sprawdz_pesel(Formularz!#REF!)","v":{"$error":"#VALUE!"}}]
[null,{"$f":"Sprawdz_pesel(Formularz!#REF!)","v":{"$error":"#VALUE!"}}]
[null,{"$f":"Sprawdz_pesel(Formularz!#REF!)","v":{"$error":"#VALUE!"}}]
[null,{"$f":"Sprawdz_pesel(Formularz!#REF!)","v":{"$error":"#VALUE!"}}]
[null,{"$f":"Sprawdz_pesel(Formularz!#REF!)","v":{"$error":"#VALUE!"}}]
[null,{"$f":"Sprawdz_pesel(Formularz!#REF!)","v":{"$error":"#VALUE!"}}]
[null,{"$f":"Sprawdz_pesel(Formularz!#REF!)","v":{"$error":"#VALUE!"}}]
[null,{"$f":"Sprawdz_pesel(Formularz!#REF!)","v":{"$error":"#VALUE!"}}]
[null,{"$f":"Sprawdz_pesel(Formularz!#REF!)","v":{"$error":"#VALUE!"}}]
[null,{"$f":"Sprawdz_pesel(Formularz!#REF!)","v":{"$error":"#VALUE!"}}]
[null,{"$f":"Sprawdz_pesel(Formularz!#REF!)","v":{"$error":"#VALUE!"}}]
[null,{"$f":"Sprawdz_pesel(Formularz!#REF!)","v":{"$error":"#VALUE!"}}]
[null,{"$f":"Sprawdz_pesel(Formularz!#REF!)","v":{"$error":"#VALUE!"}}]
[null,{"$f":"Sprawdz_pesel(Formularz!#REF!)","v":{"$error":"#VALUE!"}}]
[null,{"$f":"Sprawdz_pesel(Formularz!#REF!)","v":{"$error":"#VALUE!"}}]
[null,{"$f":"Sprawdz_pesel(Formularz!#REF!)","v":{"$error":"#VALUE!"}}]
[null,{"$f":"Sprawdz_pesel(Formularz!#REF!)","v":{"$error":"#VALUE!"}}]
[null,{"$f":"Sprawdz_pesel(Formularz!#REF!)","v":{"$error":"#VALUE!"}}]
[null,{"$f":"Sprawdz_pesel(Formularz!#REF!)","v":{"$error":"#VALUE!"}}]
[null,{"$f":"Sprawdz_pesel(Formularz!#REF!)","v":{"$error":"#VALUE!"}}]
[null,{"$f":"Sprawdz_pesel(Formularz!#REF!)","v":{"$error":"#VALUE!"}}]
[null,{"$f":"Sprawdz_pesel(Formularz!#REF!)","v":{"$error":"#VALUE!"}}]
[null,{"$f":"Sprawdz_pesel(Formularz!#REF!)","v":{"$error":"#VALUE!"}}]
[null,{"$f":"Sprawdz_pesel(Formularz!#REF!)","v":{"$error":"#VALUE!"}}]
[null,{"$f":"Sprawdz_pesel(Formularz!#REF!)","v":{"$error":"#VALUE!"}}]
[null,{"$f":"Sprawdz_pesel(Formularz!#REF!)","v":{"$error":"#VALUE!"}}]
[null,{"$f":"Sprawdz_pesel(Formularz!#REF!)","v":{"$error":"#VALUE!"}}]
[null,{"$f":"Sprawdz_pesel(Formularz!#REF!)","v":{"$error":"#VALUE!"}}]
[null,{"$f":"Sprawdz_pesel(Formularz!#REF!)","v":{"$error":"#VALUE!"}}]
[null,{"$f":"Sprawdz_pesel(Formularz!#REF!)","v":{"$error":"#VALUE!"}}]
[null,{"$f":"Sprawdz_pesel(Formularz!#REF!)","v":{"$error":"#VALUE!"}}]
[null,{"$f":"Sprawdz_pesel(Formularz!#REF!)","v":{"$error":"#VALUE!"}}]
[null,{"$f":"Sprawdz_pesel(Formularz!#REF!)","v":{"$error":"#VALUE!"}}]
[null,{"$f":"Sprawdz_pesel(Formularz!#REF!)","v":{"$error":"#VALUE!"}}]
[null,{"$f":"Sprawdz_pesel(Formularz!#REF!)","v":{"$error":"#VALUE!"}}]
[null,{"$f":"Sprawdz_pesel(Formularz!#REF!)","v":{"$error":"#VALUE!"}}]
[null,{"$f":"Sprawdz_pesel(Formularz!#REF!)","v":{"$error":"#VALUE!"}}]
[null,{"$f":"Sprawdz_pesel(Formularz!#REF!)","v":{"$error":"#VALUE!"}}]
[null,{"$f":"Sprawdz_pesel(Formularz!#REF!)","v":{"$error":"#VALUE!"}}]
[null,{"$f":"Sprawdz_pesel(Formularz!#REF!)","v":{"$error":"#VALUE!"}}]
[null,{"$f":"Sprawdz_pesel(Formularz!#REF!)","v":{"$error":"#VALUE!"}}]
[null,{"$f":"Sprawdz_pesel(Formularz!#REF!)","v":{"$error":"#VALUE!"}}]
[null,{"$f":"Sprawdz_pesel(Formularz!#REF!)","v":{"$error":"#VALUE!"}}]
[null,{"$f":"Sprawdz_pesel(Formularz!#REF!)","v":{"$error":"#VALUE!"}}]
[null,{"$f":"Sprawdz_pesel(Formularz!#REF!)","v":{"$error":"#VALUE!"}}]
[null,{"$f":"Sprawdz_pesel(Formularz!#REF!)","v":{"$error":"#VALUE!"}}]
[null,{"$f":"Sprawdz_pesel(Formularz!#REF!)","v":{"$error":"#VALUE!"}}]
[null,{"$f":"Sprawdz_pesel(Formularz!#REF!)","v":{"$error":"#VALUE!"}}]
[null,{"$f":"Sprawdz_pesel(Formularz!#REF!)","v":{"$error":"#VALUE!"}}]
[null,{"$f":"Sprawdz_pesel(Formularz!#REF!)","v":{"$error":"#VALUE!"}}]
[null,{"$f":"Sprawdz_pesel(Formularz!#REF!)","v":{"$error":"#VALUE!"}}]
[null,{"$f":"Sprawdz_pesel(Formularz!#REF!)","v":{"$error":"#VALUE!"}}]
[null,{"$f":"Sprawdz_pesel(Formularz!#REF!)","v":{"$error":"#VALUE!"}}]
[null,{"$f":"Sprawdz_pesel(Formularz!#REF!)","v":{"$error":"#VALUE!"}}]
[null,{"$f":"Sprawdz_pesel(Formularz!#REF!)","v":{"$error":"#VALUE!"}}]
[null,{"$f":"Sprawdz_pesel(Formularz!#REF!)","v":{"$error":"#VALUE!"}}]
[null,{"$f":"Sprawdz_pesel(Formularz!#REF!)","v":{"$error":"#VALUE!"}}]
[null,{"$f":"Sprawdz_pesel(Formularz!#REF!)","v":{"$error":"#VALUE!"}}]
[null,{"$f":"Sprawdz_pesel(Formularz!#REF!)","v":{"$error":"#VALUE!"}}]
[null,{"$f":"Sprawdz_pesel(Formularz!#REF!)","v":{"$error":"#VALUE!"}}]
[null,{"$f":"Sprawdz_pesel(Formularz!#REF!)","v":{"$error":"#VALUE!"}}]
[null,{"$f":"Sprawdz_pesel(Formularz!#REF!)","v":{"$error":"#VALUE!"}}]
[null,{"$f":"Sprawdz_pesel(Formularz!#REF!)","v":{"$error":"#VALUE!"}}]
[null,{"$f":"Sprawdz_pesel(Formularz!#REF!)","v":{"$error":"#VALUE!"}}]
[null,{"$f":"Sprawdz_pesel(Formularz!#REF!)","v":{"$error":"#VALUE!"}}]
[null,{"$f":"Sprawdz_pesel(Formularz!#REF!)","v":{"$error":"#VALUE!"}}]
[null,{"$f":"Sprawdz_pesel(Formularz!#REF!)","v":{"$error":"#VALUE!"}}]
[null,{"$f":"Sprawdz_pesel(Formularz!#REF!)","v":{"$error":"#VALUE!"}}]
[null,{"$f":"Sprawdz_pesel(Formularz!#REF!)","v":{"$error":"#VALUE!"}}]
[null,{"$f":"Sprawdz_pesel(Formularz!#REF!)","v":{"$error":"#VALUE!"}}]
[null,{"$f":"Sprawdz_pesel(Formularz!#REF!)","v":{"$error":"#VALUE!"}}]
[null,{"$f":"Sprawdz_pesel(Formularz!#REF!)","v":{"$error":"#VALUE!"}}]
[null,{"$f":"Sprawdz_pesel(Formularz!#REF!)","v":{"$error":"#VALUE!"}}]
[null,{"$f":"Sprawdz_pesel(Formularz!#REF!)","v":{"$error":"#VALUE!"}}]
[null,{"$f":"Sprawdz_pesel(Formularz!#REF!)","v":{"$error":"#VALUE!"}}]
[null,{"$f":"Sprawdz_pesel(Formularz!#REF!)","v":{"$error":"#VALUE!"}}]
[null,{"$f":"Sprawdz_pesel(Formularz!#REF!)","v":{"$error":"#VALUE!"}}]
[null,{"$f":"Sprawdz_pesel(Formularz!#REF!)","v":{"$error":"#VALUE!"}}]
[null,{"$f":"Sprawdz_pesel(Formularz!#REF!)","v":{"$error":"#VALUE!"}}]
[null,{"$f":"Sprawdz_pesel(Formularz!#REF!)","v":{"$error":"#VALUE!"}}]
[null,{"$f":"Sprawdz_pesel(Formularz!#REF!)","v":{"$error":"#VALUE!"}}]
[null,{"$f":"Sprawdz_pesel(Formularz!#REF!)","v":{"$error":"#VALUE!"}}]
[null,{"$f":"Sprawdz_pesel(Formularz!#REF!)","v":{"$error":"#VALUE!"}}]
[null,{"$f":"Sprawdz_pesel(Formularz!#REF!)","v":{"$error":"#VALUE!"}}]
[null,{"$f":"Sprawdz_pesel(Formularz!#REF!)","v":{"$error":"#VALUE!"}}]
[null,{"$f":"Sprawdz_pesel(Formularz!#REF!)","v":{"$error":"#VALUE!"}}]
[null,{"$f":"Sprawdz_pesel(Formularz!#REF!)","v":{"$error":"#VALUE!"}}]
[null,{"$f":"Sprawdz_pesel(Formularz!#REF!)","v":{"$error":"#VALUE!"}}]
[null,{"$f":"Sprawdz_pesel(Formularz!#REF!)","v":{"$error":"#VALUE!"}}]
[null,{"$f":"Sprawdz_pesel(Formularz!#REF!)","v":{"$error":"#VALUE!"}}]
[null,{"$f":"Sprawdz_pesel(Formularz!#REF!)","v":{"$error":"#VALUE!"}}]
[null,{"$f":"Sprawdz_pesel(Formularz!#REF!)","v":{"$error":"#VALUE!"}}]
[null,{"$f":"Sprawdz_pesel(Formularz!#REF!)","v":{"$error":"#VALUE!"}}]
[null,{"$f":"Sprawdz_pesel(Formularz!#REF!)","v":{"$error":"#VALUE!"}}]
[null,{"$f":"Sprawdz_pesel(Formularz!#REF!)","v":{"$error":"#VALUE!"}}]
[null,{"$f":"Sprawdz_pesel(Formularz!#REF!)","v":{"$error":"#VALUE!"}}]
[null,{"$f":"Sprawdz_pesel(Formularz!#REF!)","v":{"$error":"#VALUE!"}}]
[null,{"$f":"Sprawdz_pesel(Formularz!#REF!)","v":{"$error":"#VALUE!"}}]
[null,{"$f":"Sprawdz_pesel(Formularz!#REF!)","v":{"$error":"#VALUE!"}}]
[null,{"$f":"Sprawdz_pesel(Formularz!#REF!)","v":{"$error":"#VALUE!"}}]
[null,{"$f":"Sprawdz_pesel(Formularz!#REF!)","v":{"$error":"#VALUE!"}}]
[null,{"$f":"Sprawdz_pesel(Formularz!#REF!)","v":{"$error":"#VALUE!"}}]
[null,{"$f":"Sprawdz_pesel(Formularz!#REF!)","v":{"$error":"#VALUE!"}}]
[null,{"$f":"Sprawdz_pesel(Formularz!#REF!)","v":{"$error":"#VALUE!"}}]
[null,{"$f":"Sprawdz_pesel(Formularz!#REF!)","v":{"$error":"#VALUE!"}}]
[null,{"$f":"Sprawdz_pesel(Formularz!#REF!)","v":{"$error":"#VALUE!"}}]
[null,{"$f":"Sprawdz_pesel(Formularz!#REF!)","v":{"$error":"#VALUE!"}}]
[null,{"$f":"Sprawdz_pesel(Formularz!#REF!)","v":{"$error":"#VALUE!"}}]
[null,{"$f":"Sprawdz_pesel(Formularz!#REF!)","v":{"$error":"#VALUE!"}}]
[null,{"$f":"Sprawdz_pesel(Formularz!#REF!)","v":{"$error":"#VALUE!"}}]
[null,{"$f":"Sprawdz_pesel(Formularz!#REF!)","v":{"$error":"#VALUE!"}}]
[null,{"$f":"Sprawdz_pesel(Formularz!#REF!)","v":{"$error":"#VALUE!"}}]
[null,{"$f":"Sprawdz_pesel(Formularz!#REF!)","v":{"$error":"#VALUE!"}}]
[null,{"$f":"Sprawdz_pesel(Formularz!#REF!)","v":{"$error":"#VALUE!"}}]
[null,{"$f":"Sprawdz_pesel(Formularz!#REF!)","v":{"$error":"#VALUE!"}}]
[null,{"$f":"Sprawdz_pesel(Formularz!#REF!)","v":{"$error":"#VALUE!"}}]
[null,{"$f":"Sprawdz_pesel(Formularz!#REF!)","v":{"$error":"#VALUE!"}}]
[null,{"$f":"Sprawdz_pesel(Formularz!#REF!)","v":{"$error":"#VALUE!"}}]
[null,{"$f":"Sprawdz_pesel(Formularz!#REF!)","v":{"$error":"#VALUE!"}}]
[null,{"$f":"Sprawdz_pesel(Formularz!#REF!)","v":{"$error":"#VALUE!"}}]
[null,{"$f":"Sprawdz_pesel(Formularz!#REF!)","v":{"$error":"#VALUE!"}}]
[null,{"$f":"Sprawdz_pesel(Formularz!#REF!)","v":{"$error":"#VALUE!"}}]
[null,{"$f":"Sprawdz_pesel(Formularz!#REF!)","v":{"$error":"#VALUE!"}}]
[null,{"$f":"Sprawdz_pesel(Formularz!#REF!)","v":{"$error":"#VALUE!"}}]
[null,{"$f":"Sprawdz_pesel(Formularz!#REF!)","v":{"$error":"#VALUE!"}}]
[null,{"$f":"Sprawdz_pesel(Formularz!#REF!)","v":{"$error":"#VALUE!"}}]
[null,{"$f":"Sprawdz_pesel(Formularz!#REF!)","v":{"$error":"#VALUE!"}}]
[null,{"$f":"Sprawdz_pesel(Formularz!#REF!)","v":{"$error":"#VALUE!"}}]
[null,{"$f":"Sprawdz_pesel(Formularz!#REF!)","v":{"$error":"#VALUE!"}}]
[null,{"$f":"Sprawdz_pesel(Formularz!#REF!)","v":{"$error":"#VALUE!"}}]
[null,{"$f":"Sprawdz_pesel(Formularz!#REF!)","v":{"$error":"#VALUE!"}}]
[null,{"$f":"Sprawdz_pesel(Formularz!#REF!)","v":{"$error":"#VALUE!"}}]
[null,{"$f":"Sprawdz_pesel(Formularz!#REF!)","v":{"$error":"#VALUE!"}}]
[null,{"$f":"Sprawdz_pesel(Formularz!#REF!)","v":{"$error":"#VALUE!"}}]
[null,{"$f":"Sprawdz_pesel(Formularz!#REF!)","v":{"$error":"#VALUE!"}}]
[null,{"$f":"Sprawdz_pesel(Formularz!#REF!)","v":{"$error":"#VALUE!"}}]
[null,{"$f":"Sprawdz_pesel(Formularz!#REF!)","v":{"$error":"#VALUE!"}}]
[null,{"$f":"Sprawdz_pesel(Formularz!#REF!)","v":{"$error":"#VALUE!"}}]
[null,{"$f":"Sprawdz_pesel(Formularz!#REF!)","v":{"$error":"#VALUE!"}}]
[null,{"$f":"Sprawdz_pesel(Formularz!#REF!)","v":{"$error":"#VALUE!"}}]
[null,{"$f":"Sprawdz_pesel(Formularz!#REF!)","v":{"$error":"#VALUE!"}}]
[null,{"$f":"Sprawdz_pesel(Formularz!#REF!)","v":{"$error":"#VALUE!"}}]
[null,{"$f":"Sprawdz_pesel(Formularz!#REF!)","v":{"$error":"#VALUE!"}}]
[null,{"$f":"Sprawdz_pesel(Formularz!#REF!)","v":{"$error":"#VALUE!"}}]
[null,{"$f":"Sprawdz_pesel(Formularz!#REF!)","v":{"$error":"#VALUE!"}}]
[null,{"$f":"Sprawdz_pesel(Formularz!#REF!)","v":{"$error":"#VALUE!"}}]
[null,{"$f":"Sprawdz_pesel(Formularz!#REF!)","v":{"$error":"#VALUE!"}}]
[null,{"$f":"Sprawdz_pesel(Formularz!#REF!)","v":{"$error":"#VALUE!"}}]
[null,{"$f":"Sprawdz_pesel(Formularz!#REF!)","v":{"$error":"#VALUE!"}}]
[null,{"$f":"Sprawdz_pesel(Formularz!#REF!)","v":{"$error":"#VALUE!"}}]
[null,{"$f":"Sprawdz_pesel(Formularz!#REF!)","v":{"$error":"#VALUE!"}}]
[null,{"$f":"Sprawdz_pesel(Formularz!#REF!)","v":{"$error":"#VALUE!"}}]
[null,{"$f":"Sprawdz_pesel(Formularz!#REF!)","v":{"$error":"#VALUE!"}}]
[null,{"$f":"Sprawdz_pesel(Formularz!#REF!)","v":{"$error":"#VALUE!"}}]
[null,{"$f":"Sprawdz_pesel(Formularz!#REF!)","v":{"$error":"#VALUE!"}}]
[null,{"$f":"Sprawdz_pesel(Formularz!#REF!)","v":{"$error":"#VALUE!"}}]
[null,{"$f":"Sprawdz_pesel(Formularz!#REF!)","v":{"$error":"#VALUE!"}}]
[null,{"$f":"Sprawdz_pesel(Formularz!#REF!)","v":{"$error":"#VALUE!"}}]
[null,{"$f":"Sprawdz_pesel(Formularz!#REF!)","v":{"$error":"#VALUE!"}}]
[null,{"$f":"Sprawdz_pesel(Formularz!#REF!)","v":{"$error":"#VALUE!"}}]
[null,{"$f":"Sprawdz_pesel(Formularz!#REF!)","v":{"$error":"#VALUE!"}}]
[null,{"$f":"Sprawdz_pesel(Formularz!#REF!)","v":{"$error":"#VALUE!"}}]
[null,{"$f":"Sprawdz_pesel(Formularz!#REF!)","v":{"$error":"#VALUE!"}}]
[null,{"$f":"Sprawdz_pesel(Formularz!#REF!)","v":{"$error":"#VALUE!"}}]
[null,{"$f":"Sprawdz_pesel(Formularz!#REF!)","v":{"$error":"#VALUE!"}}]
[null,{"$f":"Sprawdz_pesel(Formularz!#REF!)","v":{"$error":"#VALUE!"}}]
[null,{"$f":"Sprawdz_pesel(Formularz!#REF!)","v":{"$error":"#VALUE!"}}]
[null,{"$f":"Sprawdz_pesel(Formularz!#REF!)","v":{"$error":"#VALUE!"}}]
[null,{"$f":"Sprawdz_pesel(Formularz!#REF!)","v":{"$error":"#VALUE!"}}]
[null,{"$f":"Sprawdz_pesel(Formularz!#REF!)","v":{"$error":"#VALUE!"}}]
[null,{"$f":"Sprawdz_pesel(Formularz!#REF!)","v":{"$error":"#VALUE!"}}]
[null,{"$f":"Sprawdz_pesel(Formularz!#REF!)","v":{"$error":"#VALUE!"}}]
[null,{"$f":"Sprawdz_pesel(Formularz!#REF!)","v":{"$error":"#VALUE!"}}]
[null,{"$f":"Sprawdz_pesel(Formularz!#REF!)","v":{"$error":"#VALUE!"}}]
[null,{"$f":"Sprawdz_pesel(Formularz!#REF!)","v":{"$error":"#VALUE!"}}]
[null,{"$f":"Sprawdz_pesel(Formularz!#REF!)","v":{"$error":"#VALUE!"}}]
[null,{"$f":"Sprawdz_pesel(Formularz!#REF!)","v":{"$error":"#VALUE!"}}]
[null,{"$f":"Sprawdz_pesel(Formularz!#REF!)","v":{"$error":"#VALUE!"}}]
[null,{"$f":"Sprawdz_pesel(Formularz!#REF!)","v":{"$error":"#VALUE!"}}]
[null,{"$f":"Sprawdz_pesel(Formularz!#REF!)","v":{"$error":"#VALUE!"}}]
[null,{"$f":"Sprawdz_pesel(Formularz!#REF!)","v":{"$error":"#VALUE!"}}]
[null,{"$f":"Sprawdz_pesel(Formularz!#REF!)","v":{"$error":"#VALUE!"}}]
[null,{"$f":"Sprawdz_pesel(Formularz!#REF!)","v":{"$error":"#VALUE!"}}]
[null,{"$f":"Sprawdz_pesel(Formularz!#REF!)","v":{"$error":"#VALUE!"}}]
[null,{"$f":"Sprawdz_pesel(Formularz!#REF!)","v":{"$error":"#VALUE!"}}]
[null,{"$f":"Sprawdz_pesel(Formularz!#REF!)","v":{"$error":"#VALUE!"}}]
[null,{"$f":"Sprawdz_pesel(Formularz!#REF!)","v":{"$error":"#VALUE!"}}]
[null,{"$f":"Sprawdz_pesel(Formularz!#REF!)","v":{"$error":"#VALUE!"}}]
[null,{"$f":"Sprawdz_pesel(Formularz!#REF!)","v":{"$error":"#VALUE!"}}]
[null,{"$f":"Sprawdz_pesel(Formularz!#REF!)","v":{"$error":"#VALUE!"}}]
[null,{"$f":"Sprawdz_pesel(Formularz!#REF!)","v":{"$error":"#VALUE!"}}]
[null,{"$f":"Sprawdz_pesel(Formularz!#REF!)","v":{"$error":"#VALUE!"}}]
[null,{"$f":"Sprawdz_pesel(Formularz!#REF!)","v":{"$error":"#VALUE!"}}]
[null,{"$f":"Sprawdz_pesel(Formularz!#REF!)","v":{"$error":"#VALUE!"}}]
[null,{"$f":"Sprawdz_pesel(Formularz!#REF!)","v":{"$error":"#VALUE!"}}]
[null,{"$f":"Sprawdz_pesel(Formularz!#REF!)","v":{"$error":"#VALUE!"}}]
[null,{"$f":"Sprawdz_pesel(Formularz!#REF!)","v":{"$error":"#VALUE!"}}]
[null,{"$f":"Sprawdz_pesel(Formularz!#REF!)","v":{"$error":"#VALUE!"}}]
[null,{"$f":"Sprawdz_pesel(Formularz!#REF!)","v":{"$error":"#VALUE!"}}]
[null,{"$f":"Sprawdz_pesel(Formularz!#REF!)","v":{"$error":"#VALUE!"}}]
[null,{"$f":"Sprawdz_pesel(Formularz!#REF!)","v":{"$error":"#VALUE!"}}]
[null,{"$f":"Sprawdz_pesel(Formularz!#REF!)","v":{"$error":"#VALUE!"}}]
[null,{"$f":"Sprawdz_pesel(Formularz!#REF!)","v":{"$error":"#VALUE!"}}]
[null,{"$f":"Sprawdz_pesel(Formularz!#REF!)","v":{"$error":"#VALUE!"}}]
[null,{"$f":"Sprawdz_pesel(Formularz!#REF!)","v":{"$error":"#VALUE!"}}]
[null,{"$f":"Sprawdz_pesel(Formularz!#REF!)","v":{"$error":"#VALUE!"}}]
[null,{"$f":"Sprawdz_pesel(Formularz!#REF!)","v":{"$error":"#VALUE!"}}]
[null,{"$f":"Sprawdz_pesel(Formularz!#REF!)","v":{"$error":"#VALUE!"}}]
[null,{"$f":"Sprawdz_pesel(Formularz!#REF!)","v":{"$error":"#VALUE!"}}]
[null,{"$f":"Sprawdz_pesel(Formularz!#REF!)","v":{"$error":"#VALUE!"}}]
[null,{"$f":"Sprawdz_pesel(Formularz!#REF!)","v":{"$error":"#VALUE!"}}]
[null,{"$f":"Sprawdz_pesel(Formularz!#REF!)","v":{"$error":"#VALUE!"}}]
[null,{"$f":"Sprawdz_pesel(Formularz!#REF!)","v":{"$error":"#VALUE!"}}]
[null,{"$f":"Sprawdz_pesel(Formularz!#REF!)","v":{"$error":"#VALUE!"}}]
[null,{"$f":"Sprawdz_pesel(Formularz!#REF!)","v":{"$error":"#VALUE!"}}]
[null,{"$f":"Sprawdz_pesel(Formularz!#REF!)","v":{"$error":"#VALUE!"}}]
[null,{"$f":"Sprawdz_pesel(Formularz!#REF!)","v":{"$error":"#VALUE!"}}]
[null,{"$f":"Sprawdz_pesel(Formularz!#REF!)","v":{"$error":"#VALUE!"}}]
[null,{"$f":"Sprawdz_pesel(Formularz!#REF!)","v":{"$error":"#VALUE!"}}]
[null,{"$f":"Sprawdz_pesel(Formularz!#REF!)","v":{"$error":"#VALUE!"}}]
[null,{"$f":"Sprawdz_pesel(Formularz!#REF!)","v":{"$error":"#VALUE!"}}]
[null,{"$f":"Sprawdz_pesel(Formularz!#REF!)","v":{"$error":"#VALUE!"}}]
[null,{"$f":"Sprawdz_pesel(Formularz!#REF!)","v":{"$error":"#VALUE!"}}]
[null,{"$f":"Sprawdz_pesel(Formularz!#REF!)","v":{"$error":"#VALUE!"}}]
[null,{"$f":"Sprawdz_pesel(Formularz!#REF!)","v":{"$error":"#VALUE!"}}]
[null,{"$f":"Sprawdz_pesel(Formularz!#REF!)","v":{"$error":"#VALUE!"}}]
[null,{"$f":"Sprawdz_pesel(Formularz!#REF!)","v":{"$error":"#VALUE!"}}]
[null,{"$f":"Sprawdz_pesel(Formularz!#REF!)","v":{"$error":"#VALUE!"}}]
[null,{"$f":"Sprawdz_pesel(Formularz!#REF!)","v":{"$error":"#VALUE!"}}]
[null,{"$f":"Sprawdz_pesel(Formularz!#REF!)","v":{"$error":"#VALUE!"}}]
[null,{"$f":"Sprawdz_pesel(Formularz!#REF!)","v":{"$error":"#VALUE!"}}]
[null,{"$f":"Sprawdz_pesel(Formularz!#REF!)","v":{"$error":"#VALUE!"}}]
[null,{"$f":"Sprawdz_pesel(Formularz!#REF!)","v":{"$error":"#VALUE!"}}]
[null,{"$f":"Sprawdz_pesel(Formularz!#REF!)","v":{"$error":"#VALUE!"}}]
[null,{"$f":"Sprawdz_pesel(Formularz!#REF!)","v":{"$error":"#VALUE!"}}]
[null,{"$f":"Sprawdz_pesel(Formularz!#REF!)","v":{"$error":"#VALUE!"}}]
[null,{"$f":"Sprawdz_pesel(Formularz!#REF!)","v":{"$error":"#VALUE!"}}]
[null,{"$f":"Sprawdz_pesel(Formularz!#REF!)","v":{"$error":"#VALUE!"}}]
[null,{"$f":"Sprawdz_pesel(Formularz!#REF!)","v":{"$error":"#VALUE!"}}]
[null,{"$f":"Sprawdz_pesel(Formularz!#REF!)","v":{"$error":"#VALUE!"}}]
[null,{"$f":"Sprawdz_pesel(Formularz!#REF!)","v":{"$error":"#VALUE!"}}]
[null,{"$f":"Sprawdz_pesel(Formularz!#REF!)","v":{"$error":"#VALUE!"}}]
[null,{"$f":"Sprawdz_pesel(Formularz!#REF!)","v":{"$error":"#VALUE!"}}]
[null,{"$f":"Sprawdz_pesel(Formularz!#REF!)","v":{"$error":"#VALUE!"}}]
[null,{"$f":"Sprawdz_pesel(Formularz!#REF!)","v":{"$error":"#VALUE!"}}]
[null,{"$f":"Sprawdz_pesel(Formularz!#REF!)","v":{"$error":"#VALUE!"}}]
[null,{"$f":"Sprawdz_pesel(Formularz!#REF!)","v":{"$error":"#VALUE!"}}]
[null,{"$f":"Sprawdz_pesel(Formularz!#REF!)","v":{"$error":"#VALUE!"}}]
[null,{"$f":"Sprawdz_pesel(Formularz!#REF!)","v":{"$error":"#VALUE!"}}]
[null,{"$f":"Sprawdz_pesel(Formularz!#REF!)","v":{"$error":"#VALUE!"}}]
[null,{"$f":"Sprawdz_pesel(Formularz!#REF!)","v":{"$error":"#VALUE!"}}]
[null,{"$f":"Sprawdz_pesel(Formularz!#REF!)","v":{"$error":"#VALUE!"}}]
[null,{"$f":"Sprawdz_pesel(Formularz!#REF!)","v":{"$error":"#VALUE!"}}]
[null,{"$f":"Sprawdz_pesel(Formularz!#REF!)","v":{"$error":"#VALUE!"}}]
[null,{"$f":"Sprawdz_pesel(Formularz!#REF!)","v":{"$error":"#VALUE!"}}]
[null,{"$f":"Sprawdz_pesel(Formularz!#REF!)","v":{"$error":"#VALUE!"}}]
[null,{"$f":"Sprawdz_pesel(Formularz!#REF!)","v":{"$error":"#VALUE!"}}]
[null,{"$f":"Sprawdz_pesel(Formularz!#REF!)","v":{"$error":"#VALUE!"}}]
[null,{"$f":"Sprawdz_pesel(Formularz!#REF!)","v":{"$error":"#VALUE!"}}]
[null,{"$f":"Sprawdz_pesel(Formularz!#REF!)","v":{"$error":"#VALUE!"}}]
[null,{"$f":"Sprawdz_pesel(Formularz!#REF!)","v":{"$error":"#VALUE!"}}]
[null,{"$f":"Sprawdz_pesel(Formularz!#REF!)","v":{"$error":"#VALUE!"}}]
[null,{"$f":"Sprawdz_pesel(Formularz!#REF!)","v":{"$error":"#VALUE!"}}]
[null,{"$f":"Sprawdz_pesel(Formularz!#REF!)","v":{"$error":"#VALUE!"}}]
[null,{"$f":"Sprawdz_pesel(Formularz!#REF!)","v":{"$error":"#VALUE!"}}]
[null,{"$f":"Sprawdz_pesel(Formularz!#REF!)","v":{"$error":"#VALUE!"}}]
[null,{"$f":"Sprawdz_pesel(Formularz!#REF!)","v":{"$error":"#VALUE!"}}]
[null,{"$f":"Sprawdz_pesel(Formularz!#REF!)","v":{"$error":"#VALUE!"}}]
[null,{"$f":"Sprawdz_pesel(Formularz!#REF!)","v":{"$error":"#VALUE!"}}]
[null,{"$f":"Sprawdz_pesel(Formularz!#REF!)","v":{"$error":"#VALUE!"}}]
[null,{"$f":"Sprawdz_pesel(Formularz!#REF!)","v":{"$error":"#VALUE!"}}]
[null,{"$f":"Sprawdz_pesel(Formularz!#REF!)","v":{"$error":"#VALUE!"}}]
[null,{"$f":"Sprawdz_pesel(Formularz!#REF!)","v":{"$error":"#VALUE!"}}]
[null,{"$f":"Sprawdz_pesel(Formularz!#REF!)","v":{"$error":"#VALUE!"}}]
[null,{"$f":"Sprawdz_pesel(Formularz!#REF!)","v":{"$error":"#VALUE!"}}]
[null,{"$f":"Sprawdz_pesel(Formularz!#REF!)","v":{"$error":"#VALUE!"}}]
[null,{"$f":"Sprawdz_pesel(Formularz!#REF!)","v":{"$error":"#VALUE!"}}]
[null,{"$f":"Sprawdz_pesel(Formularz!#REF!)","v":{"$error":"#VALUE!"}}]
[null,{"$f":"Sprawdz_pesel(Formularz!#REF!)","v":{"$error":"#VALUE!"}}]
[null,{"$f":"Sprawdz_pesel(Formularz!#REF!)","v":{"$error":"#VALUE!"}}]
[null,{"$f":"Sprawdz_pesel(Formularz!#REF!)","v":{"$error":"#VALUE!"}}]
[null,{"$f":"Sprawdz_pesel(Formularz!#REF!)","v":{"$error":"#VALUE!"}}]
[null,{"$f":"Sprawdz_pesel(Formularz!#REF!)","v":{"$error":"#VALUE!"}}]
[null,{"$f":"Sprawdz_pesel(Formularz!#REF!)","v":{"$error":"#VALUE!"}}]
[null,{"$f":"Sprawdz_pesel(Formularz!#REF!)","v":{"$error":"#VALUE!"}}]
[null,{"$f":"Sprawdz_pesel(Formularz!#REF!)","v":{"$error":"#VALUE!"}}]
[null,{"$f":"Sprawdz_pesel(Formularz!#REF!)","v":{"$error":"#VALUE!"}}]
[null,{"$f":"Sprawdz_pesel(Formularz!#REF!)","v":{"$error":"#VALUE!"}}]
[null,{"$f":"Sprawdz_pesel(Formularz!#REF!)","v":{"$error":"#VALUE!"}}]
[null,{"$f":"Sprawdz_pesel(Formularz!#REF!)","v":{"$error":"#VALUE!"}}]
[null,{"$f":"Sprawdz_pesel(Formularz!#REF!)","v":{"$error":"#VALUE!"}}]
[null,{"$f":"Sprawdz_pesel(Formularz!#REF!)","v":{"$error":"#VALUE!"}}]
[null,{"$f":"Sprawdz_pesel(Formularz!#REF!)","v":{"$error":"#VALUE!"}}]
[null,{"$f":"Sprawdz_pesel(Formularz!#REF!)","v":{"$error":"#VALUE!"}}]
[null,{"$f":"Sprawdz_pesel(Formularz!#REF!)","v":{"$error":"#VALUE!"}}]
[null,{"$f":"Sprawdz_pesel(Formularz!#REF!)","v":{"$error":"#VALUE!"}}]
[null,{"$f":"Sprawdz_pesel(Formularz!#REF!)","v":{"$error":"#VALUE!"}}]
[null,{"$f":"Sprawdz_pesel(Formularz!#REF!)","v":{"$error":"#VALUE!"}}]
[null,{"$f":"Sprawdz_pesel(Formularz!#REF!)","v":{"$error":"#VALUE!"}}]
[null,{"$f":"Sprawdz_pesel(Formularz!#REF!)","v":{"$error":"#VALUE!"}}]
[null,{"$f":"Sprawdz_pesel(Formularz!#REF!)","v":{"$error":"#VALUE!"}}]
[null,{"$f":"Sprawdz_pesel(Formularz!#REF!)","v":{"$error":"#VALUE!"}}]
[null,{"$f":"Sprawdz_pesel(Formularz!#REF!)","v":{"$error":"#VALUE!"}}]
[null,{"$f":"Sprawdz_pesel(Formularz!#REF!)","v":{"$error":"#VALUE!"}}]
[null,{"$f":"Sprawdz_pesel(Formularz!#REF!)","v":{"$error":"#VALUE!"}}]
[null,{"$f":"Sprawdz_pesel(Formularz!#REF!)","v":{"$error":"#VALUE!"}}]
[null,{"$f":"Sprawdz_pesel(Formularz!#REF!)","v":{"$error":"#VALUE!"}}]
[null,{"$f":"Sprawdz_pesel(Formularz!#REF!)","v":{"$error":"#VALUE!"}}]
[null,{"$f":"Sprawdz_pesel(Formularz!#REF!)","v":{"$error":"#VALUE!"}}]
[null,{"$f":"Sprawdz_pesel(Formularz!#REF!)","v":{"$error":"#VALUE!"}}]
[null,{"$f":"Sprawdz_pesel(Formularz!#REF!)","v":{"$error":"#VALUE!"}}]
[null,{"$f":"Sprawdz_pesel(Formularz!#REF!)","v":{"$error":"#VALUE!"}}]
[null,{"$f":"Sprawdz_pesel(Formularz!#REF!)","v":{"$error":"#VALUE!"}}]
[null,{"$f":"Sprawdz_pesel(Formularz!#REF!)","v":{"$error":"#VALUE!"}}]
[null,{"$f":"Sprawdz_pesel(Formularz!#REF!)","v":{"$error":"#VALUE!"}}]
[null,{"$f":"Sprawdz_pesel(Formularz!#REF!)","v":{"$error":"#VALUE!"}}]
[null,{"$f":"Sprawdz_pesel(Formularz!#REF!)","v":{"$error":"#VALUE!"}}]
[null,{"$f":"Sprawdz_pesel(Formularz!#REF!)","v":{"$error":"#VALUE!"}}]
[null,{"$f":"Sprawdz_pesel(Formularz!#REF!)","v":{"$error":"#VALUE!"}}]
[null,{"$f":"Sprawdz_pesel(Formularz!#REF!)","v":{"$error":"#VALUE!"}}]
[null,{"$f":"Sprawdz_pesel(Formularz!#REF!)","v":{"$error":"#VALUE!"}}]
[null,{"$f":"Sprawdz_pesel(Formularz!#REF!)","v":{"$error":"#VALUE!"}}]
[null,{"$f":"Sprawdz_pesel(Formularz!#REF!)","v":{"$error":"#VALUE!"}}]
[null,{"$f":"Sprawdz_pesel(Formularz!#REF!)","v":{"$error":"#VALUE!"}}]
[null,{"$f":"Sprawdz_pesel(Formularz!#REF!)","v":{"$error":"#VALUE!"}}]
[null,{"$f":"Sprawdz_pesel(Formularz!#REF!)","v":{"$error":"#VALUE!"}}]
[null,{"$f":"Sprawdz_pesel(Formularz!#REF!)","v":{"$error":"#VALUE!"}}]
[null,{"$f":"Sprawdz_pesel(Formularz!#REF!)","v":{"$error":"#VALUE!"}}]
[null,{"$f":"Sprawdz_pesel(Formularz!#REF!)","v":{"$error":"#VALUE!"}}]
[null,{"$f":"Sprawdz_pesel(Formularz!#REF!)","v":{"$error":"#VALUE!"}}]
[null,{"$f":"Sprawdz_pesel(Formularz!#REF!)","v":{"$error":"#VALUE!"}}]
[null,{"$f":"Sprawdz_pesel(Formularz!#REF!)","v":{"$error":"#VALUE!"}}]
[null,{"$f":"Sprawdz_pesel(Formularz!#REF!)","v":{"$error":"#VALUE!"}}]
[null,{"$f":"Sprawdz_pesel(Formularz!#REF!)","v":{"$error":"#VALUE!"}}]
[null,{"$f":"Sprawdz_pesel(Formularz!#REF!)","v":{"$error":"#VALUE!"}}]
[null,{"$f":"Sprawdz_pesel(Formularz!#REF!)","v":{"$error":"#VALUE!"}}]
[null,{"$f":"Sprawdz_pesel(Formularz!#REF!)","v":{"$error":"#VALUE!"}}]
[null,{"$f":"Sprawdz_pesel(Formularz!#REF!)","v":{"$error":"#VALUE!"}}]
[null,{"$f":"Sprawdz_pesel(Formularz!#REF!)","v":{"$error":"#VALUE!"}}]
[null,{"$f":"Sprawdz_pesel(Formularz!#REF!)","v":{"$error":"#VALUE!"}}]
[null,{"$f":"Sprawdz_pesel(Formularz!#REF!)","v":{"$error":"#VALUE!"}}]
[null,{"$f":"Sprawdz_pesel(Formularz!#REF!)","v":{"$error":"#VALUE!"}}]
[null,{"$f":"Sprawdz_pesel(Formularz!#REF!)","v":{"$error":"#VALUE!"}}]
[null,{"$f":"Sprawdz_pesel(Formularz!#REF!)","v":{"$error":"#VALUE!"}}]
[null,{"$f":"Sprawdz_pesel(Formularz!#REF!)","v":{"$error":"#VALUE!"}}]
[null,{"$f":"Sprawdz_pesel(Formularz!#REF!)","v":{"$error":"#VALUE!"}}]
[null,{"$f":"Sprawdz_pesel(Formularz!#REF!)","v":{"$error":"#VALUE!"}}]
[null,{"$f":"Sprawdz_pesel(Formularz!#REF!)","v":{"$error":"#VALUE!"}}]
[null,{"$f":"Sprawdz_pesel(Formularz!#REF!)","v":{"$error":"#VALUE!"}}]
[null,{"$f":"Sprawdz_pesel(Formularz!#REF!)","v":{"$error":"#VALUE!"}}]
[null,{"$f":"Sprawdz_pesel(Formularz!#REF!)","v":{"$error":"#VALUE!"}}]
[null,{"$f":"Sprawdz_pesel(Formularz!#REF!)","v":{"$error":"#VALUE!"}}]
[null,{"$f":"Sprawdz_pesel(Formularz!#REF!)","v":{"$error":"#VALUE!"}}]
[null,{"$f":"Sprawdz_pesel(Formularz!#REF!)","v":{"$error":"#VALUE!"}}]
[null,{"$f":"Sprawdz_pesel(Formularz!#REF!)","v":{"$error":"#VALUE!"}}]
[null,{"$f":"Sprawdz_pesel(Formularz!#REF!)","v":{"$error":"#VALUE!"}}]
[null,{"$f":"Sprawdz_pesel(Formularz!#REF!)","v":{"$error":"#VALUE!"}}]
[null,{"$f":"Sprawdz_pesel(Formularz!#REF!)","v":{"$error":"#VALUE!"}}]
[null,{"$f":"Sprawdz_pesel(Formularz!#REF!)","v":{"$error":"#VALUE!"}}]
[null,{"$f":"Sprawdz_pesel(Formularz!#REF!)","v":{"$error":"#VALUE!"}}]
[null,{"$f":"Sprawdz_pesel(Formularz!#REF!)","v":{"$error":"#VALUE!"}}]
[null,{"$f":"Sprawdz_pesel(Formularz!#REF!)","v":{"$error":"#VALUE!"}}]
[null,{"$f":"Sprawdz_pesel(Formularz!#REF!)","v":{"$error":"#VALUE!"}}]
[null,{"$f":"Sprawdz_pesel(Formularz!#REF!)","v":{"$error":"#VALUE!"}}]
[null,{"$f":"Sprawdz_pesel(Formularz!#REF!)","v":{"$error":"#VALUE!"}}]
[null,{"$f":"Sprawdz_pesel(Formularz!#REF!)","v":{"$error":"#VALUE!"}}]
[null,{"$f":"Sprawdz_pesel(Formularz!#REF!)","v":{"$error":"#VALUE!"}}]
[null,{"$f":"Sprawdz_pesel(Formularz!#REF!)","v":{"$error":"#VALUE!"}}]
[null,{"$f":"Sprawdz_pesel(Formularz!#REF!)","v":{"$error":"#VALUE!"}}]
[null,{"$f":"Sprawdz_pesel(Formularz!#REF!)","v":{"$error":"#VALUE!"}}]
[null,{"$f":"Sprawdz_pesel(Formularz!#REF!)","v":{"$error":"#VALUE!"}}]
[null,{"$f":"Sprawdz_pesel(Formularz!#REF!)","v":{"$error":"#VALUE!"}}]
[null,{"$f":"Sprawdz_pesel(Formularz!#REF!)","v":{"$error":"#VALUE!"}}]
[null,{"$f":"Sprawdz_pesel(Formularz!#REF!)","v":{"$error":"#VALUE!"}}]
[null,{"$f":"Sprawdz_pesel(Formularz!#REF!)","v":{"$error":"#VALUE!"}}]
[null,{"$f":"Sprawdz_pesel(Formularz!#REF!)","v":{"$error":"#VALUE!"}}]
[null,{"$f":"Sprawdz_pesel(Formularz!#REF!)","v":{"$error":"#VALUE!"}}]
[null,{"$f":"Sprawdz_pesel(Formularz!#REF!)","v":{"$error":"#VALUE!"}}]
[null,{"$f":"Sprawdz_pesel(Formularz!#REF!)","v":{"$error":"#VALUE!"}}]
[null,{"$f":"Sprawdz_pesel(Formularz!#REF!)","v":{"$error":"#VALUE!"}}]
[null,{"$f":"Sprawdz_pesel(Formularz!#REF!)","v":{"$error":"#VALUE!"}}]
[null,{"$f":"Sprawdz_pesel(Formularz!#REF!)","v":{"$error":"#VALUE!"}}]
[null,{"$f":"Sprawdz_pesel(Formularz!#REF!)","v":{"$error":"#VALUE!"}}]
[null,{"$f":"Sprawdz_pesel(Formularz!#REF!)","v":{"$error":"#VALUE!"}}]
[null,{"$f":"Sprawdz_pesel(Formularz!#REF!)","v":{"$error":"#VALUE!"}}]
[null,{"$f":"Sprawdz_pesel(Formularz!#REF!)","v":{"$error":"#VALUE!"}}]
[null,{"$f":"Sprawdz_pesel(Formularz!#REF!)","v":{"$error":"#VALUE!"}}]
[null,{"$f":"Sprawdz_pesel(Formularz!#REF!)","v":{"$error":"#VALUE!"}}]
[null,{"$f":"Sprawdz_pesel(Formularz!#REF!)","v":{"$error":"#VALUE!"}}]
[null,{"$f":"Sprawdz_pesel(Formularz!#REF!)","v":{"$error":"#VALUE!"}}]
[null,{"$f":"Sprawdz_pesel(Formularz!#REF!)","v":{"$error":"#VALUE!"}}]
[null,{"$f":"Sprawdz_pesel(Formularz!#REF!)","v":{"$error":"#VALUE!"}}]
[null,{"$f":"Sprawdz_pesel(Formularz!#REF!)","v":{"$error":"#VALUE!"}}]
[null,{"$f":"Sprawdz_pesel(Formularz!#REF!)","v":{"$error":"#VALUE!"}}]
[null,{"$f":"Sprawdz_pesel(Formularz!#REF!)","v":{"$error":"#VALUE!"}}]
[null,{"$f":"Sprawdz_pesel(Formularz!#REF!)","v":{"$error":"#VALUE!"}}]
[null,{"$f":"Sprawdz_pesel(Formularz!#REF!)","v":{"$error":"#VALUE!"}}]
[null,{"$f":"Sprawdz_pesel(Formularz!#REF!)","v":{"$error":"#VALUE!"}}]
[null,{"$f":"Sprawdz_pesel(Formularz!#REF!)","v":{"$error":"#VALUE!"}}]
[null,{"$f":"Sprawdz_pesel(Formularz!#REF!)","v":{"$error":"#VALUE!"}}]
[null,{"$f":"Sprawdz_pesel(Formularz!#REF!)","v":{"$error":"#VALUE!"}}]
[null,{"$f":"Sprawdz_pesel(Formularz!#REF!)","v":{"$error":"#VALUE!"}}]
[null,{"$f":"Sprawdz_pesel(Formularz!#REF!)","v":{"$error":"#VALUE!"}}]
[null,{"$f":"Sprawdz_pesel(Formularz!#REF!)","v":{"$error":"#VALUE!"}}]
[null,{"$f":"Sprawdz_pesel(Formularz!#REF!)","v":{"$error":"#VALUE!"}}]
[null,{"$f":"Sprawdz_pesel(Formularz!#REF!)","v":{"$error":"#VALUE!"}}]
[null,{"$f":"Sprawdz_pesel(Formularz!#REF!)","v":{"$error":"#VALUE!"}}]
[null,{"$f":"Sprawdz_pesel(Formularz!#REF!)","v":{"$error":"#VALUE!"}}]
[null,{"$f":"Sprawdz_pesel(Formularz!#REF!)","v":{"$error":"#VALUE!"}}]
[null,{"$f":"Sprawdz_pesel(Formularz!#REF!)","v":{"$error":"#VALUE!"}}]
[null,{"$f":"Sprawdz_pesel(Formularz!#REF!)","v":{"$error":"#VALUE!"}}]
[null,{"$f":"Sprawdz_pesel(Formularz!#REF!)","v":{"$error":"#VALUE!"}}]
[null,{"$f":"Sprawdz_pesel(Formularz!#REF!)","v":{"$error":"#VALUE!"}}]
[null,{"$f":"Sprawdz_pesel(Formularz!#REF!)","v":{"$error":"#VALUE!"}}]
[null,{"$f":"Sprawdz_pesel(Formularz!#REF!)","v":{"$error":"#VALUE!"}}]
[null,{"$f":"Sprawdz_pesel(Formularz!#REF!)","v":{"$error":"#VALUE!"}}]
[null,{"$f":"Sprawdz_pesel(Formularz!#REF!)","v":{"$error":"#VALUE!"}}]
[null,{"$f":"Sprawdz_pesel(Formularz!#REF!)","v":{"$error":"#VALUE!"}}]
[null,{"$f":"Sprawdz_pesel(Formularz!#REF!)","v":{"$error":"#VALUE!"}}]
[null,{"$f":"Sprawdz_pesel(Formularz!#REF!)","v":{"$error":"#VALUE!"}}]
[null,{"$f":"Sprawdz_pesel(Formularz!#REF!)","v":{"$error":"#VALUE!"}}]
[null,{"$f":"Sprawdz_pesel(Formularz!#REF!)","v":{"$error":"#VALUE!"}}]
[null,{"$f":"Sprawdz_pesel(Formularz!#REF!)","v":{"$error":"#VALUE!"}}]
[null,{"$f":"Sprawdz_pesel(Formularz!#REF!)","v":{"$error":"#VALUE!"}}]
[null,{"$f":"Sprawdz_pesel(Formularz!#REF!)","v":{"$error":"#VALUE!"}}]
[null,{"$f":"Sprawdz_pesel(Formularz!#REF!)","v":{"$error":"#VALUE!"}}]
[null,{"$f":"Sprawdz_pesel(Formularz!#REF!)","v":{"$error":"#VALUE!"}}]
[null,{"$f":"Sprawdz_pesel(Formularz!#REF!)","v":{"$error":"#VALUE!"}}]
[null,{"$f":"Sprawdz_pesel(Formularz!#REF!)","v":{"$error":"#VALUE!"}}]
[null,{"$f":"Sprawdz_pesel(Formularz!#REF!)","v":{"$error":"#VALUE!"}}]
[null,{"$f":"Sprawdz_pesel(Formularz!#REF!)","v":{"$error":"#VALUE!"}}]
[null,{"$f":"Sprawdz_pesel(Formularz!#REF!)","v":{"$error":"#VALUE!"}}]
[null,{"$f":"Sprawdz_pesel(Formularz!#REF!)","v":{"$error":"#VALUE!"}}]
[null,{"$f":"Sprawdz_pesel(Formularz!#REF!)","v":{"$error":"#VALUE!"}}]
[null,{"$f":"Sprawdz_pesel(Formularz!#REF!)","v":{"$error":"#VALUE!"}}]
[null,{"$f":"Sprawdz_pesel(Formularz!#REF!)","v":{"$error":"#VALUE!"}}]
[null,{"$f":"Sprawdz_pesel(Formularz!#REF!)","v":{"$error":"#VALUE!"}}]
[null,{"$f":"Sprawdz_pesel(Formularz!#REF!)","v":{"$error":"#VALUE!"}}]
[null,{"$f":"Sprawdz_pesel(Formularz!#REF!)","v":{"$error":"#VALUE!"}}]
[null,{"$f":"Sprawdz_pesel(Formularz!#REF!)","v":{"$error":"#VALUE!"}}]
[null,{"$f":"Sprawdz_pesel(Formularz!#REF!)","v":{"$error":"#VALUE!"}}]
[null,{"$f":"Sprawdz_pesel(Formularz!#REF!)","v":{"$error":"#VALUE!"}}]
[null,{"$f":"Sprawdz_pesel(Formularz!#REF!)","v":{"$error":"#VALUE!"}}]
[null,{"$f":"Sprawdz_pesel(Formularz!#REF!)","v":{"$error":"#VALUE!"}}]
[null,{"$f":"Sprawdz_pesel(Formularz!#REF!)","v":{"$error":"#VALUE!"}}]
[null,{"$f":"Sprawdz_pesel(Formularz!#REF!)","v":{"$error":"#VALUE!"}}]
[null,{"$f":"Sprawdz_pesel(Formularz!#REF!)","v":{"$error":"#VALUE!"}}]
[null,{"$f":"Sprawdz_pesel(Formularz!#REF!)","v":{"$error":"#VALUE!"}}]
[null,{"$f":"Sprawdz_pesel(Formularz!#REF!)","v":{"$error":"#VALUE!"}}]
[null,{"$f":"Sprawdz_pesel(Formularz!#REF!)","v":{"$error":"#VALUE!"}}]
[null,{"$f":"Sprawdz_pesel(Formularz!#REF!)","v":{"$error":"#VALUE!"}}]
[null,{"$f":"Sprawdz_pesel(Formularz!#REF!)","v":{"$error":"#VALUE!"}}]
[null,{"$f":"Sprawdz_pesel(Formularz!#REF!)","v":{"$error":"#VALUE!"}}]
[null,{"$f":"Sprawdz_pesel(Formularz!#REF!)","v":{"$error":"#VALUE!"}}]
[null,{"$f":"Sprawdz_pesel(Formularz!#REF!)","v":{"$error":"#VALUE!"}}]
[null,{"$f":"Sprawdz_pesel(Formularz!#REF!)","v":{"$error":"#VALUE!"}}]
[null,{"$f":"Sprawdz_pesel(Formularz!#REF!)","v":{"$error":"#VALUE!"}}]
[null,{"$f":"Sprawdz_pesel(Formularz!#REF!)","v":{"$error":"#VALUE!"}}]
[null,{"$f":"Sprawdz_pesel(Formularz!#REF!)","v":{"$error":"#VALUE!"}}]
[null,{"$f":"Sprawdz_pesel(Formularz!#REF!)","v":{"$error":"#VALUE!"}}]
[null,{"$f":"Sprawdz_pesel(Formularz!#REF!)","v":{"$error":"#VALUE!"}}]
[null,{"$f":"Sprawdz_pesel(Formularz!#REF!)","v":{"$error":"#VALUE!"}}]
[null,{"$f":"Sprawdz_pesel(Formularz!#REF!)","v":{"$error":"#VALUE!"}}]
[null,{"$f":"Sprawdz_pesel(Formularz!#REF!)","v":{"$error":"#VALUE!"}}]
[null,{"$f":"Sprawdz_pesel(Formularz!#REF!)","v":{"$error":"#VALUE!"}}]
[null,{"$f":"Sprawdz_pesel(Formularz!#REF!)","v":{"$error":"#VALUE!"}}]
[null,{"$f":"Sprawdz_pesel(Formularz!#REF!)","v":{"$error":"#VALUE!"}}]
[null,{"$f":"Sprawdz_pesel(Formularz!#REF!)","v":{"$error":"#VALUE!"}}]
[null,{"$f":"Sprawdz_pesel(Formularz!#REF!)","v":{"$error":"#VALUE!"}}]
[null,{"$f":"Sprawdz_pesel(Formularz!#REF!)","v":{"$error":"#VALUE!"}}]
[null,{"$f":"Sprawdz_pesel(Formularz!#REF!)","v":{"$error":"#VALUE!"}}]
[null,{"$f":"Sprawdz_pesel(Formularz!#REF!)","v":{"$error":"#VALUE!"}}]
[null,{"$f":"Sprawdz_pesel(Formularz!#REF!)","v":{"$error":"#VALUE!"}}]
[null,{"$f":"Sprawdz_pesel(Formularz!#REF!)","v":{"$error":"#VALUE!"}}]
[null,{"$f":"Sprawdz_pesel(Formularz!#REF!)","v":{"$error":"#VALUE!"}}]
[null,{"$f":"Sprawdz_pesel(Formularz!#REF!)","v":{"$error":"#VALUE!"}}]
[null,{"$f":"Sprawdz_pesel(Formularz!#REF!)","v":{"$error":"#VALUE!"}}]
[null,{"$f":"Sprawdz_pesel(Formularz!#REF!)","v":{"$error":"#VALUE!"}}]
[null,{"$f":"Sprawdz_pesel(Formularz!#REF!)","v":{"$error":"#VALUE!"}}]
[null,{"$f":"Sprawdz_pesel(Formularz!#REF!)","v":{"$error":"#VALUE!"}}]
[null,{"$f":"Sprawdz_pesel(Formularz!#REF!)","v":{"$error":"#VALUE!"}}]
[null,{"$f":"Sprawdz_pesel(Formularz!#REF!)","v":{"$error":"#VALUE!"}}]
[null,{"$f":"Sprawdz_pesel(Formularz!#REF!)","v":{"$error":"#VALUE!"}}]
[null,{"$f":"Sprawdz_pesel(Formularz!#REF!)","v":{"$error":"#VALUE!"}}]
[null,{"$f":"Sprawdz_pesel(Formularz!#REF!)","v":{"$error":"#VALUE!"}}]
[null,{"$f":"Sprawdz_pesel(Formularz!#REF!)","v":{"$error":"#VALUE!"}}]
[null,{"$f":"Sprawdz_pesel(Formularz!#REF!)","v":{"$error":"#VALUE!"}}]
[null,{"$f":"Sprawdz_pesel(Formularz!#REF!)","v":{"$error":"#VALUE!"}}]
[null,{"$f":"Sprawdz_pesel(Formularz!#REF!)","v":{"$error":"#VALUE!"}}]
[null,{"$f":"Sprawdz_pesel(Formularz!#REF!)","v":{"$error":"#VALUE!"}}]
[null,{"$f":"Sprawdz_pesel(Formularz!#REF!)","v":{"$error":"#VALUE!"}}]
[null,{"$f":"Sprawdz_pesel(Formularz!#REF!)","v":{"$error":"#VALUE!"}}]
[null,{"$f":"Sprawdz_pesel(Formularz!#REF!)","v":{"$error":"#VALUE!"}}]
[null,{"$f":"Sprawdz_pesel(Formularz!#REF!)","v":{"$error":"#VALUE!"}}]
[null,{"$f":"Sprawdz_pesel(Formularz!#REF!)","v":{"$error":"#VALUE!"}}]
[null,{"$f":"Sprawdz_pesel(Formularz!#REF!)","v":{"$error":"#VALUE!"}}]
[null,{"$f":"Sprawdz_pesel(Formularz!#REF!)","v":{"$error":"#VALUE!"}}]
[null,{"$f":"Sprawdz_pesel(Formularz!#REF!)","v":{"$error":"#VALUE!"}}]
[null,{"$f":"Sprawdz_pesel(Formularz!#REF!)","v":{"$error":"#VALUE!"}}]
[null,{"$f":"Sprawdz_pesel(Formularz!#REF!)","v":{"$error":"#VALUE!"}}]
[null,{"$f":"Sprawdz_pesel(Formularz!#REF!)","v":{"$error":"#VALUE!"}}]
[null,{"$f":"Sprawdz_pesel(Formularz!#REF!)","v":{"$error":"#VALUE!"}}]
[null,{"$f":"Sprawdz_pesel(Formularz!#REF!)","v":{"$error":"#VALUE!"}}]
[null,{"$f":"Sprawdz_pesel(Formularz!#REF!)","v":{"$error":"#VALUE!"}}]
[null,{"$f":"Sprawdz_pesel(Formularz!#REF!)","v":{"$error":"#VALUE!"}}]
[null,{"$f":"Sprawdz_pesel(Formularz!#REF!)","v":{"$error":"#VALUE!"}}]
[null,{"$f":"Sprawdz_pesel(Formularz!#REF!)","v":{"$error":"#VALUE!"}}]
[null,{"$f":"Sprawdz_pesel(Formularz!#REF!)","v":{"$error":"#VALUE!"}}]
[null,{"$f":"Sprawdz_pesel(Formularz!#REF!)","v":{"$error":"#VALUE!"}}]
[null,{"$f":"Sprawdz_pesel(Formularz!#REF!)","v":{"$error":"#VALUE!"}}]
[null,{"$f":"Sprawdz_pesel(Formularz!#REF!)","v":{"$error":"#VALUE!"}}]
[null,{"$f":"Sprawdz_pesel(Formularz!#REF!)","v":{"$error":"#VALUE!"}}]
[null,{"$f":"Sprawdz_pesel(Formularz!#REF!)","v":{"$error":"#VALUE!"}}]
[null,{"$f":"Sprawdz_pesel(Formularz!#REF!)","v":{"$error":"#VALUE!"}}]
[null,{"$f":"Sprawdz_pesel(Formularz!#REF!)","v":{"$error":"#VALUE!"}}]
[null,{"$f":"Sprawdz_pesel(Formularz!#REF!)","v":{"$error":"#VALUE!"}}]
[null,{"$f":"Sprawdz_pesel(Formularz!#REF!)","v":{"$error":"#VALUE!"}}]
[null,{"$f":"Sprawdz_pesel(Formularz!#REF!)","v":{"$error":"#VALUE!"}}]
[null,{"$f":"Sprawdz_pesel(Formularz!#REF!)","v":{"$error":"#VALUE!"}}]
[null,{"$f":"Sprawdz_pesel(Formularz!#REF!)","v":{"$error":"#VALUE!"}}]
[null,{"$f":"Sprawdz_pesel(Formularz!#REF!)","v":{"$error":"#VALUE!"}}]
[null,{"$f":"Sprawdz_pesel(Formularz!#REF!)","v":{"$error":"#VALUE!"}}]
[null,{"$f":"Sprawdz_pesel(Formularz!#REF!)","v":{"$error":"#VALUE!"}}]
[null,{"$f":"Sprawdz_pesel(Formularz!#REF!)","v":{"$error":"#VALUE!"}}]
[null,{"$f":"Sprawdz_pesel(Formularz!#REF!)","v":{"$error":"#VALUE!"}}]
[null,{"$f":"Sprawdz_pesel(Formularz!#REF!)","v":{"$error":"#VALUE!"}}]
[null,{"$f":"Sprawdz_pesel(Formularz!#REF!)","v":{"$error":"#VALUE!"}}]
[null,{"$f":"Sprawdz_pesel(Formularz!#REF!)","v":{"$error":"#VALUE!"}}]
[null,{"$f":"Sprawdz_pesel(Formularz!#REF!)","v":{"$error":"#VALUE!"}}]
[null,{"$f":"Sprawdz_pesel(Formularz!#REF!)","v":{"$error":"#VALUE!"}}]
[null,{"$f":"Sprawdz_pesel(Formularz!#REF!)","v":{"$error":"#VALUE!"}}]
[null,{"$f":"Sprawdz_pesel(Formularz!#REF!)","v":{"$error":"#VALUE!"}}]
[null,{"$f":"Sprawdz_pesel(Formularz!#REF!)","v":{"$error":"#VALUE!"}}]
[null,{"$f":"Sprawdz_pesel(Formularz!#REF!)","v":{"$error":"#VALUE!"}}]
[null,{"$f":"Sprawdz_pesel(Formularz!#REF!)","v":{"$error":"#VALUE!"}}]
[null,{"$f":"Sprawdz_pesel(Formularz!#REF!)","v":{"$error":"#VALUE!"}}]
[null,{"$f":"Sprawdz_pesel(Formularz!#REF!)","v":{"$error":"#VALUE!"}}]
[null,{"$f":"Sprawdz_pesel(Formularz!#REF!)","v":{"$error":"#VALUE!"}}]
[null,{"$f":"Sprawdz_pesel(Formularz!#REF!)","v":{"$error":"#VALUE!"}}]
[null,{"$f":"Sprawdz_pesel(Formularz!#REF!)","v":{"$error":"#VALUE!"}}]
[null,{"$f":"Sprawdz_pesel(Formularz!#REF!)","v":{"$error":"#VALUE!"}}]
[null,{"$f":"Sprawdz_pesel(Formularz!#REF!)","v":{"$error":"#VALUE!"}}]
[null,{"$f":"Sprawdz_pesel(Formularz!#REF!)","v":{"$error":"#VALUE!"}}]
[null,{"$f":"Sprawdz_pesel(Formularz!#REF!)","v":{"$error":"#VALUE!"}}]
[null,{"$f":"Sprawdz_pesel(Formularz!#REF!)","v":{"$error":"#VALUE!"}}]
[null,{"$f":"Sprawdz_pesel(Formularz!#REF!)","v":{"$error":"#VALUE!"}}]
[null,{"$f":"Sprawdz_pesel(Formularz!#REF!)","v":{"$error":"#VALUE!"}}]
[null,{"$f":"Sprawdz_pesel(Formularz!#REF!)","v":{"$error":"#VALUE!"}}]
[null,{"$f":"Sprawdz_pesel(Formularz!#REF!)","v":{"$error":"#VALUE!"}}]
[null,{"$f":"Sprawdz_pesel(Formularz!#REF!)","v":{"$error":"#VALUE!"}}]
[null,{"$f":"Sprawdz_pesel(Formularz!#REF!)","v":{"$error":"#VALUE!"}}]
[null,{"$f":"Sprawdz_pesel(Formularz!#REF!)","v":{"$error":"#VALUE!"}}]
[null,{"$f":"Sprawdz_pesel(Formularz!#REF!)","v":{"$error":"#VALUE!"}}]
[null,{"$f":"Sprawdz_pesel(Formularz!#REF!)","v":{"$error":"#VALUE!"}}]
[null,{"$f":"Sprawdz_pesel(Formularz!#REF!)","v":{"$error":"#VALUE!"}}]
[null,{"$f":"Sprawdz_pesel(Formularz!#REF!)","v":{"$error":"#VALUE!"}}]
[null,{"$f":"Sprawdz_pesel(Formularz!#REF!)","v":{"$error":"#VALUE!"}}]
[null,{"$f":"Sprawdz_pesel(Formularz!#REF!)","v":{"$error":"#VALUE!"}}]
[null,{"$f":"Sprawdz_pesel(Formularz!#REF!)","v":{"$error":"#VALUE!"}}]
[null,{"$f":"Sprawdz_pesel(Formularz!#REF!)","v":{"$error":"#VALUE!"}}]
[null,{"$f":"Sprawdz_pesel(Formularz!#REF!)","v":{"$error":"#VALUE!"}}]
[null,{"$f":"Sprawdz_pesel(Formularz!#REF!)","v":{"$error":"#VALUE!"}}]
[null,{"$f":"Sprawdz_pesel(Formularz!#REF!)","v":{"$error":"#VALUE!"}}]
[null,{"$f":"Sprawdz_pesel(Formularz!#REF!)","v":{"$error":"#VALUE!"}}]
[null,{"$f":"Sprawdz_pesel(Formularz!#REF!)","v":{"$error":"#VALUE!"}}]
[null,{"$f":"Sprawdz_pesel(Formularz!#REF!)","v":{"$error":"#VALUE!"}}]
[null,{"$f":"Sprawdz_pesel(Formularz!#REF!)","v":{"$error":"#VALUE!"}}]
[null,{"$f":"Sprawdz_pesel(Formularz!#REF!)","v":{"$error":"#VALUE!"}}]
[null,{"$f":"Sprawdz_pesel(Formularz!#REF!)","v":{"$error":"#VALUE!"}}]
[null,{"$f":"Sprawdz_pesel(Formularz!#REF!)","v":{"$error":"#VALUE!"}}]
[null,{"$f":"Sprawdz_pesel(Formularz!#REF!)","v":{"$error":"#VALUE!"}}]
[null,{"$f":"Sprawdz_pesel(Formularz!#REF!)","v":{"$error":"#VALUE!"}}]
[null,{"$f":"Sprawdz_pesel(Formularz!#REF!)","v":{"$error":"#VALUE!"}}]
[null,{"$f":"Sprawdz_pesel(Formularz!#REF!)","v":{"$error":"#VALUE!"}}]
[null,{"$f":"Sprawdz_pesel(Formularz!#REF!)","v":{"$error":"#VALUE!"}}]
[null,{"$f":"Sprawdz_pesel(Formularz!#REF!)","v":{"$error":"#VALUE!"}}]
[null,{"$f":"Sprawdz_pesel(Formularz!#REF!)","v":{"$error":"#VALUE!"}}]
[null,{"$f":"Sprawdz_pesel(Formularz!#REF!)","v":{"$error":"#VALUE!"}}]
[null,{"$f":"Sprawdz_pesel(Formularz!#REF!)","v":{"$error":"#VALUE!"}}]
[null,{"$f":"Sprawdz_pesel(Formularz!#REF!)","v":{"$error":"#VALUE!"}}]
[null,{"$f":"Sprawdz_pesel(Formularz!#REF!)","v":{"$error":"#VALUE!"}}]
[null,{"$f":"Sprawdz_pesel(Formularz!#REF!)","v":{"$error":"#VALUE!"}}]
[null,{"$f":"Sprawdz_pesel(Formularz!#REF!)","v":{"$error":"#VALUE!"}}]
[null,{"$f":"Sprawdz_pesel(Formularz!#REF!)","v":{"$error":"#VALUE!"}}]
[null,{"$f":"Sprawdz_pesel(Formularz!#REF!)","v":{"$error":"#VALUE!"}}]
[null,{"$f":"Sprawdz_pesel(Formularz!#REF!)","v":{"$error":"#VALUE!"}}]
[null,{"$f":"Sprawdz_pesel(Formularz!#REF!)","v":{"$error":"#VALUE!"}}]
[null,{"$f":"Sprawdz_pesel(Formularz!#REF!)","v":{"$error":"#VALUE!"}}]
[null,{"$f":"Sprawdz_pesel(Formularz!#REF!)","v":{"$error":"#VALUE!"}}]
[null,{"$f":"Sprawdz_pesel(Formularz!#REF!)","v":{"$error":"#VALUE!"}}]
[null,{"$f":"Sprawdz_pesel(Formularz!#REF!)","v":{"$error":"#VALUE!"}}]
[null,{"$f":"Sprawdz_pesel(Formularz!#REF!)","v":{"$error":"#VALUE!"}}]
[null,{"$f":"Sprawdz_pesel(Formularz!#REF!)","v":{"$error":"#VALUE!"}}]
[null,{"$f":"Sprawdz_pesel(Formularz!#REF!)","v":{"$error":"#VALUE!"}}]
[null,{"$f":"Sprawdz_pesel(Formularz!#REF!)","v":{"$error":"#VALUE!"}}]
[null,{"$f":"Sprawdz_pesel(Formularz!#REF!)","v":{"$error":"#VALUE!"}}]
[null,{"$f":"Sprawdz_pesel(Formularz!#REF!)","v":{"$error":"#VALUE!"}}]
[null,{"$f":"Sprawdz_pesel(Formularz!#REF!)","v":{"$error":"#VALUE!"}}]
[null,{"$f":"Sprawdz_pesel(Formularz!#REF!)","v":{"$error":"#VALUE!"}}]
[null,{"$f":"Sprawdz_pesel(Formularz!#REF!)","v":{"$error":"#VALUE!"}}]
[null,{"$f":"Sprawdz_pesel(Formularz!#REF!)","v":{"$error":"#VALUE!"}}]
[null,{"$f":"Sprawdz_pesel(Formularz!#REF!)","v":{"$error":"#VALUE!"}}]
[null,{"$f":"Sprawdz_pesel(Formularz!#REF!)","v":{"$error":"#VALUE!"}}]
[null,{"$f":"Sprawdz_pesel(Formularz!#REF!)","v":{"$error":"#VALUE!"}}]
[null,{"$f":"Sprawdz_pesel(Formularz!#REF!)","v":{"$error":"#VALUE!"}}]
[null,{"$f":"Sprawdz_pesel(Formularz!#REF!)","v":{"$error":"#VALUE!"}}]
[null,{"$f":"Sprawdz_pesel(Formularz!#REF!)","v":{"$error":"#VALUE!"}}]
[null,{"$f":"Sprawdz_pesel(Formularz!#REF!)","v":{"$error":"#VALUE!"}}]
[null,{"$f":"Sprawdz_pesel(Formularz!#REF!)","v":{"$error":"#VALUE!"}}]
[null,{"$f":"Sprawdz_pesel(Formularz!#REF!)","v":{"$error":"#VALUE!"}}]
[null,{"$f":"Sprawdz_pesel(Formularz!#REF!)","v":{"$error":"#VALUE!"}}]
[null,{"$f":"Sprawdz_pesel(Formularz!#REF!)","v":{"$error":"#VALUE!"}}]
[null,{"$f":"Sprawdz_pesel(Formularz!#REF!)","v":{"$error":"#VALUE!"}}]
[null,{"$f":"Sprawdz_pesel(Formularz!#REF!)","v":{"$error":"#VALUE!"}}]
[null,{"$f":"Sprawdz_pesel(Formularz!#REF!)","v":{"$error":"#VALUE!"}}]
[null,{"$f":"Sprawdz_pesel(Formularz!#REF!)","v":{"$error":"#VALUE!"}}]
[null,{"$f":"Sprawdz_pesel(Formularz!#REF!)","v":{"$error":"#VALUE!"}}]
[null,{"$f":"Sprawdz_pesel(Formularz!#REF!)","v":{"$error":"#VALUE!"}}]
[null,{"$f":"Sprawdz_pesel(Formularz!#REF!)","v":{"$error":"#VALUE!"}}]
[null,{"$f":"Sprawdz_pesel(Formularz!#REF!)","v":{"$error":"#VALUE!"}}]
[null,{"$f":"Sprawdz_pesel(Formularz!#REF!)","v":{"$error":"#VALUE!"}}]
[null,{"$f":"Sprawdz_pesel(Formularz!#REF!)","v":{"$error":"#VALUE!"}}]
[null,{"$f":"Sprawdz_pesel(Formularz!#REF!)","v":{"$error":"#VALUE!"}}]
[null,{"$f":"Sprawdz_pesel(Formularz!#REF!)","v":{"$error":"#VALUE!"}}]
[null,{"$f":"Sprawdz_pesel(Formularz!#REF!)","v":{"$error":"#VALUE!"}}]
[null,{"$f":"Sprawdz_pesel(Formularz!#REF!)","v":{"$error":"#VALUE!"}}]
[null,{"$f":"Sprawdz_pesel(Formularz!#REF!)","v":{"$error":"#VALUE!"}}]
[null,{"$f":"Sprawdz_pesel(Formularz!#REF!)","v":{"$error":"#VALUE!"}}]
[null,{"$f":"Sprawdz_pesel(Formularz!#REF!)","v":{"$error":"#VALUE!"}}]
[null,{"$f":"Sprawdz_pesel(Formularz!#REF!)","v":{"$error":"#VALUE!"}}]
[null,{"$f":"Sprawdz_pesel(Formularz!#REF!)","v":{"$error":"#VALUE!"}}]
[null,{"$f":"Sprawdz_pesel(Formularz!#REF!)","v":{"$error":"#VALUE!"}}]
[null,{"$f":"Sprawdz_pesel(Formularz!#REF!)","v":{"$error":"#VALUE!"}}]
[null,{"$f":"Sprawdz_pesel(Formularz!#REF!)","v":{"$error":"#VALUE!"}}]
[null,{"$f":"Sprawdz_pesel(Formularz!#REF!)","v":{"$error":"#VALUE!"}}]
[null,{"$f":"Sprawdz_pesel(Formularz!#REF!)","v":{"$error":"#VALUE!"}}]
[null,{"$f":"Sprawdz_pesel(Formularz!#REF!)","v":{"$error":"#VALUE!"}}]
[null,{"$f":"Sprawdz_pesel(Formularz!#REF!)","v":{"$error":"#VALUE!"}}]
[null,{"$f":"Sprawdz_pesel(Formularz!#REF!)","v":{"$error":"#VALUE!"}}]
[null,{"$f":"Sprawdz_pesel(Formularz!#REF!)","v":{"$error":"#VALUE!"}}]
[null,{"$f":"Sprawdz_pesel(Formularz!#REF!)","v":{"$error":"#VALUE!"}}]
[null,{"$f":"Sprawdz_pesel(Formularz!#REF!)","v":{"$error":"#VALUE!"}}]
[null,{"$f":"Sprawdz_pesel(Formularz!#REF!)","v":{"$error":"#VALUE!"}}]
[null,{"$f":"Sprawdz_pesel(Formularz!#REF!)","v":{"$error":"#VALUE!"}}]
[null,{"$f":"Sprawdz_pesel(Formularz!#REF!)","v":{"$error":"#VALUE!"}}]
[null,{"$f":"Sprawdz_pesel(Formularz!#REF!)","v":{"$error":"#VALUE!"}}]
[null,{"$f":"Sprawdz_pesel(Formularz!#REF!)","v":{"$error":"#VALUE!"}}]
[null,{"$f":"Sprawdz_pesel(Formularz!#REF!)","v":{"$error":"#VALUE!"}}]
[null,{"$f":"Sprawdz_pesel(Formularz!#REF!)","v":{"$error":"#VALUE!"}}]
[null,{"$f":"Sprawdz_pesel(Formularz!#REF!)","v":{"$error":"#VALUE!"}}]
[null,{"$f":"Sprawdz_pesel(Formularz!#REF!)","v":{"$error":"#VALUE!"}}]
[null,{"$f":"Sprawdz_pesel(Formularz!#REF!)","v":{"$error":"#VALUE!"}}]
[null,{"$f":"Sprawdz_pesel(Formularz!#REF!)","v":{"$error":"#VALUE!"}}]
[null,{"$f":"Sprawdz_pesel(Formularz!#REF!)","v":{"$error":"#VALUE!"}}]
[null,{"$f":"Sprawdz_pesel(Formularz!#REF!)","v":{"$error":"#VALUE!"}}]
[null,{"$f":"Sprawdz_pesel(Formularz!#REF!)","v":{"$error":"#VALUE!"}}]
[null,{"$f":"Sprawdz_pesel(Formularz!#REF!)","v":{"$error":"#VALUE!"}}]
[null,{"$f":"Sprawdz_pesel(Formularz!#REF!)","v":{"$error":"#VALUE!"}}]
[null,{"$f":"Sprawdz_pesel(Formularz!#REF!)","v":{"$error":"#VALUE!"}}]
[null,{"$f":"Sprawdz_pesel(Formularz!#REF!)","v":{"$error":"#VALUE!"}}]
[null,{"$f":"Sprawdz_pesel(Formularz!#REF!)","v":{"$error":"#VALUE!"}}]
[null,{"$f":"Sprawdz_pesel(Formularz!#REF!)","v":{"$error":"#VALUE!"}}]
[null,{"$f":"Sprawdz_pesel(Formularz!#REF!)","v":{"$error":"#VALUE!"}}]
[null,{"$f":"Sprawdz_pesel(Formularz!#REF!)","v":{"$error":"#VALUE!"}}]
[null,{"$f":"Sprawdz_pesel(Formularz!#REF!)","v":{"$error":"#VALUE!"}}]
[null,{"$f":"Sprawdz_pesel(Formularz!#REF!)","v":{"$error":"#VALUE!"}}]
[null,{"$f":"Sprawdz_pesel(Formularz!#REF!)","v":{"$error":"#VALUE!"}}]
[null,{"$f":"Sprawdz_pesel(Formularz!#REF!)","v":{"$error":"#VALUE!"}}]
[null,{"$f":"Sprawdz_pesel(Formularz!#REF!)","v":{"$error":"#VALUE!"}}]
[null,{"$f":"Sprawdz_pesel(Formularz!#REF!)","v":{"$error":"#VALUE!"}}]
[null,{"$f":"Sprawdz_pesel(Formularz!#REF!)","v":{"$error":"#VALUE!"}}]
[null,{"$f":"Sprawdz_pesel(Formularz!#REF!)","v":{"$error":"#VALUE!"}}]
[null,{"$f":"Sprawdz_pesel(Formularz!#REF!)","v":{"$error":"#VALUE!"}}]
[null,{"$f":"Sprawdz_pesel(Formularz!#REF!)","v":{"$error":"#VALUE!"}}]
[null,{"$f":"Sprawdz_pesel(Formularz!#REF!)","v":{"$error":"#VALUE!"}}]
[null,{"$f":"Sprawdz_pesel(Formularz!#REF!)","v":{"$error":"#VALUE!"}}]
[null,{"$f":"Sprawdz_pesel(Formularz!#REF!)","v":{"$error":"#VALUE!"}}]
[null,{"$f":"Sprawdz_pesel(Formularz!#REF!)","v":{"$error":"#VALUE!"}}]
[null,{"$f":"Sprawdz_pesel(Formularz!#REF!)","v":{"$error":"#VALUE!"}}]
[null,{"$f":"Sprawdz_pesel(Formularz!#REF!)","v":{"$error":"#VALUE!"}}]
[null,{"$f":"Sprawdz_pesel(Formularz!#REF!)","v":{"$error":"#VALUE!"}}]
[null,{"$f":"Sprawdz_pesel(Formularz!#REF!)","v":{"$error":"#VALUE!"}}]
[null,{"$f":"Sprawdz_pesel(Formularz!#REF!)","v":{"$error":"#VALUE!"}}]
[null,{"$f":"Sprawdz_pesel(Formularz!#REF!)","v":{"$error":"#VALUE!"}}]
[null,{"$f":"Sprawdz_pesel(Formularz!#REF!)","v":{"$error":"#VALUE!"}}]
[null,{"$f":"Sprawdz_pesel(Formularz!#REF!)","v":{"$error":"#VALUE!"}}]
[null,{"$f":"Sprawdz_pesel(Formularz!#REF!)","v":{"$error":"#VALUE!"}}]
[null,{"$f":"Sprawdz_pesel(Formularz!#REF!)","v":{"$error":"#VALUE!"}}]
[null,{"$f":"Sprawdz_pesel(Formularz!#REF!)","v":{"$error":"#VALUE!"}}]
[null,{"$f":"Sprawdz_pesel(Formularz!#REF!)","v":{"$error":"#VALUE!"}}]
[null,{"$f":"Sprawdz_pesel(Formularz!#REF!)","v":{"$error":"#VALUE!"}}]
[null,{"$f":"Sprawdz_pesel(Formularz!#REF!)","v":{"$error":"#VALUE!"}}]
[null,{"$f":"Sprawdz_pesel(Formularz!#REF!)","v":{"$error":"#VALUE!"}}]
[null,{"$f":"Sprawdz_pesel(Formularz!#REF!)","v":{"$error":"#VALUE!"}}]
[null,{"$f":"Sprawdz_pesel(Formularz!#REF!)","v":{"$error":"#VALUE!"}}]
[null,{"$f":"Sprawdz_pesel(Formularz!#REF!)","v":{"$error":"#VALUE!"}}]
[null,{"$f":"Sprawdz_pesel(Formularz!#REF!)","v":{"$error":"#VALUE!"}}]
[null,{"$f":"Sprawdz_pesel(Formularz!#REF!)","v":{"$error":"#VALUE!"}}]
[null,{"$f":"Sprawdz_pesel(Formularz!#REF!)","v":{"$error":"#VALUE!"}}]
[null,{"$f":"Sprawdz_pesel(Formularz!#REF!)","v":{"$error":"#VALUE!"}}]
[null,{"$f":"Sprawdz_pesel(Formularz!#REF!)","v":{"$error":"#VALUE!"}}]
[null,{"$f":"Sprawdz_pesel(Formularz!#REF!)","v":{"$error":"#VALUE!"}}]
[null,{"$f":"Sprawdz_pesel(Formularz!#REF!)","v":{"$error":"#VALUE!"}}]
[null,{"$f":"Sprawdz_pesel(Formularz!#REF!)","v":{"$error":"#VALUE!"}}]
[null,{"$f":"Sprawdz_pesel(Formularz!#REF!)","v":{"$error":"#VALUE!"}}]
[null,{"$f":"Sprawdz_pesel(Formularz!#REF!)","v":{"$error":"#VALUE!"}}]
[null,{"$f":"Sprawdz_pesel(Formularz!#REF!)","v":{"$error":"#VALUE!"}}]
[null,{"$f":"Sprawdz_pesel(Formularz!#REF!)","v":{"$error":"#VALUE!"}}]
[null,{"$f":"Sprawdz_pesel(Formularz!#REF!)","v":{"$error":"#VALUE!"}}]
[null,{"$f":"Sprawdz_pesel(Formularz!#REF!)","v":{"$error":"#VALUE!"}}]
[null,{"$f":"Sprawdz_pesel(Formularz!#REF!)","v":{"$error":"#VALUE!"}}]
[null,{"$f":"Sprawdz_pesel(Formularz!#REF!)","v":{"$error":"#VALUE!"}}]
[null,{"$f":"Sprawdz_pesel(Formularz!#REF!)","v":{"$error":"#VALUE!"}}]
[null,{"$f":"Sprawdz_pesel(Formularz!#REF!)","v":{"$error":"#VALUE!"}}]
[null,{"$f":"Sprawdz_pesel(Formularz!#REF!)","v":{"$error":"#VALUE!"}}]
[null,{"$f":"Sprawdz_pesel(Formularz!#REF!)","v":{"$error":"#VALUE!"}}]
[null,{"$f":"Sprawdz_pesel(Formularz!#REF!)","v":{"$error":"#VALUE!"}}]
[null,{"$f":"Sprawdz_pesel(Formularz!#REF!)","v":{"$error":"#VALUE!"}}]
[null,{"$f":"Sprawdz_pesel(Formularz!#REF!)","v":{"$error":"#VALUE!"}}]
[null,{"$f":"Sprawdz_pesel(Formularz!#REF!)","v":{"$error":"#VALUE!"}}]
[null,{"$f":"Sprawdz_pesel(Formularz!#REF!)","v":{"$error":"#VALUE!"}}]
[null,{"$f":"Sprawdz_pesel(Formularz!#REF!)","v":{"$error":"#VALUE!"}}]
[null,{"$f":"Sprawdz_pesel(Formularz!#REF!)","v":{"$error":"#VALUE!"}}]
[null,{"$f":"Sprawdz_pesel(Formularz!#REF!)","v":{"$error":"#VALUE!"}}]
[null,{"$f":"Sprawdz_pesel(Formularz!#REF!)","v":{"$error":"#VALUE!"}}]
[null,{"$f":"Sprawdz_pesel(Formularz!#REF!)","v":{"$error":"#VALUE!"}}]
[null,{"$f":"Sprawdz_pesel(Formularz!#REF!)","v":{"$error":"#VALUE!"}}]
[null,{"$f":"Sprawdz_pesel(Formularz!#REF!)","v":{"$error":"#VALUE!"}}]
[null,{"$f":"Sprawdz_pesel(Formularz!#REF!)","v":{"$error":"#VALUE!"}}]
[null,{"$f":"Sprawdz_pesel(Formularz!#REF!)","v":{"$error":"#VALUE!"}}]
[null,{"$f":"Sprawdz_pesel(Formularz!#REF!)","v":{"$error":"#VALUE!"}}]
[null,{"$f":"Sprawdz_pesel(Formularz!#REF!)","v":{"$error":"#VALUE!"}}]
[null,{"$f":"Sprawdz_pesel(Formularz!#REF!)","v":{"$error":"#VALUE!"}}]
[null,{"$f":"Sprawdz_pesel(Formularz!#REF!)","v":{"$error":"#VALUE!"}}]
[null,{"$f":"Sprawdz_pesel(Formularz!#REF!)","v":{"$error":"#VALUE!"}}]
[null,{"$f":"Sprawdz_pesel(Formularz!#REF!)","v":{"$error":"#VALUE!"}}]
[null,{"$f":"Sprawdz_pesel(Formularz!#REF!)","v":{"$error":"#VALUE!"}}]
[null,{"$f":"Sprawdz_pesel(Formularz!#REF!)","v":{"$error":"#VALUE!"}}]
[null,{"$f":"Sprawdz_pesel(Formularz!#REF!)","v":{"$error":"#VALUE!"}}]
[null,{"$f":"Sprawdz_pesel(Formularz!#REF!)","v":{"$error":"#VALUE!"}}]
[null,{"$f":"Sprawdz_pesel(Formularz!#REF!)","v":{"$error":"#VALUE!"}}]
[null,{"$f":"Sprawdz_pesel(Formularz!#REF!)","v":{"$error":"#VALUE!"}}]
[null,{"$f":"Sprawdz_pesel(Formularz!#REF!)","v":{"$error":"#VALUE!"}}]
[null,{"$f":"Sprawdz_pesel(Formularz!#REF!)","v":{"$error":"#VALUE!"}}]
[null,{"$f":"Sprawdz_pesel(Formularz!#REF!)","v":{"$error":"#VALUE!"}}]
[null,{"$f":"Sprawdz_pesel(Formularz!#REF!)","v":{"$error":"#VALUE!"}}]
[null,{"$f":"Sprawdz_pesel(Formularz!#REF!)","v":{"$error":"#VALUE!"}}]
[null,{"$f":"Sprawdz_pesel(Formularz!#REF!)","v":{"$error":"#VALUE!"}}]
[null,{"$f":"Sprawdz_pesel(Formularz!#REF!)","v":{"$error":"#VALUE!"}}]
[null,{"$f":"Sprawdz_pesel(Formularz!#REF!)","v":{"$error":"#VALUE!"}}]
[null,{"$f":"Sprawdz_pesel(Formularz!#REF!)","v":{"$error":"#VALUE!"}}]
[null,{"$f":"Sprawdz_pesel(Formularz!#REF!)","v":{"$error":"#VALUE!"}}]
[null,{"$f":"Sprawdz_pesel(Formularz!#REF!)","v":{"$error":"#VALUE!"}}]
[null,{"$f":"Sprawdz_pesel(Formularz!#REF!)","v":{"$error":"#VALUE!"}}]
[null,{"$f":"Sprawdz_pesel(Formularz!#REF!)","v":{"$error":"#VALUE!"}}]
[null,{"$f":"Sprawdz_pesel(Formularz!#REF!)","v":{"$error":"#VALUE!"}}]
[null,{"$f":"Sprawdz_pesel(Formularz!#REF!)","v":{"$error":"#VALUE!"}}]
[null,{"$f":"Sprawdz_pesel(Formularz!#REF!)","v":{"$error":"#VALUE!"}}]
[null,{"$f":"Sprawdz_pesel(Formularz!#REF!)","v":{"$error":"#VALUE!"}}]
[null,{"$f":"Sprawdz_pesel(Formularz!#REF!)","v":{"$error":"#VALUE!"}}]
[null,{"$f":"Sprawdz_pesel(Formularz!#REF!)","v":{"$error":"#VALUE!"}}]
[null,{"$f":"Sprawdz_pesel(Formularz!#REF!)","v":{"$error":"#VALUE!"}}]
[null,{"$f":"Sprawdz_pesel(Formularz!#REF!)","v":{"$error":"#VALUE!"}}]
[null,{"$f":"Sprawdz_pesel(Formularz!#REF!)","v":{"$error":"#VALUE!"}}]
[null,{"$f":"Sprawdz_pesel(Formularz!#REF!)","v":{"$error":"#VALUE!"}}]
[null,{"$f":"Sprawdz_pesel(Formularz!#REF!)","v":{"$error":"#VALUE!"}}]
[null,{"$f":"Sprawdz_pesel(Formularz!#REF!)","v":{"$error":"#VALUE!"}}]
[null,{"$f":"Sprawdz_pesel(Formularz!#REF!)","v":{"$error":"#VALUE!"}}]
[null,{"$f":"Sprawdz_pesel(Formularz!#REF!)","v":{"$error":"#VALUE!"}}]
[null,{"$f":"Sprawdz_pesel(Formularz!#REF!)","v":{"$error":"#VALUE!"}}]
[null,{"$f":"Sprawdz_pesel(Formularz!#REF!)","v":{"$error":"#VALUE!"}}]
[null,{"$f":"Sprawdz_pesel(Formularz!#REF!)","v":{"$error":"#VALUE!"}}]
[null,{"$f":"Sprawdz_pesel(Formularz!#REF!)","v":{"$error":"#VALUE!"}}]
[null,{"$f":"Sprawdz_pesel(Formularz!#REF!)","v":{"$error":"#VALUE!"}}]
[null,{"$f":"Sprawdz_pesel(Formularz!#REF!)","v":{"$error":"#VALUE!"}}]
[null,{"$f":"Sprawdz_pesel(Formularz!#REF!)","v":{"$error":"#VALUE!"}}]
[null,{"$f":"Sprawdz_pesel(Formularz!#REF!)","v":{"$error":"#VALUE!"}}]
[null,{"$f":"Sprawdz_pesel(Formularz!#REF!)","v":{"$error":"#VALUE!"}}]
[null,{"$f":"Sprawdz_pesel(Formularz!#REF!)","v":{"$error":"#VALUE!"}}]
[null,{"$f":"Sprawdz_pesel(Formularz!#REF!)","v":{"$error":"#VALUE!"}}]
[null,{"$f":"Sprawdz_pesel(Formularz!#REF!)","v":{"$error":"#VALUE!"}}]
[null,{"$f":"Sprawdz_pesel(Formularz!#REF!)","v":{"$error":"#VALUE!"}}]
[null,{"$f":"Sprawdz_pesel(Formularz!#REF!)","v":{"$error":"#VALUE!"}}]
[null,{"$f":"Sprawdz_pesel(Formularz!#REF!)","v":{"$error":"#VALUE!"}}]
[null,{"$f":"Sprawdz_pesel(Formularz!#REF!)","v":{"$error":"#VALUE!"}}]
[null,{"$f":"Sprawdz_pesel(Formularz!#REF!)","v":{"$error":"#VALUE!"}}]
[null,{"$f":"Sprawdz_pesel(Formularz!#REF!)","v":{"$error":"#VALUE!"}}]
[null,{"$f":"Sprawdz_pesel(Formularz!#REF!)","v":{"$error":"#VALUE!"}}]
[null,{"$f":"Sprawdz_pesel(Formularz!#REF!)","v":{"$error":"#VALUE!"}}]
[null,{"$f":"Sprawdz_pesel(Formularz!#REF!)","v":{"$error":"#VALUE!"}}]
[null,{"$f":"Sprawdz_pesel(Formularz!#REF!)","v":{"$error":"#VALUE!"}}]
[null,{"$f":"Sprawdz_pesel(Formularz!#REF!)","v":{"$error":"#VALUE!"}}]
[null,{"$f":"Sprawdz_pesel(Formularz!#REF!)","v":{"$error":"#VALUE!"}}]
[null,{"$f":"Sprawdz_pesel(Formularz!#REF!)","v":{"$error":"#VALUE!"}}]
[null,{"$f":"Sprawdz_pesel(Formularz!#REF!)","v":{"$error":"#VALUE!"}}]
[null,{"$f":"Sprawdz_pesel(Formularz!#REF!)","v":{"$error":"#VALUE!"}}]
[null,{"$f":"Sprawdz_pesel(Formularz!#REF!)","v":{"$error":"#VALUE!"}}]
[null,{"$f":"Sprawdz_pesel(Formularz!#REF!)","v":{"$error":"#VALUE!"}}]
[null,{"$f":"Sprawdz_pesel(Formularz!#REF!)","v":{"$error":"#VALUE!"}}]
[null,{"$f":"Sprawdz_pesel(Formularz!#REF!)","v":{"$error":"#VALUE!"}}]
[null,{"$f":"Sprawdz_pesel(Formularz!#REF!)","v":{"$error":"#VALUE!"}}]
[null,{"$f":"Sprawdz_pesel(Formularz!#REF!)","v":{"$error":"#VALUE!"}}]
[null,{"$f":"Sprawdz_pesel(Formularz!#REF!)","v":{"$error":"#VALUE!"}}]
[null,{"$f":"Sprawdz_pesel(Formularz!#REF!)","v":{"$error":"#VALUE!"}}]
[null,{"$f":"Sprawdz_pesel(Formularz!#REF!)","v":{"$error":"#VALUE!"}}]
[null,{"$f":"Sprawdz_pesel(Formularz!#REF!)","v":{"$error":"#VALUE!"}}]
[null,{"$f":"Sprawdz_pesel(Formularz!#REF!)","v":{"$error":"#VALUE!"}}]
[null,{"$f":"Sprawdz_pesel(Formularz!#REF!)","v":{"$error":"#VALUE!"}}]
[null,{"$f":"Sprawdz_pesel(Formularz!#REF!)","v":{"$error":"#VALUE!"}}]
[null,{"$f":"Sprawdz_pesel(Formularz!#REF!)","v":{"$error":"#VALUE!"}}]
[null,{"$f":"Sprawdz_pesel(Formularz!#REF!)","v":{"$error":"#VALUE!"}}]
[null,{"$f":"Sprawdz_pesel(Formularz!#REF!)","v":{"$error":"#VALUE!"}}]
[null,{"$f":"Sprawdz_pesel(Formularz!#REF!)","v":{"$error":"#VALUE!"}}]
[null,{"$f":"Sprawdz_pesel(Formularz!#REF!)","v":{"$error":"#VALUE!"}}]
[null,{"$f":"Sprawdz_pesel(Formularz!#REF!)","v":{"$error":"#VALUE!"}}]
[null,{"$f":"Sprawdz_pesel(Formularz!#REF!)","v":{"$error":"#VALUE!"}}]
[null,{"$f":"Sprawdz_pesel(Formularz!#REF!)","v":{"$error":"#VALUE!"}}]
[null,{"$f":"Sprawdz_pesel(Formularz!#REF!)","v":{"$error":"#VALUE!"}}]
[null,{"$f":"Sprawdz_pesel(Formularz!#REF!)","v":{"$error":"#VALUE!"}}]
[null,{"$f":"Sprawdz_pesel(Formularz!#REF!)","v":{"$error":"#VALUE!"}}]
[null,{"$f":"Sprawdz_pesel(Formularz!#REF!)","v":{"$error":"#VALUE!"}}]
[null,{"$f":"Sprawdz_pesel(Formularz!#REF!)","v":{"$error":"#VALUE!"}}]
[null,{"$f":"Sprawdz_pesel(Formularz!#REF!)","v":{"$error":"#VALUE!"}}]
[null,{"$f":"Sprawdz_pesel(Formularz!#REF!)","v":{"$error":"#VALUE!"}}]
[null,{"$f":"Sprawdz_pesel(Formularz!#REF!)","v":{"$error":"#VALUE!"}}]
[null,{"$f":"Sprawdz_pesel(Formularz!#REF!)","v":{"$error":"#VALUE!"}}]
[null,{"$f":"Sprawdz_pesel(Formularz!#REF!)","v":{"$error":"#VALUE!"}}]
[null,{"$f":"Sprawdz_pesel(Formularz!#REF!)","v":{"$error":"#VALUE!"}}]
[null,{"$f":"Sprawdz_pesel(Formularz!#REF!)","v":{"$error":"#VALUE!"}}]
[null,{"$f":"Sprawdz_pesel(Formularz!#REF!)","v":{"$error":"#VALUE!"}}]
[null,{"$f":"Sprawdz_pesel(Formularz!#REF!)","v":{"$error":"#VALUE!"}}]
[null,{"$f":"Sprawdz_pesel(Formularz!#REF!)","v":{"$error":"#VALUE!"}}]
[null,{"$f":"Sprawdz_pesel(Formularz!#REF!)","v":{"$error":"#VALUE!"}}]
[null,{"$f":"Sprawdz_pesel(Formularz!#REF!)","v":{"$error":"#VALUE!"}}]
[null,{"$f":"Sprawdz_pesel(Formularz!#REF!)","v":{"$error":"#VALUE!"}}]
[null,{"$f":"Sprawdz_pesel(Formularz!#REF!)","v":{"$error":"#VALUE!"}}]
[null,{"$f":"Sprawdz_pesel(Formularz!#REF!)","v":{"$error":"#VALUE!"}}]
[null,{"$f":"Sprawdz_pesel(Formularz!#REF!)","v":{"$error":"#VALUE!"}}]
[null,{"$f":"Sprawdz_pesel(Formularz!#REF!)","v":{"$error":"#VALUE!"}}]
[null,{"$f":"Sprawdz_pesel(Formularz!#REF!)","v":{"$error":"#VALUE!"}}]
[null,{"$f":"Sprawdz_pesel(Formularz!#REF!)","v":{"$error":"#VALUE!"}}]
[null,{"$f":"Sprawdz_pesel(Formularz!#REF!)","v":{"$error":"#VALUE!"}}]
[null,{"$f":"Sprawdz_pesel(Formularz!#REF!)","v":{"$error":"#VALUE!"}}]
[null,{"$f":"Sprawdz_pesel(Formularz!#REF!)","v":{"$error":"#VALUE!"}}]
[null,{"$f":"Sprawdz_pesel(Formularz!#REF!)","v":{"$error":"#VALUE!"}}]
[null,{"$f":"Sprawdz_pesel(Formularz!#REF!)","v":{"$error":"#VALUE!"}}]
[null,{"$f":"Sprawdz_pesel(Formularz!#REF!)","v":{"$error":"#VALUE!"}}]
[null,{"$f":"Sprawdz_pesel(Formularz!#REF!)","v":{"$error":"#VALUE!"}}]
[null,{"$f":"Sprawdz_pesel(Formularz!#REF!)","v":{"$error":"#VALUE!"}}]
[null,{"$f":"Sprawdz_pesel(Formularz!#REF!)","v":{"$error":"#VALUE!"}}]
[null,{"$f":"Sprawdz_pesel(Formularz!#REF!)","v":{"$error":"#VALUE!"}}]
[null,{"$f":"Sprawdz_pesel(Formularz!#REF!)","v":{"$error":"#VALUE!"}}]
[null,{"$f":"Sprawdz_pesel(Formularz!#REF!)","v":{"$error":"#VALUE!"}}]
[null,{"$f":"Sprawdz_pesel(Formularz!#REF!)","v":{"$error":"#VALUE!"}}]
[null,{"$f":"Sprawdz_pesel(Formularz!#REF!)","v":{"$error":"#VALUE!"}}]
[null,{"$f":"Sprawdz_pesel(Formularz!#REF!)","v":{"$error":"#VALUE!"}}]
[null,{"$f":"Sprawdz_pesel(Formularz!#REF!)","v":{"$error":"#VALUE!"}}]
[null,{"$f":"Sprawdz_pesel(Formularz!#REF!)","v":{"$error":"#VALUE!"}}]
[null,{"$f":"Sprawdz_pesel(Formularz!#REF!)","v":{"$error":"#VALUE!"}}]
[null,{"$f":"Sprawdz_pesel(Formularz!#REF!)","v":{"$error":"#VALUE!"}}]
[null,{"$f":"Sprawdz_pesel(Formularz!#REF!)","v":{"$error":"#VALUE!"}}]
[null,{"$f":"Sprawdz_pesel(Formularz!#REF!)","v":{"$error":"#VALUE!"}}]
[null,{"$f":"Sprawdz_pesel(Formularz!#REF!)","v":{"$error":"#VALUE!"}}]
[null,{"$f":"Sprawdz_pesel(Formularz!#REF!)","v":{"$error":"#VALUE!"}}]
[null,{"$f":"Sprawdz_pesel(Formularz!#REF!)","v":{"$error":"#VALUE!"}}]
[null,{"$f":"Sprawdz_pesel(Formularz!#REF!)","v":{"$error":"#VALUE!"}}]
[null,{"$f":"Sprawdz_pesel(Formularz!#REF!)","v":{"$error":"#VALUE!"}}]
[null,{"$f":"Sprawdz_pesel(Formularz!#REF!)","v":{"$error":"#VALUE!"}}]
[null,{"$f":"Sprawdz_pesel(Formularz!#REF!)","v":{"$error":"#VALUE!"}}]
[null,{"$f":"Sprawdz_pesel(Formularz!#REF!)","v":{"$error":"#VALUE!"}}]
[null,{"$f":"Sprawdz_pesel(Formularz!#REF!)","v":{"$error":"#VALUE!"}}]
[null,{"$f":"Sprawdz_pesel(Formularz!#REF!)","v":{"$error":"#VALUE!"}}]
[null,{"$f":"Sprawdz_pesel(Formularz!#REF!)","v":{"$error":"#VALUE!"}}]
[null,{"$f":"Sprawdz_pesel(Formularz!#REF!)","v":{"$error":"#VALUE!"}}]
[null,{"$f":"Sprawdz_pesel(Formularz!#REF!)","v":{"$error":"#VALUE!"}}]
[null,{"$f":"Sprawdz_pesel(Formularz!#REF!)","v":{"$error":"#VALUE!"}}]
[null,{"$f":"Sprawdz_pesel(Formularz!#REF!)","v":{"$error":"#VALUE!"}}]
[null,{"$f":"Sprawdz_pesel(Formularz!#REF!)","v":{"$error":"#VALUE!"}}]
[null,{"$f":"Sprawdz_pesel(Formularz!#REF!)","v":{"$error":"#VALUE!"}}]
[null,{"$f":"Sprawdz_pesel(Formularz!#REF!)","v":{"$error":"#VALUE!"}}]
[null,{"$f":"Sprawdz_pesel(Formularz!#REF!)","v":{"$error":"#VALUE!"}}]
[null,{"$f":"Sprawdz_pesel(Formularz!#REF!)","v":{"$error":"#VALUE!"}}]
[null,{"$f":"Sprawdz_pesel(Formularz!#REF!)","v":{"$error":"#VALUE!"}}]
[null,{"$f":"Sprawdz_pesel(Formularz!#REF!)","v":{"$error":"#VALUE!"}}]
[null,{"$f":"Sprawdz_pesel(Formularz!#REF!)","v":{"$error":"#VALUE!"}}]
[null,{"$f":"Sprawdz_pesel(Formularz!#REF!)","v":{"$error":"#VALUE!"}}]
[null,{"$f":"Sprawdz_pesel(Formularz!#REF!)","v":{"$error":"#VALUE!"}}]
[null,{"$f":"Sprawdz_pesel(Formularz!#REF!)","v":{"$error":"#VALUE!"}}]
[null,{"$f":"Sprawdz_pesel(Formularz!#REF!)","v":{"$error":"#VALUE!"}}]
[null,{"$f":"Sprawdz_pesel(Formularz!#REF!)","v":{"$error":"#VALUE!"}}]
[null,{"$f":"Sprawdz_pesel(Formularz!#REF!)","v":{"$error":"#VALUE!"}}]
[null,{"$f":"Sprawdz_pesel(Formularz!#REF!)","v":{"$error":"#VALUE!"}}]
[null,{"$f":"Sprawdz_pesel(Formularz!#REF!)","v":{"$error":"#VALUE!"}}]
[null,{"$f":"Sprawdz_pesel(Formularz!#REF!)","v":{"$error":"#VALUE!"}}]
[null,{"$f":"Sprawdz_pesel(Formularz!#REF!)","v":{"$error":"#VALUE!"}}]
[null,{"$f":"Sprawdz_pesel(Formularz!#REF!)","v":{"$error":"#VALUE!"}}]
[null,{"$f":"Sprawdz_pesel(Formularz!#REF!)","v":{"$error":"#VALUE!"}}]
[null,{"$f":"Sprawdz_pesel(Formularz!#REF!)","v":{"$error":"#VALUE!"}}]
[null,{"$f":"Sprawdz_pesel(Formularz!#REF!)","v":{"$error":"#VALUE!"}}]
[null,{"$f":"Sprawdz_pesel(Formularz!#REF!)","v":{"$error":"#VALUE!"}}]
[null,{"$f":"Sprawdz_pesel(Formularz!#REF!)","v":{"$error":"#VALUE!"}}]
[null,{"$f":"Sprawdz_pesel(Formularz!#REF!)","v":{"$error":"#VALUE!"}}]
[null,{"$f":"Sprawdz_pesel(Formularz!#REF!)","v":{"$error":"#VALUE!"}}]
[null,{"$f":"Sprawdz_pesel(Formularz!#REF!)","v":{"$error":"#VALUE!"}}]
[null,{"$f":"Sprawdz_pesel(Formularz!#REF!)","v":{"$error":"#VALUE!"}}]
[null,{"$f":"Sprawdz_pesel(Formularz!#REF!)","v":{"$error":"#VALUE!"}}]
[null,{"$f":"Sprawdz_pesel(Formularz!#REF!)","v":{"$error":"#VALUE!"}}]
[null,{"$f":"Sprawdz_pesel(Formularz!#REF!)","v":{"$error":"#VALUE!"}}]
[null,{"$f":"Sprawdz_pesel(Formularz!#REF!)","v":{"$error":"#VALUE!"}}]
[null,{"$f":"Sprawdz_pesel(Formularz!#REF!)","v":{"$error":"#VALUE!"}}]
[null,{"$f":"Sprawdz_pesel(Formularz!#REF!)","v":{"$error":"#VALUE!"}}]
[null,{"$f":"Sprawdz_pesel(Formularz!#REF!)","v":{"$error":"#VALUE!"}}]
[null,{"$f":"Sprawdz_pesel(Formularz!#REF!)","v":{"$error":"#VALUE!"}}]
[null,{"$f":"Sprawdz_pesel(Formularz!#REF!)","v":{"$error":"#VALUE!"}}]
[null,{"$f":"Sprawdz_pesel(Formularz!#REF!)","v":{"$error":"#VALUE!"}}]
[null,{"$f":"Sprawdz_pesel(Formularz!#REF!)","v":{"$error":"#VALUE!"}}]
[null,{"$f":"Sprawdz_pesel(Formularz!#REF!)","v":{"$error":"#VALUE!"}}]
[null,{"$f":"Sprawdz_pesel(Formularz!#REF!)","v":{"$error":"#VALUE!"}}]
[null,{"$f":"Sprawdz_pesel(Formularz!#REF!)","v":{"$error":"#VALUE!"}}]
[null,{"$f":"Sprawdz_pesel(Formularz!#REF!)","v":{"$error":"#VALUE!"}}]
[null,{"$f":"Sprawdz_pesel(Formularz!#REF!)","v":{"$error":"#VALUE!"}}]
[null,{"$f":"Sprawdz_pesel(Formularz!#REF!)","v":{"$error":"#VALUE!"}}]
[null,{"$f":"Sprawdz_pesel(Formularz!#REF!)","v":{"$error":"#VALUE!"}}]
[null,{"$f":"Sprawdz_pesel(Formularz!#REF!)","v":{"$error":"#VALUE!"}}]
[null,{"$f":"Sprawdz_pesel(Formularz!#REF!)","v":{"$error":"#VALUE!"}}]
[null,{"$f":"Sprawdz_pesel(Formularz!#REF!)","v":{"$error":"#VALUE!"}}]
[null,{"$f":"Sprawdz_pesel(Formularz!#REF!)","v":{"$error":"#VALUE!"}}]
[null,{"$f":"Sprawdz_pesel(Formularz!#REF!)","v":{"$error":"#VALUE!"}}]
[null,{"$f":"Sprawdz_pesel(Formularz!#REF!)","v":{"$error":"#VALUE!"}}]
[null,{"$f":"Sprawdz_pesel(Formularz!#REF!)","v":{"$error":"#VALUE!"}}]
[null,{"$f":"Sprawdz_pesel(Formularz!#REF!)","v":{"$error":"#VALUE!"}}]
[null,{"$f":"Sprawdz_pesel(Formularz!#REF!)","v":{"$error":"#VALUE!"}}]
[null,{"$f":"Sprawdz_pesel(Formularz!#REF!)","v":{"$error":"#VALUE!"}}]
[null,{"$f":"Sprawdz_pesel(Formularz!#REF!)","v":{"$error":"#VALUE!"}}]
[null,{"$f":"Sprawdz_pesel(Formularz!#REF!)","v":{"$error":"#VALUE!"}}]
[null,{"$f":"Sprawdz_pesel(Formularz!#REF!)","v":{"$error":"#VALUE!"}}]
[null,{"$f":"Sprawdz_pesel(Formularz!#REF!)","v":{"$error":"#VALUE!"}}]
[null,{"$f":"Sprawdz_pesel(Formularz!#REF!)","v":{"$error":"#VALUE!"}}]
[null,{"$f":"Sprawdz_pesel(Formularz!#REF!)","v":{"$error":"#VALUE!"}}]
[null,{"$f":"Sprawdz_pesel(Formularz!#REF!)","v":{"$error":"#VALUE!"}}]
[null,{"$f":"Sprawdz_pesel(Formularz!#REF!)","v":{"$error":"#VALUE!"}}]
[null,{"$f":"Sprawdz_pesel(Formularz!#REF!)","v":{"$error":"#VALUE!"}}]
[null,{"$f":"Sprawdz_pesel(Formularz!#REF!)","v":{"$error":"#VALUE!"}}]
[null,{"$f":"Sprawdz_pesel(Formularz!#REF!)","v":{"$error":"#VALUE!"}}]
[null,{"$f":"Sprawdz_pesel(Formularz!#REF!)","v":{"$error":"#VALUE!"}}]
[null,{"$f":"Sprawdz_pesel(Formularz!#REF!)","v":{"$error":"#VALUE!"}}]
[null,{"$f":"Sprawdz_pesel(Formularz!#REF!)","v":{"$error":"#VALUE!"}}]
[null,{"$f":"Sprawdz_pesel(Formularz!#REF!)","v":{"$error":"#VALUE!"}}]
[null,{"$f":"Sprawdz_pesel(Formularz!#REF!)","v":{"$error":"#VALUE!"}}]
[null,{"$f":"Sprawdz_pesel(Formularz!#REF!)","v":{"$error":"#VALUE!"}}]
[null,{"$f":"Sprawdz_pesel(Formularz!#REF!)","v":{"$error":"#VALUE!"}}]
[null,{"$f":"Sprawdz_pesel(Formularz!#REF!)","v":{"$error":"#VALUE!"}}]
[null,{"$f":"Sprawdz_pesel(Formularz!#REF!)","v":{"$error":"#VALUE!"}}]
[null,{"$f":"Sprawdz_pesel(Formularz!#REF!)","v":{"$error":"#VALUE!"}}]
[null,{"$f":"Sprawdz_pesel(Formularz!#REF!)","v":{"$error":"#VALUE!"}}]
[null,{"$f":"Sprawdz_pesel(Formularz!#REF!)","v":{"$error":"#VALUE!"}}]
[null,{"$f":"Sprawdz_pesel(Formularz!#REF!)","v":{"$error":"#VALUE!"}}]
[null,{"$f":"Sprawdz_pesel(Formularz!#REF!)","v":{"$error":"#VALUE!"}}]
[null,{"$f":"Sprawdz_pesel(Formularz!#REF!)","v":{"$error":"#VALUE!"}}]
[null,{"$f":"Sprawdz_pesel(Formularz!#REF!)","v":{"$error":"#VALUE!"}}]
[null,{"$f":"Sprawdz_pesel(Formularz!#REF!)","v":{"$error":"#VALUE!"}}]
[null,{"$f":"Sprawdz_pesel(Formularz!#REF!)","v":{"$error":"#VALUE!"}}]
[null,{"$f":"Sprawdz_pesel(Formularz!#REF!)","v":{"$error":"#VALUE!"}}]
[null,{"$f":"Sprawdz_pesel(Formularz!#REF!)","v":{"$error":"#VALUE!"}}]
[null,{"$f":"Sprawdz_pesel(Formularz!#REF!)","v":{"$error":"#VALUE!"}}]
[null,{"$f":"Sprawdz_pesel(Formularz!#REF!)","v":{"$error":"#VALUE!"}}]
[null,{"$f":"Sprawdz_pesel(Formularz!#REF!)","v":{"$error":"#VALUE!"}}]
[null,{"$f":"Sprawdz_pesel(Formularz!#REF!)","v":{"$error":"#VALUE!"}}]
[null,{"$f":"Sprawdz_pesel(Formularz!#REF!)","v":{"$error":"#VALUE!"}}]
[null,{"$f":"Sprawdz_pesel(Formularz!#REF!)","v":{"$error":"#VALUE!"}}]
[null,{"$f":"Sprawdz_pesel(Formularz!#REF!)","v":{"$error":"#VALUE!"}}]
[null,{"$f":"Sprawdz_pesel(Formularz!#REF!)","v":{"$error":"#VALUE!"}}]
[null,{"$f":"Sprawdz_pesel(Formularz!#REF!)","v":{"$error":"#VALUE!"}}]
[null,{"$f":"Sprawdz_pesel(Formularz!#REF!)","v":{"$error":"#VALUE!"}}]
[null,{"$f":"Sprawdz_pesel(Formularz!#REF!)","v":{"$error":"#VALUE!"}}]
[null,{"$f":"Sprawdz_pesel(Formularz!#REF!)","v":{"$error":"#VALUE!"}}]
[null,{"$f":"Sprawdz_pesel(Formularz!#REF!)","v":{"$error":"#VALUE!"}}]
[null,{"$f":"Sprawdz_pesel(Formularz!#REF!)","v":{"$error":"#VALUE!"}}]
[null,{"$f":"Sprawdz_pesel(Formularz!#REF!)","v":{"$error":"#VALUE!"}}]
[null,{"$f":"Sprawdz_pesel(Formularz!#REF!)","v":{"$error":"#VALUE!"}}]
[null,{"$f":"Sprawdz_pesel(Formularz!#REF!)","v":{"$error":"#VALUE!"}}]
[null,{"$f":"Sprawdz_pesel(Formularz!#REF!)","v":{"$error":"#VALUE!"}}]
[null,{"$f":"Sprawdz_pesel(Formularz!#REF!)","v":{"$error":"#VALUE!"}}]
[null,{"$f":"Sprawdz_pesel(Formularz!#REF!)","v":{"$error":"#VALUE!"}}]
[null,{"$f":"Sprawdz_pesel(Formularz!#REF!)","v":{"$error":"#VALUE!"}}]
[null,{"$f":"Sprawdz_pesel(Formularz!#REF!)","v":{"$error":"#VALUE!"}}]
[null,{"$f":"Sprawdz_pesel(Formularz!#REF!)","v":{"$error":"#VALUE!"}}]
[null,{"$f":"Sprawdz_pesel(Formularz!#REF!)","v":{"$error":"#VALUE!"}}]
[null,{"$f":"Sprawdz_pesel(Formularz!#REF!)","v":{"$error":"#VALUE!"}}]
[null,{"$f":"Sprawdz_pesel(Formularz!#REF!)","v":{"$error":"#VALUE!"}}]
[null,{"$f":"Sprawdz_pesel(Formularz!#REF!)","v":{"$error":"#VALUE!"}}]
[null,{"$f":"Sprawdz_pesel(Formularz!#REF!)","v":{"$error":"#VALUE!"}}]
[null,{"$f":"Sprawdz_pesel(Formularz!#REF!)","v":{"$error":"#VALUE!"}}]
[null,{"$f":"Sprawdz_pesel(Formularz!#REF!)","v":{"$error":"#VALUE!"}}]
[null,{"$f":"Sprawdz_pesel(Formularz!#REF!)","v":{"$error":"#VALUE!"}}]
[null,{"$f":"Sprawdz_pesel(Formularz!#REF!)","v":{"$error":"#VALUE!"}}]
[null,{"$f":"Sprawdz_pesel(Formularz!#REF!)","v":{"$error":"#VALUE!"}}]
[null,{"$f":"Sprawdz_pesel(Formularz!#REF!)","v":{"$error":"#VALUE!"}}]
[null,{"$f":"Sprawdz_pesel(Formularz!#REF!)","v":{"$error":"#VALUE!"}}]
[null,{"$f":"Sprawdz_pesel(Formularz!#REF!)","v":{"$error":"#VALUE!"}}]
[null,{"$f":"Sprawdz_pesel(Formularz!#REF!)","v":{"$error":"#VALUE!"}}]
[null,{"$f":"Sprawdz_pesel(Formularz!#REF!)","v":{"$error":"#VALUE!"}}]
[null,{"$f":"Sprawdz_pesel(Formularz!#REF!)","v":{"$error":"#VALUE!"}}]
[null,{"$f":"Sprawdz_pesel(Formularz!#REF!)","v":{"$error":"#VALUE!"}}]
[null,{"$f":"Sprawdz_pesel(Formularz!#REF!)","v":{"$error":"#VALUE!"}}]
[null,{"$f":"Sprawdz_pesel(Formularz!#REF!)","v":{"$error":"#VALUE!"}}]
[null,{"$f":"Sprawdz_pesel(Formularz!#REF!)","v":{"$error":"#VALUE!"}}]
[null,{"$f":"Sprawdz_pesel(Formularz!#REF!)","v":{"$error":"#VALUE!"}}]
[null,{"$f":"Sprawdz_pesel(Formularz!#REF!)","v":{"$error":"#VALUE!"}}]
[null,{"$f":"Sprawdz_pesel(Formularz!#REF!)","v":{"$error":"#VALUE!"}}]
[null,{"$f":"Sprawdz_pesel(Formularz!#REF!)","v":{"$error":"#VALUE!"}}]
[null,{"$f":"Sprawdz_pesel(Formularz!#REF!)","v":{"$error":"#VALUE!"}}]
[null,{"$f":"Sprawdz_pesel(Formularz!#REF!)","v":{"$error":"#VALUE!"}}]
[null,{"$f":"Sprawdz_pesel(Formularz!#REF!)","v":{"$error":"#VALUE!"}}]
[null,{"$f":"Sprawdz_pesel(Formularz!#REF!)","v":{"$error":"#VALUE!"}}]
[null,{"$f":"Sprawdz_pesel(Formularz!#REF!)","v":{"$error":"#VALUE!"}}]
[null,{"$f":"Sprawdz_pesel(Formularz!#REF!)","v":{"$error":"#VALUE!"}}]
[null,{"$f":"Sprawdz_pesel(Formularz!#REF!)","v":{"$error":"#VALUE!"}}]
[null,{"$f":"Sprawdz_pesel(Formularz!#REF!)","v":{"$error":"#VALUE!"}}]
[null,{"$f":"Sprawdz_pesel(Formularz!#REF!)","v":{"$error":"#VALUE!"}}]
[null,{"$f":"Sprawdz_pesel(Formularz!#REF!)","v":{"$error":"#VALUE!"}}]
[null,{"$f":"Sprawdz_pesel(Formularz!#REF!)","v":{"$error":"#VALUE!"}}]
[null,{"$f":"Sprawdz_pesel(Formularz!#REF!)","v":{"$error":"#VALUE!"}}]
[null,{"$f":"Sprawdz_pesel(Formularz!#REF!)","v":{"$error":"#VALUE!"}}]
[null,{"$f":"Sprawdz_pesel(Formularz!#REF!)","v":{"$error":"#VALUE!"}}]
[null,{"$f":"Sprawdz_pesel(Formularz!#REF!)","v":{"$error":"#VALUE!"}}]
[null,{"$f":"Sprawdz_pesel(Formularz!#REF!)","v":{"$error":"#VALUE!"}}]
[null,{"$f":"Sprawdz_pesel(Formularz!#REF!)","v":{"$error":"#VALUE!"}}]
[null,{"$f":"Sprawdz_pesel(Formularz!#REF!)","v":{"$error":"#VALUE!"}}]
[null,{"$f":"Sprawdz_pesel(Formularz!#REF!)","v":{"$error":"#VALUE!"}}]
[null,{"$f":"Sprawdz_pesel(Formularz!#REF!)","v":{"$error":"#VALUE!"}}]
[null,{"$f":"Sprawdz_pesel(Formularz!#REF!)","v":{"$error":"#VALUE!"}}]
[null,{"$f":"Sprawdz_pesel(Formularz!#REF!)","v":{"$error":"#VALUE!"}}]
[null,{"$f":"Sprawdz_pesel(Formularz!#REF!)","v":{"$error":"#VALUE!"}}]
[null,{"$f":"Sprawdz_pesel(Formularz!#REF!)","v":{"$error":"#VALUE!"}}]
[null,{"$f":"Sprawdz_pesel(Formularz!#REF!)","v":{"$error":"#VALUE!"}}]
[null,{"$f":"Sprawdz_pesel(Formularz!#REF!)","v":{"$error":"#VALUE!"}}]
[null,{"$f":"Sprawdz_pesel(Formularz!#REF!)","v":{"$error":"#VALUE!"}}]
[null,{"$f":"Sprawdz_pesel(Formularz!#REF!)","v":{"$error":"#VALUE!"}}]
[null,{"$f":"Sprawdz_pesel(Formularz!#REF!)","v":{"$error":"#VALUE!"}}]
[null,{"$f":"Sprawdz_pesel(Formularz!#REF!)","v":{"$error":"#VALUE!"}}]
[null,{"$f":"Sprawdz_pesel(Formularz!#REF!)","v":{"$error":"#VALUE!"}}]
[null,{"$f":"Sprawdz_pesel(Formularz!#REF!)","v":{"$error":"#VALUE!"}}]
[null,{"$f":"Sprawdz_pesel(Formularz!#REF!)","v":{"$error":"#VALUE!"}}]
[null,{"$f":"Sprawdz_pesel(Formularz!#REF!)","v":{"$error":"#VALUE!"}}]
[null,{"$f":"Sprawdz_pesel(Formularz!#REF!)","v":{"$error":"#VALUE!"}}]
[null,{"$f":"Sprawdz_pesel(Formularz!#REF!)","v":{"$error":"#VALUE!"}}]
[null,{"$f":"Sprawdz_pesel(Formularz!#REF!)","v":{"$error":"#VALUE!"}}]
[null,{"$f":"Sprawdz_pesel(Formularz!#REF!)","v":{"$error":"#VALUE!"}}]
[null,{"$f":"Sprawdz_pesel(Formularz!#REF!)","v":{"$error":"#VALUE!"}}]
[null,{"$f":"Sprawdz_pesel(Formularz!#REF!)","v":{"$error":"#VALUE!"}}]
[null,{"$f":"Sprawdz_pesel(Formularz!#REF!)","v":{"$error":"#VALUE!"}}]
[null,{"$f":"Sprawdz_pesel(Formularz!#REF!)","v":{"$error":"#VALUE!"}}]
[null,{"$f":"Sprawdz_pesel(Formularz!#REF!)","v":{"$error":"#VALUE!"}}]
[null,{"$f":"Sprawdz_pesel(Formularz!#REF!)","v":{"$error":"#VALUE!"}}]
[null,{"$f":"Sprawdz_pesel(Formularz!#REF!)","v":{"$error":"#VALUE!"}}]
[null,{"$f":"Sprawdz_pesel(Formularz!#REF!)","v":{"$error":"#VALUE!"}}]
[null,{"$f":"Sprawdz_pesel(Formularz!#REF!)","v":{"$error":"#VALUE!"}}]
[null,{"$f":"Sprawdz_pesel(Formularz!#REF!)","v":{"$error":"#VALUE!"}}]
[null,{"$f":"Sprawdz_pesel(Formularz!#REF!)","v":{"$error":"#VALUE!"}}]
[null,{"$f":"Sprawdz_pesel(Formularz!#REF!)","v":{"$error":"#VALUE!"}}]
[null,{"$f":"Sprawdz_pesel(Formularz!#REF!)","v":{"$error":"#VALUE!"}}]
[null,{"$f":"Sprawdz_pesel(Formularz!#REF!)","v":{"$error":"#VALUE!"}}]
[null,{"$f":"Sprawdz_pesel(Formularz!#REF!)","v":{"$error":"#VALUE!"}}]
[null,{"$f":"Sprawdz_pesel(Formularz!#REF!)","v":{"$error":"#VALUE!"}}]
[null,{"$f":"Sprawdz_pesel(Formularz!#REF!)","v":{"$error":"#VALUE!"}}]
[null,{"$f":"Sprawdz_pesel(Formularz!#REF!)","v":{"$error":"#VALUE!"}}]
[null,{"$f":"Sprawdz_pesel(Formularz!#REF!)","v":{"$error":"#VALUE!"}}]
[null,{"$f":"Sprawdz_pesel(Formularz!#REF!)","v":{"$error":"#VALUE!"}}]
[null,{"$f":"Sprawdz_pesel(Formularz!#REF!)","v":{"$error":"#VALUE!"}}]
[null,{"$f":"Sprawdz_pesel(Formularz!#REF!)","v":{"$error":"#VALUE!"}}]
[null,{"$f":"Sprawdz_pesel(Formularz!#REF!)","v":{"$error":"#VALUE!"}}]
[null,{"$f":"Sprawdz_pesel(Formularz!#REF!)","v":{"$error":"#VALUE!"}}]
[null,{"$f":"Sprawdz_pesel(Formularz!#REF!)","v":{"$error":"#VALUE!"}}]
[null,{"$f":"Sprawdz_pesel(Formularz!#REF!)","v":{"$error":"#VALUE!"}}]
[null,{"$f":"Sprawdz_pesel(Formularz!#REF!)","v":{"$error":"#VALUE!"}}]
[null,{"$f":"Sprawdz_pesel(Formularz!#REF!)","v":{"$error":"#VALUE!"}}]
[null,{"$f":"Sprawdz_pesel(Formularz!#REF!)","v":{"$error":"#VALUE!"}}]
[null,{"$f":"Sprawdz_pesel(Formularz!#REF!)","v":{"$error":"#VALUE!"}}]
[null,{"$f":"Sprawdz_pesel(Formularz!#REF!)","v":{"$error":"#VALUE!"}}]
[null,{"$f":"Sprawdz_pesel(Formularz!#REF!)","v":{"$error":"#VALUE!"}}]
[null,{"$f":"Sprawdz_pesel(Formularz!#REF!)","v":{"$error":"#VALUE!"}}]
[null,{"$f":"Sprawdz_pesel(Formularz!#REF!)","v":{"$error":"#VALUE!"}}]
[null,{"$f":"Sprawdz_pesel(Formularz!#REF!)","v":{"$error":"#VALUE!"}}]
[null,{"$f":"Sprawdz_pesel(Formularz!#REF!)","v":{"$error":"#VALUE!"}}]
[null,{"$f":"Sprawdz_pesel(Formularz!#REF!)","v":{"$error":"#VALUE!"}}]
[null,{"$f":"Sprawdz_pesel(Formularz!#REF!)","v":{"$error":"#VALUE!"}}]
[null,{"$f":"Sprawdz_pesel(Formularz!#REF!)","v":{"$error":"#VALUE!"}}]
[null,{"$f":"Sprawdz_pesel(Formularz!#REF!)","v":{"$error":"#VALUE!"}}]
[null,{"$f":"Sprawdz_pesel(Formularz!#REF!)","v":{"$error":"#VALUE!"}}]
[null,{"$f":"Sprawdz_pesel(Formularz!#REF!)","v":{"$error":"#VALUE!"}}]
[null,{"$f":"Sprawdz_pesel(Formularz!#REF!)","v":{"$error":"#VALUE!"}}]
[null,{"$f":"Sprawdz_pesel(Formularz!#REF!)","v":{"$error":"#VALUE!"}}]
[null,{"$f":"Sprawdz_pesel(Formularz!#REF!)","v":{"$error":"#VALUE!"}}]
[null,{"$f":"Sprawdz_pesel(Formularz!#REF!)","v":{"$error":"#VALUE!"}}]
[null,{"$f":"Sprawdz_pesel(Formularz!#REF!)","v":{"$error":"#VALUE!"}}]
[null,{"$f":"Sprawdz_pesel(Formularz!#REF!)","v":{"$error":"#VALUE!"}}]
[null,{"$f":"Sprawdz_pesel(Formularz!#REF!)","v":{"$error":"#VALUE!"}}]
[null,{"$f":"Sprawdz_pesel(Formularz!#REF!)","v":{"$error":"#VALUE!"}}]
[null,{"$f":"Sprawdz_pesel(Formularz!#REF!)","v":{"$error":"#VALUE!"}}]
[null,{"$f":"Sprawdz_pesel(Formularz!#REF!)","v":{"$error":"#VALUE!"}}]
[null,{"$f":"Sprawdz_pesel(Formularz!#REF!)","v":{"$error":"#VALUE!"}}]
[null,{"$f":"Sprawdz_pesel(Formularz!#REF!)","v":{"$error":"#VALUE!"}}]
[null,{"$f":"Sprawdz_pesel(Formularz!#REF!)","v":{"$error":"#VALUE!"}}]
[null,{"$f":"Sprawdz_pesel(Formularz!#REF!)","v":{"$error":"#VALUE!"}}]
[null,{"$f":"Sprawdz_pesel(Formularz!#REF!)","v":{"$error":"#VALUE!"}}]
[null,{"$f":"Sprawdz_pesel(Formularz!#REF!)","v":{"$error":"#VALUE!"}}]
[null,{"$f":"Sprawdz_pesel(Formularz!#REF!)","v":{"$error":"#VALUE!"}}]
[null,{"$f":"Sprawdz_pesel(Formularz!#REF!)","v":{"$error":"#VALUE!"}}]
[null,{"$f":"Sprawdz_pesel(Formularz!#REF!)","v":{"$error":"#VALUE!"}}]
[null,{"$f":"Sprawdz_pesel(Formularz!#REF!)","v":{"$error":"#VALUE!"}}]
[null,{"$f":"Sprawdz_pesel(Formularz!#REF!)","v":{"$error":"#VALUE!"}}]
[null,{"$f":"Sprawdz_pesel(Formularz!#REF!)","v":{"$error":"#VALUE!"}}]
[null,{"$f":"Sprawdz_pesel(Formularz!#REF!)","v":{"$error":"#VALUE!"}}]
[null,{"$f":"Sprawdz_pesel(Formularz!#REF!)","v":{"$error":"#VALUE!"}}]
[null,{"$f":"Sprawdz_pesel(Formularz!#REF!)","v":{"$error":"#VALUE!"}}]
[null,{"$f":"Sprawdz_pesel(Formularz!#REF!)","v":{"$error":"#VALUE!"}}]
[null,{"$f":"Sprawdz_pesel(Formularz!#REF!)","v":{"$error":"#VALUE!"}}]
[null,{"$f":"Sprawdz_pesel(Formularz!#REF!)","v":{"$error":"#VALUE!"}}]
[null,{"$f":"Sprawdz_pesel(Formularz!#REF!)","v":{"$error":"#VALUE!"}}]
[null,{"$f":"Sprawdz_pesel(Formularz!#REF!)","v":{"$error":"#VALUE!"}}]
[null,{"$f":"Sprawdz_pesel(Formularz!#REF!)","v":{"$error":"#VALUE!"}}]
[null,{"$f":"Sprawdz_pesel(Formularz!#REF!)","v":{"$error":"#VALUE!"}}]
[null,{"$f":"Sprawdz_pesel(Formularz!#REF!)","v":{"$error":"#VALUE!"}}]
[null,{"$f":"Sprawdz_pesel(Formularz!#REF!)","v":{"$error":"#VALUE!"}}]
[null,{"$f":"Sprawdz_pesel(Formularz!#REF!)","v":{"$error":"#VALUE!"}}]
[null,{"$f":"Sprawdz_pesel(Formularz!#REF!)","v":{"$error":"#VALUE!"}}]
[null,{"$f":"Sprawdz_pesel(Formularz!#REF!)","v":{"$error":"#VALUE!"}}]
[null,{"$f":"Sprawdz_pesel(Formularz!#REF!)","v":{"$error":"#VALUE!"}}]
[null,{"$f":"Sprawdz_pesel(Formularz!#REF!)","v":{"$error":"#VALUE!"}}]
[null,{"$f":"Sprawdz_pesel(Formularz!#REF!)","v":{"$error":"#VALUE!"}}]
[null,{"$f":"Sprawdz_pesel(Formularz!#REF!)","v":{"$error":"#VALUE!"}}]
[null,{"$f":"Sprawdz_pesel(Formularz!#REF!)","v":{"$error":"#VALUE!"}}]
[null,{"$f":"Sprawdz_pesel(Formularz!#REF!)","v":{"$error":"#VALUE!"}}]
[null,{"$f":"Sprawdz_pesel(Formularz!#REF!)","v":{"$error":"#VALUE!"}}]
[null,{"$f":"Sprawdz_pesel(Formularz!#REF!)","v":{"$error":"#VALUE!"}}]
[null,{"$f":"Sprawdz_pesel(Formularz!#REF!)","v":{"$error":"#VALUE!"}}]
[null,{"$f":"Sprawdz_pesel(Formularz!#REF!)","v":{"$error":"#VALUE!"}}]
[null,{"$f":"Sprawdz_pesel(Formularz!#REF!)","v":{"$error":"#VALUE!"}}]
[null,{"$f":"Sprawdz_pesel(Formularz!#REF!)","v":{"$error":"#VALUE!"}}]
[null,{"$f":"Sprawdz_pesel(Formularz!#REF!)","v":{"$error":"#VALUE!"}}]
[null,{"$f":"Sprawdz_pesel(Formularz!#REF!)","v":{"$error":"#VALUE!"}}]
[null,{"$f":"Sprawdz_pesel(Formularz!#REF!)","v":{"$error":"#VALUE!"}}]
[null,{"$f":"Sprawdz_pesel(Formularz!#REF!)","v":{"$error":"#VALUE!"}}]
[null,{"$f":"Sprawdz_pesel(Formularz!#REF!)","v":{"$error":"#VALUE!"}}]
[null,{"$f":"Sprawdz_pesel(Formularz!#REF!)","v":{"$error":"#VALUE!"}}]
[null,{"$f":"Sprawdz_pesel(Formularz!#REF!)","v":{"$error":"#VALUE!"}}]
[null,{"$f":"Sprawdz_pesel(Formularz!#REF!)","v":{"$error":"#VALUE!"}}]
[null,{"$f":"Sprawdz_pesel(Formularz!#REF!)","v":{"$error":"#VALUE!"}}]
[null,{"$f":"Sprawdz_pesel(Formularz!#REF!)","v":{"$error":"#VALUE!"}}]
[null,{"$f":"Sprawdz_pesel(Formularz!#REF!)","v":{"$error":"#VALUE!"}}]
[null,{"$f":"Sprawdz_pesel(Formularz!#REF!)","v":{"$error":"#VALUE!"}}]
[null,{"$f":"Sprawdz_pesel(Formularz!#REF!)","v":{"$error":"#VALUE!"}}]
[null,{"$f":"Sprawdz_pesel(Formularz!#REF!)","v":{"$error":"#VALUE!"}}]
[null,{"$f":"Sprawdz_pesel(Formularz!#REF!)","v":{"$error":"#VALUE!"}}]
[null,{"$f":"Sprawdz_pesel(Formularz!#REF!)","v":{"$error":"#VALUE!"}}]
[null,{"$f":"Sprawdz_pesel(Formularz!#REF!)","v":{"$error":"#VALUE!"}}]
[null,{"$f":"Sprawdz_pesel(Formularz!#REF!)","v":{"$error":"#VALUE!"}}]
[null,{"$f":"Sprawdz_pesel(Formularz!#REF!)","v":{"$error":"#VALUE!"}}]
[null,{"$f":"Sprawdz_pesel(Formularz!#REF!)","v":{"$error":"#VALUE!"}}]
[null,{"$f":"Sprawdz_pesel(Formularz!#REF!)","v":{"$error":"#VALUE!"}}]
[null,{"$f":"Sprawdz_pesel(Formularz!#REF!)","v":{"$error":"#VALUE!"}}]
[null,{"$f":"Sprawdz_pesel(Formularz!#REF!)","v":{"$error":"#VALUE!"}}]
[null,{"$f":"Sprawdz_pesel(Formularz!#REF!)","v":{"$error":"#VALUE!"}}]
[null,{"$f":"Sprawdz_pesel(Formularz!#REF!)","v":{"$error":"#VALUE!"}}]
[null,{"$f":"Sprawdz_pesel(Formularz!#REF!)","v":{"$error":"#VALUE!"}}]
[null,{"$f":"Sprawdz_pesel(Formularz!#REF!)","v":{"$error":"#VALUE!"}}]
[null,{"$f":"Sprawdz_pesel(Formularz!#REF!)","v":{"$error":"#VALUE!"}}]
[null,{"$f":"Sprawdz_pesel(Formularz!#REF!)","v":{"$error":"#VALUE!"}}]
[null,{"$f":"Sprawdz_pesel(Formularz!#REF!)","v":{"$error":"#VALUE!"}}]
[null,{"$f":"Sprawdz_pesel(Formularz!#REF!)","v":{"$error":"#VALUE!"}}]
[null,{"$f":"Sprawdz_pesel(Formularz!#REF!)","v":{"$error":"#VALUE!"}}]
[null,{"$f":"Sprawdz_pesel(Formularz!#REF!)","v":{"$error":"#VALUE!"}}]
[null,{"$f":"Sprawdz_pesel(Formularz!#REF!)","v":{"$error":"#VALUE!"}}]
[null,{"$f":"Sprawdz_pesel(Formularz!#REF!)","v":{"$error":"#VALUE!"}}]
[null,{"$f":"Sprawdz_pesel(Formularz!#REF!)","v":{"$error":"#VALUE!"}}]
[null,{"$f":"Sprawdz_pesel(Formularz!#REF!)","v":{"$error":"#VALUE!"}}]
[null,{"$f":"Sprawdz_pesel(Formularz!#REF!)","v":{"$error":"#VALUE!"}}]
[null,{"$f":"Sprawdz_pesel(Formularz!#REF!)","v":{"$error":"#VALUE!"}}]
[null,{"$f":"Sprawdz_pesel(Formularz!#REF!)","v":{"$error":"#VALUE!"}}]
[null,{"$f":"Sprawdz_pesel(Formularz!#REF!)","v":{"$error":"#VALUE!"}}]
[null,{"$f":"Sprawdz_pesel(Formularz!#REF!)","v":{"$error":"#VALUE!"}}]
[null,{"$f":"Sprawdz_pesel(Formularz!#REF!)","v":{"$error":"#VALUE!"}}]
[null,{"$f":"Sprawdz_pesel(Formularz!#REF!)","v":{"$error":"#VALUE!"}}]
[null,{"$f":"Sprawdz_pesel(Formularz!#REF!)","v":{"$error":"#VALUE!"}}]
[null,{"$f":"Sprawdz_pesel(Formularz!#REF!)","v":{"$error":"#VALUE!"}}]
[null,{"$f":"Sprawdz_pesel(Formularz!#REF!)","v":{"$error":"#VALUE!"}}]
[null,{"$f":"Sprawdz_pesel(Formularz!#REF!)","v":{"$error":"#VALUE!"}}]
[null,{"$f":"Sprawdz_pesel(Formularz!#REF!)","v":{"$error":"#VALUE!"}}]
[null,{"$f":"Sprawdz_pesel(Formularz!#REF!)","v":{"$error":"#VALUE!"}}]
[null,{"$f":"Sprawdz_pesel(Formularz!#REF!)","v":{"$error":"#VALUE!"}}]
[null,{"$f":"Sprawdz_pesel(Formularz!#REF!)","v":{"$error":"#VALUE!"}}]
[null,{"$f":"Sprawdz_pesel(Formularz!#REF!)","v":{"$error":"#VALUE!"}}]
[null,{"$f":"Sprawdz_pesel(Formularz!#REF!)","v":{"$error":"#VALUE!"}}]
[null,{"$f":"Sprawdz_pesel(Formularz!#REF!)","v":{"$error":"#VALUE!"}}]
[null,{"$f":"Sprawdz_pesel(Formularz!#REF!)","v":{"$error":"#VALUE!"}}]
[null,{"$f":"Sprawdz_pesel(Formularz!#REF!)","v":{"$error":"#VALUE!"}}]
[null,{"$f":"Sprawdz_pesel(Formularz!#REF!)","v":{"$error":"#VALUE!"}}]
[null,{"$f":"Sprawdz_pesel(Formularz!#REF!)","v":{"$error":"#VALUE!"}}]
[null,{"$f":"Sprawdz_pesel(Formularz!#REF!)","v":{"$error":"#VALUE!"}}]
[null,{"$f":"Sprawdz_pesel(Formularz!#REF!)","v":{"$error":"#VALUE!"}}]
[null,{"$f":"Sprawdz_pesel(Formularz!#REF!)","v":{"$error":"#VALUE!"}}]
[null,{"$f":"Sprawdz_pesel(Formularz!#REF!)","v":{"$error":"#VALUE!"}}]
[null,{"$f":"Sprawdz_pesel(Formularz!#REF!)","v":{"$error":"#VALUE!"}}]
[null,{"$f":"Sprawdz_pesel(Formularz!#REF!)","v":{"$error":"#VALUE!"}}]
[null,{"$f":"Sprawdz_pesel(Formularz!#REF!)","v":{"$error":"#VALUE!"}}]
[null,{"$f":"Sprawdz_pesel(Formularz!#REF!)","v":{"$error":"#VALUE!"}}]
[null,{"$f":"Sprawdz_pesel(Formularz!#REF!)","v":{"$error":"#VALUE!"}}]
[null,{"$f":"Sprawdz_pesel(Formularz!#REF!)","v":{"$error":"#VALUE!"}}]
[null,{"$f":"Sprawdz_pesel(Formularz!#REF!)","v":{"$error":"#VALUE!"}}]
[null,{"$f":"Sprawdz_pesel(Formularz!#REF!)","v":{"$error":"#VALUE!"}}]
[null,{"$f":"Sprawdz_pesel(Formularz!#REF!)","v":{"$error":"#VALUE!"}}]
[null,{"$f":"Sprawdz_pesel(Formularz!#REF!)","v":{"$error":"#VALUE!"}}]
[null,{"$f":"Sprawdz_pesel(Formularz!#REF!)","v":{"$error":"#VALUE!"}}]
[null,{"$f":"Sprawdz_pesel(Formularz!#REF!)","v":{"$error":"#VALUE!"}}]
[null,{"$f":"Sprawdz_pesel(Formularz!#REF!)","v":{"$error":"#VALUE!"}}]
[null,{"$f":"Sprawdz_pesel(Formularz!#REF!)","v":{"$error":"#VALUE!"}}]
[null,{"$f":"Sprawdz_pesel(Formularz!#REF!)","v":{"$error":"#VALUE!"}}]
[null,{"$f":"Sprawdz_pesel(Formularz!#REF!)","v":{"$error":"#VALUE!"}}]
[null,{"$f":"Sprawdz_pesel(Formularz!#REF!)","v":{"$error":"#VALUE!"}}]
[null,{"$f":"Sprawdz_pesel(Formularz!#REF!)","v":{"$error":"#VALUE!"}}]
[null,{"$f":"Sprawdz_pesel(Formularz!#REF!)","v":{"$error":"#VALUE!"}}]
[null,{"$f":"Sprawdz_pesel(Formularz!#REF!)","v":{"$error":"#VALUE!"}}]
[null,{"$f":"Sprawdz_pesel(Formularz!#REF!)","v":{"$error":"#VALUE!"}}]
[null,{"$f":"Sprawdz_pesel(Formularz!#REF!)","v":{"$error":"#VALUE!"}}]
[null,{"$f":"Sprawdz_pesel(Formularz!#REF!)","v":{"$error":"#VALUE!"}}]
[null,{"$f":"Sprawdz_pesel(Formularz!#REF!)","v":{"$error":"#VALUE!"}}]
[null,{"$f":"Sprawdz_pesel(Formularz!#REF!)","v":{"$error":"#VALUE!"}}]
[null,{"$f":"Sprawdz_pesel(Formularz!#REF!)","v":{"$error":"#VALUE!"}}]
[null,{"$f":"Sprawdz_pesel(Formularz!#REF!)","v":{"$error":"#VALUE!"}}]
[null,{"$f":"Sprawdz_pesel(Formularz!#REF!)","v":{"$error":"#VALUE!"}}]
[null,{"$f":"Sprawdz_pesel(Formularz!#REF!)","v":{"$error":"#VALUE!"}}]
[null,{"$f":"Sprawdz_pesel(Formularz!#REF!)","v":{"$error":"#VALUE!"}}]
[null,{"$f":"Sprawdz_pesel(Formularz!#REF!)","v":{"$error":"#VALUE!"}}]
[null,{"$f":"Sprawdz_pesel(Formularz!#REF!)","v":{"$error":"#VALUE!"}}]
[null,{"$f":"Sprawdz_pesel(Formularz!#REF!)","v":{"$error":"#VALUE!"}}]
[null,{"$f":"Sprawdz_pesel(Formularz!#REF!)","v":{"$error":"#VALUE!"}}]
[null,{"$f":"Sprawdz_pesel(Formularz!#REF!)","v":{"$error":"#VALUE!"}}]
[null,{"$f":"Sprawdz_pesel(Formularz!#REF!)","v":{"$error":"#VALUE!"}}]
[null,{"$f":"Sprawdz_pesel(Formularz!#REF!)","v":{"$error":"#VALUE!"}}]
[null,{"$f":"Sprawdz_pesel(Formularz!#REF!)","v":{"$error":"#VALUE!"}}]
[null,{"$f":"Sprawdz_pesel(Formularz!#REF!)","v":{"$error":"#VALUE!"}}]
[null,{"$f":"Sprawdz_pesel(Formularz!#REF!)","v":{"$error":"#VALUE!"}}]
[null,{"$f":"Sprawdz_pesel(Formularz!#REF!)","v":{"$error":"#VALUE!"}}]
[null,{"$f":"Sprawdz_pesel(Formularz!#REF!)","v":{"$error":"#VALUE!"}}]
[null,{"$f":"Sprawdz_pesel(Formularz!#REF!)","v":{"$error":"#VALUE!"}}]
[null,{"$f":"Sprawdz_pesel(Formularz!#REF!)","v":{"$error":"#VALUE!"}}]
[null,{"$f":"Sprawdz_pesel(Formularz!#REF!)","v":{"$error":"#VALUE!"}}]
[null,{"$f":"Sprawdz_pesel(Formularz!#REF!)","v":{"$error":"#VALUE!"}}]
[null,{"$f":"Sprawdz_pesel(Formularz!#REF!)","v":{"$error":"#VALUE!"}}]
[null,{"$f":"Sprawdz_pesel(Formularz!#REF!)","v":{"$error":"#VALUE!"}}]
[null,{"$f":"Sprawdz_pesel(Formularz!#REF!)","v":{"$error":"#VALUE!"}}]
[null,{"$f":"Sprawdz_pesel(Formularz!#REF!)","v":{"$error":"#VALUE!"}}]
[null,{"$f":"Sprawdz_pesel(Formularz!#REF!)","v":{"$error":"#VALUE!"}}]
[null,{"$f":"Sprawdz_pesel(Formularz!#REF!)","v":{"$error":"#VALUE!"}}]
[null,{"$f":"Sprawdz_pesel(Formularz!#REF!)","v":{"$error":"#VALUE!"}}]
[null,{"$f":"Sprawdz_pesel(Formularz!#REF!)","v":{"$error":"#VALUE!"}}]
[null,{"$f":"Sprawdz_pesel(Formularz!#REF!)","v":{"$error":"#VALUE!"}}]
[null,{"$f":"Sprawdz_pesel(Formularz!#REF!)","v":{"$error":"#VALUE!"}}]
[null,{"$f":"Sprawdz_pesel(Formularz!#REF!)","v":{"$error":"#VALUE!"}}]
[null,{"$f":"Sprawdz_pesel(Formularz!#REF!)","v":{"$error":"#VALUE!"}}]
[null,{"$f":"Sprawdz_pesel(Formularz!#REF!)","v":{"$error":"#VALUE!"}}]
[null,{"$f":"Sprawdz_pesel(Formularz!#REF!)","v":{"$error":"#VALUE!"}}]
[null,{"$f":"Sprawdz_pesel(Formularz!#REF!)","v":{"$error":"#VALUE!"}}]
[null,{"$f":"Sprawdz_pesel(Formularz!#REF!)","v":{"$error":"#VALUE!"}}]
[null,{"$f":"Sprawdz_pesel(Formularz!#REF!)","v":{"$error":"#VALUE!"}}]
[null,{"$f":"Sprawdz_pesel(Formularz!#REF!)","v":{"$error":"#VALUE!"}}]
[null,{"$f":"Sprawdz_pesel(Formularz!#REF!)","v":{"$error":"#VALUE!"}}]
[null,{"$f":"Sprawdz_pesel(Formularz!#REF!)","v":{"$error":"#VALUE!"}}]
[null,{"$f":"Sprawdz_pesel(Formularz!#REF!)","v":{"$error":"#VALUE!"}}]
[null,{"$f":"Sprawdz_pesel(Formularz!#REF!)","v":{"$error":"#VALUE!"}}]
[null,{"$f":"Sprawdz_pesel(Formularz!#REF!)","v":{"$error":"#VALUE!"}}]
[null,{"$f":"Sprawdz_pesel(Formularz!#REF!)","v":{"$error":"#VALUE!"}}]
[null,{"$f":"Sprawdz_pesel(Formularz!#REF!)","v":{"$error":"#VALUE!"}}]
[null,{"$f":"Sprawdz_pesel(Formularz!#REF!)","v":{"$error":"#VALUE!"}}]
[null,{"$f":"Sprawdz_pesel(Formularz!#REF!)","v":{"$error":"#VALUE!"}}]
[null,{"$f":"Sprawdz_pesel(Formularz!#REF!)","v":{"$error":"#VALUE!"}}]
[null,{"$f":"Sprawdz_pesel(Formularz!#REF!)","v":{"$error":"#VALUE!"}}]
[null,{"$f":"Sprawdz_pesel(Formularz!#REF!)","v":{"$error":"#VALUE!"}}]
[null,{"$f":"Sprawdz_pesel(Formularz!#REF!)","v":{"$error":"#VALUE!"}}]
[null,{"$f":"Sprawdz_pesel(Formularz!#REF!)","v":{"$error":"#VALUE!"}}]
[null,{"$f":"Sprawdz_pesel(Formularz!#REF!)","v":{"$error":"#VALUE!"}}]
[null,{"$f":"Sprawdz_pesel(Formularz!#REF!)","v":{"$error":"#VALUE!"}}]
[null,{"$f":"Sprawdz_pesel(Formularz!#REF!)","v":{"$error":"#VALUE!"}}]
[null,{"$f":"Sprawdz_pesel(Formularz!#REF!)","v":{"$error":"#VALUE!"}}]
[null,{"$f":"Sprawdz_pesel(Formularz!#REF!)","v":{"$error":"#VALUE!"}}]
[null,{"$f":"Sprawdz_pesel(Formularz!#REF!)","v":{"$error":"#VALUE!"}}]
[null,{"$f":"Sprawdz_pesel(Formularz!#REF!)","v":{"$error":"#VALUE!"}}]
[null,{"$f":"Sprawdz_pesel(Formularz!#REF!)","v":{"$error":"#VALUE!"}}]
[null,{"$f":"Sprawdz_pesel(Formularz!#REF!)","v":{"$error":"#VALUE!"}}]
[null,{"$f":"Sprawdz_pesel(Formularz!#REF!)","v":{"$error":"#VALUE!"}}]
[null,{"$f":"Sprawdz_pesel(Formularz!#REF!)","v":{"$error":"#VALUE!"}}]
[null,{"$f":"Sprawdz_pesel(Formularz!#REF!)","v":{"$error":"#VALUE!"}}]
[null,{"$f":"Sprawdz_pesel(Formularz!#REF!)","v":{"$error":"#VALUE!"}}]
[null,{"$f":"Sprawdz_pesel(Formularz!#REF!)","v":{"$error":"#VALUE!"}}]
[null,{"$f":"Sprawdz_pesel(Formularz!#REF!)","v":{"$error":"#VALUE!"}}]
[null,{"$f":"Sprawdz_pesel(Formularz!#REF!)","v":{"$error":"#VALUE!"}}]
[null,{"$f":"Sprawdz_pesel(Formularz!#REF!)","v":{"$error":"#VALUE!"}}]
[null,{"$f":"Sprawdz_pesel(Formularz!#REF!)","v":{"$error":"#VALUE!"}}]
[null,{"$f":"Sprawdz_pesel(Formularz!#REF!)","v":{"$error":"#VALUE!"}}]
[null,{"$f":"Sprawdz_pesel(Formularz!#REF!)","v":{"$error":"#VALUE!"}}]
[null,{"$f":"Sprawdz_pesel(Formularz!#REF!)","v":{"$error":"#VALUE!"}}]
[null,{"$f":"Sprawdz_pesel(Formularz!#REF!)","v":{"$error":"#VALUE!"}}]
[null,{"$f":"Sprawdz_pesel(Formularz!#REF!)","v":{"$error":"#VALUE!"}}]
[null,{"$f":"Sprawdz_pesel(Formularz!#REF!)","v":{"$error":"#VALUE!"}}]
[null,{"$f":"Sprawdz_pesel(Formularz!#REF!)","v":{"$error":"#VALUE!"}}]
[null,{"$f":"Sprawdz_pesel(Formularz!#REF!)","v":{"$error":"#VALUE!"}}]
[null,{"$f":"Sprawdz_pesel(Formularz!#REF!)","v":{"$error":"#VALUE!"}}]
[null,{"$f":"Sprawdz_pesel(Formularz!#REF!)","v":{"$error":"#VALUE!"}}]
[null,{"$f":"Sprawdz_pesel(Formularz!#REF!)","v":{"$error":"#VALUE!"}}]
[null,{"$f":"Sprawdz_pesel(Formularz!#REF!)","v":{"$error":"#VALUE!"}}]
[null,{"$f":"Sprawdz_pesel(Formularz!#REF!)","v":{"$error":"#VALUE!"}}]
[null,{"$f":"Sprawdz_pesel(Formularz!#REF!)","v":{"$error":"#VALUE!"}}]
[null,{"$f":"Sprawdz_pesel(Formularz!#REF!)","v":{"$error":"#VALUE!"}}]
[null,{"$f":"Sprawdz_pesel(Formularz!#REF!)","v":{"$error":"#VALUE!"}}]
[null,{"$f":"Sprawdz_pesel(Formularz!#REF!)","v":{"$error":"#VALUE!"}}]
[null,{"$f":"Sprawdz_pesel(Formularz!#REF!)","v":{"$error":"#VALUE!"}}]
[null,{"$f":"Sprawdz_pesel(Formularz!#REF!)","v":{"$error":"#VALUE!"}}]
[null,{"$f":"Sprawdz_pesel(Formularz!#REF!)","v":{"$error":"#VALUE!"}}]
[null,{"$f":"Sprawdz_pesel(Formularz!#REF!)","v":{"$error":"#VALUE!"}}]
[null,{"$f":"Sprawdz_pesel(Formularz!#REF!)","v":{"$error":"#VALUE!"}}]
[null,{"$f":"Sprawdz_pesel(Formularz!#REF!)","v":{"$error":"#VALUE!"}}]
[null,{"$f":"Sprawdz_pesel(Formularz!#REF!)","v":{"$error":"#VALUE!"}}]
[null,{"$f":"Sprawdz_pesel(Formularz!#REF!)","v":{"$error":"#VALUE!"}}]
[null,{"$f":"Sprawdz_pesel(Formularz!#REF!)","v":{"$error":"#VALUE!"}}]
[null,{"$f":"Sprawdz_pesel(Formularz!#REF!)","v":{"$error":"#VALUE!"}}]
[null,{"$f":"Sprawdz_pesel(Formularz!#REF!)","v":{"$error":"#VALUE!"}}]
[null,{"$f":"Sprawdz_pesel(Formularz!#REF!)","v":{"$error":"#VALUE!"}}]
[null,{"$f":"Sprawdz_pesel(Formularz!#REF!)","v":{"$error":"#VALUE!"}}]
[null,{"$f":"Sprawdz_pesel(Formularz!#REF!)","v":{"$error":"#VALUE!"}}]
[null,{"$f":"Sprawdz_pesel(Formularz!#REF!)","v":{"$error":"#VALUE!"}}]
[null,{"$f":"Sprawdz_pesel(Formularz!#REF!)","v":{"$error":"#VALUE!"}}]
[null,{"$f":"Sprawdz_pesel(Formularz!#REF!)","v":{"$error":"#VALUE!"}}]
[null,{"$f":"Sprawdz_pesel(Formularz!#REF!)","v":{"$error":"#VALUE!"}}]
[null,{"$f":"Sprawdz_pesel(Formularz!#REF!)","v":{"$error":"#VALUE!"}}]
[null,{"$f":"Sprawdz_pesel(Formularz!#REF!)","v":{"$error":"#VALUE!"}}]
[null,{"$f":"Sprawdz_pesel(Formularz!#REF!)","v":{"$error":"#VALUE!"}}]
[null,{"$f":"Sprawdz_pesel(Formularz!#REF!)","v":{"$error":"#VALUE!"}}]
[null,{"$f":"Sprawdz_pesel(Formularz!#REF!)","v":{"$error":"#VALUE!"}}]
[null,{"$f":"Sprawdz_pesel(Formularz!#REF!)","v":{"$error":"#VALUE!"}}]
[null,{"$f":"Sprawdz_pesel(Formularz!#REF!)","v":{"$error":"#VALUE!"}}]
[null,{"$f":"Sprawdz_pesel(Formularz!#REF!)","v":{"$error":"#VALUE!"}}]
[null,{"$f":"Sprawdz_pesel(Formularz!#REF!)","v":{"$error":"#VALUE!"}}]
[null,{"$f":"Sprawdz_pesel(Formularz!#REF!)","v":{"$error":"#VALUE!"}}]
[null,{"$f":"Sprawdz_pesel(Formularz!#REF!)","v":{"$error":"#VALUE!"}}]
[null,{"$f":"Sprawdz_pesel(Formularz!#REF!)","v":{"$error":"#VALUE!"}}]
[null,{"$f":"Sprawdz_pesel(Formularz!#REF!)","v":{"$error":"#VALUE!"}}]
[null,{"$f":"Sprawdz_pesel(Formularz!#REF!)","v":{"$error":"#VALUE!"}}]
[null,{"$f":"Sprawdz_pesel(Formularz!#REF!)","v":{"$error":"#VALUE!"}}]
[null,{"$f":"Sprawdz_pesel(Formularz!#REF!)","v":{"$error":"#VALUE!"}}]
[null,{"$f":"Sprawdz_pesel(Formularz!#REF!)","v":{"$error":"#VALUE!"}}]
[null,{"$f":"Sprawdz_pesel(Formularz!#REF!)","v":{"$error":"#VALUE!"}}]
[null,{"$f":"Sprawdz_pesel(Formularz!#REF!)","v":{"$error":"#VALUE!"}}]
[null,{"$f":"Sprawdz_pesel(Formularz!#REF!)","v":{"$error":"#VALUE!"}}]
[null,{"$f":"Sprawdz_pesel(Formularz!#REF!)","v":{"$error":"#VALUE!"}}]
[null,{"$f":"Sprawdz_pesel(Formularz!#REF!)","v":{"$error":"#VALUE!"}}]
[null,{"$f":"Sprawdz_pesel(Formularz!#REF!)","v":{"$error":"#VALUE!"}}]
[null,{"$f":"Sprawdz_pesel(Formularz!#REF!)","v":{"$error":"#VALUE!"}}]
[null,{"$f":"Sprawdz_pesel(Formularz!#REF!)","v":{"$error":"#VALUE!"}}]
[null,{"$f":"Sprawdz_pesel(Formularz!#REF!)","v":{"$error":"#VALUE!"}}]
[null,{"$f":"Sprawdz_pesel(Formularz!#REF!)","v":{"$error":"#VALUE!"}}]
[null,{"$f":"Sprawdz_pesel(Formularz!#REF!)","v":{"$error":"#VALUE!"}}]
[null,{"$f":"Sprawdz_pesel(Formularz!#REF!)","v":{"$error":"#VALUE!"}}]
[null,{"$f":"Sprawdz_pesel(Formularz!#REF!)","v":{"$error":"#VALUE!"}}]
[null,{"$f":"Sprawdz_pesel(Formularz!#REF!)","v":{"$error":"#VALUE!"}}]
[null,{"$f":"Sprawdz_pesel(Formularz!#REF!)","v":{"$error":"#VALUE!"}}]
[null,{"$f":"Sprawdz_pesel(Formularz!#REF!)","v":{"$error":"#VALUE!"}}]
[null,{"$f":"Sprawdz_pesel(Formularz!#REF!)","v":{"$error":"#VALUE!"}}]
[null,{"$f":"Sprawdz_pesel(Formularz!#REF!)","v":{"$error":"#VALUE!"}}]
[null,{"$f":"Sprawdz_pesel(Formularz!#REF!)","v":{"$error":"#VALUE!"}}]
[null,{"$f":"Sprawdz_pesel(Formularz!#REF!)","v":{"$error":"#VALUE!"}}]
[null,{"$f":"Sprawdz_pesel(Formularz!#REF!)","v":{"$error":"#VALUE!"}}]
[null,{"$f":"Sprawdz_pesel(Formularz!#REF!)","v":{"$error":"#VALUE!"}}]
[null,{"$f":"Sprawdz_pesel(Formularz!#REF!)","v":{"$error":"#VALUE!"}}]
[null,{"$f":"Sprawdz_pesel(Formularz!#REF!)","v":{"$error":"#VALUE!"}}]
[null,{"$f":"Sprawdz_pesel(Formularz!#REF!)","v":{"$error":"#VALUE!"}}]
[null,{"$f":"Sprawdz_pesel(Formularz!#REF!)","v":{"$error":"#VALUE!"}}]
[null,{"$f":"Sprawdz_pesel(Formularz!#REF!)","v":{"$error":"#VALUE!"}}]
[null,{"$f":"Sprawdz_pesel(Formularz!#REF!)","v":{"$error":"#VALUE!"}}]
[null,{"$f":"Sprawdz_pesel(Formularz!#REF!)","v":{"$error":"#VALUE!"}}]
[null,{"$f":"Sprawdz_pesel(Formularz!#REF!)","v":{"$error":"#VALUE!"}}]
[null,{"$f":"Sprawdz_pesel(Formularz!#REF!)","v":{"$error":"#VALUE!"}}]
[null,{"$f":"Sprawdz_pesel(Formularz!#REF!)","v":{"$error":"#VALUE!"}}]
[null,{"$f":"Sprawdz_pesel(Formularz!#REF!)","v":{"$error":"#VALUE!"}}]
[null,{"$f":"Sprawdz_pesel(Formularz!#REF!)","v":{"$error":"#VALUE!"}}]
[null,{"$f":"Sprawdz_pesel(Formularz!#REF!)","v":{"$error":"#VALUE!"}}]
[null,{"$f":"Sprawdz_pesel(Formularz!#REF!)","v":{"$error":"#VALUE!"}}]
[null,{"$f":"Sprawdz_pesel(Formularz!#REF!)","v":{"$error":"#VALUE!"}}]
[null,{"$f":"Sprawdz_pesel(Formularz!#REF!)","v":{"$error":"#VALUE!"}}]
[null,{"$f":"Sprawdz_pesel(Formularz!#REF!)","v":{"$error":"#VALUE!"}}]
[null,{"$f":"Sprawdz_pesel(Formularz!#REF!)","v":{"$error":"#VALUE!"}}]
[null,{"$f":"Sprawdz_pesel(Formularz!#REF!)","v":{"$error":"#VALUE!"}}]
[null,{"$f":"Sprawdz_pesel(Formularz!#REF!)","v":{"$error":"#VALUE!"}}]
[null,{"$f":"Sprawdz_pesel(Formularz!#REF!)","v":{"$error":"#VALUE!"}}]
[null,{"$f":"Sprawdz_pesel(Formularz!#REF!)","v":{"$error":"#VALUE!"}}]
[null,{"$f":"Sprawdz_pesel(Formularz!#REF!)","v":{"$error":"#VALUE!"}}]
[null,{"$f":"Sprawdz_pesel(Formularz!#REF!)","v":{"$error":"#VALUE!"}}]
[null,{"$f":"Sprawdz_pesel(Formularz!#REF!)","v":{"$error":"#VALUE!"}}]
[null,{"$f":"Sprawdz_pesel(Formularz!#REF!)","v":{"$error":"#VALUE!"}}]
[null,{"$f":"Sprawdz_pesel(Formularz!#REF!)","v":{"$error":"#VALUE!"}}]
[null,{"$f":"Sprawdz_pesel(Formularz!#REF!)","v":{"$error":"#VALUE!"}}]
[null,{"$f":"Sprawdz_pesel(Formularz!#REF!)","v":{"$error":"#VALUE!"}}]
[null,{"$f":"Sprawdz_pesel(Formularz!#REF!)","v":{"$error":"#VALUE!"}}]
[null,{"$f":"Sprawdz_pesel(Formularz!#REF!)","v":{"$error":"#VALUE!"}}]
[null,{"$f":"Sprawdz_pesel(Formularz!#REF!)","v":{"$error":"#VALUE!"}}]
[null,{"$f":"Sprawdz_pesel(Formularz!#REF!)","v":{"$error":"#VALUE!"}}]
[null,{"$f":"Sprawdz_pesel(Formularz!#REF!)","v":{"$error":"#VALUE!"}}]
[null,{"$f":"Sprawdz_pesel(Formularz!#REF!)","v":{"$error":"#VALUE!"}}]
[null,{"$f":"Sprawdz_pesel(Formularz!#REF!)","v":{"$error":"#VALUE!"}}]
[null,{"$f":"Sprawdz_pesel(Formularz!#REF!)","v":{"$error":"#VALUE!"}}]
[null,{"$f":"Sprawdz_pesel(Formularz!#REF!)","v":{"$error":"#VALUE!"}}]
[null,{"$f":"Sprawdz_pesel(Formularz!#REF!)","v":{"$error":"#VALUE!"}}]
[null,{"$f":"Sprawdz_pesel(Formularz!#REF!)","v":{"$error":"#VALUE!"}}]
[null,{"$f":"Sprawdz_pesel(Formularz!#REF!)","v":{"$error":"#VALUE!"}}]
[null,{"$f":"Sprawdz_pesel(Formularz!#REF!)","v":{"$error":"#VALUE!"}}]
[null,{"$f":"Sprawdz_pesel(Formularz!#REF!)","v":{"$error":"#VALUE!"}}]
[null,{"$f":"Sprawdz_pesel(Formularz!#REF!)","v":{"$error":"#VALUE!"}}]
[null,{"$f":"Sprawdz_pesel(Formularz!#REF!)","v":{"$error":"#VALUE!"}}]
[null,{"$f":"Sprawdz_pesel(Formularz!#REF!)","v":{"$error":"#VALUE!"}}]
[null,{"$f":"Sprawdz_pesel(Formularz!#REF!)","v":{"$error":"#VALUE!"}}]
[null,{"$f":"Sprawdz_pesel(Formularz!#REF!)","v":{"$error":"#VALUE!"}}]
[null,{"$f":"Sprawdz_pesel(Formularz!#REF!)","v":{"$error":"#VALUE!"}}]
[null,{"$f":"Sprawdz_pesel(Formularz!#REF!)","v":{"$error":"#VALUE!"}}]
[null,{"$f":"Sprawdz_pesel(Formularz!#REF!)","v":{"$error":"#VALUE!"}}]
[null,{"$f":"Sprawdz_pesel(Formularz!#REF!)","v":{"$error":"#VALUE!"}}]
[null,{"$f":"Sprawdz_pesel(Formularz!#REF!)","v":{"$error":"#VALUE!"}}]
[null,{"$f":"Sprawdz_pesel(Formularz!#REF!)","v":{"$error":"#VALUE!"}}]
[null,{"$f":"Sprawdz_pesel(Formularz!#REF!)","v":{"$error":"#VALUE!"}}]
[null,{"$f":"Sprawdz_pesel(Formularz!#REF!)","v":{"$error":"#VALUE!"}}]
[null,{"$f":"Sprawdz_pesel(Formularz!#REF!)","v":{"$error":"#VALUE!"}}]
[null,{"$f":"Sprawdz_pesel(Formularz!#REF!)","v":{"$error":"#VALUE!"}}]
[null,{"$f":"Sprawdz_pesel(Formularz!#REF!)","v":{"$error":"#VALUE!"}}]
[null,{"$f":"Sprawdz_pesel(Formularz!#REF!)","v":{"$error":"#VALUE!"}}]
[null,{"$f":"Sprawdz_pesel(Formularz!#REF!)","v":{"$error":"#VALUE!"}}]
[null,{"$f":"Sprawdz_pesel(Formularz!#REF!)","v":{"$error":"#VALUE!"}}]
[null,{"$f":"Sprawdz_pesel(Formularz!#REF!)","v":{"$error":"#VALUE!"}}]
[null,{"$f":"Sprawdz_pesel(Formularz!#REF!)","v":{"$error":"#VALUE!"}}]
[null,{"$f":"Sprawdz_pesel(Formularz!#REF!)","v":{"$error":"#VALUE!"}}]
[null,{"$f":"Sprawdz_pesel(Formularz!#REF!)","v":{"$error":"#VALUE!"}}]
[null,{"$f":"Sprawdz_pesel(Formularz!#REF!)","v":{"$error":"#VALUE!"}}]
[null,{"$f":"Sprawdz_pesel(Formularz!#REF!)","v":{"$error":"#VALUE!"}}]
[null,{"$f":"Sprawdz_pesel(Formularz!#REF!)","v":{"$error":"#VALUE!"}}]
[null,{"$f":"Sprawdz_pesel(Formularz!#REF!)","v":{"$error":"#VALUE!"}}]
[null,{"$f":"Sprawdz_pesel(Formularz!#REF!)","v":{"$error":"#VALUE!"}}]
[null,{"$f":"Sprawdz_pesel(Formularz!#REF!)","v":{"$error":"#VALUE!"}}]
[null,{"$f":"Sprawdz_pesel(Formularz!#REF!)","v":{"$error":"#VALUE!"}}]
[null,{"$f":"Sprawdz_pesel(Formularz!#REF!)","v":{"$error":"#VALUE!"}}]
[null,{"$f":"Sprawdz_pesel(Formularz!#REF!)","v":{"$error":"#VALUE!"}}]
[null,{"$f":"Sprawdz_pesel(Formularz!#REF!)","v":{"$error":"#VALUE!"}}]
[null,{"$f":"Sprawdz_pesel(Formularz!#REF!)","v":{"$error":"#VALUE!"}}]
[null,{"$f":"Sprawdz_pesel(Formularz!#REF!)","v":{"$error":"#VALUE!"}}]
[null,{"$f":"Sprawdz_pesel(Formularz!#REF!)","v":{"$error":"#VALUE!"}}]
[null,{"$f":"Sprawdz_pesel(Formularz!#REF!)","v":{"$error":"#VALUE!"}}]
[null,{"$f":"Sprawdz_pesel(Formularz!#REF!)","v":{"$error":"#VALUE!"}}]
[null,{"$f":"Sprawdz_pesel(Formularz!#REF!)","v":{"$error":"#VALUE!"}}]
[null,{"$f":"Sprawdz_pesel(Formularz!#REF!)","v":{"$error":"#VALUE!"}}]
[null,{"$f":"Sprawdz_pesel(Formularz!#REF!)","v":{"$error":"#VALUE!"}}]
[null,{"$f":"Sprawdz_pesel(Formularz!#REF!)","v":{"$error":"#VALUE!"}}]
[null,{"$f":"Sprawdz_pesel(Formularz!#REF!)","v":{"$error":"#VALUE!"}}]
[null,{"$f":"Sprawdz_pesel(Formularz!#REF!)","v":{"$error":"#VALUE!"}}]
[null,{"$f":"Sprawdz_pesel(Formularz!#REF!)","v":{"$error":"#VALUE!"}}]
[null,{"$f":"Sprawdz_pesel(Formularz!#REF!)","v":{"$error":"#VALUE!"}}]
[null,{"$f":"Sprawdz_pesel(Formularz!#REF!)","v":{"$error":"#VALUE!"}}]
[null,{"$f":"Sprawdz_pesel(Formularz!#REF!)","v":{"$error":"#VALUE!"}}]
[null,{"$f":"Sprawdz_pesel(Formularz!#REF!)","v":{"$error":"#VALUE!"}}]
[null,{"$f":"Sprawdz_pesel(Formularz!#REF!)","v":{"$error":"#VALUE!"}}]
[null,{"$f":"Sprawdz_pesel(Formularz!#REF!)","v":{"$error":"#VALUE!"}}]
[null,{"$f":"Sprawdz_pesel(Formularz!#REF!)","v":{"$error":"#VALUE!"}}]
[null,{"$f":"Sprawdz_pesel(Formularz!#REF!)","v":{"$error":"#VALUE!"}}]
[null,{"$f":"Sprawdz_pesel(Formularz!#REF!)","v":{"$error":"#VALUE!"}}]
[null,{"$f":"Sprawdz_pesel(Formularz!#REF!)","v":{"$error":"#VALUE!"}}]
[null,{"$f":"Sprawdz_pesel(Formularz!#REF!)","v":{"$error":"#VALUE!"}}]
[null,{"$f":"Sprawdz_pesel(Formularz!#REF!)","v":{"$error":"#VALUE!"}}]
[null,{"$f":"Sprawdz_pesel(Formularz!#REF!)","v":{"$error":"#VALUE!"}}]
[null,{"$f":"Sprawdz_pesel(Formularz!#REF!)","v":{"$error":"#VALUE!"}}]
[null,{"$f":"Sprawdz_pesel(Formularz!#REF!)","v":{"$error":"#VALUE!"}}]
[null,{"$f":"Sprawdz_pesel(Formularz!#REF!)","v":{"$error":"#VALUE!"}}]
[null,{"$f":"Sprawdz_pesel(Formularz!#REF!)","v":{"$error":"#VALUE!"}}]
[null,{"$f":"Sprawdz_pesel(Formularz!#REF!)","v":{"$error":"#VALUE!"}}]
[null,{"$f":"Sprawdz_pesel(Formularz!#REF!)","v":{"$error":"#VALUE!"}}]
[null,{"$f":"Sprawdz_pesel(Formularz!#REF!)","v":{"$error":"#VALUE!"}}]
[null,{"$f":"Sprawdz_pesel(Formularz!#REF!)","v":{"$error":"#VALUE!"}}]
[null,{"$f":"Sprawdz_pesel(Formularz!#REF!)","v":{"$error":"#VALUE!"}}]
[null,{"$f":"Sprawdz_pesel(Formularz!#REF!)","v":{"$error":"#VALUE!"}}]
[null,{"$f":"Sprawdz_pesel(Formularz!#REF!)","v":{"$error":"#VALUE!"}}]
[null,{"$f":"Sprawdz_pesel(Formularz!#REF!)","v":{"$error":"#VALUE!"}}]
[null,{"$f":"Sprawdz_pesel(Formularz!#REF!)","v":{"$error":"#VALUE!"}}]
[null,{"$f":"Sprawdz_pesel(Formularz!#REF!)","v":{"$error":"#VALUE!"}}]
[null,{"$f":"Sprawdz_pesel(Formularz!#REF!)","v":{"$error":"#VALUE!"}}]
[null,{"$f":"Sprawdz_pesel(Formularz!#REF!)","v":{"$error":"#VALUE!"}}]
[null,{"$f":"Sprawdz_pesel(Formularz!#REF!)","v":{"$error":"#VALUE!"}}]
[null,{"$f":"Sprawdz_pesel(Formularz!#REF!)","v":{"$error":"#VALUE!"}}]
[null,{"$f":"Sprawdz_pesel(Formularz!#REF!)","v":{"$error":"#VALUE!"}}]
[null,{"$f":"Sprawdz_pesel(Formularz!#REF!)","v":{"$error":"#VALUE!"}}]
[null,{"$f":"Sprawdz_pesel(Formularz!#REF!)","v":{"$error":"#VALUE!"}}]
[null,{"$f":"Sprawdz_pesel(Formularz!#REF!)","v":{"$error":"#VALUE!"}}]
[null,{"$f":"Sprawdz_pesel(Formularz!#REF!)","v":{"$error":"#VALUE!"}}]
[null,{"$f":"Sprawdz_pesel(Formularz!#REF!)","v":{"$error":"#VALUE!"}}]
[null,{"$f":"Sprawdz_pesel(Formularz!#REF!)","v":{"$error":"#VALUE!"}}]
[null,{"$f":"Sprawdz_pesel(Formularz!#REF!)","v":{"$error":"#VALUE!"}}]
[null,{"$f":"Sprawdz_pesel(Formularz!#REF!)","v":{"$error":"#VALUE!"}}]
[null,{"$f":"Sprawdz_pesel(Formularz!#REF!)","v":{"$error":"#VALUE!"}}]
[null,{"$f":"Sprawdz_pesel(Formularz!#REF!)","v":{"$error":"#VALUE!"}}]
[null,{"$f":"Sprawdz_pesel(Formularz!#REF!)","v":{"$error":"#VALUE!"}}]
[null,{"$f":"Sprawdz_pesel(Formularz!#REF!)","v":{"$error":"#VALUE!"}}]
[null,{"$f":"Sprawdz_pesel(Formularz!#REF!)","v":{"$error":"#VALUE!"}}]
[null,{"$f":"Sprawdz_pesel(Formularz!#REF!)","v":{"$error":"#VALUE!"}}]
[null,{"$f":"Sprawdz_pesel(Formularz!#REF!)","v":{"$error":"#VALUE!"}}]
[null,{"$f":"Sprawdz_pesel(Formularz!#REF!)","v":{"$error":"#VALUE!"}}]
[null,{"$f":"Sprawdz_pesel(Formularz!#REF!)","v":{"$error":"#VALUE!"}}]
[null,{"$f":"Sprawdz_pesel(Formularz!#REF!)","v":{"$error":"#VALUE!"}}]
[null,{"$f":"Sprawdz_pesel(Formularz!#REF!)","v":{"$error":"#VALUE!"}}]
[null,{"$f":"Sprawdz_pesel(Formularz!#REF!)","v":{"$error":"#VALUE!"}}]
[null,{"$f":"Sprawdz_pesel(Formularz!#REF!)","v":{"$error":"#VALUE!"}}]
[null,{"$f":"Sprawdz_pesel(Formularz!#REF!)","v":{"$error":"#VALUE!"}}]
[null,{"$f":"Sprawdz_pesel(Formularz!#REF!)","v":{"$error":"#VALUE!"}}]
[null,{"$f":"Sprawdz_pesel(Formularz!#REF!)","v":{"$error":"#VALUE!"}}]
[null,{"$f":"Sprawdz_pesel(Formularz!#REF!)","v":{"$error":"#VALUE!"}}]
[null,{"$f":"Sprawdz_pesel(Formularz!#REF!)","v":{"$error":"#VALUE!"}}]
[null,{"$f":"Sprawdz_pesel(Formularz!#REF!)","v":{"$error":"#VALUE!"}}]
[null,{"$f":"Sprawdz_pesel(Formularz!#REF!)","v":{"$error":"#VALUE!"}}]
[null,{"$f":"Sprawdz_pesel(Formularz!#REF!)","v":{"$error":"#VALUE!"}}]
[null,{"$f":"Sprawdz_pesel(Formularz!#REF!)","v":{"$error":"#VALUE!"}}]
[null,{"$f":"Sprawdz_pesel(Formularz!#REF!)","v":{"$error":"#VALUE!"}}]
[null,{"$f":"Sprawdz_pesel(Formularz!#REF!)","v":{"$error":"#VALUE!"}}]
[null,{"$f":"Sprawdz_pesel(Formularz!#REF!)","v":{"$error":"#VALUE!"}}]